{"text_format":"1","workbook":"xlsx","n_sheets":3,"sheets":["Sheet1","MARK Enrollment Template","Hidden-Data Validation Options"],"not_rendered":{"charts":0,"images":1,"macros":1,"external_links":1,"defined_names":2,"comments":0,"pivot_tables":0},"unopened":[],"bounds":{"document_bytes":16777216,"sheet_cells":100000,"rows_first":2000,"rows_last":500,"rows_between":2000,"halvings":0,"cell_chars":16384,"cell_head_chars":4096},"cells_cut":0,"cells_raw":0,"read":"whole","date_system":"1900"}

{"sheet":"Sheet1","index":0,"n_rows":500,"n_cols":15,"rows_kept":500,"cut":false,"hidden":true,"merged":[]}
["*this is really the only bts tab that the MARK template uses as of now…"]
[]
[{"$f":"IF(B3<>\"\",B3,IF(C3<>\"\",C3,IF(D3<>\"\",D3,IF(E3<>\"\",E3,IF(F3<>\"\",F3,IF(G3<>\"\",G3,IF(H3<>\"\",H3,IF(I3<>\"\",I3,IF(J3<>\"\",J3,IF(K3<>\"\",K3,L3))))))))))","v":""},{"$f":"IF(AND(SUMPRODUCT(--('MARK Enrollment Template'!A8:L8<>\"\"))<>0,'MARK Enrollment Template'!A8=\"\"),\"Please fill in First Name.\",IF(LEN('MARK Enrollment Template'!A8)=1,\"Please fill in full first name.\",\"\"))","v":""},{"$f":"IF('MARK Enrollment Template'!A8=\"\",\"\",IF(AND('MARK Enrollment Template'!A8<>\"\",'MARK Enrollment Template'!B8=\"\"),\"Please fill in a Last Name.\",\"\"))","v":""},{"$f":"IF('MARK Enrollment Template'!A8=\"\",\"\",IF(AND('MARK Enrollment Template'!A8<>\"\",'MARK Enrollment Template'!C8=\"\"),\"Please fill in Date of Birth.\",IF(TRIM(O3)<>\"D4\",\"Please format DOB as a date in the form MM/DD/YYYY.\",IF('MARK Enrollment Template'!C8>TODAY(),\"Please check DOB.\",\"\"))))","v":""},{"$f":"IF('MARK Enrollment Template'!A8=\"\",\"\",IF(AND('MARK Enrollment Template'!A8<>\"\",'MARK Enrollment Template'!D8=\"\"),\"Please fill in Sex.\",IF(OR(TRIM('MARK Enrollment Template'!D8)=\"M\",TRIM('MARK Enrollment Template'!D8)=\"F\",TRIM('MARK Enrollment Template'!D8)=\"Male\",TRIM('MARK Enrollment Template'!D8)=\"Female\"),\"\",\"Sex must be M/F/Male/Female.\")))","v":""},null,null,{"$f":"IF('MARK Enrollment Template'!A8=\"\",\"\",IF(AND('MARK Enrollment Template'!A8<>\"\",'MARK Enrollment Template'!G8=\"\"),\"Please fill in Email Address.\",IF(IFERROR(FIND(\"@\",'MARK Enrollment Template'!G8),\"X\")=\"X\",\"Email Address must include an @ symbol.\",\"\")))","v":""},null,null,null,{"$f":"IF('MARK Enrollment Template'!A8=\"\",\"\",IF(AND('MARK Enrollment Template'!A8<>\"\",'MARK Enrollment Template'!K8=\"\"),\"Please fill in Zip Code.\",IF(LEN(SUBSTITUTE(TRIM('MARK Enrollment Template'!K8),CHAR(9),\"\"))<5,\"Zip <5 digits. If leading zero, add apostrophe (ex. '01234).\",\"\")))","v":""},null,null,{"$f":"CELL(\"format\",'MARK Enrollment Template'!C8)","v":"G"}]
[]
[]
[]
[null,"First Name                     *do not include middle initial","Last Name","Date of Birth","Sex Assigned at Birth","Spouse (Y/N) *optional","# Children *optional","Email Address","Address            *optional","City *optional","State *optional","Zip Code","Waive",null,"DOB Helper"]
[{"$f":"IF(B8<>\"\",B8,IF(C8<>\"\",C8,IF(D8<>\"\",D8,IF(E8<>\"\",E8,IF(F8<>\"\",F8,IF(G8<>\"\",G8,IF(H8<>\"\",H8,IF(I8<>\"\",I8,IF(J8<>\"\",J8,IF(K8<>\"\",K8,L8))))))))))","v":""},{"$f":"IF(AND(SUMPRODUCT(--('MARK Enrollment Template'!A13:L13<>\"\"))<>0,'MARK Enrollment Template'!A13=\"\"),\"Please fill in First Name.\",IF(LEN('MARK Enrollment Template'!A13)=1,\"Please fill in full first name.\",\"\"))","v":""},{"$f":"IF('MARK Enrollment Template'!A13=\"\",\"\",IF(AND('MARK Enrollment Template'!A13<>\"\",'MARK Enrollment Template'!B13=\"\"),\"Please fill in a Last Name.\",\"\"))","v":""},{"$f":"IF('MARK Enrollment Template'!A13=\"\",\"\",IF(AND('MARK Enrollment Template'!A13<>\"\",'MARK Enrollment Template'!C13=\"\"),\"Please fill in Date of Birth.\",IF(TRIM(O8)<>\"D4\",\"Please format DOB as a date in the form MM/DD/YYYY.\",IF('MARK Enrollment Template'!C13>TODAY(),\"Please check DOB.\",\"\"))))","v":""},{"$f":"IF('MARK Enrollment Template'!A13=\"\",\"\",IF(AND('MARK Enrollment Template'!A13<>\"\",'MARK Enrollment Template'!D13=\"\"),\"Please fill in Sex.\",IF(OR(TRIM('MARK Enrollment Template'!D13)=\"M\",TRIM('MARK Enrollment Template'!D13)=\"F\",TRIM('MARK Enrollment Template'!D13)=\"Male\",TRIM('MARK Enrollment Template'!D13)=\"Female\"),\"\",\"Sex must be M/F/Male/Female.\")))","v":""},null,null,{"$f":"IF('MARK Enrollment Template'!A13=\"\",\"\",IF(AND('MARK Enrollment Template'!A13<>\"\",'MARK Enrollment Template'!G13=\"\"),\"Please fill in Email Address.\",IF(IFERROR(FIND(\"@\",'MARK Enrollment Template'!G13),\"X\")=\"X\",\"Email Address must include an @ symbol.\",\"\")))","v":""},null,null,null,{"$f":"IF('MARK Enrollment Template'!A13=\"\",\"\",IF(AND('MARK Enrollment Template'!A13<>\"\",'MARK Enrollment Template'!K13=\"\"),\"Please fill in Zip Code.\",IF(LEN(SUBSTITUTE(TRIM('MARK Enrollment Template'!K13),CHAR(9),\"\"))<5,\"Zip <5 digits. If leading zero, add apostrophe (ex. '01234).\",\"\")))","v":""},null,null,{"$f":"CELL(\"format\",'MARK Enrollment Template'!C13)","v":"D4"}]
[{"$f":"IF(B9<>\"\",B9,IF(C9<>\"\",C9,IF(D9<>\"\",D9,IF(E9<>\"\",E9,IF(F9<>\"\",F9,IF(G9<>\"\",G9,IF(H9<>\"\",H9,IF(I9<>\"\",I9,IF(J9<>\"\",J9,IF(K9<>\"\",K9,L9))))))))))","v":""},{"$f":"IF(AND(SUMPRODUCT(--('MARK Enrollment Template'!A14:L14<>\"\"))<>0,'MARK Enrollment Template'!A14=\"\"),\"Please fill in First Name.\",IF(LEN('MARK Enrollment Template'!A14)=1,\"Please fill in full first name.\",\"\"))","v":""},{"$f":"IF('MARK Enrollment Template'!A14=\"\",\"\",IF(AND('MARK Enrollment Template'!A14<>\"\",'MARK Enrollment Template'!B14=\"\"),\"Please fill in a Last Name.\",\"\"))","v":""},{"$f":"IF('MARK Enrollment Template'!A14=\"\",\"\",IF(AND('MARK Enrollment Template'!A14<>\"\",'MARK Enrollment Template'!C14=\"\"),\"Please fill in Date of Birth.\",IF(TRIM(O9)<>\"D4\",\"Please format DOB as a date in the form MM/DD/YYYY.\",IF('MARK Enrollment Template'!C14>TODAY(),\"Please check DOB.\",\"\"))))","v":""},{"$f":"IF('MARK Enrollment Template'!A14=\"\",\"\",IF(AND('MARK Enrollment Template'!A14<>\"\",'MARK Enrollment Template'!D14=\"\"),\"Please fill in Sex.\",IF(OR(TRIM('MARK Enrollment Template'!D14)=\"M\",TRIM('MARK Enrollment Template'!D14)=\"F\",TRIM('MARK Enrollment Template'!D14)=\"Male\",TRIM('MARK Enrollment Template'!D14)=\"Female\"),\"\",\"Sex must be M/F/Male/Female.\")))","v":""},null,null,{"$f":"IF('MARK Enrollment Template'!A14=\"\",\"\",IF(AND('MARK Enrollment Template'!A14<>\"\",'MARK Enrollment Template'!G14=\"\"),\"Please fill in Email Address.\",IF(IFERROR(FIND(\"@\",'MARK Enrollment Template'!G14),\"X\")=\"X\",\"Email Address must include an @ symbol.\",\"\")))","v":""},null,null,null,{"$f":"IF('MARK Enrollment Template'!A14=\"\",\"\",IF(AND('MARK Enrollment Template'!A14<>\"\",'MARK Enrollment Template'!K14=\"\"),\"Please fill in Zip Code.\",IF(LEN(SUBSTITUTE(TRIM('MARK Enrollment Template'!K14),CHAR(9),\"\"))<5,\"Zip <5 digits. If leading zero, add apostrophe (ex. '01234).\",\"\")))","v":""},null,null,{"$f":"CELL(\"format\",'MARK Enrollment Template'!C14)","v":"D4"}]
["",{"$f":"IF(AND(SUMPRODUCT(--('MARK Enrollment Template'!A15:L15<>\"\"))<>0,'MARK Enrollment Template'!A15=\"\"),\"Please fill in First Name.\",IF(LEN('MARK Enrollment Template'!A15)=1,\"Please fill in full first name.\",\"\"))","v":""},{"$f":"IF('MARK Enrollment Template'!A15=\"\",\"\",IF(AND('MARK Enrollment Template'!A15<>\"\",'MARK Enrollment Template'!B15=\"\"),\"Please fill in a Last Name.\",\"\"))","v":""},{"$f":"IF('MARK Enrollment Template'!A15=\"\",\"\",IF(AND('MARK Enrollment Template'!A15<>\"\",'MARK Enrollment Template'!C15=\"\"),\"Please fill in Date of Birth.\",IF(TRIM(O10)<>\"D4\",\"Please format DOB as a date in the form MM/DD/YYYY.\",IF('MARK Enrollment Template'!C15>TODAY(),\"Please check DOB.\",\"\"))))","v":""},{"$f":"IF('MARK Enrollment Template'!A15=\"\",\"\",IF(AND('MARK Enrollment Template'!A15<>\"\",'MARK Enrollment Template'!D15=\"\"),\"Please fill in Sex.\",IF(OR(TRIM('MARK Enrollment Template'!D15)=\"M\",TRIM('MARK Enrollment Template'!D15)=\"F\",TRIM('MARK Enrollment Template'!D15)=\"Male\",TRIM('MARK Enrollment Template'!D15)=\"Female\"),\"\",\"Sex must be M/F/Male/Female.\")))","v":""},null,null,{"$f":"IF('MARK Enrollment Template'!A15=\"\",\"\",IF(AND('MARK Enrollment Template'!A15<>\"\",'MARK Enrollment Template'!G15=\"\"),\"Please fill in Email Address.\",IF(IFERROR(FIND(\"@\",'MARK Enrollment Template'!G15),\"X\")=\"X\",\"Email Address must include an @ symbol.\",\"\")))","v":""},null,null,null,{"$f":"IF('MARK Enrollment Template'!A15=\"\",\"\",IF(AND('MARK Enrollment Template'!A15<>\"\",'MARK Enrollment Template'!K15=\"\"),\"Please fill in Zip Code.\",IF(LEN(SUBSTITUTE(TRIM('MARK Enrollment Template'!K15),CHAR(9),\"\"))<5,\"Zip <5 digits. If leading zero, add apostrophe (ex. '01234).\",\"\")))","v":""},null,null,{"$f":"CELL(\"format\",'MARK Enrollment Template'!C15)","v":"D4"}]
["",{"$f":"IF(AND(SUMPRODUCT(--('MARK Enrollment Template'!A16:L16<>\"\"))<>0,'MARK Enrollment Template'!A16=\"\"),\"Please fill in First Name.\",IF(LEN('MARK Enrollment Template'!A16)=1,\"Please fill in full first name.\",\"\"))","v":""},{"$f":"IF('MARK Enrollment Template'!A16=\"\",\"\",IF(AND('MARK Enrollment Template'!A16<>\"\",'MARK Enrollment Template'!B16=\"\"),\"Please fill in a Last Name.\",\"\"))","v":""},{"$f":"IF('MARK Enrollment Template'!A16=\"\",\"\",IF(AND('MARK Enrollment Template'!A16<>\"\",'MARK Enrollment Template'!C16=\"\"),\"Please fill in Date of Birth.\",IF(TRIM(O11)<>\"D4\",\"Please format DOB as a date in the form MM/DD/YYYY.\",IF('MARK Enrollment Template'!C16>TODAY(),\"Please check DOB.\",\"\"))))","v":""},{"$f":"IF('MARK Enrollment Template'!A16=\"\",\"\",IF(AND('MARK Enrollment Template'!A16<>\"\",'MARK Enrollment Template'!D16=\"\"),\"Please fill in Sex.\",IF(OR(TRIM('MARK Enrollment Template'!D16)=\"M\",TRIM('MARK Enrollment Template'!D16)=\"F\",TRIM('MARK Enrollment Template'!D16)=\"Male\",TRIM('MARK Enrollment Template'!D16)=\"Female\"),\"\",\"Sex must be M/F/Male/Female.\")))","v":""},null,null,{"$f":"IF('MARK Enrollment Template'!A16=\"\",\"\",IF(AND('MARK Enrollment Template'!A16<>\"\",'MARK Enrollment Template'!G16=\"\"),\"Please fill in Email Address.\",IF(IFERROR(FIND(\"@\",'MARK Enrollment Template'!G16),\"X\")=\"X\",\"Email Address must include an @ symbol.\",\"\")))","v":""},null,null,null,{"$f":"IF('MARK Enrollment Template'!A16=\"\",\"\",IF(AND('MARK Enrollment Template'!A16<>\"\",'MARK Enrollment Template'!K16=\"\"),\"Please fill in Zip Code.\",IF(LEN(SUBSTITUTE(TRIM('MARK Enrollment Template'!K16),CHAR(9),\"\"))<5,\"Zip <5 digits. If leading zero, add apostrophe (ex. '01234).\",\"\")))","v":""},null,null,{"$f":"CELL(\"format\",'MARK Enrollment Template'!C16)","v":"D4"}]
["",{"$f":"IF(AND(SUMPRODUCT(--('MARK Enrollment Template'!A17:L17<>\"\"))<>0,'MARK Enrollment Template'!A17=\"\"),\"Please fill in First Name.\",IF(LEN('MARK Enrollment Template'!A17)=1,\"Please fill in full first name.\",\"\"))","v":""},{"$f":"IF('MARK Enrollment Template'!A17=\"\",\"\",IF(AND('MARK Enrollment Template'!A17<>\"\",'MARK Enrollment Template'!B17=\"\"),\"Please fill in a Last Name.\",\"\"))","v":""},{"$f":"IF('MARK Enrollment Template'!A17=\"\",\"\",IF(AND('MARK Enrollment Template'!A17<>\"\",'MARK Enrollment Template'!C17=\"\"),\"Please fill in Date of Birth.\",IF(TRIM(O12)<>\"D4\",\"Please format DOB as a date in the form MM/DD/YYYY.\",IF('MARK Enrollment Template'!C17>TODAY(),\"Please check DOB.\",\"\"))))","v":""},{"$f":"IF('MARK Enrollment Template'!A17=\"\",\"\",IF(AND('MARK Enrollment Template'!A17<>\"\",'MARK Enrollment Template'!D17=\"\"),\"Please fill in Sex.\",IF(OR(TRIM('MARK Enrollment Template'!D17)=\"M\",TRIM('MARK Enrollment Template'!D17)=\"F\",TRIM('MARK Enrollment Template'!D17)=\"Male\",TRIM('MARK Enrollment Template'!D17)=\"Female\"),\"\",\"Sex must be M/F/Male/Female.\")))","v":""},null,null,{"$f":"IF('MARK Enrollment Template'!A17=\"\",\"\",IF(AND('MARK Enrollment Template'!A17<>\"\",'MARK Enrollment Template'!G17=\"\"),\"Please fill in Email Address.\",IF(IFERROR(FIND(\"@\",'MARK Enrollment Template'!G17),\"X\")=\"X\",\"Email Address must include an @ symbol.\",\"\")))","v":""},null,null,null,{"$f":"IF('MARK Enrollment Template'!A17=\"\",\"\",IF(AND('MARK Enrollment Template'!A17<>\"\",'MARK Enrollment Template'!K17=\"\"),\"Please fill in Zip Code.\",IF(LEN(SUBSTITUTE(TRIM('MARK Enrollment Template'!K17),CHAR(9),\"\"))<5,\"Zip <5 digits. If leading zero, add apostrophe (ex. '01234).\",\"\")))","v":""},null,null,{"$f":"CELL(\"format\",'MARK Enrollment Template'!C17)","v":"D4"}]
["",{"$f":"IF(AND(SUMPRODUCT(--('MARK Enrollment Template'!A18:L18<>\"\"))<>0,'MARK Enrollment Template'!A18=\"\"),\"Please fill in First Name.\",IF(LEN('MARK Enrollment Template'!A18)=1,\"Please fill in full first name.\",\"\"))","v":""},{"$f":"IF('MARK Enrollment Template'!A18=\"\",\"\",IF(AND('MARK Enrollment Template'!A18<>\"\",'MARK Enrollment Template'!B18=\"\"),\"Please fill in a Last Name.\",\"\"))","v":""},{"$f":"IF('MARK Enrollment Template'!A18=\"\",\"\",IF(AND('MARK Enrollment Template'!A18<>\"\",'MARK Enrollment Template'!C18=\"\"),\"Please fill in Date of Birth.\",IF(TRIM(O13)<>\"D4\",\"Please format DOB as a date in the form MM/DD/YYYY.\",IF('MARK Enrollment Template'!C18>TODAY(),\"Please check DOB.\",\"\"))))","v":""},{"$f":"IF('MARK Enrollment Template'!A18=\"\",\"\",IF(AND('MARK Enrollment Template'!A18<>\"\",'MARK Enrollment Template'!D18=\"\"),\"Please fill in Sex.\",IF(OR(TRIM('MARK Enrollment Template'!D18)=\"M\",TRIM('MARK Enrollment Template'!D18)=\"F\",TRIM('MARK Enrollment Template'!D18)=\"Male\",TRIM('MARK Enrollment Template'!D18)=\"Female\"),\"\",\"Sex must be M/F/Male/Female.\")))","v":""},null,null,{"$f":"IF('MARK Enrollment Template'!A18=\"\",\"\",IF(AND('MARK Enrollment Template'!A18<>\"\",'MARK Enrollment Template'!G18=\"\"),\"Please fill in Email Address.\",IF(IFERROR(FIND(\"@\",'MARK Enrollment Template'!G18),\"X\")=\"X\",\"Email Address must include an @ symbol.\",\"\")))","v":""},null,null,null,{"$f":"IF('MARK Enrollment Template'!A18=\"\",\"\",IF(AND('MARK Enrollment Template'!A18<>\"\",'MARK Enrollment Template'!K18=\"\"),\"Please fill in Zip Code.\",IF(LEN(SUBSTITUTE(TRIM('MARK Enrollment Template'!K18),CHAR(9),\"\"))<5,\"Zip <5 digits. If leading zero, add apostrophe (ex. '01234).\",\"\")))","v":""},null,null,{"$f":"CELL(\"format\",'MARK Enrollment Template'!C18)","v":"D4"}]
["",{"$f":"IF(AND(SUMPRODUCT(--('MARK Enrollment Template'!A19:L19<>\"\"))<>0,'MARK Enrollment Template'!A19=\"\"),\"Please fill in First Name.\",IF(LEN('MARK Enrollment Template'!A19)=1,\"Please fill in full first name.\",\"\"))","v":""},{"$f":"IF('MARK Enrollment Template'!A19=\"\",\"\",IF(AND('MARK Enrollment Template'!A19<>\"\",'MARK Enrollment Template'!B19=\"\"),\"Please fill in a Last Name.\",\"\"))","v":""},{"$f":"IF('MARK Enrollment Template'!A19=\"\",\"\",IF(AND('MARK Enrollment Template'!A19<>\"\",'MARK Enrollment Template'!C19=\"\"),\"Please fill in Date of Birth.\",IF(TRIM(O14)<>\"D4\",\"Please format DOB as a date in the form MM/DD/YYYY.\",IF('MARK Enrollment Template'!C19>TODAY(),\"Please check DOB.\",\"\"))))","v":""},{"$f":"IF('MARK Enrollment Template'!A19=\"\",\"\",IF(AND('MARK Enrollment Template'!A19<>\"\",'MARK Enrollment Template'!D19=\"\"),\"Please fill in Sex.\",IF(OR(TRIM('MARK Enrollment Template'!D19)=\"M\",TRIM('MARK Enrollment Template'!D19)=\"F\",TRIM('MARK Enrollment Template'!D19)=\"Male\",TRIM('MARK Enrollment Template'!D19)=\"Female\"),\"\",\"Sex must be M/F/Male/Female.\")))","v":""},null,null,{"$f":"IF('MARK Enrollment Template'!A19=\"\",\"\",IF(AND('MARK Enrollment Template'!A19<>\"\",'MARK Enrollment Template'!G19=\"\"),\"Please fill in Email Address.\",IF(IFERROR(FIND(\"@\",'MARK Enrollment Template'!G19),\"X\")=\"X\",\"Email Address must include an @ symbol.\",\"\")))","v":""},null,null,null,{"$f":"IF('MARK Enrollment Template'!A19=\"\",\"\",IF(AND('MARK Enrollment Template'!A19<>\"\",'MARK Enrollment Template'!K19=\"\"),\"Please fill in Zip Code.\",IF(LEN(SUBSTITUTE(TRIM('MARK Enrollment Template'!K19),CHAR(9),\"\"))<5,\"Zip <5 digits. If leading zero, add apostrophe (ex. '01234).\",\"\")))","v":""},null,null,{"$f":"CELL(\"format\",'MARK Enrollment Template'!C19)","v":"D4"}]
["",{"$f":"IF(AND(SUMPRODUCT(--('MARK Enrollment Template'!A20:L20<>\"\"))<>0,'MARK Enrollment Template'!A20=\"\"),\"Please fill in First Name.\",IF(LEN('MARK Enrollment Template'!A20)=1,\"Please fill in full first name.\",\"\"))","v":""},{"$f":"IF('MARK Enrollment Template'!A20=\"\",\"\",IF(AND('MARK Enrollment Template'!A20<>\"\",'MARK Enrollment Template'!B20=\"\"),\"Please fill in a Last Name.\",\"\"))","v":""},{"$f":"IF('MARK Enrollment Template'!A20=\"\",\"\",IF(AND('MARK Enrollment Template'!A20<>\"\",'MARK Enrollment Template'!C20=\"\"),\"Please fill in Date of Birth.\",IF(TRIM(O15)<>\"D4\",\"Please format DOB as a date in the form MM/DD/YYYY.\",IF('MARK Enrollment Template'!C20>TODAY(),\"Please check DOB.\",\"\"))))","v":""},{"$f":"IF('MARK Enrollment Template'!A20=\"\",\"\",IF(AND('MARK Enrollment Template'!A20<>\"\",'MARK Enrollment Template'!D20=\"\"),\"Please fill in Sex.\",IF(OR(TRIM('MARK Enrollment Template'!D20)=\"M\",TRIM('MARK Enrollment Template'!D20)=\"F\",TRIM('MARK Enrollment Template'!D20)=\"Male\",TRIM('MARK Enrollment Template'!D20)=\"Female\"),\"\",\"Sex must be M/F/Male/Female.\")))","v":""},null,null,{"$f":"IF('MARK Enrollment Template'!A20=\"\",\"\",IF(AND('MARK Enrollment Template'!A20<>\"\",'MARK Enrollment Template'!G20=\"\"),\"Please fill in Email Address.\",IF(IFERROR(FIND(\"@\",'MARK Enrollment Template'!G20),\"X\")=\"X\",\"Email Address must include an @ symbol.\",\"\")))","v":""},null,null,null,{"$f":"IF('MARK Enrollment Template'!A20=\"\",\"\",IF(AND('MARK Enrollment Template'!A20<>\"\",'MARK Enrollment Template'!K20=\"\"),\"Please fill in Zip Code.\",IF(LEN(SUBSTITUTE(TRIM('MARK Enrollment Template'!K20),CHAR(9),\"\"))<5,\"Zip <5 digits. If leading zero, add apostrophe (ex. '01234).\",\"\")))","v":""},null,null,{"$f":"CELL(\"format\",'MARK Enrollment Template'!C20)","v":"D4"}]
["",{"$f":"IF(AND(SUMPRODUCT(--('MARK Enrollment Template'!A21:L21<>\"\"))<>0,'MARK Enrollment Template'!A21=\"\"),\"Please fill in First Name.\",IF(LEN('MARK Enrollment Template'!A21)=1,\"Please fill in full first name.\",\"\"))","v":""},{"$f":"IF('MARK Enrollment Template'!A21=\"\",\"\",IF(AND('MARK Enrollment Template'!A21<>\"\",'MARK Enrollment Template'!B21=\"\"),\"Please fill in a Last Name.\",\"\"))","v":""},{"$f":"IF('MARK Enrollment Template'!A21=\"\",\"\",IF(AND('MARK Enrollment Template'!A21<>\"\",'MARK Enrollment Template'!C21=\"\"),\"Please fill in Date of Birth.\",IF(TRIM(O16)<>\"D4\",\"Please format DOB as a date in the form MM/DD/YYYY.\",IF('MARK Enrollment Template'!C21>TODAY(),\"Please check DOB.\",\"\"))))","v":""},{"$f":"IF('MARK Enrollment Template'!A21=\"\",\"\",IF(AND('MARK Enrollment Template'!A21<>\"\",'MARK Enrollment Template'!D21=\"\"),\"Please fill in Sex.\",IF(OR(TRIM('MARK Enrollment Template'!D21)=\"M\",TRIM('MARK Enrollment Template'!D21)=\"F\",TRIM('MARK Enrollment Template'!D21)=\"Male\",TRIM('MARK Enrollment Template'!D21)=\"Female\"),\"\",\"Sex must be M/F/Male/Female.\")))","v":""},null,null,{"$f":"IF('MARK Enrollment Template'!A21=\"\",\"\",IF(AND('MARK Enrollment Template'!A21<>\"\",'MARK Enrollment Template'!G21=\"\"),\"Please fill in Email Address.\",IF(IFERROR(FIND(\"@\",'MARK Enrollment Template'!G21),\"X\")=\"X\",\"Email Address must include an @ symbol.\",\"\")))","v":""},null,null,null,{"$f":"IF('MARK Enrollment Template'!A21=\"\",\"\",IF(AND('MARK Enrollment Template'!A21<>\"\",'MARK Enrollment Template'!K21=\"\"),\"Please fill in Zip Code.\",IF(LEN(SUBSTITUTE(TRIM('MARK Enrollment Template'!K21),CHAR(9),\"\"))<5,\"Zip <5 digits. If leading zero, add apostrophe (ex. '01234).\",\"\")))","v":""},null,null,{"$f":"CELL(\"format\",'MARK Enrollment Template'!C21)","v":"D4"}]
["",{"$f":"IF(AND(SUMPRODUCT(--('MARK Enrollment Template'!A22:L22<>\"\"))<>0,'MARK Enrollment Template'!A22=\"\"),\"Please fill in First Name.\",IF(LEN('MARK Enrollment Template'!A22)=1,\"Please fill in full first name.\",\"\"))","v":""},{"$f":"IF('MARK Enrollment Template'!A22=\"\",\"\",IF(AND('MARK Enrollment Template'!A22<>\"\",'MARK Enrollment Template'!B22=\"\"),\"Please fill in a Last Name.\",\"\"))","v":""},{"$f":"IF('MARK Enrollment Template'!A22=\"\",\"\",IF(AND('MARK Enrollment Template'!A22<>\"\",'MARK Enrollment Template'!C22=\"\"),\"Please fill in Date of Birth.\",IF(TRIM(O17)<>\"D4\",\"Please format DOB as a date in the form MM/DD/YYYY.\",IF('MARK Enrollment Template'!C22>TODAY(),\"Please check DOB.\",\"\"))))","v":""},{"$f":"IF('MARK Enrollment Template'!A22=\"\",\"\",IF(AND('MARK Enrollment Template'!A22<>\"\",'MARK Enrollment Template'!D22=\"\"),\"Please fill in Sex.\",IF(OR(TRIM('MARK Enrollment Template'!D22)=\"M\",TRIM('MARK Enrollment Template'!D22)=\"F\",TRIM('MARK Enrollment Template'!D22)=\"Male\",TRIM('MARK Enrollment Template'!D22)=\"Female\"),\"\",\"Sex must be M/F/Male/Female.\")))","v":""},null,null,{"$f":"IF('MARK Enrollment Template'!A22=\"\",\"\",IF(AND('MARK Enrollment Template'!A22<>\"\",'MARK Enrollment Template'!G22=\"\"),\"Please fill in Email Address.\",IF(IFERROR(FIND(\"@\",'MARK Enrollment Template'!G22),\"X\")=\"X\",\"Email Address must include an @ symbol.\",\"\")))","v":""},null,null,null,{"$f":"IF('MARK Enrollment Template'!A22=\"\",\"\",IF(AND('MARK Enrollment Template'!A22<>\"\",'MARK Enrollment Template'!K22=\"\"),\"Please fill in Zip Code.\",IF(LEN(SUBSTITUTE(TRIM('MARK Enrollment Template'!K22),CHAR(9),\"\"))<5,\"Zip <5 digits. If leading zero, add apostrophe (ex. '01234).\",\"\")))","v":""},null,null,{"$f":"CELL(\"format\",'MARK Enrollment Template'!C22)","v":"D4"}]
["",{"$f":"IF(AND(SUMPRODUCT(--('MARK Enrollment Template'!A23:L23<>\"\"))<>0,'MARK Enrollment Template'!A23=\"\"),\"Please fill in First Name.\",IF(LEN('MARK Enrollment Template'!A23)=1,\"Please fill in full first name.\",\"\"))","v":""},{"$f":"IF('MARK Enrollment Template'!A23=\"\",\"\",IF(AND('MARK Enrollment Template'!A23<>\"\",'MARK Enrollment Template'!B23=\"\"),\"Please fill in a Last Name.\",\"\"))","v":""},{"$f":"IF('MARK Enrollment Template'!A23=\"\",\"\",IF(AND('MARK Enrollment Template'!A23<>\"\",'MARK Enrollment Template'!C23=\"\"),\"Please fill in Date of Birth.\",IF(TRIM(O18)<>\"D4\",\"Please format DOB as a date in the form MM/DD/YYYY.\",IF('MARK Enrollment Template'!C23>TODAY(),\"Please check DOB.\",\"\"))))","v":""},{"$f":"IF('MARK Enrollment Template'!A23=\"\",\"\",IF(AND('MARK Enrollment Template'!A23<>\"\",'MARK Enrollment Template'!D23=\"\"),\"Please fill in Sex.\",IF(OR(TRIM('MARK Enrollment Template'!D23)=\"M\",TRIM('MARK Enrollment Template'!D23)=\"F\",TRIM('MARK Enrollment Template'!D23)=\"Male\",TRIM('MARK Enrollment Template'!D23)=\"Female\"),\"\",\"Sex must be M/F/Male/Female.\")))","v":""},null,null,{"$f":"IF('MARK Enrollment Template'!A23=\"\",\"\",IF(AND('MARK Enrollment Template'!A23<>\"\",'MARK Enrollment Template'!G23=\"\"),\"Please fill in Email Address.\",IF(IFERROR(FIND(\"@\",'MARK Enrollment Template'!G23),\"X\")=\"X\",\"Email Address must include an @ symbol.\",\"\")))","v":""},null,null,null,{"$f":"IF('MARK Enrollment Template'!A23=\"\",\"\",IF(AND('MARK Enrollment Template'!A23<>\"\",'MARK Enrollment Template'!K23=\"\"),\"Please fill in Zip Code.\",IF(LEN(SUBSTITUTE(TRIM('MARK Enrollment Template'!K23),CHAR(9),\"\"))<5,\"Zip <5 digits. If leading zero, add apostrophe (ex. '01234).\",\"\")))","v":""},null,null,{"$f":"CELL(\"format\",'MARK Enrollment Template'!C23)","v":"D4"}]
["",{"$f":"IF(AND(SUMPRODUCT(--('MARK Enrollment Template'!A24:L24<>\"\"))<>0,'MARK Enrollment Template'!A24=\"\"),\"Please fill in First Name.\",IF(LEN('MARK Enrollment Template'!A24)=1,\"Please fill in full first name.\",\"\"))","v":""},{"$f":"IF('MARK Enrollment Template'!A24=\"\",\"\",IF(AND('MARK Enrollment Template'!A24<>\"\",'MARK Enrollment Template'!B24=\"\"),\"Please fill in a Last Name.\",\"\"))","v":""},{"$f":"IF('MARK Enrollment Template'!A24=\"\",\"\",IF(AND('MARK Enrollment Template'!A24<>\"\",'MARK Enrollment Template'!C24=\"\"),\"Please fill in Date of Birth.\",IF(TRIM(O19)<>\"D4\",\"Please format DOB as a date in the form MM/DD/YYYY.\",IF('MARK Enrollment Template'!C24>TODAY(),\"Please check DOB.\",\"\"))))","v":""},{"$f":"IF('MARK Enrollment Template'!A24=\"\",\"\",IF(AND('MARK Enrollment Template'!A24<>\"\",'MARK Enrollment Template'!D24=\"\"),\"Please fill in Sex.\",IF(OR(TRIM('MARK Enrollment Template'!D24)=\"M\",TRIM('MARK Enrollment Template'!D24)=\"F\",TRIM('MARK Enrollment Template'!D24)=\"Male\",TRIM('MARK Enrollment Template'!D24)=\"Female\"),\"\",\"Sex must be M/F/Male/Female.\")))","v":""},null,null,{"$f":"IF('MARK Enrollment Template'!A24=\"\",\"\",IF(AND('MARK Enrollment Template'!A24<>\"\",'MARK Enrollment Template'!G24=\"\"),\"Please fill in Email Address.\",IF(IFERROR(FIND(\"@\",'MARK Enrollment Template'!G24),\"X\")=\"X\",\"Email Address must include an @ symbol.\",\"\")))","v":""},null,null,null,{"$f":"IF('MARK Enrollment Template'!A24=\"\",\"\",IF(AND('MARK Enrollment Template'!A24<>\"\",'MARK Enrollment Template'!K24=\"\"),\"Please fill in Zip Code.\",IF(LEN(SUBSTITUTE(TRIM('MARK Enrollment Template'!K24),CHAR(9),\"\"))<5,\"Zip <5 digits. If leading zero, add apostrophe (ex. '01234).\",\"\")))","v":""},null,null,{"$f":"CELL(\"format\",'MARK Enrollment Template'!C24)","v":"D4"}]
["",{"$f":"IF(AND(SUMPRODUCT(--('MARK Enrollment Template'!A25:L25<>\"\"))<>0,'MARK Enrollment Template'!A25=\"\"),\"Please fill in First Name.\",IF(LEN('MARK Enrollment Template'!A25)=1,\"Please fill in full first name.\",\"\"))","v":""},{"$f":"IF('MARK Enrollment Template'!A25=\"\",\"\",IF(AND('MARK Enrollment Template'!A25<>\"\",'MARK Enrollment Template'!B25=\"\"),\"Please fill in a Last Name.\",\"\"))","v":""},{"$f":"IF('MARK Enrollment Template'!A25=\"\",\"\",IF(AND('MARK Enrollment Template'!A25<>\"\",'MARK Enrollment Template'!C25=\"\"),\"Please fill in Date of Birth.\",IF(TRIM(O20)<>\"D4\",\"Please format DOB as a date in the form MM/DD/YYYY.\",IF('MARK Enrollment Template'!C25>TODAY(),\"Please check DOB.\",\"\"))))","v":""},{"$f":"IF('MARK Enrollment Template'!A25=\"\",\"\",IF(AND('MARK Enrollment Template'!A25<>\"\",'MARK Enrollment Template'!D25=\"\"),\"Please fill in Sex.\",IF(OR(TRIM('MARK Enrollment Template'!D25)=\"M\",TRIM('MARK Enrollment Template'!D25)=\"F\",TRIM('MARK Enrollment Template'!D25)=\"Male\",TRIM('MARK Enrollment Template'!D25)=\"Female\"),\"\",\"Sex must be M/F/Male/Female.\")))","v":""},null,null,{"$f":"IF('MARK Enrollment Template'!A25=\"\",\"\",IF(AND('MARK Enrollment Template'!A25<>\"\",'MARK Enrollment Template'!G25=\"\"),\"Please fill in Email Address.\",IF(IFERROR(FIND(\"@\",'MARK Enrollment Template'!G25),\"X\")=\"X\",\"Email Address must include an @ symbol.\",\"\")))","v":""},null,null,null,{"$f":"IF('MARK Enrollment Template'!A25=\"\",\"\",IF(AND('MARK Enrollment Template'!A25<>\"\",'MARK Enrollment Template'!K25=\"\"),\"Please fill in Zip Code.\",IF(LEN(SUBSTITUTE(TRIM('MARK Enrollment Template'!K25),CHAR(9),\"\"))<5,\"Zip <5 digits. If leading zero, add apostrophe (ex. '01234).\",\"\")))","v":""},null,null,{"$f":"CELL(\"format\",'MARK Enrollment Template'!C25)","v":"D4"}]
["",{"$f":"IF(AND(SUMPRODUCT(--('MARK Enrollment Template'!A26:L26<>\"\"))<>0,'MARK Enrollment Template'!A26=\"\"),\"Please fill in First Name.\",IF(LEN('MARK Enrollment Template'!A26)=1,\"Please fill in full first name.\",\"\"))","v":""},{"$f":"IF('MARK Enrollment Template'!A26=\"\",\"\",IF(AND('MARK Enrollment Template'!A26<>\"\",'MARK Enrollment Template'!B26=\"\"),\"Please fill in a Last Name.\",\"\"))","v":""},{"$f":"IF('MARK Enrollment Template'!A26=\"\",\"\",IF(AND('MARK Enrollment Template'!A26<>\"\",'MARK Enrollment Template'!C26=\"\"),\"Please fill in Date of Birth.\",IF(TRIM(O21)<>\"D4\",\"Please format DOB as a date in the form MM/DD/YYYY.\",IF('MARK Enrollment Template'!C26>TODAY(),\"Please check DOB.\",\"\"))))","v":""},{"$f":"IF('MARK Enrollment Template'!A26=\"\",\"\",IF(AND('MARK Enrollment Template'!A26<>\"\",'MARK Enrollment Template'!D26=\"\"),\"Please fill in Sex.\",IF(OR(TRIM('MARK Enrollment Template'!D26)=\"M\",TRIM('MARK Enrollment Template'!D26)=\"F\",TRIM('MARK Enrollment Template'!D26)=\"Male\",TRIM('MARK Enrollment Template'!D26)=\"Female\"),\"\",\"Sex must be M/F/Male/Female.\")))","v":""},null,null,{"$f":"IF('MARK Enrollment Template'!A26=\"\",\"\",IF(AND('MARK Enrollment Template'!A26<>\"\",'MARK Enrollment Template'!G26=\"\"),\"Please fill in Email Address.\",IF(IFERROR(FIND(\"@\",'MARK Enrollment Template'!G26),\"X\")=\"X\",\"Email Address must include an @ symbol.\",\"\")))","v":""},null,null,null,{"$f":"IF('MARK Enrollment Template'!A26=\"\",\"\",IF(AND('MARK Enrollment Template'!A26<>\"\",'MARK Enrollment Template'!K26=\"\"),\"Please fill in Zip Code.\",IF(LEN(SUBSTITUTE(TRIM('MARK Enrollment Template'!K26),CHAR(9),\"\"))<5,\"Zip <5 digits. If leading zero, add apostrophe (ex. '01234).\",\"\")))","v":""},null,null,{"$f":"CELL(\"format\",'MARK Enrollment Template'!C26)","v":"D4"}]
["",{"$f":"IF(AND(SUMPRODUCT(--('MARK Enrollment Template'!A27:L27<>\"\"))<>0,'MARK Enrollment Template'!A27=\"\"),\"Please fill in First Name.\",IF(LEN('MARK Enrollment Template'!A27)=1,\"Please fill in full first name.\",\"\"))","v":""},{"$f":"IF('MARK Enrollment Template'!A27=\"\",\"\",IF(AND('MARK Enrollment Template'!A27<>\"\",'MARK Enrollment Template'!B27=\"\"),\"Please fill in a Last Name.\",\"\"))","v":""},{"$f":"IF('MARK Enrollment Template'!A27=\"\",\"\",IF(AND('MARK Enrollment Template'!A27<>\"\",'MARK Enrollment Template'!C27=\"\"),\"Please fill in Date of Birth.\",IF(TRIM(O22)<>\"D4\",\"Please format DOB as a date in the form MM/DD/YYYY.\",IF('MARK Enrollment Template'!C27>TODAY(),\"Please check DOB.\",\"\"))))","v":""},{"$f":"IF('MARK Enrollment Template'!A27=\"\",\"\",IF(AND('MARK Enrollment Template'!A27<>\"\",'MARK Enrollment Template'!D27=\"\"),\"Please fill in Sex.\",IF(OR(TRIM('MARK Enrollment Template'!D27)=\"M\",TRIM('MARK Enrollment Template'!D27)=\"F\",TRIM('MARK Enrollment Template'!D27)=\"Male\",TRIM('MARK Enrollment Template'!D27)=\"Female\"),\"\",\"Sex must be M/F/Male/Female.\")))","v":""},null,null,{"$f":"IF('MARK Enrollment Template'!A27=\"\",\"\",IF(AND('MARK Enrollment Template'!A27<>\"\",'MARK Enrollment Template'!G27=\"\"),\"Please fill in Email Address.\",IF(IFERROR(FIND(\"@\",'MARK Enrollment Template'!G27),\"X\")=\"X\",\"Email Address must include an @ symbol.\",\"\")))","v":""},null,null,null,{"$f":"IF('MARK Enrollment Template'!A27=\"\",\"\",IF(AND('MARK Enrollment Template'!A27<>\"\",'MARK Enrollment Template'!K27=\"\"),\"Please fill in Zip Code.\",IF(LEN(SUBSTITUTE(TRIM('MARK Enrollment Template'!K27),CHAR(9),\"\"))<5,\"Zip <5 digits. If leading zero, add apostrophe (ex. '01234).\",\"\")))","v":""},null,null,{"$f":"CELL(\"format\",'MARK Enrollment Template'!C27)","v":"D4"}]
["",{"$f":"IF(AND(SUMPRODUCT(--('MARK Enrollment Template'!A28:L28<>\"\"))<>0,'MARK Enrollment Template'!A28=\"\"),\"Please fill in First Name.\",IF(LEN('MARK Enrollment Template'!A28)=1,\"Please fill in full first name.\",\"\"))","v":""},{"$f":"IF('MARK Enrollment Template'!A28=\"\",\"\",IF(AND('MARK Enrollment Template'!A28<>\"\",'MARK Enrollment Template'!B28=\"\"),\"Please fill in a Last Name.\",\"\"))","v":""},{"$f":"IF('MARK Enrollment Template'!A28=\"\",\"\",IF(AND('MARK Enrollment Template'!A28<>\"\",'MARK Enrollment Template'!C28=\"\"),\"Please fill in Date of Birth.\",IF(TRIM(O23)<>\"D4\",\"Please format DOB as a date in the form MM/DD/YYYY.\",IF('MARK Enrollment Template'!C28>TODAY(),\"Please check DOB.\",\"\"))))","v":""},{"$f":"IF('MARK Enrollment Template'!A28=\"\",\"\",IF(AND('MARK Enrollment Template'!A28<>\"\",'MARK Enrollment Template'!D28=\"\"),\"Please fill in Sex.\",IF(OR(TRIM('MARK Enrollment Template'!D28)=\"M\",TRIM('MARK Enrollment Template'!D28)=\"F\",TRIM('MARK Enrollment Template'!D28)=\"Male\",TRIM('MARK Enrollment Template'!D28)=\"Female\"),\"\",\"Sex must be M/F/Male/Female.\")))","v":""},null,null,{"$f":"IF('MARK Enrollment Template'!A28=\"\",\"\",IF(AND('MARK Enrollment Template'!A28<>\"\",'MARK Enrollment Template'!G28=\"\"),\"Please fill in Email Address.\",IF(IFERROR(FIND(\"@\",'MARK Enrollment Template'!G28),\"X\")=\"X\",\"Email Address must include an @ symbol.\",\"\")))","v":""},null,null,null,{"$f":"IF('MARK Enrollment Template'!A28=\"\",\"\",IF(AND('MARK Enrollment Template'!A28<>\"\",'MARK Enrollment Template'!K28=\"\"),\"Please fill in Zip Code.\",IF(LEN(SUBSTITUTE(TRIM('MARK Enrollment Template'!K28),CHAR(9),\"\"))<5,\"Zip <5 digits. If leading zero, add apostrophe (ex. '01234).\",\"\")))","v":""},null,null,{"$f":"CELL(\"format\",'MARK Enrollment Template'!C28)","v":"D4"}]
["",{"$f":"IF(AND(SUMPRODUCT(--('MARK Enrollment Template'!A29:L29<>\"\"))<>0,'MARK Enrollment Template'!A29=\"\"),\"Please fill in First Name.\",IF(LEN('MARK Enrollment Template'!A29)=1,\"Please fill in full first name.\",\"\"))","v":""},{"$f":"IF('MARK Enrollment Template'!A29=\"\",\"\",IF(AND('MARK Enrollment Template'!A29<>\"\",'MARK Enrollment Template'!B29=\"\"),\"Please fill in a Last Name.\",\"\"))","v":""},{"$f":"IF('MARK Enrollment Template'!A29=\"\",\"\",IF(AND('MARK Enrollment Template'!A29<>\"\",'MARK Enrollment Template'!C29=\"\"),\"Please fill in Date of Birth.\",IF(TRIM(O24)<>\"D4\",\"Please format DOB as a date in the form MM/DD/YYYY.\",IF('MARK Enrollment Template'!C29>TODAY(),\"Please check DOB.\",\"\"))))","v":""},{"$f":"IF('MARK Enrollment Template'!A29=\"\",\"\",IF(AND('MARK Enrollment Template'!A29<>\"\",'MARK Enrollment Template'!D29=\"\"),\"Please fill in Sex.\",IF(OR(TRIM('MARK Enrollment Template'!D29)=\"M\",TRIM('MARK Enrollment Template'!D29)=\"F\",TRIM('MARK Enrollment Template'!D29)=\"Male\",TRIM('MARK Enrollment Template'!D29)=\"Female\"),\"\",\"Sex must be M/F/Male/Female.\")))","v":""},null,null,{"$f":"IF('MARK Enrollment Template'!A29=\"\",\"\",IF(AND('MARK Enrollment Template'!A29<>\"\",'MARK Enrollment Template'!G29=\"\"),\"Please fill in Email Address.\",IF(IFERROR(FIND(\"@\",'MARK Enrollment Template'!G29),\"X\")=\"X\",\"Email Address must include an @ symbol.\",\"\")))","v":""},null,null,null,{"$f":"IF('MARK Enrollment Template'!A29=\"\",\"\",IF(AND('MARK Enrollment Template'!A29<>\"\",'MARK Enrollment Template'!K29=\"\"),\"Please fill in Zip Code.\",IF(LEN(SUBSTITUTE(TRIM('MARK Enrollment Template'!K29),CHAR(9),\"\"))<5,\"Zip <5 digits. If leading zero, add apostrophe (ex. '01234).\",\"\")))","v":""},null,null,{"$f":"CELL(\"format\",'MARK Enrollment Template'!C29)","v":"D4"}]
["",{"$f":"IF(AND(SUMPRODUCT(--('MARK Enrollment Template'!A30:L30<>\"\"))<>0,'MARK Enrollment Template'!A30=\"\"),\"Please fill in First Name.\",IF(LEN('MARK Enrollment Template'!A30)=1,\"Please fill in full first name.\",\"\"))","v":""},{"$f":"IF('MARK Enrollment Template'!A30=\"\",\"\",IF(AND('MARK Enrollment Template'!A30<>\"\",'MARK Enrollment Template'!B30=\"\"),\"Please fill in a Last Name.\",\"\"))","v":""},{"$f":"IF('MARK Enrollment Template'!A30=\"\",\"\",IF(AND('MARK Enrollment Template'!A30<>\"\",'MARK Enrollment Template'!C30=\"\"),\"Please fill in Date of Birth.\",IF(TRIM(O25)<>\"D4\",\"Please format DOB as a date in the form MM/DD/YYYY.\",IF('MARK Enrollment Template'!C30>TODAY(),\"Please check DOB.\",\"\"))))","v":""},{"$f":"IF('MARK Enrollment Template'!A30=\"\",\"\",IF(AND('MARK Enrollment Template'!A30<>\"\",'MARK Enrollment Template'!D30=\"\"),\"Please fill in Sex.\",IF(OR(TRIM('MARK Enrollment Template'!D30)=\"M\",TRIM('MARK Enrollment Template'!D30)=\"F\",TRIM('MARK Enrollment Template'!D30)=\"Male\",TRIM('MARK Enrollment Template'!D30)=\"Female\"),\"\",\"Sex must be M/F/Male/Female.\")))","v":""},null,null,{"$f":"IF('MARK Enrollment Template'!A30=\"\",\"\",IF(AND('MARK Enrollment Template'!A30<>\"\",'MARK Enrollment Template'!G30=\"\"),\"Please fill in Email Address.\",IF(IFERROR(FIND(\"@\",'MARK Enrollment Template'!G30),\"X\")=\"X\",\"Email Address must include an @ symbol.\",\"\")))","v":""},null,null,null,{"$f":"IF('MARK Enrollment Template'!A30=\"\",\"\",IF(AND('MARK Enrollment Template'!A30<>\"\",'MARK Enrollment Template'!K30=\"\"),\"Please fill in Zip Code.\",IF(LEN(SUBSTITUTE(TRIM('MARK Enrollment Template'!K30),CHAR(9),\"\"))<5,\"Zip <5 digits. If leading zero, add apostrophe (ex. '01234).\",\"\")))","v":""},null,null,{"$f":"CELL(\"format\",'MARK Enrollment Template'!C30)","v":"D4"}]
["",{"$f":"IF(AND(SUMPRODUCT(--('MARK Enrollment Template'!A31:L31<>\"\"))<>0,'MARK Enrollment Template'!A31=\"\"),\"Please fill in First Name.\",IF(LEN('MARK Enrollment Template'!A31)=1,\"Please fill in full first name.\",\"\"))","v":""},{"$f":"IF('MARK Enrollment Template'!A31=\"\",\"\",IF(AND('MARK Enrollment Template'!A31<>\"\",'MARK Enrollment Template'!B31=\"\"),\"Please fill in a Last Name.\",\"\"))","v":""},{"$f":"IF('MARK Enrollment Template'!A31=\"\",\"\",IF(AND('MARK Enrollment Template'!A31<>\"\",'MARK Enrollment Template'!C31=\"\"),\"Please fill in Date of Birth.\",IF(TRIM(O26)<>\"D4\",\"Please format DOB as a date in the form MM/DD/YYYY.\",IF('MARK Enrollment Template'!C31>TODAY(),\"Please check DOB.\",\"\"))))","v":""},{"$f":"IF('MARK Enrollment Template'!A31=\"\",\"\",IF(AND('MARK Enrollment Template'!A31<>\"\",'MARK Enrollment Template'!D31=\"\"),\"Please fill in Sex.\",IF(OR(TRIM('MARK Enrollment Template'!D31)=\"M\",TRIM('MARK Enrollment Template'!D31)=\"F\",TRIM('MARK Enrollment Template'!D31)=\"Male\",TRIM('MARK Enrollment Template'!D31)=\"Female\"),\"\",\"Sex must be M/F/Male/Female.\")))","v":""},null,null,{"$f":"IF('MARK Enrollment Template'!A31=\"\",\"\",IF(AND('MARK Enrollment Template'!A31<>\"\",'MARK Enrollment Template'!G31=\"\"),\"Please fill in Email Address.\",IF(IFERROR(FIND(\"@\",'MARK Enrollment Template'!G31),\"X\")=\"X\",\"Email Address must include an @ symbol.\",\"\")))","v":""},null,null,null,{"$f":"IF('MARK Enrollment Template'!A31=\"\",\"\",IF(AND('MARK Enrollment Template'!A31<>\"\",'MARK Enrollment Template'!K31=\"\"),\"Please fill in Zip Code.\",IF(LEN(SUBSTITUTE(TRIM('MARK Enrollment Template'!K31),CHAR(9),\"\"))<5,\"Zip <5 digits. If leading zero, add apostrophe (ex. '01234).\",\"\")))","v":""},null,null,{"$f":"CELL(\"format\",'MARK Enrollment Template'!C31)","v":"D4"}]
["",{"$f":"IF(AND(SUMPRODUCT(--('MARK Enrollment Template'!A32:L32<>\"\"))<>0,'MARK Enrollment Template'!A32=\"\"),\"Please fill in First Name.\",IF(LEN('MARK Enrollment Template'!A32)=1,\"Please fill in full first name.\",\"\"))","v":""},{"$f":"IF('MARK Enrollment Template'!A32=\"\",\"\",IF(AND('MARK Enrollment Template'!A32<>\"\",'MARK Enrollment Template'!B32=\"\"),\"Please fill in a Last Name.\",\"\"))","v":""},{"$f":"IF('MARK Enrollment Template'!A32=\"\",\"\",IF(AND('MARK Enrollment Template'!A32<>\"\",'MARK Enrollment Template'!C32=\"\"),\"Please fill in Date of Birth.\",IF(TRIM(O27)<>\"D4\",\"Please format DOB as a date in the form MM/DD/YYYY.\",IF('MARK Enrollment Template'!C32>TODAY(),\"Please check DOB.\",\"\"))))","v":""},{"$f":"IF('MARK Enrollment Template'!A32=\"\",\"\",IF(AND('MARK Enrollment Template'!A32<>\"\",'MARK Enrollment Template'!D32=\"\"),\"Please fill in Sex.\",IF(OR(TRIM('MARK Enrollment Template'!D32)=\"M\",TRIM('MARK Enrollment Template'!D32)=\"F\",TRIM('MARK Enrollment Template'!D32)=\"Male\",TRIM('MARK Enrollment Template'!D32)=\"Female\"),\"\",\"Sex must be M/F/Male/Female.\")))","v":""},null,null,{"$f":"IF('MARK Enrollment Template'!A32=\"\",\"\",IF(AND('MARK Enrollment Template'!A32<>\"\",'MARK Enrollment Template'!G32=\"\"),\"Please fill in Email Address.\",IF(IFERROR(FIND(\"@\",'MARK Enrollment Template'!G32),\"X\")=\"X\",\"Email Address must include an @ symbol.\",\"\")))","v":""},null,null,null,{"$f":"IF('MARK Enrollment Template'!A32=\"\",\"\",IF(AND('MARK Enrollment Template'!A32<>\"\",'MARK Enrollment Template'!K32=\"\"),\"Please fill in Zip Code.\",IF(LEN(SUBSTITUTE(TRIM('MARK Enrollment Template'!K32),CHAR(9),\"\"))<5,\"Zip <5 digits. If leading zero, add apostrophe (ex. '01234).\",\"\")))","v":""},null,null,{"$f":"CELL(\"format\",'MARK Enrollment Template'!C32)","v":"D4"}]
["",{"$f":"IF(AND(SUMPRODUCT(--('MARK Enrollment Template'!A33:L33<>\"\"))<>0,'MARK Enrollment Template'!A33=\"\"),\"Please fill in First Name.\",IF(LEN('MARK Enrollment Template'!A33)=1,\"Please fill in full first name.\",\"\"))","v":""},{"$f":"IF('MARK Enrollment Template'!A33=\"\",\"\",IF(AND('MARK Enrollment Template'!A33<>\"\",'MARK Enrollment Template'!B33=\"\"),\"Please fill in a Last Name.\",\"\"))","v":""},{"$f":"IF('MARK Enrollment Template'!A33=\"\",\"\",IF(AND('MARK Enrollment Template'!A33<>\"\",'MARK Enrollment Template'!C33=\"\"),\"Please fill in Date of Birth.\",IF(TRIM(O28)<>\"D4\",\"Please format DOB as a date in the form MM/DD/YYYY.\",IF('MARK Enrollment Template'!C33>TODAY(),\"Please check DOB.\",\"\"))))","v":""},{"$f":"IF('MARK Enrollment Template'!A33=\"\",\"\",IF(AND('MARK Enrollment Template'!A33<>\"\",'MARK Enrollment Template'!D33=\"\"),\"Please fill in Sex.\",IF(OR(TRIM('MARK Enrollment Template'!D33)=\"M\",TRIM('MARK Enrollment Template'!D33)=\"F\",TRIM('MARK Enrollment Template'!D33)=\"Male\",TRIM('MARK Enrollment Template'!D33)=\"Female\"),\"\",\"Sex must be M/F/Male/Female.\")))","v":""},null,null,{"$f":"IF('MARK Enrollment Template'!A33=\"\",\"\",IF(AND('MARK Enrollment Template'!A33<>\"\",'MARK Enrollment Template'!G33=\"\"),\"Please fill in Email Address.\",IF(IFERROR(FIND(\"@\",'MARK Enrollment Template'!G33),\"X\")=\"X\",\"Email Address must include an @ symbol.\",\"\")))","v":""},null,null,null,{"$f":"IF('MARK Enrollment Template'!A33=\"\",\"\",IF(AND('MARK Enrollment Template'!A33<>\"\",'MARK Enrollment Template'!K33=\"\"),\"Please fill in Zip Code.\",IF(LEN(SUBSTITUTE(TRIM('MARK Enrollment Template'!K33),CHAR(9),\"\"))<5,\"Zip <5 digits. If leading zero, add apostrophe (ex. '01234).\",\"\")))","v":""},null,null,{"$f":"CELL(\"format\",'MARK Enrollment Template'!C33)","v":"D4"}]
["",{"$f":"IF(AND(SUMPRODUCT(--('MARK Enrollment Template'!A34:L34<>\"\"))<>0,'MARK Enrollment Template'!A34=\"\"),\"Please fill in First Name.\",IF(LEN('MARK Enrollment Template'!A34)=1,\"Please fill in full first name.\",\"\"))","v":""},{"$f":"IF('MARK Enrollment Template'!A34=\"\",\"\",IF(AND('MARK Enrollment Template'!A34<>\"\",'MARK Enrollment Template'!B34=\"\"),\"Please fill in a Last Name.\",\"\"))","v":""},{"$f":"IF('MARK Enrollment Template'!A34=\"\",\"\",IF(AND('MARK Enrollment Template'!A34<>\"\",'MARK Enrollment Template'!C34=\"\"),\"Please fill in Date of Birth.\",IF(TRIM(O29)<>\"D4\",\"Please format DOB as a date in the form MM/DD/YYYY.\",IF('MARK Enrollment Template'!C34>TODAY(),\"Please check DOB.\",\"\"))))","v":""},{"$f":"IF('MARK Enrollment Template'!A34=\"\",\"\",IF(AND('MARK Enrollment Template'!A34<>\"\",'MARK Enrollment Template'!D34=\"\"),\"Please fill in Sex.\",IF(OR(TRIM('MARK Enrollment Template'!D34)=\"M\",TRIM('MARK Enrollment Template'!D34)=\"F\",TRIM('MARK Enrollment Template'!D34)=\"Male\",TRIM('MARK Enrollment Template'!D34)=\"Female\"),\"\",\"Sex must be M/F/Male/Female.\")))","v":""},null,null,{"$f":"IF('MARK Enrollment Template'!A34=\"\",\"\",IF(AND('MARK Enrollment Template'!A34<>\"\",'MARK Enrollment Template'!G34=\"\"),\"Please fill in Email Address.\",IF(IFERROR(FIND(\"@\",'MARK Enrollment Template'!G34),\"X\")=\"X\",\"Email Address must include an @ symbol.\",\"\")))","v":""},null,null,null,{"$f":"IF('MARK Enrollment Template'!A34=\"\",\"\",IF(AND('MARK Enrollment Template'!A34<>\"\",'MARK Enrollment Template'!K34=\"\"),\"Please fill in Zip Code.\",IF(LEN(SUBSTITUTE(TRIM('MARK Enrollment Template'!K34),CHAR(9),\"\"))<5,\"Zip <5 digits. If leading zero, add apostrophe (ex. '01234).\",\"\")))","v":""},null,null,{"$f":"CELL(\"format\",'MARK Enrollment Template'!C34)","v":"D4"}]
["",{"$f":"IF(AND(SUMPRODUCT(--('MARK Enrollment Template'!A35:L35<>\"\"))<>0,'MARK Enrollment Template'!A35=\"\"),\"Please fill in First Name.\",IF(LEN('MARK Enrollment Template'!A35)=1,\"Please fill in full first name.\",\"\"))","v":""},{"$f":"IF('MARK Enrollment Template'!A35=\"\",\"\",IF(AND('MARK Enrollment Template'!A35<>\"\",'MARK Enrollment Template'!B35=\"\"),\"Please fill in a Last Name.\",\"\"))","v":""},{"$f":"IF('MARK Enrollment Template'!A35=\"\",\"\",IF(AND('MARK Enrollment Template'!A35<>\"\",'MARK Enrollment Template'!C35=\"\"),\"Please fill in Date of Birth.\",IF(TRIM(O30)<>\"D4\",\"Please format DOB as a date in the form MM/DD/YYYY.\",IF('MARK Enrollment Template'!C35>TODAY(),\"Please check DOB.\",\"\"))))","v":""},{"$f":"IF('MARK Enrollment Template'!A35=\"\",\"\",IF(AND('MARK Enrollment Template'!A35<>\"\",'MARK Enrollment Template'!D35=\"\"),\"Please fill in Sex.\",IF(OR(TRIM('MARK Enrollment Template'!D35)=\"M\",TRIM('MARK Enrollment Template'!D35)=\"F\",TRIM('MARK Enrollment Template'!D35)=\"Male\",TRIM('MARK Enrollment Template'!D35)=\"Female\"),\"\",\"Sex must be M/F/Male/Female.\")))","v":""},null,null,{"$f":"IF('MARK Enrollment Template'!A35=\"\",\"\",IF(AND('MARK Enrollment Template'!A35<>\"\",'MARK Enrollment Template'!G35=\"\"),\"Please fill in Email Address.\",IF(IFERROR(FIND(\"@\",'MARK Enrollment Template'!G35),\"X\")=\"X\",\"Email Address must include an @ symbol.\",\"\")))","v":""},null,null,null,{"$f":"IF('MARK Enrollment Template'!A35=\"\",\"\",IF(AND('MARK Enrollment Template'!A35<>\"\",'MARK Enrollment Template'!K35=\"\"),\"Please fill in Zip Code.\",IF(LEN(SUBSTITUTE(TRIM('MARK Enrollment Template'!K35),CHAR(9),\"\"))<5,\"Zip <5 digits. If leading zero, add apostrophe (ex. '01234).\",\"\")))","v":""},null,null,{"$f":"CELL(\"format\",'MARK Enrollment Template'!C35)","v":"D4"}]
["",{"$f":"IF(AND(SUMPRODUCT(--('MARK Enrollment Template'!A36:L36<>\"\"))<>0,'MARK Enrollment Template'!A36=\"\"),\"Please fill in First Name.\",IF(LEN('MARK Enrollment Template'!A36)=1,\"Please fill in full first name.\",\"\"))","v":""},{"$f":"IF('MARK Enrollment Template'!A36=\"\",\"\",IF(AND('MARK Enrollment Template'!A36<>\"\",'MARK Enrollment Template'!B36=\"\"),\"Please fill in a Last Name.\",\"\"))","v":""},{"$f":"IF('MARK Enrollment Template'!A36=\"\",\"\",IF(AND('MARK Enrollment Template'!A36<>\"\",'MARK Enrollment Template'!C36=\"\"),\"Please fill in Date of Birth.\",IF(TRIM(O31)<>\"D4\",\"Please format DOB as a date in the form MM/DD/YYYY.\",IF('MARK Enrollment Template'!C36>TODAY(),\"Please check DOB.\",\"\"))))","v":""},{"$f":"IF('MARK Enrollment Template'!A36=\"\",\"\",IF(AND('MARK Enrollment Template'!A36<>\"\",'MARK Enrollment Template'!D36=\"\"),\"Please fill in Sex.\",IF(OR(TRIM('MARK Enrollment Template'!D36)=\"M\",TRIM('MARK Enrollment Template'!D36)=\"F\",TRIM('MARK Enrollment Template'!D36)=\"Male\",TRIM('MARK Enrollment Template'!D36)=\"Female\"),\"\",\"Sex must be M/F/Male/Female.\")))","v":""},null,null,{"$f":"IF('MARK Enrollment Template'!A36=\"\",\"\",IF(AND('MARK Enrollment Template'!A36<>\"\",'MARK Enrollment Template'!G36=\"\"),\"Please fill in Email Address.\",IF(IFERROR(FIND(\"@\",'MARK Enrollment Template'!G36),\"X\")=\"X\",\"Email Address must include an @ symbol.\",\"\")))","v":""},null,null,null,{"$f":"IF('MARK Enrollment Template'!A36=\"\",\"\",IF(AND('MARK Enrollment Template'!A36<>\"\",'MARK Enrollment Template'!K36=\"\"),\"Please fill in Zip Code.\",IF(LEN(SUBSTITUTE(TRIM('MARK Enrollment Template'!K36),CHAR(9),\"\"))<5,\"Zip <5 digits. If leading zero, add apostrophe (ex. '01234).\",\"\")))","v":""},null,null,{"$f":"CELL(\"format\",'MARK Enrollment Template'!C36)","v":"D4"}]
["",{"$f":"IF(AND(SUMPRODUCT(--('MARK Enrollment Template'!A37:L37<>\"\"))<>0,'MARK Enrollment Template'!A37=\"\"),\"Please fill in First Name.\",IF(LEN('MARK Enrollment Template'!A37)=1,\"Please fill in full first name.\",\"\"))","v":""},{"$f":"IF('MARK Enrollment Template'!A37=\"\",\"\",IF(AND('MARK Enrollment Template'!A37<>\"\",'MARK Enrollment Template'!B37=\"\"),\"Please fill in a Last Name.\",\"\"))","v":""},{"$f":"IF('MARK Enrollment Template'!A37=\"\",\"\",IF(AND('MARK Enrollment Template'!A37<>\"\",'MARK Enrollment Template'!C37=\"\"),\"Please fill in Date of Birth.\",IF(TRIM(O32)<>\"D4\",\"Please format DOB as a date in the form MM/DD/YYYY.\",IF('MARK Enrollment Template'!C37>TODAY(),\"Please check DOB.\",\"\"))))","v":""},{"$f":"IF('MARK Enrollment Template'!A37=\"\",\"\",IF(AND('MARK Enrollment Template'!A37<>\"\",'MARK Enrollment Template'!D37=\"\"),\"Please fill in Sex.\",IF(OR(TRIM('MARK Enrollment Template'!D37)=\"M\",TRIM('MARK Enrollment Template'!D37)=\"F\",TRIM('MARK Enrollment Template'!D37)=\"Male\",TRIM('MARK Enrollment Template'!D37)=\"Female\"),\"\",\"Sex must be M/F/Male/Female.\")))","v":""},null,null,{"$f":"IF('MARK Enrollment Template'!A37=\"\",\"\",IF(AND('MARK Enrollment Template'!A37<>\"\",'MARK Enrollment Template'!G37=\"\"),\"Please fill in Email Address.\",IF(IFERROR(FIND(\"@\",'MARK Enrollment Template'!G37),\"X\")=\"X\",\"Email Address must include an @ symbol.\",\"\")))","v":""},null,null,null,{"$f":"IF('MARK Enrollment Template'!A37=\"\",\"\",IF(AND('MARK Enrollment Template'!A37<>\"\",'MARK Enrollment Template'!K37=\"\"),\"Please fill in Zip Code.\",IF(LEN(SUBSTITUTE(TRIM('MARK Enrollment Template'!K37),CHAR(9),\"\"))<5,\"Zip <5 digits. If leading zero, add apostrophe (ex. '01234).\",\"\")))","v":""},null,null,{"$f":"CELL(\"format\",'MARK Enrollment Template'!C37)","v":"D4"}]
["",{"$f":"IF(AND(SUMPRODUCT(--('MARK Enrollment Template'!A38:L38<>\"\"))<>0,'MARK Enrollment Template'!A38=\"\"),\"Please fill in First Name.\",IF(LEN('MARK Enrollment Template'!A38)=1,\"Please fill in full first name.\",\"\"))","v":""},{"$f":"IF('MARK Enrollment Template'!A38=\"\",\"\",IF(AND('MARK Enrollment Template'!A38<>\"\",'MARK Enrollment Template'!B38=\"\"),\"Please fill in a Last Name.\",\"\"))","v":""},{"$f":"IF('MARK Enrollment Template'!A38=\"\",\"\",IF(AND('MARK Enrollment Template'!A38<>\"\",'MARK Enrollment Template'!C38=\"\"),\"Please fill in Date of Birth.\",IF(TRIM(O33)<>\"D4\",\"Please format DOB as a date in the form MM/DD/YYYY.\",IF('MARK Enrollment Template'!C38>TODAY(),\"Please check DOB.\",\"\"))))","v":""},{"$f":"IF('MARK Enrollment Template'!A38=\"\",\"\",IF(AND('MARK Enrollment Template'!A38<>\"\",'MARK Enrollment Template'!D38=\"\"),\"Please fill in Sex.\",IF(OR(TRIM('MARK Enrollment Template'!D38)=\"M\",TRIM('MARK Enrollment Template'!D38)=\"F\",TRIM('MARK Enrollment Template'!D38)=\"Male\",TRIM('MARK Enrollment Template'!D38)=\"Female\"),\"\",\"Sex must be M/F/Male/Female.\")))","v":""},null,null,{"$f":"IF('MARK Enrollment Template'!A38=\"\",\"\",IF(AND('MARK Enrollment Template'!A38<>\"\",'MARK Enrollment Template'!G38=\"\"),\"Please fill in Email Address.\",IF(IFERROR(FIND(\"@\",'MARK Enrollment Template'!G38),\"X\")=\"X\",\"Email Address must include an @ symbol.\",\"\")))","v":""},null,null,null,{"$f":"IF('MARK Enrollment Template'!A38=\"\",\"\",IF(AND('MARK Enrollment Template'!A38<>\"\",'MARK Enrollment Template'!K38=\"\"),\"Please fill in Zip Code.\",IF(LEN(SUBSTITUTE(TRIM('MARK Enrollment Template'!K38),CHAR(9),\"\"))<5,\"Zip <5 digits. If leading zero, add apostrophe (ex. '01234).\",\"\")))","v":""},null,null,{"$f":"CELL(\"format\",'MARK Enrollment Template'!C38)","v":"D4"}]
["",{"$f":"IF(AND(SUMPRODUCT(--('MARK Enrollment Template'!A39:L39<>\"\"))<>0,'MARK Enrollment Template'!A39=\"\"),\"Please fill in First Name.\",IF(LEN('MARK Enrollment Template'!A39)=1,\"Please fill in full first name.\",\"\"))","v":""},{"$f":"IF('MARK Enrollment Template'!A39=\"\",\"\",IF(AND('MARK Enrollment Template'!A39<>\"\",'MARK Enrollment Template'!B39=\"\"),\"Please fill in a Last Name.\",\"\"))","v":""},{"$f":"IF('MARK Enrollment Template'!A39=\"\",\"\",IF(AND('MARK Enrollment Template'!A39<>\"\",'MARK Enrollment Template'!C39=\"\"),\"Please fill in Date of Birth.\",IF(TRIM(O34)<>\"D4\",\"Please format DOB as a date in the form MM/DD/YYYY.\",IF('MARK Enrollment Template'!C39>TODAY(),\"Please check DOB.\",\"\"))))","v":""},{"$f":"IF('MARK Enrollment Template'!A39=\"\",\"\",IF(AND('MARK Enrollment Template'!A39<>\"\",'MARK Enrollment Template'!D39=\"\"),\"Please fill in Sex.\",IF(OR(TRIM('MARK Enrollment Template'!D39)=\"M\",TRIM('MARK Enrollment Template'!D39)=\"F\",TRIM('MARK Enrollment Template'!D39)=\"Male\",TRIM('MARK Enrollment Template'!D39)=\"Female\"),\"\",\"Sex must be M/F/Male/Female.\")))","v":""},null,null,{"$f":"IF('MARK Enrollment Template'!A39=\"\",\"\",IF(AND('MARK Enrollment Template'!A39<>\"\",'MARK Enrollment Template'!G39=\"\"),\"Please fill in Email Address.\",IF(IFERROR(FIND(\"@\",'MARK Enrollment Template'!G39),\"X\")=\"X\",\"Email Address must include an @ symbol.\",\"\")))","v":""},null,null,null,{"$f":"IF('MARK Enrollment Template'!A39=\"\",\"\",IF(AND('MARK Enrollment Template'!A39<>\"\",'MARK Enrollment Template'!K39=\"\"),\"Please fill in Zip Code.\",IF(LEN(SUBSTITUTE(TRIM('MARK Enrollment Template'!K39),CHAR(9),\"\"))<5,\"Zip <5 digits. If leading zero, add apostrophe (ex. '01234).\",\"\")))","v":""},null,null,{"$f":"CELL(\"format\",'MARK Enrollment Template'!C39)","v":"D4"}]
["",{"$f":"IF(AND(SUMPRODUCT(--('MARK Enrollment Template'!A40:L40<>\"\"))<>0,'MARK Enrollment Template'!A40=\"\"),\"Please fill in First Name.\",IF(LEN('MARK Enrollment Template'!A40)=1,\"Please fill in full first name.\",\"\"))","v":""},{"$f":"IF('MARK Enrollment Template'!A40=\"\",\"\",IF(AND('MARK Enrollment Template'!A40<>\"\",'MARK Enrollment Template'!B40=\"\"),\"Please fill in a Last Name.\",\"\"))","v":""},{"$f":"IF('MARK Enrollment Template'!A40=\"\",\"\",IF(AND('MARK Enrollment Template'!A40<>\"\",'MARK Enrollment Template'!C40=\"\"),\"Please fill in Date of Birth.\",IF(TRIM(O35)<>\"D4\",\"Please format DOB as a date in the form MM/DD/YYYY.\",IF('MARK Enrollment Template'!C40>TODAY(),\"Please check DOB.\",\"\"))))","v":""},{"$f":"IF('MARK Enrollment Template'!A40=\"\",\"\",IF(AND('MARK Enrollment Template'!A40<>\"\",'MARK Enrollment Template'!D40=\"\"),\"Please fill in Sex.\",IF(OR(TRIM('MARK Enrollment Template'!D40)=\"M\",TRIM('MARK Enrollment Template'!D40)=\"F\",TRIM('MARK Enrollment Template'!D40)=\"Male\",TRIM('MARK Enrollment Template'!D40)=\"Female\"),\"\",\"Sex must be M/F/Male/Female.\")))","v":""},null,null,{"$f":"IF('MARK Enrollment Template'!A40=\"\",\"\",IF(AND('MARK Enrollment Template'!A40<>\"\",'MARK Enrollment Template'!G40=\"\"),\"Please fill in Email Address.\",IF(IFERROR(FIND(\"@\",'MARK Enrollment Template'!G40),\"X\")=\"X\",\"Email Address must include an @ symbol.\",\"\")))","v":""},null,null,null,{"$f":"IF('MARK Enrollment Template'!A40=\"\",\"\",IF(AND('MARK Enrollment Template'!A40<>\"\",'MARK Enrollment Template'!K40=\"\"),\"Please fill in Zip Code.\",IF(LEN(SUBSTITUTE(TRIM('MARK Enrollment Template'!K40),CHAR(9),\"\"))<5,\"Zip <5 digits. If leading zero, add apostrophe (ex. '01234).\",\"\")))","v":""},null,null,{"$f":"CELL(\"format\",'MARK Enrollment Template'!C40)","v":"D4"}]
["",{"$f":"IF(AND(SUMPRODUCT(--('MARK Enrollment Template'!A41:L41<>\"\"))<>0,'MARK Enrollment Template'!A41=\"\"),\"Please fill in First Name.\",IF(LEN('MARK Enrollment Template'!A41)=1,\"Please fill in full first name.\",\"\"))","v":""},{"$f":"IF('MARK Enrollment Template'!A41=\"\",\"\",IF(AND('MARK Enrollment Template'!A41<>\"\",'MARK Enrollment Template'!B41=\"\"),\"Please fill in a Last Name.\",\"\"))","v":""},{"$f":"IF('MARK Enrollment Template'!A41=\"\",\"\",IF(AND('MARK Enrollment Template'!A41<>\"\",'MARK Enrollment Template'!C41=\"\"),\"Please fill in Date of Birth.\",IF(TRIM(O36)<>\"D4\",\"Please format DOB as a date in the form MM/DD/YYYY.\",IF('MARK Enrollment Template'!C41>TODAY(),\"Please check DOB.\",\"\"))))","v":""},{"$f":"IF('MARK Enrollment Template'!A41=\"\",\"\",IF(AND('MARK Enrollment Template'!A41<>\"\",'MARK Enrollment Template'!D41=\"\"),\"Please fill in Sex.\",IF(OR(TRIM('MARK Enrollment Template'!D41)=\"M\",TRIM('MARK Enrollment Template'!D41)=\"F\",TRIM('MARK Enrollment Template'!D41)=\"Male\",TRIM('MARK Enrollment Template'!D41)=\"Female\"),\"\",\"Sex must be M/F/Male/Female.\")))","v":""},null,null,{"$f":"IF('MARK Enrollment Template'!A41=\"\",\"\",IF(AND('MARK Enrollment Template'!A41<>\"\",'MARK Enrollment Template'!G41=\"\"),\"Please fill in Email Address.\",IF(IFERROR(FIND(\"@\",'MARK Enrollment Template'!G41),\"X\")=\"X\",\"Email Address must include an @ symbol.\",\"\")))","v":""},null,null,null,{"$f":"IF('MARK Enrollment Template'!A41=\"\",\"\",IF(AND('MARK Enrollment Template'!A41<>\"\",'MARK Enrollment Template'!K41=\"\"),\"Please fill in Zip Code.\",IF(LEN(SUBSTITUTE(TRIM('MARK Enrollment Template'!K41),CHAR(9),\"\"))<5,\"Zip <5 digits. If leading zero, add apostrophe (ex. '01234).\",\"\")))","v":""},null,null,{"$f":"CELL(\"format\",'MARK Enrollment Template'!C41)","v":"D4"}]
["",{"$f":"IF(AND(SUMPRODUCT(--('MARK Enrollment Template'!A42:L42<>\"\"))<>0,'MARK Enrollment Template'!A42=\"\"),\"Please fill in First Name.\",IF(LEN('MARK Enrollment Template'!A42)=1,\"Please fill in full first name.\",\"\"))","v":""},{"$f":"IF('MARK Enrollment Template'!A42=\"\",\"\",IF(AND('MARK Enrollment Template'!A42<>\"\",'MARK Enrollment Template'!B42=\"\"),\"Please fill in a Last Name.\",\"\"))","v":""},{"$f":"IF('MARK Enrollment Template'!A42=\"\",\"\",IF(AND('MARK Enrollment Template'!A42<>\"\",'MARK Enrollment Template'!C42=\"\"),\"Please fill in Date of Birth.\",IF(TRIM(O37)<>\"D4\",\"Please format DOB as a date in the form MM/DD/YYYY.\",IF('MARK Enrollment Template'!C42>TODAY(),\"Please check DOB.\",\"\"))))","v":""},{"$f":"IF('MARK Enrollment Template'!A42=\"\",\"\",IF(AND('MARK Enrollment Template'!A42<>\"\",'MARK Enrollment Template'!D42=\"\"),\"Please fill in Sex.\",IF(OR(TRIM('MARK Enrollment Template'!D42)=\"M\",TRIM('MARK Enrollment Template'!D42)=\"F\",TRIM('MARK Enrollment Template'!D42)=\"Male\",TRIM('MARK Enrollment Template'!D42)=\"Female\"),\"\",\"Sex must be M/F/Male/Female.\")))","v":""},null,null,{"$f":"IF('MARK Enrollment Template'!A42=\"\",\"\",IF(AND('MARK Enrollment Template'!A42<>\"\",'MARK Enrollment Template'!G42=\"\"),\"Please fill in Email Address.\",IF(IFERROR(FIND(\"@\",'MARK Enrollment Template'!G42),\"X\")=\"X\",\"Email Address must include an @ symbol.\",\"\")))","v":""},null,null,null,{"$f":"IF('MARK Enrollment Template'!A42=\"\",\"\",IF(AND('MARK Enrollment Template'!A42<>\"\",'MARK Enrollment Template'!K42=\"\"),\"Please fill in Zip Code.\",IF(LEN(SUBSTITUTE(TRIM('MARK Enrollment Template'!K42),CHAR(9),\"\"))<5,\"Zip <5 digits. If leading zero, add apostrophe (ex. '01234).\",\"\")))","v":""},null,null,{"$f":"CELL(\"format\",'MARK Enrollment Template'!C42)","v":"D4"}]
["",{"$f":"IF(AND(SUMPRODUCT(--('MARK Enrollment Template'!A43:L43<>\"\"))<>0,'MARK Enrollment Template'!A43=\"\"),\"Please fill in First Name.\",IF(LEN('MARK Enrollment Template'!A43)=1,\"Please fill in full first name.\",\"\"))","v":""},{"$f":"IF('MARK Enrollment Template'!A43=\"\",\"\",IF(AND('MARK Enrollment Template'!A43<>\"\",'MARK Enrollment Template'!B43=\"\"),\"Please fill in a Last Name.\",\"\"))","v":""},{"$f":"IF('MARK Enrollment Template'!A43=\"\",\"\",IF(AND('MARK Enrollment Template'!A43<>\"\",'MARK Enrollment Template'!C43=\"\"),\"Please fill in Date of Birth.\",IF(TRIM(O38)<>\"D4\",\"Please format DOB as a date in the form MM/DD/YYYY.\",IF('MARK Enrollment Template'!C43>TODAY(),\"Please check DOB.\",\"\"))))","v":""},{"$f":"IF('MARK Enrollment Template'!A43=\"\",\"\",IF(AND('MARK Enrollment Template'!A43<>\"\",'MARK Enrollment Template'!D43=\"\"),\"Please fill in Sex.\",IF(OR(TRIM('MARK Enrollment Template'!D43)=\"M\",TRIM('MARK Enrollment Template'!D43)=\"F\",TRIM('MARK Enrollment Template'!D43)=\"Male\",TRIM('MARK Enrollment Template'!D43)=\"Female\"),\"\",\"Sex must be M/F/Male/Female.\")))","v":""},null,null,{"$f":"IF('MARK Enrollment Template'!A43=\"\",\"\",IF(AND('MARK Enrollment Template'!A43<>\"\",'MARK Enrollment Template'!G43=\"\"),\"Please fill in Email Address.\",IF(IFERROR(FIND(\"@\",'MARK Enrollment Template'!G43),\"X\")=\"X\",\"Email Address must include an @ symbol.\",\"\")))","v":""},null,null,null,{"$f":"IF('MARK Enrollment Template'!A43=\"\",\"\",IF(AND('MARK Enrollment Template'!A43<>\"\",'MARK Enrollment Template'!K43=\"\"),\"Please fill in Zip Code.\",IF(LEN(SUBSTITUTE(TRIM('MARK Enrollment Template'!K43),CHAR(9),\"\"))<5,\"Zip <5 digits. If leading zero, add apostrophe (ex. '01234).\",\"\")))","v":""},null,null,{"$f":"CELL(\"format\",'MARK Enrollment Template'!C43)","v":"D4"}]
["",{"$f":"IF(AND(SUMPRODUCT(--('MARK Enrollment Template'!A44:L44<>\"\"))<>0,'MARK Enrollment Template'!A44=\"\"),\"Please fill in First Name.\",IF(LEN('MARK Enrollment Template'!A44)=1,\"Please fill in full first name.\",\"\"))","v":""},{"$f":"IF('MARK Enrollment Template'!A44=\"\",\"\",IF(AND('MARK Enrollment Template'!A44<>\"\",'MARK Enrollment Template'!B44=\"\"),\"Please fill in a Last Name.\",\"\"))","v":""},{"$f":"IF('MARK Enrollment Template'!A44=\"\",\"\",IF(AND('MARK Enrollment Template'!A44<>\"\",'MARK Enrollment Template'!C44=\"\"),\"Please fill in Date of Birth.\",IF(TRIM(O39)<>\"D4\",\"Please format DOB as a date in the form MM/DD/YYYY.\",IF('MARK Enrollment Template'!C44>TODAY(),\"Please check DOB.\",\"\"))))","v":""},{"$f":"IF('MARK Enrollment Template'!A44=\"\",\"\",IF(AND('MARK Enrollment Template'!A44<>\"\",'MARK Enrollment Template'!D44=\"\"),\"Please fill in Sex.\",IF(OR(TRIM('MARK Enrollment Template'!D44)=\"M\",TRIM('MARK Enrollment Template'!D44)=\"F\",TRIM('MARK Enrollment Template'!D44)=\"Male\",TRIM('MARK Enrollment Template'!D44)=\"Female\"),\"\",\"Sex must be M/F/Male/Female.\")))","v":""},null,null,{"$f":"IF('MARK Enrollment Template'!A44=\"\",\"\",IF(AND('MARK Enrollment Template'!A44<>\"\",'MARK Enrollment Template'!G44=\"\"),\"Please fill in Email Address.\",IF(IFERROR(FIND(\"@\",'MARK Enrollment Template'!G44),\"X\")=\"X\",\"Email Address must include an @ symbol.\",\"\")))","v":""},null,null,null,{"$f":"IF('MARK Enrollment Template'!A44=\"\",\"\",IF(AND('MARK Enrollment Template'!A44<>\"\",'MARK Enrollment Template'!K44=\"\"),\"Please fill in Zip Code.\",IF(LEN(SUBSTITUTE(TRIM('MARK Enrollment Template'!K44),CHAR(9),\"\"))<5,\"Zip <5 digits. If leading zero, add apostrophe (ex. '01234).\",\"\")))","v":""},null,null,{"$f":"CELL(\"format\",'MARK Enrollment Template'!C44)","v":"D4"}]
["",{"$f":"IF(AND(SUMPRODUCT(--('MARK Enrollment Template'!A45:L45<>\"\"))<>0,'MARK Enrollment Template'!A45=\"\"),\"Please fill in First Name.\",IF(LEN('MARK Enrollment Template'!A45)=1,\"Please fill in full first name.\",\"\"))","v":""},{"$f":"IF('MARK Enrollment Template'!A45=\"\",\"\",IF(AND('MARK Enrollment Template'!A45<>\"\",'MARK Enrollment Template'!B45=\"\"),\"Please fill in a Last Name.\",\"\"))","v":""},{"$f":"IF('MARK Enrollment Template'!A45=\"\",\"\",IF(AND('MARK Enrollment Template'!A45<>\"\",'MARK Enrollment Template'!C45=\"\"),\"Please fill in Date of Birth.\",IF(TRIM(O40)<>\"D4\",\"Please format DOB as a date in the form MM/DD/YYYY.\",IF('MARK Enrollment Template'!C45>TODAY(),\"Please check DOB.\",\"\"))))","v":""},{"$f":"IF('MARK Enrollment Template'!A45=\"\",\"\",IF(AND('MARK Enrollment Template'!A45<>\"\",'MARK Enrollment Template'!D45=\"\"),\"Please fill in Sex.\",IF(OR(TRIM('MARK Enrollment Template'!D45)=\"M\",TRIM('MARK Enrollment Template'!D45)=\"F\",TRIM('MARK Enrollment Template'!D45)=\"Male\",TRIM('MARK Enrollment Template'!D45)=\"Female\"),\"\",\"Sex must be M/F/Male/Female.\")))","v":""},null,null,{"$f":"IF('MARK Enrollment Template'!A45=\"\",\"\",IF(AND('MARK Enrollment Template'!A45<>\"\",'MARK Enrollment Template'!G45=\"\"),\"Please fill in Email Address.\",IF(IFERROR(FIND(\"@\",'MARK Enrollment Template'!G45),\"X\")=\"X\",\"Email Address must include an @ symbol.\",\"\")))","v":""},null,null,null,{"$f":"IF('MARK Enrollment Template'!A45=\"\",\"\",IF(AND('MARK Enrollment Template'!A45<>\"\",'MARK Enrollment Template'!K45=\"\"),\"Please fill in Zip Code.\",IF(LEN(SUBSTITUTE(TRIM('MARK Enrollment Template'!K45),CHAR(9),\"\"))<5,\"Zip <5 digits. If leading zero, add apostrophe (ex. '01234).\",\"\")))","v":""},null,null,{"$f":"CELL(\"format\",'MARK Enrollment Template'!C45)","v":"D4"}]
["",{"$f":"IF(AND(SUMPRODUCT(--('MARK Enrollment Template'!A46:L46<>\"\"))<>0,'MARK Enrollment Template'!A46=\"\"),\"Please fill in First Name.\",IF(LEN('MARK Enrollment Template'!A46)=1,\"Please fill in full first name.\",\"\"))","v":""},{"$f":"IF('MARK Enrollment Template'!A46=\"\",\"\",IF(AND('MARK Enrollment Template'!A46<>\"\",'MARK Enrollment Template'!B46=\"\"),\"Please fill in a Last Name.\",\"\"))","v":""},{"$f":"IF('MARK Enrollment Template'!A46=\"\",\"\",IF(AND('MARK Enrollment Template'!A46<>\"\",'MARK Enrollment Template'!C46=\"\"),\"Please fill in Date of Birth.\",IF(TRIM(O41)<>\"D4\",\"Please format DOB as a date in the form MM/DD/YYYY.\",IF('MARK Enrollment Template'!C46>TODAY(),\"Please check DOB.\",\"\"))))","v":""},{"$f":"IF('MARK Enrollment Template'!A46=\"\",\"\",IF(AND('MARK Enrollment Template'!A46<>\"\",'MARK Enrollment Template'!D46=\"\"),\"Please fill in Sex.\",IF(OR(TRIM('MARK Enrollment Template'!D46)=\"M\",TRIM('MARK Enrollment Template'!D46)=\"F\",TRIM('MARK Enrollment Template'!D46)=\"Male\",TRIM('MARK Enrollment Template'!D46)=\"Female\"),\"\",\"Sex must be M/F/Male/Female.\")))","v":""},null,null,{"$f":"IF('MARK Enrollment Template'!A46=\"\",\"\",IF(AND('MARK Enrollment Template'!A46<>\"\",'MARK Enrollment Template'!G46=\"\"),\"Please fill in Email Address.\",IF(IFERROR(FIND(\"@\",'MARK Enrollment Template'!G46),\"X\")=\"X\",\"Email Address must include an @ symbol.\",\"\")))","v":""},null,null,null,{"$f":"IF('MARK Enrollment Template'!A46=\"\",\"\",IF(AND('MARK Enrollment Template'!A46<>\"\",'MARK Enrollment Template'!K46=\"\"),\"Please fill in Zip Code.\",IF(LEN(SUBSTITUTE(TRIM('MARK Enrollment Template'!K46),CHAR(9),\"\"))<5,\"Zip <5 digits. If leading zero, add apostrophe (ex. '01234).\",\"\")))","v":""},null,null,{"$f":"CELL(\"format\",'MARK Enrollment Template'!C46)","v":"D4"}]
["",{"$f":"IF(AND(SUMPRODUCT(--('MARK Enrollment Template'!A47:L47<>\"\"))<>0,'MARK Enrollment Template'!A47=\"\"),\"Please fill in First Name.\",IF(LEN('MARK Enrollment Template'!A47)=1,\"Please fill in full first name.\",\"\"))","v":""},{"$f":"IF('MARK Enrollment Template'!A47=\"\",\"\",IF(AND('MARK Enrollment Template'!A47<>\"\",'MARK Enrollment Template'!B47=\"\"),\"Please fill in a Last Name.\",\"\"))","v":""},{"$f":"IF('MARK Enrollment Template'!A47=\"\",\"\",IF(AND('MARK Enrollment Template'!A47<>\"\",'MARK Enrollment Template'!C47=\"\"),\"Please fill in Date of Birth.\",IF(TRIM(O42)<>\"D4\",\"Please format DOB as a date in the form MM/DD/YYYY.\",IF('MARK Enrollment Template'!C47>TODAY(),\"Please check DOB.\",\"\"))))","v":""},{"$f":"IF('MARK Enrollment Template'!A47=\"\",\"\",IF(AND('MARK Enrollment Template'!A47<>\"\",'MARK Enrollment Template'!D47=\"\"),\"Please fill in Sex.\",IF(OR(TRIM('MARK Enrollment Template'!D47)=\"M\",TRIM('MARK Enrollment Template'!D47)=\"F\",TRIM('MARK Enrollment Template'!D47)=\"Male\",TRIM('MARK Enrollment Template'!D47)=\"Female\"),\"\",\"Sex must be M/F/Male/Female.\")))","v":""},null,null,{"$f":"IF('MARK Enrollment Template'!A47=\"\",\"\",IF(AND('MARK Enrollment Template'!A47<>\"\",'MARK Enrollment Template'!G47=\"\"),\"Please fill in Email Address.\",IF(IFERROR(FIND(\"@\",'MARK Enrollment Template'!G47),\"X\")=\"X\",\"Email Address must include an @ symbol.\",\"\")))","v":""},null,null,null,{"$f":"IF('MARK Enrollment Template'!A47=\"\",\"\",IF(AND('MARK Enrollment Template'!A47<>\"\",'MARK Enrollment Template'!K47=\"\"),\"Please fill in Zip Code.\",IF(LEN(SUBSTITUTE(TRIM('MARK Enrollment Template'!K47),CHAR(9),\"\"))<5,\"Zip <5 digits. If leading zero, add apostrophe (ex. '01234).\",\"\")))","v":""},null,null,{"$f":"CELL(\"format\",'MARK Enrollment Template'!C47)","v":"D4"}]
["",{"$f":"IF(AND(SUMPRODUCT(--('MARK Enrollment Template'!A48:L48<>\"\"))<>0,'MARK Enrollment Template'!A48=\"\"),\"Please fill in First Name.\",IF(LEN('MARK Enrollment Template'!A48)=1,\"Please fill in full first name.\",\"\"))","v":""},{"$f":"IF('MARK Enrollment Template'!A48=\"\",\"\",IF(AND('MARK Enrollment Template'!A48<>\"\",'MARK Enrollment Template'!B48=\"\"),\"Please fill in a Last Name.\",\"\"))","v":""},{"$f":"IF('MARK Enrollment Template'!A48=\"\",\"\",IF(AND('MARK Enrollment Template'!A48<>\"\",'MARK Enrollment Template'!C48=\"\"),\"Please fill in Date of Birth.\",IF(TRIM(O43)<>\"D4\",\"Please format DOB as a date in the form MM/DD/YYYY.\",IF('MARK Enrollment Template'!C48>TODAY(),\"Please check DOB.\",\"\"))))","v":""},{"$f":"IF('MARK Enrollment Template'!A48=\"\",\"\",IF(AND('MARK Enrollment Template'!A48<>\"\",'MARK Enrollment Template'!D48=\"\"),\"Please fill in Sex.\",IF(OR(TRIM('MARK Enrollment Template'!D48)=\"M\",TRIM('MARK Enrollment Template'!D48)=\"F\",TRIM('MARK Enrollment Template'!D48)=\"Male\",TRIM('MARK Enrollment Template'!D48)=\"Female\"),\"\",\"Sex must be M/F/Male/Female.\")))","v":""},null,null,{"$f":"IF('MARK Enrollment Template'!A48=\"\",\"\",IF(AND('MARK Enrollment Template'!A48<>\"\",'MARK Enrollment Template'!G48=\"\"),\"Please fill in Email Address.\",IF(IFERROR(FIND(\"@\",'MARK Enrollment Template'!G48),\"X\")=\"X\",\"Email Address must include an @ symbol.\",\"\")))","v":""},null,null,null,{"$f":"IF('MARK Enrollment Template'!A48=\"\",\"\",IF(AND('MARK Enrollment Template'!A48<>\"\",'MARK Enrollment Template'!K48=\"\"),\"Please fill in Zip Code.\",IF(LEN(SUBSTITUTE(TRIM('MARK Enrollment Template'!K48),CHAR(9),\"\"))<5,\"Zip <5 digits. If leading zero, add apostrophe (ex. '01234).\",\"\")))","v":""},null,null,{"$f":"CELL(\"format\",'MARK Enrollment Template'!C48)","v":"D4"}]
["",{"$f":"IF(AND(SUMPRODUCT(--('MARK Enrollment Template'!A49:L49<>\"\"))<>0,'MARK Enrollment Template'!A49=\"\"),\"Please fill in First Name.\",IF(LEN('MARK Enrollment Template'!A49)=1,\"Please fill in full first name.\",\"\"))","v":""},{"$f":"IF('MARK Enrollment Template'!A49=\"\",\"\",IF(AND('MARK Enrollment Template'!A49<>\"\",'MARK Enrollment Template'!B49=\"\"),\"Please fill in a Last Name.\",\"\"))","v":""},{"$f":"IF('MARK Enrollment Template'!A49=\"\",\"\",IF(AND('MARK Enrollment Template'!A49<>\"\",'MARK Enrollment Template'!C49=\"\"),\"Please fill in Date of Birth.\",IF(TRIM(O44)<>\"D4\",\"Please format DOB as a date in the form MM/DD/YYYY.\",IF('MARK Enrollment Template'!C49>TODAY(),\"Please check DOB.\",\"\"))))","v":""},{"$f":"IF('MARK Enrollment Template'!A49=\"\",\"\",IF(AND('MARK Enrollment Template'!A49<>\"\",'MARK Enrollment Template'!D49=\"\"),\"Please fill in Sex.\",IF(OR(TRIM('MARK Enrollment Template'!D49)=\"M\",TRIM('MARK Enrollment Template'!D49)=\"F\",TRIM('MARK Enrollment Template'!D49)=\"Male\",TRIM('MARK Enrollment Template'!D49)=\"Female\"),\"\",\"Sex must be M/F/Male/Female.\")))","v":""},null,null,{"$f":"IF('MARK Enrollment Template'!A49=\"\",\"\",IF(AND('MARK Enrollment Template'!A49<>\"\",'MARK Enrollment Template'!G49=\"\"),\"Please fill in Email Address.\",IF(IFERROR(FIND(\"@\",'MARK Enrollment Template'!G49),\"X\")=\"X\",\"Email Address must include an @ symbol.\",\"\")))","v":""},null,null,null,{"$f":"IF('MARK Enrollment Template'!A49=\"\",\"\",IF(AND('MARK Enrollment Template'!A49<>\"\",'MARK Enrollment Template'!K49=\"\"),\"Please fill in Zip Code.\",IF(LEN(SUBSTITUTE(TRIM('MARK Enrollment Template'!K49),CHAR(9),\"\"))<5,\"Zip <5 digits. If leading zero, add apostrophe (ex. '01234).\",\"\")))","v":""},null,null,{"$f":"CELL(\"format\",'MARK Enrollment Template'!C49)","v":"D4"}]
["",{"$f":"IF(AND(SUMPRODUCT(--('MARK Enrollment Template'!A50:L50<>\"\"))<>0,'MARK Enrollment Template'!A50=\"\"),\"Please fill in First Name.\",IF(LEN('MARK Enrollment Template'!A50)=1,\"Please fill in full first name.\",\"\"))","v":""},{"$f":"IF('MARK Enrollment Template'!A50=\"\",\"\",IF(AND('MARK Enrollment Template'!A50<>\"\",'MARK Enrollment Template'!B50=\"\"),\"Please fill in a Last Name.\",\"\"))","v":""},{"$f":"IF('MARK Enrollment Template'!A50=\"\",\"\",IF(AND('MARK Enrollment Template'!A50<>\"\",'MARK Enrollment Template'!C50=\"\"),\"Please fill in Date of Birth.\",IF(TRIM(O45)<>\"D4\",\"Please format DOB as a date in the form MM/DD/YYYY.\",IF('MARK Enrollment Template'!C50>TODAY(),\"Please check DOB.\",\"\"))))","v":""},{"$f":"IF('MARK Enrollment Template'!A50=\"\",\"\",IF(AND('MARK Enrollment Template'!A50<>\"\",'MARK Enrollment Template'!D50=\"\"),\"Please fill in Sex.\",IF(OR(TRIM('MARK Enrollment Template'!D50)=\"M\",TRIM('MARK Enrollment Template'!D50)=\"F\",TRIM('MARK Enrollment Template'!D50)=\"Male\",TRIM('MARK Enrollment Template'!D50)=\"Female\"),\"\",\"Sex must be M/F/Male/Female.\")))","v":""},null,null,{"$f":"IF('MARK Enrollment Template'!A50=\"\",\"\",IF(AND('MARK Enrollment Template'!A50<>\"\",'MARK Enrollment Template'!G50=\"\"),\"Please fill in Email Address.\",IF(IFERROR(FIND(\"@\",'MARK Enrollment Template'!G50),\"X\")=\"X\",\"Email Address must include an @ symbol.\",\"\")))","v":""},null,null,null,{"$f":"IF('MARK Enrollment Template'!A50=\"\",\"\",IF(AND('MARK Enrollment Template'!A50<>\"\",'MARK Enrollment Template'!K50=\"\"),\"Please fill in Zip Code.\",IF(LEN(SUBSTITUTE(TRIM('MARK Enrollment Template'!K50),CHAR(9),\"\"))<5,\"Zip <5 digits. If leading zero, add apostrophe (ex. '01234).\",\"\")))","v":""},null,null,{"$f":"CELL(\"format\",'MARK Enrollment Template'!C50)","v":"D4"}]
["",{"$f":"IF(AND(SUMPRODUCT(--('MARK Enrollment Template'!A51:L51<>\"\"))<>0,'MARK Enrollment Template'!A51=\"\"),\"Please fill in First Name.\",IF(LEN('MARK Enrollment Template'!A51)=1,\"Please fill in full first name.\",\"\"))","v":""},{"$f":"IF('MARK Enrollment Template'!A51=\"\",\"\",IF(AND('MARK Enrollment Template'!A51<>\"\",'MARK Enrollment Template'!B51=\"\"),\"Please fill in a Last Name.\",\"\"))","v":""},{"$f":"IF('MARK Enrollment Template'!A51=\"\",\"\",IF(AND('MARK Enrollment Template'!A51<>\"\",'MARK Enrollment Template'!C51=\"\"),\"Please fill in Date of Birth.\",IF(TRIM(O46)<>\"D4\",\"Please format DOB as a date in the form MM/DD/YYYY.\",IF('MARK Enrollment Template'!C51>TODAY(),\"Please check DOB.\",\"\"))))","v":""},{"$f":"IF('MARK Enrollment Template'!A51=\"\",\"\",IF(AND('MARK Enrollment Template'!A51<>\"\",'MARK Enrollment Template'!D51=\"\"),\"Please fill in Sex.\",IF(OR(TRIM('MARK Enrollment Template'!D51)=\"M\",TRIM('MARK Enrollment Template'!D51)=\"F\",TRIM('MARK Enrollment Template'!D51)=\"Male\",TRIM('MARK Enrollment Template'!D51)=\"Female\"),\"\",\"Sex must be M/F/Male/Female.\")))","v":""},null,null,{"$f":"IF('MARK Enrollment Template'!A51=\"\",\"\",IF(AND('MARK Enrollment Template'!A51<>\"\",'MARK Enrollment Template'!G51=\"\"),\"Please fill in Email Address.\",IF(IFERROR(FIND(\"@\",'MARK Enrollment Template'!G51),\"X\")=\"X\",\"Email Address must include an @ symbol.\",\"\")))","v":""},null,null,null,{"$f":"IF('MARK Enrollment Template'!A51=\"\",\"\",IF(AND('MARK Enrollment Template'!A51<>\"\",'MARK Enrollment Template'!K51=\"\"),\"Please fill in Zip Code.\",IF(LEN(SUBSTITUTE(TRIM('MARK Enrollment Template'!K51),CHAR(9),\"\"))<5,\"Zip <5 digits. If leading zero, add apostrophe (ex. '01234).\",\"\")))","v":""},null,null,{"$f":"CELL(\"format\",'MARK Enrollment Template'!C51)","v":"D4"}]
["",{"$f":"IF(AND(SUMPRODUCT(--('MARK Enrollment Template'!A52:L52<>\"\"))<>0,'MARK Enrollment Template'!A52=\"\"),\"Please fill in First Name.\",IF(LEN('MARK Enrollment Template'!A52)=1,\"Please fill in full first name.\",\"\"))","v":""},{"$f":"IF('MARK Enrollment Template'!A52=\"\",\"\",IF(AND('MARK Enrollment Template'!A52<>\"\",'MARK Enrollment Template'!B52=\"\"),\"Please fill in a Last Name.\",\"\"))","v":""},{"$f":"IF('MARK Enrollment Template'!A52=\"\",\"\",IF(AND('MARK Enrollment Template'!A52<>\"\",'MARK Enrollment Template'!C52=\"\"),\"Please fill in Date of Birth.\",IF(TRIM(O47)<>\"D4\",\"Please format DOB as a date in the form MM/DD/YYYY.\",IF('MARK Enrollment Template'!C52>TODAY(),\"Please check DOB.\",\"\"))))","v":""},{"$f":"IF('MARK Enrollment Template'!A52=\"\",\"\",IF(AND('MARK Enrollment Template'!A52<>\"\",'MARK Enrollment Template'!D52=\"\"),\"Please fill in Sex.\",IF(OR(TRIM('MARK Enrollment Template'!D52)=\"M\",TRIM('MARK Enrollment Template'!D52)=\"F\",TRIM('MARK Enrollment Template'!D52)=\"Male\",TRIM('MARK Enrollment Template'!D52)=\"Female\"),\"\",\"Sex must be M/F/Male/Female.\")))","v":""},null,null,{"$f":"IF('MARK Enrollment Template'!A52=\"\",\"\",IF(AND('MARK Enrollment Template'!A52<>\"\",'MARK Enrollment Template'!G52=\"\"),\"Please fill in Email Address.\",IF(IFERROR(FIND(\"@\",'MARK Enrollment Template'!G52),\"X\")=\"X\",\"Email Address must include an @ symbol.\",\"\")))","v":""},null,null,null,{"$f":"IF('MARK Enrollment Template'!A52=\"\",\"\",IF(AND('MARK Enrollment Template'!A52<>\"\",'MARK Enrollment Template'!K52=\"\"),\"Please fill in Zip Code.\",IF(LEN(SUBSTITUTE(TRIM('MARK Enrollment Template'!K52),CHAR(9),\"\"))<5,\"Zip <5 digits. If leading zero, add apostrophe (ex. '01234).\",\"\")))","v":""},null,null,{"$f":"CELL(\"format\",'MARK Enrollment Template'!C52)","v":"D4"}]
["",{"$f":"IF(AND(SUMPRODUCT(--('MARK Enrollment Template'!A53:L53<>\"\"))<>0,'MARK Enrollment Template'!A53=\"\"),\"Please fill in First Name.\",IF(LEN('MARK Enrollment Template'!A53)=1,\"Please fill in full first name.\",\"\"))","v":""},{"$f":"IF('MARK Enrollment Template'!A53=\"\",\"\",IF(AND('MARK Enrollment Template'!A53<>\"\",'MARK Enrollment Template'!B53=\"\"),\"Please fill in a Last Name.\",\"\"))","v":""},{"$f":"IF('MARK Enrollment Template'!A53=\"\",\"\",IF(AND('MARK Enrollment Template'!A53<>\"\",'MARK Enrollment Template'!C53=\"\"),\"Please fill in Date of Birth.\",IF(TRIM(O48)<>\"D4\",\"Please format DOB as a date in the form MM/DD/YYYY.\",IF('MARK Enrollment Template'!C53>TODAY(),\"Please check DOB.\",\"\"))))","v":""},{"$f":"IF('MARK Enrollment Template'!A53=\"\",\"\",IF(AND('MARK Enrollment Template'!A53<>\"\",'MARK Enrollment Template'!D53=\"\"),\"Please fill in Sex.\",IF(OR(TRIM('MARK Enrollment Template'!D53)=\"M\",TRIM('MARK Enrollment Template'!D53)=\"F\",TRIM('MARK Enrollment Template'!D53)=\"Male\",TRIM('MARK Enrollment Template'!D53)=\"Female\"),\"\",\"Sex must be M/F/Male/Female.\")))","v":""},null,null,{"$f":"IF('MARK Enrollment Template'!A53=\"\",\"\",IF(AND('MARK Enrollment Template'!A53<>\"\",'MARK Enrollment Template'!G53=\"\"),\"Please fill in Email Address.\",IF(IFERROR(FIND(\"@\",'MARK Enrollment Template'!G53),\"X\")=\"X\",\"Email Address must include an @ symbol.\",\"\")))","v":""},null,null,null,{"$f":"IF('MARK Enrollment Template'!A53=\"\",\"\",IF(AND('MARK Enrollment Template'!A53<>\"\",'MARK Enrollment Template'!K53=\"\"),\"Please fill in Zip Code.\",IF(LEN(SUBSTITUTE(TRIM('MARK Enrollment Template'!K53),CHAR(9),\"\"))<5,\"Zip <5 digits. If leading zero, add apostrophe (ex. '01234).\",\"\")))","v":""},null,null,{"$f":"CELL(\"format\",'MARK Enrollment Template'!C53)","v":"D4"}]
["",{"$f":"IF(AND(SUMPRODUCT(--('MARK Enrollment Template'!A54:L54<>\"\"))<>0,'MARK Enrollment Template'!A54=\"\"),\"Please fill in First Name.\",IF(LEN('MARK Enrollment Template'!A54)=1,\"Please fill in full first name.\",\"\"))","v":""},{"$f":"IF('MARK Enrollment Template'!A54=\"\",\"\",IF(AND('MARK Enrollment Template'!A54<>\"\",'MARK Enrollment Template'!B54=\"\"),\"Please fill in a Last Name.\",\"\"))","v":""},{"$f":"IF('MARK Enrollment Template'!A54=\"\",\"\",IF(AND('MARK Enrollment Template'!A54<>\"\",'MARK Enrollment Template'!C54=\"\"),\"Please fill in Date of Birth.\",IF(TRIM(O49)<>\"D4\",\"Please format DOB as a date in the form MM/DD/YYYY.\",IF('MARK Enrollment Template'!C54>TODAY(),\"Please check DOB.\",\"\"))))","v":""},{"$f":"IF('MARK Enrollment Template'!A54=\"\",\"\",IF(AND('MARK Enrollment Template'!A54<>\"\",'MARK Enrollment Template'!D54=\"\"),\"Please fill in Sex.\",IF(OR(TRIM('MARK Enrollment Template'!D54)=\"M\",TRIM('MARK Enrollment Template'!D54)=\"F\",TRIM('MARK Enrollment Template'!D54)=\"Male\",TRIM('MARK Enrollment Template'!D54)=\"Female\"),\"\",\"Sex must be M/F/Male/Female.\")))","v":""},null,null,{"$f":"IF('MARK Enrollment Template'!A54=\"\",\"\",IF(AND('MARK Enrollment Template'!A54<>\"\",'MARK Enrollment Template'!G54=\"\"),\"Please fill in Email Address.\",IF(IFERROR(FIND(\"@\",'MARK Enrollment Template'!G54),\"X\")=\"X\",\"Email Address must include an @ symbol.\",\"\")))","v":""},null,null,null,{"$f":"IF('MARK Enrollment Template'!A54=\"\",\"\",IF(AND('MARK Enrollment Template'!A54<>\"\",'MARK Enrollment Template'!K54=\"\"),\"Please fill in Zip Code.\",IF(LEN(SUBSTITUTE(TRIM('MARK Enrollment Template'!K54),CHAR(9),\"\"))<5,\"Zip <5 digits. If leading zero, add apostrophe (ex. '01234).\",\"\")))","v":""},null,null,{"$f":"CELL(\"format\",'MARK Enrollment Template'!C54)","v":"D4"}]
["",{"$f":"IF(AND(SUMPRODUCT(--('MARK Enrollment Template'!A55:L55<>\"\"))<>0,'MARK Enrollment Template'!A55=\"\"),\"Please fill in First Name.\",IF(LEN('MARK Enrollment Template'!A55)=1,\"Please fill in full first name.\",\"\"))","v":""},{"$f":"IF('MARK Enrollment Template'!A55=\"\",\"\",IF(AND('MARK Enrollment Template'!A55<>\"\",'MARK Enrollment Template'!B55=\"\"),\"Please fill in a Last Name.\",\"\"))","v":""},{"$f":"IF('MARK Enrollment Template'!A55=\"\",\"\",IF(AND('MARK Enrollment Template'!A55<>\"\",'MARK Enrollment Template'!C55=\"\"),\"Please fill in Date of Birth.\",IF(TRIM(O50)<>\"D4\",\"Please format DOB as a date in the form MM/DD/YYYY.\",IF('MARK Enrollment Template'!C55>TODAY(),\"Please check DOB.\",\"\"))))","v":""},{"$f":"IF('MARK Enrollment Template'!A55=\"\",\"\",IF(AND('MARK Enrollment Template'!A55<>\"\",'MARK Enrollment Template'!D55=\"\"),\"Please fill in Sex.\",IF(OR(TRIM('MARK Enrollment Template'!D55)=\"M\",TRIM('MARK Enrollment Template'!D55)=\"F\",TRIM('MARK Enrollment Template'!D55)=\"Male\",TRIM('MARK Enrollment Template'!D55)=\"Female\"),\"\",\"Sex must be M/F/Male/Female.\")))","v":""},null,null,{"$f":"IF('MARK Enrollment Template'!A55=\"\",\"\",IF(AND('MARK Enrollment Template'!A55<>\"\",'MARK Enrollment Template'!G55=\"\"),\"Please fill in Email Address.\",IF(IFERROR(FIND(\"@\",'MARK Enrollment Template'!G55),\"X\")=\"X\",\"Email Address must include an @ symbol.\",\"\")))","v":""},null,null,null,{"$f":"IF('MARK Enrollment Template'!A55=\"\",\"\",IF(AND('MARK Enrollment Template'!A55<>\"\",'MARK Enrollment Template'!K55=\"\"),\"Please fill in Zip Code.\",IF(LEN(SUBSTITUTE(TRIM('MARK Enrollment Template'!K55),CHAR(9),\"\"))<5,\"Zip <5 digits. If leading zero, add apostrophe (ex. '01234).\",\"\")))","v":""},null,null,{"$f":"CELL(\"format\",'MARK Enrollment Template'!C55)","v":"D4"}]
["",{"$f":"IF(AND(SUMPRODUCT(--('MARK Enrollment Template'!A56:L56<>\"\"))<>0,'MARK Enrollment Template'!A56=\"\"),\"Please fill in First Name.\",IF(LEN('MARK Enrollment Template'!A56)=1,\"Please fill in full first name.\",\"\"))","v":""},{"$f":"IF('MARK Enrollment Template'!A56=\"\",\"\",IF(AND('MARK Enrollment Template'!A56<>\"\",'MARK Enrollment Template'!B56=\"\"),\"Please fill in a Last Name.\",\"\"))","v":""},{"$f":"IF('MARK Enrollment Template'!A56=\"\",\"\",IF(AND('MARK Enrollment Template'!A56<>\"\",'MARK Enrollment Template'!C56=\"\"),\"Please fill in Date of Birth.\",IF(TRIM(O51)<>\"D4\",\"Please format DOB as a date in the form MM/DD/YYYY.\",IF('MARK Enrollment Template'!C56>TODAY(),\"Please check DOB.\",\"\"))))","v":""},{"$f":"IF('MARK Enrollment Template'!A56=\"\",\"\",IF(AND('MARK Enrollment Template'!A56<>\"\",'MARK Enrollment Template'!D56=\"\"),\"Please fill in Sex.\",IF(OR(TRIM('MARK Enrollment Template'!D56)=\"M\",TRIM('MARK Enrollment Template'!D56)=\"F\",TRIM('MARK Enrollment Template'!D56)=\"Male\",TRIM('MARK Enrollment Template'!D56)=\"Female\"),\"\",\"Sex must be M/F/Male/Female.\")))","v":""},null,null,{"$f":"IF('MARK Enrollment Template'!A56=\"\",\"\",IF(AND('MARK Enrollment Template'!A56<>\"\",'MARK Enrollment Template'!G56=\"\"),\"Please fill in Email Address.\",IF(IFERROR(FIND(\"@\",'MARK Enrollment Template'!G56),\"X\")=\"X\",\"Email Address must include an @ symbol.\",\"\")))","v":""},null,null,null,{"$f":"IF('MARK Enrollment Template'!A56=\"\",\"\",IF(AND('MARK Enrollment Template'!A56<>\"\",'MARK Enrollment Template'!K56=\"\"),\"Please fill in Zip Code.\",IF(LEN(SUBSTITUTE(TRIM('MARK Enrollment Template'!K56),CHAR(9),\"\"))<5,\"Zip <5 digits. If leading zero, add apostrophe (ex. '01234).\",\"\")))","v":""},null,null,{"$f":"CELL(\"format\",'MARK Enrollment Template'!C56)","v":"D4"}]
["",{"$f":"IF(AND(SUMPRODUCT(--('MARK Enrollment Template'!A57:L57<>\"\"))<>0,'MARK Enrollment Template'!A57=\"\"),\"Please fill in First Name.\",IF(LEN('MARK Enrollment Template'!A57)=1,\"Please fill in full first name.\",\"\"))","v":""},{"$f":"IF('MARK Enrollment Template'!A57=\"\",\"\",IF(AND('MARK Enrollment Template'!A57<>\"\",'MARK Enrollment Template'!B57=\"\"),\"Please fill in a Last Name.\",\"\"))","v":""},{"$f":"IF('MARK Enrollment Template'!A57=\"\",\"\",IF(AND('MARK Enrollment Template'!A57<>\"\",'MARK Enrollment Template'!C57=\"\"),\"Please fill in Date of Birth.\",IF(TRIM(O52)<>\"D4\",\"Please format DOB as a date in the form MM/DD/YYYY.\",IF('MARK Enrollment Template'!C57>TODAY(),\"Please check DOB.\",\"\"))))","v":""},{"$f":"IF('MARK Enrollment Template'!A57=\"\",\"\",IF(AND('MARK Enrollment Template'!A57<>\"\",'MARK Enrollment Template'!D57=\"\"),\"Please fill in Sex.\",IF(OR(TRIM('MARK Enrollment Template'!D57)=\"M\",TRIM('MARK Enrollment Template'!D57)=\"F\",TRIM('MARK Enrollment Template'!D57)=\"Male\",TRIM('MARK Enrollment Template'!D57)=\"Female\"),\"\",\"Sex must be M/F/Male/Female.\")))","v":""},null,null,{"$f":"IF('MARK Enrollment Template'!A57=\"\",\"\",IF(AND('MARK Enrollment Template'!A57<>\"\",'MARK Enrollment Template'!G57=\"\"),\"Please fill in Email Address.\",IF(IFERROR(FIND(\"@\",'MARK Enrollment Template'!G57),\"X\")=\"X\",\"Email Address must include an @ symbol.\",\"\")))","v":""},null,null,null,{"$f":"IF('MARK Enrollment Template'!A57=\"\",\"\",IF(AND('MARK Enrollment Template'!A57<>\"\",'MARK Enrollment Template'!K57=\"\"),\"Please fill in Zip Code.\",IF(LEN(SUBSTITUTE(TRIM('MARK Enrollment Template'!K57),CHAR(9),\"\"))<5,\"Zip <5 digits. If leading zero, add apostrophe (ex. '01234).\",\"\")))","v":""},null,null,{"$f":"CELL(\"format\",'MARK Enrollment Template'!C57)","v":"D4"}]
["",{"$f":"IF(AND(SUMPRODUCT(--('MARK Enrollment Template'!A58:L58<>\"\"))<>0,'MARK Enrollment Template'!A58=\"\"),\"Please fill in First Name.\",IF(LEN('MARK Enrollment Template'!A58)=1,\"Please fill in full first name.\",\"\"))","v":""},{"$f":"IF('MARK Enrollment Template'!A58=\"\",\"\",IF(AND('MARK Enrollment Template'!A58<>\"\",'MARK Enrollment Template'!B58=\"\"),\"Please fill in a Last Name.\",\"\"))","v":""},{"$f":"IF('MARK Enrollment Template'!A58=\"\",\"\",IF(AND('MARK Enrollment Template'!A58<>\"\",'MARK Enrollment Template'!C58=\"\"),\"Please fill in Date of Birth.\",IF(TRIM(O53)<>\"D4\",\"Please format DOB as a date in the form MM/DD/YYYY.\",IF('MARK Enrollment Template'!C58>TODAY(),\"Please check DOB.\",\"\"))))","v":""},{"$f":"IF('MARK Enrollment Template'!A58=\"\",\"\",IF(AND('MARK Enrollment Template'!A58<>\"\",'MARK Enrollment Template'!D58=\"\"),\"Please fill in Sex.\",IF(OR(TRIM('MARK Enrollment Template'!D58)=\"M\",TRIM('MARK Enrollment Template'!D58)=\"F\",TRIM('MARK Enrollment Template'!D58)=\"Male\",TRIM('MARK Enrollment Template'!D58)=\"Female\"),\"\",\"Sex must be M/F/Male/Female.\")))","v":""},null,null,{"$f":"IF('MARK Enrollment Template'!A58=\"\",\"\",IF(AND('MARK Enrollment Template'!A58<>\"\",'MARK Enrollment Template'!G58=\"\"),\"Please fill in Email Address.\",IF(IFERROR(FIND(\"@\",'MARK Enrollment Template'!G58),\"X\")=\"X\",\"Email Address must include an @ symbol.\",\"\")))","v":""},null,null,null,{"$f":"IF('MARK Enrollment Template'!A58=\"\",\"\",IF(AND('MARK Enrollment Template'!A58<>\"\",'MARK Enrollment Template'!K58=\"\"),\"Please fill in Zip Code.\",IF(LEN(SUBSTITUTE(TRIM('MARK Enrollment Template'!K58),CHAR(9),\"\"))<5,\"Zip <5 digits. If leading zero, add apostrophe (ex. '01234).\",\"\")))","v":""},null,null,{"$f":"CELL(\"format\",'MARK Enrollment Template'!C58)","v":"D4"}]
["",{"$f":"IF(AND(SUMPRODUCT(--('MARK Enrollment Template'!A59:L59<>\"\"))<>0,'MARK Enrollment Template'!A59=\"\"),\"Please fill in First Name.\",IF(LEN('MARK Enrollment Template'!A59)=1,\"Please fill in full first name.\",\"\"))","v":""},{"$f":"IF('MARK Enrollment Template'!A59=\"\",\"\",IF(AND('MARK Enrollment Template'!A59<>\"\",'MARK Enrollment Template'!B59=\"\"),\"Please fill in a Last Name.\",\"\"))","v":""},{"$f":"IF('MARK Enrollment Template'!A59=\"\",\"\",IF(AND('MARK Enrollment Template'!A59<>\"\",'MARK Enrollment Template'!C59=\"\"),\"Please fill in Date of Birth.\",IF(TRIM(O54)<>\"D4\",\"Please format DOB as a date in the form MM/DD/YYYY.\",IF('MARK Enrollment Template'!C59>TODAY(),\"Please check DOB.\",\"\"))))","v":""},{"$f":"IF('MARK Enrollment Template'!A59=\"\",\"\",IF(AND('MARK Enrollment Template'!A59<>\"\",'MARK Enrollment Template'!D59=\"\"),\"Please fill in Sex.\",IF(OR(TRIM('MARK Enrollment Template'!D59)=\"M\",TRIM('MARK Enrollment Template'!D59)=\"F\",TRIM('MARK Enrollment Template'!D59)=\"Male\",TRIM('MARK Enrollment Template'!D59)=\"Female\"),\"\",\"Sex must be M/F/Male/Female.\")))","v":""},null,null,{"$f":"IF('MARK Enrollment Template'!A59=\"\",\"\",IF(AND('MARK Enrollment Template'!A59<>\"\",'MARK Enrollment Template'!G59=\"\"),\"Please fill in Email Address.\",IF(IFERROR(FIND(\"@\",'MARK Enrollment Template'!G59),\"X\")=\"X\",\"Email Address must include an @ symbol.\",\"\")))","v":""},null,null,null,{"$f":"IF('MARK Enrollment Template'!A59=\"\",\"\",IF(AND('MARK Enrollment Template'!A59<>\"\",'MARK Enrollment Template'!K59=\"\"),\"Please fill in Zip Code.\",IF(LEN(SUBSTITUTE(TRIM('MARK Enrollment Template'!K59),CHAR(9),\"\"))<5,\"Zip <5 digits. If leading zero, add apostrophe (ex. '01234).\",\"\")))","v":""},null,null,{"$f":"CELL(\"format\",'MARK Enrollment Template'!C59)","v":"D4"}]
["",{"$f":"IF(AND(SUMPRODUCT(--('MARK Enrollment Template'!A60:L60<>\"\"))<>0,'MARK Enrollment Template'!A60=\"\"),\"Please fill in First Name.\",IF(LEN('MARK Enrollment Template'!A60)=1,\"Please fill in full first name.\",\"\"))","v":""},{"$f":"IF('MARK Enrollment Template'!A60=\"\",\"\",IF(AND('MARK Enrollment Template'!A60<>\"\",'MARK Enrollment Template'!B60=\"\"),\"Please fill in a Last Name.\",\"\"))","v":""},{"$f":"IF('MARK Enrollment Template'!A60=\"\",\"\",IF(AND('MARK Enrollment Template'!A60<>\"\",'MARK Enrollment Template'!C60=\"\"),\"Please fill in Date of Birth.\",IF(TRIM(O55)<>\"D4\",\"Please format DOB as a date in the form MM/DD/YYYY.\",IF('MARK Enrollment Template'!C60>TODAY(),\"Please check DOB.\",\"\"))))","v":""},{"$f":"IF('MARK Enrollment Template'!A60=\"\",\"\",IF(AND('MARK Enrollment Template'!A60<>\"\",'MARK Enrollment Template'!D60=\"\"),\"Please fill in Sex.\",IF(OR(TRIM('MARK Enrollment Template'!D60)=\"M\",TRIM('MARK Enrollment Template'!D60)=\"F\",TRIM('MARK Enrollment Template'!D60)=\"Male\",TRIM('MARK Enrollment Template'!D60)=\"Female\"),\"\",\"Sex must be M/F/Male/Female.\")))","v":""},null,null,{"$f":"IF('MARK Enrollment Template'!A60=\"\",\"\",IF(AND('MARK Enrollment Template'!A60<>\"\",'MARK Enrollment Template'!G60=\"\"),\"Please fill in Email Address.\",IF(IFERROR(FIND(\"@\",'MARK Enrollment Template'!G60),\"X\")=\"X\",\"Email Address must include an @ symbol.\",\"\")))","v":""},null,null,null,{"$f":"IF('MARK Enrollment Template'!A60=\"\",\"\",IF(AND('MARK Enrollment Template'!A60<>\"\",'MARK Enrollment Template'!K60=\"\"),\"Please fill in Zip Code.\",IF(LEN(SUBSTITUTE(TRIM('MARK Enrollment Template'!K60),CHAR(9),\"\"))<5,\"Zip <5 digits. If leading zero, add apostrophe (ex. '01234).\",\"\")))","v":""},null,null,{"$f":"CELL(\"format\",'MARK Enrollment Template'!C60)","v":"D4"}]
["",{"$f":"IF(AND(SUMPRODUCT(--('MARK Enrollment Template'!A61:L61<>\"\"))<>0,'MARK Enrollment Template'!A61=\"\"),\"Please fill in First Name.\",IF(LEN('MARK Enrollment Template'!A61)=1,\"Please fill in full first name.\",\"\"))","v":""},{"$f":"IF('MARK Enrollment Template'!A61=\"\",\"\",IF(AND('MARK Enrollment Template'!A61<>\"\",'MARK Enrollment Template'!B61=\"\"),\"Please fill in a Last Name.\",\"\"))","v":""},{"$f":"IF('MARK Enrollment Template'!A61=\"\",\"\",IF(AND('MARK Enrollment Template'!A61<>\"\",'MARK Enrollment Template'!C61=\"\"),\"Please fill in Date of Birth.\",IF(TRIM(O56)<>\"D4\",\"Please format DOB as a date in the form MM/DD/YYYY.\",IF('MARK Enrollment Template'!C61>TODAY(),\"Please check DOB.\",\"\"))))","v":""},{"$f":"IF('MARK Enrollment Template'!A61=\"\",\"\",IF(AND('MARK Enrollment Template'!A61<>\"\",'MARK Enrollment Template'!D61=\"\"),\"Please fill in Sex.\",IF(OR(TRIM('MARK Enrollment Template'!D61)=\"M\",TRIM('MARK Enrollment Template'!D61)=\"F\",TRIM('MARK Enrollment Template'!D61)=\"Male\",TRIM('MARK Enrollment Template'!D61)=\"Female\"),\"\",\"Sex must be M/F/Male/Female.\")))","v":""},null,null,{"$f":"IF('MARK Enrollment Template'!A61=\"\",\"\",IF(AND('MARK Enrollment Template'!A61<>\"\",'MARK Enrollment Template'!G61=\"\"),\"Please fill in Email Address.\",IF(IFERROR(FIND(\"@\",'MARK Enrollment Template'!G61),\"X\")=\"X\",\"Email Address must include an @ symbol.\",\"\")))","v":""},null,null,null,{"$f":"IF('MARK Enrollment Template'!A61=\"\",\"\",IF(AND('MARK Enrollment Template'!A61<>\"\",'MARK Enrollment Template'!K61=\"\"),\"Please fill in Zip Code.\",IF(LEN(SUBSTITUTE(TRIM('MARK Enrollment Template'!K61),CHAR(9),\"\"))<5,\"Zip <5 digits. If leading zero, add apostrophe (ex. '01234).\",\"\")))","v":""},null,null,{"$f":"CELL(\"format\",'MARK Enrollment Template'!C61)","v":"D4"}]
["",{"$f":"IF(AND(SUMPRODUCT(--('MARK Enrollment Template'!A62:L62<>\"\"))<>0,'MARK Enrollment Template'!A62=\"\"),\"Please fill in First Name.\",IF(LEN('MARK Enrollment Template'!A62)=1,\"Please fill in full first name.\",\"\"))","v":""},{"$f":"IF('MARK Enrollment Template'!A62=\"\",\"\",IF(AND('MARK Enrollment Template'!A62<>\"\",'MARK Enrollment Template'!B62=\"\"),\"Please fill in a Last Name.\",\"\"))","v":""},{"$f":"IF('MARK Enrollment Template'!A62=\"\",\"\",IF(AND('MARK Enrollment Template'!A62<>\"\",'MARK Enrollment Template'!C62=\"\"),\"Please fill in Date of Birth.\",IF(TRIM(O57)<>\"D4\",\"Please format DOB as a date in the form MM/DD/YYYY.\",IF('MARK Enrollment Template'!C62>TODAY(),\"Please check DOB.\",\"\"))))","v":""},{"$f":"IF('MARK Enrollment Template'!A62=\"\",\"\",IF(AND('MARK Enrollment Template'!A62<>\"\",'MARK Enrollment Template'!D62=\"\"),\"Please fill in Sex.\",IF(OR(TRIM('MARK Enrollment Template'!D62)=\"M\",TRIM('MARK Enrollment Template'!D62)=\"F\",TRIM('MARK Enrollment Template'!D62)=\"Male\",TRIM('MARK Enrollment Template'!D62)=\"Female\"),\"\",\"Sex must be M/F/Male/Female.\")))","v":""},null,null,{"$f":"IF('MARK Enrollment Template'!A62=\"\",\"\",IF(AND('MARK Enrollment Template'!A62<>\"\",'MARK Enrollment Template'!G62=\"\"),\"Please fill in Email Address.\",IF(IFERROR(FIND(\"@\",'MARK Enrollment Template'!G62),\"X\")=\"X\",\"Email Address must include an @ symbol.\",\"\")))","v":""},null,null,null,{"$f":"IF('MARK Enrollment Template'!A62=\"\",\"\",IF(AND('MARK Enrollment Template'!A62<>\"\",'MARK Enrollment Template'!K62=\"\"),\"Please fill in Zip Code.\",IF(LEN(SUBSTITUTE(TRIM('MARK Enrollment Template'!K62),CHAR(9),\"\"))<5,\"Zip <5 digits. If leading zero, add apostrophe (ex. '01234).\",\"\")))","v":""},null,null,{"$f":"CELL(\"format\",'MARK Enrollment Template'!C62)","v":"D4"}]
["",{"$f":"IF(AND(SUMPRODUCT(--('MARK Enrollment Template'!A63:L63<>\"\"))<>0,'MARK Enrollment Template'!A63=\"\"),\"Please fill in First Name.\",IF(LEN('MARK Enrollment Template'!A63)=1,\"Please fill in full first name.\",\"\"))","v":""},{"$f":"IF('MARK Enrollment Template'!A63=\"\",\"\",IF(AND('MARK Enrollment Template'!A63<>\"\",'MARK Enrollment Template'!B63=\"\"),\"Please fill in a Last Name.\",\"\"))","v":""},{"$f":"IF('MARK Enrollment Template'!A63=\"\",\"\",IF(AND('MARK Enrollment Template'!A63<>\"\",'MARK Enrollment Template'!C63=\"\"),\"Please fill in Date of Birth.\",IF(TRIM(O58)<>\"D4\",\"Please format DOB as a date in the form MM/DD/YYYY.\",IF('MARK Enrollment Template'!C63>TODAY(),\"Please check DOB.\",\"\"))))","v":""},{"$f":"IF('MARK Enrollment Template'!A63=\"\",\"\",IF(AND('MARK Enrollment Template'!A63<>\"\",'MARK Enrollment Template'!D63=\"\"),\"Please fill in Sex.\",IF(OR(TRIM('MARK Enrollment Template'!D63)=\"M\",TRIM('MARK Enrollment Template'!D63)=\"F\",TRIM('MARK Enrollment Template'!D63)=\"Male\",TRIM('MARK Enrollment Template'!D63)=\"Female\"),\"\",\"Sex must be M/F/Male/Female.\")))","v":""},null,null,{"$f":"IF('MARK Enrollment Template'!A63=\"\",\"\",IF(AND('MARK Enrollment Template'!A63<>\"\",'MARK Enrollment Template'!G63=\"\"),\"Please fill in Email Address.\",IF(IFERROR(FIND(\"@\",'MARK Enrollment Template'!G63),\"X\")=\"X\",\"Email Address must include an @ symbol.\",\"\")))","v":""},null,null,null,{"$f":"IF('MARK Enrollment Template'!A63=\"\",\"\",IF(AND('MARK Enrollment Template'!A63<>\"\",'MARK Enrollment Template'!K63=\"\"),\"Please fill in Zip Code.\",IF(LEN(SUBSTITUTE(TRIM('MARK Enrollment Template'!K63),CHAR(9),\"\"))<5,\"Zip <5 digits. If leading zero, add apostrophe (ex. '01234).\",\"\")))","v":""},null,null,{"$f":"CELL(\"format\",'MARK Enrollment Template'!C63)","v":"D4"}]
["",{"$f":"IF(AND(SUMPRODUCT(--('MARK Enrollment Template'!A64:L64<>\"\"))<>0,'MARK Enrollment Template'!A64=\"\"),\"Please fill in First Name.\",IF(LEN('MARK Enrollment Template'!A64)=1,\"Please fill in full first name.\",\"\"))","v":""},{"$f":"IF('MARK Enrollment Template'!A64=\"\",\"\",IF(AND('MARK Enrollment Template'!A64<>\"\",'MARK Enrollment Template'!B64=\"\"),\"Please fill in a Last Name.\",\"\"))","v":""},{"$f":"IF('MARK Enrollment Template'!A64=\"\",\"\",IF(AND('MARK Enrollment Template'!A64<>\"\",'MARK Enrollment Template'!C64=\"\"),\"Please fill in Date of Birth.\",IF(TRIM(O59)<>\"D4\",\"Please format DOB as a date in the form MM/DD/YYYY.\",IF('MARK Enrollment Template'!C64>TODAY(),\"Please check DOB.\",\"\"))))","v":""},{"$f":"IF('MARK Enrollment Template'!A64=\"\",\"\",IF(AND('MARK Enrollment Template'!A64<>\"\",'MARK Enrollment Template'!D64=\"\"),\"Please fill in Sex.\",IF(OR(TRIM('MARK Enrollment Template'!D64)=\"M\",TRIM('MARK Enrollment Template'!D64)=\"F\",TRIM('MARK Enrollment Template'!D64)=\"Male\",TRIM('MARK Enrollment Template'!D64)=\"Female\"),\"\",\"Sex must be M/F/Male/Female.\")))","v":""},null,null,{"$f":"IF('MARK Enrollment Template'!A64=\"\",\"\",IF(AND('MARK Enrollment Template'!A64<>\"\",'MARK Enrollment Template'!G64=\"\"),\"Please fill in Email Address.\",IF(IFERROR(FIND(\"@\",'MARK Enrollment Template'!G64),\"X\")=\"X\",\"Email Address must include an @ symbol.\",\"\")))","v":""},null,null,null,{"$f":"IF('MARK Enrollment Template'!A64=\"\",\"\",IF(AND('MARK Enrollment Template'!A64<>\"\",'MARK Enrollment Template'!K64=\"\"),\"Please fill in Zip Code.\",IF(LEN(SUBSTITUTE(TRIM('MARK Enrollment Template'!K64),CHAR(9),\"\"))<5,\"Zip <5 digits. If leading zero, add apostrophe (ex. '01234).\",\"\")))","v":""},null,null,{"$f":"CELL(\"format\",'MARK Enrollment Template'!C64)","v":"D4"}]
["",{"$f":"IF(AND(SUMPRODUCT(--('MARK Enrollment Template'!A65:L65<>\"\"))<>0,'MARK Enrollment Template'!A65=\"\"),\"Please fill in First Name.\",IF(LEN('MARK Enrollment Template'!A65)=1,\"Please fill in full first name.\",\"\"))","v":""},{"$f":"IF('MARK Enrollment Template'!A65=\"\",\"\",IF(AND('MARK Enrollment Template'!A65<>\"\",'MARK Enrollment Template'!B65=\"\"),\"Please fill in a Last Name.\",\"\"))","v":""},{"$f":"IF('MARK Enrollment Template'!A65=\"\",\"\",IF(AND('MARK Enrollment Template'!A65<>\"\",'MARK Enrollment Template'!C65=\"\"),\"Please fill in Date of Birth.\",IF(TRIM(O60)<>\"D4\",\"Please format DOB as a date in the form MM/DD/YYYY.\",IF('MARK Enrollment Template'!C65>TODAY(),\"Please check DOB.\",\"\"))))","v":""},{"$f":"IF('MARK Enrollment Template'!A65=\"\",\"\",IF(AND('MARK Enrollment Template'!A65<>\"\",'MARK Enrollment Template'!D65=\"\"),\"Please fill in Sex.\",IF(OR(TRIM('MARK Enrollment Template'!D65)=\"M\",TRIM('MARK Enrollment Template'!D65)=\"F\",TRIM('MARK Enrollment Template'!D65)=\"Male\",TRIM('MARK Enrollment Template'!D65)=\"Female\"),\"\",\"Sex must be M/F/Male/Female.\")))","v":""},null,null,{"$f":"IF('MARK Enrollment Template'!A65=\"\",\"\",IF(AND('MARK Enrollment Template'!A65<>\"\",'MARK Enrollment Template'!G65=\"\"),\"Please fill in Email Address.\",IF(IFERROR(FIND(\"@\",'MARK Enrollment Template'!G65),\"X\")=\"X\",\"Email Address must include an @ symbol.\",\"\")))","v":""},null,null,null,{"$f":"IF('MARK Enrollment Template'!A65=\"\",\"\",IF(AND('MARK Enrollment Template'!A65<>\"\",'MARK Enrollment Template'!K65=\"\"),\"Please fill in Zip Code.\",IF(LEN(SUBSTITUTE(TRIM('MARK Enrollment Template'!K65),CHAR(9),\"\"))<5,\"Zip <5 digits. If leading zero, add apostrophe (ex. '01234).\",\"\")))","v":""},null,null,{"$f":"CELL(\"format\",'MARK Enrollment Template'!C65)","v":"D4"}]
["",{"$f":"IF(AND(SUMPRODUCT(--('MARK Enrollment Template'!A66:L66<>\"\"))<>0,'MARK Enrollment Template'!A66=\"\"),\"Please fill in First Name.\",IF(LEN('MARK Enrollment Template'!A66)=1,\"Please fill in full first name.\",\"\"))","v":""},{"$f":"IF('MARK Enrollment Template'!A66=\"\",\"\",IF(AND('MARK Enrollment Template'!A66<>\"\",'MARK Enrollment Template'!B66=\"\"),\"Please fill in a Last Name.\",\"\"))","v":""},{"$f":"IF('MARK Enrollment Template'!A66=\"\",\"\",IF(AND('MARK Enrollment Template'!A66<>\"\",'MARK Enrollment Template'!C66=\"\"),\"Please fill in Date of Birth.\",IF(TRIM(O61)<>\"D4\",\"Please format DOB as a date in the form MM/DD/YYYY.\",IF('MARK Enrollment Template'!C66>TODAY(),\"Please check DOB.\",\"\"))))","v":""},{"$f":"IF('MARK Enrollment Template'!A66=\"\",\"\",IF(AND('MARK Enrollment Template'!A66<>\"\",'MARK Enrollment Template'!D66=\"\"),\"Please fill in Sex.\",IF(OR(TRIM('MARK Enrollment Template'!D66)=\"M\",TRIM('MARK Enrollment Template'!D66)=\"F\",TRIM('MARK Enrollment Template'!D66)=\"Male\",TRIM('MARK Enrollment Template'!D66)=\"Female\"),\"\",\"Sex must be M/F/Male/Female.\")))","v":""},null,null,{"$f":"IF('MARK Enrollment Template'!A66=\"\",\"\",IF(AND('MARK Enrollment Template'!A66<>\"\",'MARK Enrollment Template'!G66=\"\"),\"Please fill in Email Address.\",IF(IFERROR(FIND(\"@\",'MARK Enrollment Template'!G66),\"X\")=\"X\",\"Email Address must include an @ symbol.\",\"\")))","v":""},null,null,null,{"$f":"IF('MARK Enrollment Template'!A66=\"\",\"\",IF(AND('MARK Enrollment Template'!A66<>\"\",'MARK Enrollment Template'!K66=\"\"),\"Please fill in Zip Code.\",IF(LEN(SUBSTITUTE(TRIM('MARK Enrollment Template'!K66),CHAR(9),\"\"))<5,\"Zip <5 digits. If leading zero, add apostrophe (ex. '01234).\",\"\")))","v":""},null,null,{"$f":"CELL(\"format\",'MARK Enrollment Template'!C66)","v":"D4"}]
["",{"$f":"IF(AND(SUMPRODUCT(--('MARK Enrollment Template'!A67:L67<>\"\"))<>0,'MARK Enrollment Template'!A67=\"\"),\"Please fill in First Name.\",IF(LEN('MARK Enrollment Template'!A67)=1,\"Please fill in full first name.\",\"\"))","v":""},{"$f":"IF('MARK Enrollment Template'!A67=\"\",\"\",IF(AND('MARK Enrollment Template'!A67<>\"\",'MARK Enrollment Template'!B67=\"\"),\"Please fill in a Last Name.\",\"\"))","v":""},{"$f":"IF('MARK Enrollment Template'!A67=\"\",\"\",IF(AND('MARK Enrollment Template'!A67<>\"\",'MARK Enrollment Template'!C67=\"\"),\"Please fill in Date of Birth.\",IF(TRIM(O62)<>\"D4\",\"Please format DOB as a date in the form MM/DD/YYYY.\",IF('MARK Enrollment Template'!C67>TODAY(),\"Please check DOB.\",\"\"))))","v":""},{"$f":"IF('MARK Enrollment Template'!A67=\"\",\"\",IF(AND('MARK Enrollment Template'!A67<>\"\",'MARK Enrollment Template'!D67=\"\"),\"Please fill in Sex.\",IF(OR(TRIM('MARK Enrollment Template'!D67)=\"M\",TRIM('MARK Enrollment Template'!D67)=\"F\",TRIM('MARK Enrollment Template'!D67)=\"Male\",TRIM('MARK Enrollment Template'!D67)=\"Female\"),\"\",\"Sex must be M/F/Male/Female.\")))","v":""},null,null,{"$f":"IF('MARK Enrollment Template'!A67=\"\",\"\",IF(AND('MARK Enrollment Template'!A67<>\"\",'MARK Enrollment Template'!G67=\"\"),\"Please fill in Email Address.\",IF(IFERROR(FIND(\"@\",'MARK Enrollment Template'!G67),\"X\")=\"X\",\"Email Address must include an @ symbol.\",\"\")))","v":""},null,null,null,{"$f":"IF('MARK Enrollment Template'!A67=\"\",\"\",IF(AND('MARK Enrollment Template'!A67<>\"\",'MARK Enrollment Template'!K67=\"\"),\"Please fill in Zip Code.\",IF(LEN(SUBSTITUTE(TRIM('MARK Enrollment Template'!K67),CHAR(9),\"\"))<5,\"Zip <5 digits. If leading zero, add apostrophe (ex. '01234).\",\"\")))","v":""},null,null,{"$f":"CELL(\"format\",'MARK Enrollment Template'!C67)","v":"D4"}]
["",{"$f":"IF(AND(SUMPRODUCT(--('MARK Enrollment Template'!A68:L68<>\"\"))<>0,'MARK Enrollment Template'!A68=\"\"),\"Please fill in First Name.\",IF(LEN('MARK Enrollment Template'!A68)=1,\"Please fill in full first name.\",\"\"))","v":""},{"$f":"IF('MARK Enrollment Template'!A68=\"\",\"\",IF(AND('MARK Enrollment Template'!A68<>\"\",'MARK Enrollment Template'!B68=\"\"),\"Please fill in a Last Name.\",\"\"))","v":""},{"$f":"IF('MARK Enrollment Template'!A68=\"\",\"\",IF(AND('MARK Enrollment Template'!A68<>\"\",'MARK Enrollment Template'!C68=\"\"),\"Please fill in Date of Birth.\",IF(TRIM(O63)<>\"D4\",\"Please format DOB as a date in the form MM/DD/YYYY.\",IF('MARK Enrollment Template'!C68>TODAY(),\"Please check DOB.\",\"\"))))","v":""},{"$f":"IF('MARK Enrollment Template'!A68=\"\",\"\",IF(AND('MARK Enrollment Template'!A68<>\"\",'MARK Enrollment Template'!D68=\"\"),\"Please fill in Sex.\",IF(OR(TRIM('MARK Enrollment Template'!D68)=\"M\",TRIM('MARK Enrollment Template'!D68)=\"F\",TRIM('MARK Enrollment Template'!D68)=\"Male\",TRIM('MARK Enrollment Template'!D68)=\"Female\"),\"\",\"Sex must be M/F/Male/Female.\")))","v":""},null,null,{"$f":"IF('MARK Enrollment Template'!A68=\"\",\"\",IF(AND('MARK Enrollment Template'!A68<>\"\",'MARK Enrollment Template'!G68=\"\"),\"Please fill in Email Address.\",IF(IFERROR(FIND(\"@\",'MARK Enrollment Template'!G68),\"X\")=\"X\",\"Email Address must include an @ symbol.\",\"\")))","v":""},null,null,null,{"$f":"IF('MARK Enrollment Template'!A68=\"\",\"\",IF(AND('MARK Enrollment Template'!A68<>\"\",'MARK Enrollment Template'!K68=\"\"),\"Please fill in Zip Code.\",IF(LEN(SUBSTITUTE(TRIM('MARK Enrollment Template'!K68),CHAR(9),\"\"))<5,\"Zip <5 digits. If leading zero, add apostrophe (ex. '01234).\",\"\")))","v":""},null,null,{"$f":"CELL(\"format\",'MARK Enrollment Template'!C68)","v":"D4"}]
["",{"$f":"IF(AND(SUMPRODUCT(--('MARK Enrollment Template'!A69:L69<>\"\"))<>0,'MARK Enrollment Template'!A69=\"\"),\"Please fill in First Name.\",IF(LEN('MARK Enrollment Template'!A69)=1,\"Please fill in full first name.\",\"\"))","v":""},{"$f":"IF('MARK Enrollment Template'!A69=\"\",\"\",IF(AND('MARK Enrollment Template'!A69<>\"\",'MARK Enrollment Template'!B69=\"\"),\"Please fill in a Last Name.\",\"\"))","v":""},{"$f":"IF('MARK Enrollment Template'!A69=\"\",\"\",IF(AND('MARK Enrollment Template'!A69<>\"\",'MARK Enrollment Template'!C69=\"\"),\"Please fill in Date of Birth.\",IF(TRIM(O64)<>\"D4\",\"Please format DOB as a date in the form MM/DD/YYYY.\",IF('MARK Enrollment Template'!C69>TODAY(),\"Please check DOB.\",\"\"))))","v":""},{"$f":"IF('MARK Enrollment Template'!A69=\"\",\"\",IF(AND('MARK Enrollment Template'!A69<>\"\",'MARK Enrollment Template'!D69=\"\"),\"Please fill in Sex.\",IF(OR(TRIM('MARK Enrollment Template'!D69)=\"M\",TRIM('MARK Enrollment Template'!D69)=\"F\",TRIM('MARK Enrollment Template'!D69)=\"Male\",TRIM('MARK Enrollment Template'!D69)=\"Female\"),\"\",\"Sex must be M/F/Male/Female.\")))","v":""},null,null,{"$f":"IF('MARK Enrollment Template'!A69=\"\",\"\",IF(AND('MARK Enrollment Template'!A69<>\"\",'MARK Enrollment Template'!G69=\"\"),\"Please fill in Email Address.\",IF(IFERROR(FIND(\"@\",'MARK Enrollment Template'!G69),\"X\")=\"X\",\"Email Address must include an @ symbol.\",\"\")))","v":""},null,null,null,{"$f":"IF('MARK Enrollment Template'!A69=\"\",\"\",IF(AND('MARK Enrollment Template'!A69<>\"\",'MARK Enrollment Template'!K69=\"\"),\"Please fill in Zip Code.\",IF(LEN(SUBSTITUTE(TRIM('MARK Enrollment Template'!K69),CHAR(9),\"\"))<5,\"Zip <5 digits. If leading zero, add apostrophe (ex. '01234).\",\"\")))","v":""},null,null,{"$f":"CELL(\"format\",'MARK Enrollment Template'!C69)","v":"D4"}]
["",{"$f":"IF(AND(SUMPRODUCT(--('MARK Enrollment Template'!A70:L70<>\"\"))<>0,'MARK Enrollment Template'!A70=\"\"),\"Please fill in First Name.\",IF(LEN('MARK Enrollment Template'!A70)=1,\"Please fill in full first name.\",\"\"))","v":""},{"$f":"IF('MARK Enrollment Template'!A70=\"\",\"\",IF(AND('MARK Enrollment Template'!A70<>\"\",'MARK Enrollment Template'!B70=\"\"),\"Please fill in a Last Name.\",\"\"))","v":""},{"$f":"IF('MARK Enrollment Template'!A70=\"\",\"\",IF(AND('MARK Enrollment Template'!A70<>\"\",'MARK Enrollment Template'!C70=\"\"),\"Please fill in Date of Birth.\",IF(TRIM(O65)<>\"D4\",\"Please format DOB as a date in the form MM/DD/YYYY.\",IF('MARK Enrollment Template'!C70>TODAY(),\"Please check DOB.\",\"\"))))","v":""},{"$f":"IF('MARK Enrollment Template'!A70=\"\",\"\",IF(AND('MARK Enrollment Template'!A70<>\"\",'MARK Enrollment Template'!D70=\"\"),\"Please fill in Sex.\",IF(OR(TRIM('MARK Enrollment Template'!D70)=\"M\",TRIM('MARK Enrollment Template'!D70)=\"F\",TRIM('MARK Enrollment Template'!D70)=\"Male\",TRIM('MARK Enrollment Template'!D70)=\"Female\"),\"\",\"Sex must be M/F/Male/Female.\")))","v":""},null,null,{"$f":"IF('MARK Enrollment Template'!A70=\"\",\"\",IF(AND('MARK Enrollment Template'!A70<>\"\",'MARK Enrollment Template'!G70=\"\"),\"Please fill in Email Address.\",IF(IFERROR(FIND(\"@\",'MARK Enrollment Template'!G70),\"X\")=\"X\",\"Email Address must include an @ symbol.\",\"\")))","v":""},null,null,null,{"$f":"IF('MARK Enrollment Template'!A70=\"\",\"\",IF(AND('MARK Enrollment Template'!A70<>\"\",'MARK Enrollment Template'!K70=\"\"),\"Please fill in Zip Code.\",IF(LEN(SUBSTITUTE(TRIM('MARK Enrollment Template'!K70),CHAR(9),\"\"))<5,\"Zip <5 digits. If leading zero, add apostrophe (ex. '01234).\",\"\")))","v":""},null,null,{"$f":"CELL(\"format\",'MARK Enrollment Template'!C70)","v":"D4"}]
["",{"$f":"IF(AND(SUMPRODUCT(--('MARK Enrollment Template'!A71:L71<>\"\"))<>0,'MARK Enrollment Template'!A71=\"\"),\"Please fill in First Name.\",IF(LEN('MARK Enrollment Template'!A71)=1,\"Please fill in full first name.\",\"\"))","v":""},{"$f":"IF('MARK Enrollment Template'!A71=\"\",\"\",IF(AND('MARK Enrollment Template'!A71<>\"\",'MARK Enrollment Template'!B71=\"\"),\"Please fill in a Last Name.\",\"\"))","v":""},{"$f":"IF('MARK Enrollment Template'!A71=\"\",\"\",IF(AND('MARK Enrollment Template'!A71<>\"\",'MARK Enrollment Template'!C71=\"\"),\"Please fill in Date of Birth.\",IF(TRIM(O66)<>\"D4\",\"Please format DOB as a date in the form MM/DD/YYYY.\",IF('MARK Enrollment Template'!C71>TODAY(),\"Please check DOB.\",\"\"))))","v":""},{"$f":"IF('MARK Enrollment Template'!A71=\"\",\"\",IF(AND('MARK Enrollment Template'!A71<>\"\",'MARK Enrollment Template'!D71=\"\"),\"Please fill in Sex.\",IF(OR(TRIM('MARK Enrollment Template'!D71)=\"M\",TRIM('MARK Enrollment Template'!D71)=\"F\",TRIM('MARK Enrollment Template'!D71)=\"Male\",TRIM('MARK Enrollment Template'!D71)=\"Female\"),\"\",\"Sex must be M/F/Male/Female.\")))","v":""},null,null,{"$f":"IF('MARK Enrollment Template'!A71=\"\",\"\",IF(AND('MARK Enrollment Template'!A71<>\"\",'MARK Enrollment Template'!G71=\"\"),\"Please fill in Email Address.\",IF(IFERROR(FIND(\"@\",'MARK Enrollment Template'!G71),\"X\")=\"X\",\"Email Address must include an @ symbol.\",\"\")))","v":""},null,null,null,{"$f":"IF('MARK Enrollment Template'!A71=\"\",\"\",IF(AND('MARK Enrollment Template'!A71<>\"\",'MARK Enrollment Template'!K71=\"\"),\"Please fill in Zip Code.\",IF(LEN(SUBSTITUTE(TRIM('MARK Enrollment Template'!K71),CHAR(9),\"\"))<5,\"Zip <5 digits. If leading zero, add apostrophe (ex. '01234).\",\"\")))","v":""},null,null,{"$f":"CELL(\"format\",'MARK Enrollment Template'!C71)","v":"D4"}]
["",{"$f":"IF(AND(SUMPRODUCT(--('MARK Enrollment Template'!A72:L72<>\"\"))<>0,'MARK Enrollment Template'!A72=\"\"),\"Please fill in First Name.\",IF(LEN('MARK Enrollment Template'!A72)=1,\"Please fill in full first name.\",\"\"))","v":""},{"$f":"IF('MARK Enrollment Template'!A72=\"\",\"\",IF(AND('MARK Enrollment Template'!A72<>\"\",'MARK Enrollment Template'!B72=\"\"),\"Please fill in a Last Name.\",\"\"))","v":""},{"$f":"IF('MARK Enrollment Template'!A72=\"\",\"\",IF(AND('MARK Enrollment Template'!A72<>\"\",'MARK Enrollment Template'!C72=\"\"),\"Please fill in Date of Birth.\",IF(TRIM(O67)<>\"D4\",\"Please format DOB as a date in the form MM/DD/YYYY.\",IF('MARK Enrollment Template'!C72>TODAY(),\"Please check DOB.\",\"\"))))","v":""},{"$f":"IF('MARK Enrollment Template'!A72=\"\",\"\",IF(AND('MARK Enrollment Template'!A72<>\"\",'MARK Enrollment Template'!D72=\"\"),\"Please fill in Sex.\",IF(OR(TRIM('MARK Enrollment Template'!D72)=\"M\",TRIM('MARK Enrollment Template'!D72)=\"F\",TRIM('MARK Enrollment Template'!D72)=\"Male\",TRIM('MARK Enrollment Template'!D72)=\"Female\"),\"\",\"Sex must be M/F/Male/Female.\")))","v":""},null,null,{"$f":"IF('MARK Enrollment Template'!A72=\"\",\"\",IF(AND('MARK Enrollment Template'!A72<>\"\",'MARK Enrollment Template'!G72=\"\"),\"Please fill in Email Address.\",IF(IFERROR(FIND(\"@\",'MARK Enrollment Template'!G72),\"X\")=\"X\",\"Email Address must include an @ symbol.\",\"\")))","v":""},null,null,null,{"$f":"IF('MARK Enrollment Template'!A72=\"\",\"\",IF(AND('MARK Enrollment Template'!A72<>\"\",'MARK Enrollment Template'!K72=\"\"),\"Please fill in Zip Code.\",IF(LEN(SUBSTITUTE(TRIM('MARK Enrollment Template'!K72),CHAR(9),\"\"))<5,\"Zip <5 digits. If leading zero, add apostrophe (ex. '01234).\",\"\")))","v":""},null,null,{"$f":"CELL(\"format\",'MARK Enrollment Template'!C72)","v":"D4"}]
["",{"$f":"IF(AND(SUMPRODUCT(--('MARK Enrollment Template'!A73:L73<>\"\"))<>0,'MARK Enrollment Template'!A73=\"\"),\"Please fill in First Name.\",IF(LEN('MARK Enrollment Template'!A73)=1,\"Please fill in full first name.\",\"\"))","v":""},{"$f":"IF('MARK Enrollment Template'!A73=\"\",\"\",IF(AND('MARK Enrollment Template'!A73<>\"\",'MARK Enrollment Template'!B73=\"\"),\"Please fill in a Last Name.\",\"\"))","v":""},{"$f":"IF('MARK Enrollment Template'!A73=\"\",\"\",IF(AND('MARK Enrollment Template'!A73<>\"\",'MARK Enrollment Template'!C73=\"\"),\"Please fill in Date of Birth.\",IF(TRIM(O68)<>\"D4\",\"Please format DOB as a date in the form MM/DD/YYYY.\",IF('MARK Enrollment Template'!C73>TODAY(),\"Please check DOB.\",\"\"))))","v":""},{"$f":"IF('MARK Enrollment Template'!A73=\"\",\"\",IF(AND('MARK Enrollment Template'!A73<>\"\",'MARK Enrollment Template'!D73=\"\"),\"Please fill in Sex.\",IF(OR(TRIM('MARK Enrollment Template'!D73)=\"M\",TRIM('MARK Enrollment Template'!D73)=\"F\",TRIM('MARK Enrollment Template'!D73)=\"Male\",TRIM('MARK Enrollment Template'!D73)=\"Female\"),\"\",\"Sex must be M/F/Male/Female.\")))","v":""},null,null,{"$f":"IF('MARK Enrollment Template'!A73=\"\",\"\",IF(AND('MARK Enrollment Template'!A73<>\"\",'MARK Enrollment Template'!G73=\"\"),\"Please fill in Email Address.\",IF(IFERROR(FIND(\"@\",'MARK Enrollment Template'!G73),\"X\")=\"X\",\"Email Address must include an @ symbol.\",\"\")))","v":""},null,null,null,{"$f":"IF('MARK Enrollment Template'!A73=\"\",\"\",IF(AND('MARK Enrollment Template'!A73<>\"\",'MARK Enrollment Template'!K73=\"\"),\"Please fill in Zip Code.\",IF(LEN(SUBSTITUTE(TRIM('MARK Enrollment Template'!K73),CHAR(9),\"\"))<5,\"Zip <5 digits. If leading zero, add apostrophe (ex. '01234).\",\"\")))","v":""},null,null,{"$f":"CELL(\"format\",'MARK Enrollment Template'!C73)","v":"D4"}]
["",{"$f":"IF(AND(SUMPRODUCT(--('MARK Enrollment Template'!A74:L74<>\"\"))<>0,'MARK Enrollment Template'!A74=\"\"),\"Please fill in First Name.\",IF(LEN('MARK Enrollment Template'!A74)=1,\"Please fill in full first name.\",\"\"))","v":""},{"$f":"IF('MARK Enrollment Template'!A74=\"\",\"\",IF(AND('MARK Enrollment Template'!A74<>\"\",'MARK Enrollment Template'!B74=\"\"),\"Please fill in a Last Name.\",\"\"))","v":""},{"$f":"IF('MARK Enrollment Template'!A74=\"\",\"\",IF(AND('MARK Enrollment Template'!A74<>\"\",'MARK Enrollment Template'!C74=\"\"),\"Please fill in Date of Birth.\",IF(TRIM(O69)<>\"D4\",\"Please format DOB as a date in the form MM/DD/YYYY.\",IF('MARK Enrollment Template'!C74>TODAY(),\"Please check DOB.\",\"\"))))","v":""},{"$f":"IF('MARK Enrollment Template'!A74=\"\",\"\",IF(AND('MARK Enrollment Template'!A74<>\"\",'MARK Enrollment Template'!D74=\"\"),\"Please fill in Sex.\",IF(OR(TRIM('MARK Enrollment Template'!D74)=\"M\",TRIM('MARK Enrollment Template'!D74)=\"F\",TRIM('MARK Enrollment Template'!D74)=\"Male\",TRIM('MARK Enrollment Template'!D74)=\"Female\"),\"\",\"Sex must be M/F/Male/Female.\")))","v":""},null,null,{"$f":"IF('MARK Enrollment Template'!A74=\"\",\"\",IF(AND('MARK Enrollment Template'!A74<>\"\",'MARK Enrollment Template'!G74=\"\"),\"Please fill in Email Address.\",IF(IFERROR(FIND(\"@\",'MARK Enrollment Template'!G74),\"X\")=\"X\",\"Email Address must include an @ symbol.\",\"\")))","v":""},null,null,null,{"$f":"IF('MARK Enrollment Template'!A74=\"\",\"\",IF(AND('MARK Enrollment Template'!A74<>\"\",'MARK Enrollment Template'!K74=\"\"),\"Please fill in Zip Code.\",IF(LEN(SUBSTITUTE(TRIM('MARK Enrollment Template'!K74),CHAR(9),\"\"))<5,\"Zip <5 digits. If leading zero, add apostrophe (ex. '01234).\",\"\")))","v":""},null,null,{"$f":"CELL(\"format\",'MARK Enrollment Template'!C74)","v":"D4"}]
["",{"$f":"IF(AND(SUMPRODUCT(--('MARK Enrollment Template'!A75:L75<>\"\"))<>0,'MARK Enrollment Template'!A75=\"\"),\"Please fill in First Name.\",IF(LEN('MARK Enrollment Template'!A75)=1,\"Please fill in full first name.\",\"\"))","v":""},{"$f":"IF('MARK Enrollment Template'!A75=\"\",\"\",IF(AND('MARK Enrollment Template'!A75<>\"\",'MARK Enrollment Template'!B75=\"\"),\"Please fill in a Last Name.\",\"\"))","v":""},{"$f":"IF('MARK Enrollment Template'!A75=\"\",\"\",IF(AND('MARK Enrollment Template'!A75<>\"\",'MARK Enrollment Template'!C75=\"\"),\"Please fill in Date of Birth.\",IF(TRIM(O70)<>\"D4\",\"Please format DOB as a date in the form MM/DD/YYYY.\",IF('MARK Enrollment Template'!C75>TODAY(),\"Please check DOB.\",\"\"))))","v":""},{"$f":"IF('MARK Enrollment Template'!A75=\"\",\"\",IF(AND('MARK Enrollment Template'!A75<>\"\",'MARK Enrollment Template'!D75=\"\"),\"Please fill in Sex.\",IF(OR(TRIM('MARK Enrollment Template'!D75)=\"M\",TRIM('MARK Enrollment Template'!D75)=\"F\",TRIM('MARK Enrollment Template'!D75)=\"Male\",TRIM('MARK Enrollment Template'!D75)=\"Female\"),\"\",\"Sex must be M/F/Male/Female.\")))","v":""},null,null,{"$f":"IF('MARK Enrollment Template'!A75=\"\",\"\",IF(AND('MARK Enrollment Template'!A75<>\"\",'MARK Enrollment Template'!G75=\"\"),\"Please fill in Email Address.\",IF(IFERROR(FIND(\"@\",'MARK Enrollment Template'!G75),\"X\")=\"X\",\"Email Address must include an @ symbol.\",\"\")))","v":""},null,null,null,{"$f":"IF('MARK Enrollment Template'!A75=\"\",\"\",IF(AND('MARK Enrollment Template'!A75<>\"\",'MARK Enrollment Template'!K75=\"\"),\"Please fill in Zip Code.\",IF(LEN(SUBSTITUTE(TRIM('MARK Enrollment Template'!K75),CHAR(9),\"\"))<5,\"Zip <5 digits. If leading zero, add apostrophe (ex. '01234).\",\"\")))","v":""},null,null,{"$f":"CELL(\"format\",'MARK Enrollment Template'!C75)","v":"D4"}]
["",{"$f":"IF(AND(SUMPRODUCT(--('MARK Enrollment Template'!A76:L76<>\"\"))<>0,'MARK Enrollment Template'!A76=\"\"),\"Please fill in First Name.\",IF(LEN('MARK Enrollment Template'!A76)=1,\"Please fill in full first name.\",\"\"))","v":""},{"$f":"IF('MARK Enrollment Template'!A76=\"\",\"\",IF(AND('MARK Enrollment Template'!A76<>\"\",'MARK Enrollment Template'!B76=\"\"),\"Please fill in a Last Name.\",\"\"))","v":""},{"$f":"IF('MARK Enrollment Template'!A76=\"\",\"\",IF(AND('MARK Enrollment Template'!A76<>\"\",'MARK Enrollment Template'!C76=\"\"),\"Please fill in Date of Birth.\",IF(TRIM(O71)<>\"D4\",\"Please format DOB as a date in the form MM/DD/YYYY.\",IF('MARK Enrollment Template'!C76>TODAY(),\"Please check DOB.\",\"\"))))","v":""},{"$f":"IF('MARK Enrollment Template'!A76=\"\",\"\",IF(AND('MARK Enrollment Template'!A76<>\"\",'MARK Enrollment Template'!D76=\"\"),\"Please fill in Sex.\",IF(OR(TRIM('MARK Enrollment Template'!D76)=\"M\",TRIM('MARK Enrollment Template'!D76)=\"F\",TRIM('MARK Enrollment Template'!D76)=\"Male\",TRIM('MARK Enrollment Template'!D76)=\"Female\"),\"\",\"Sex must be M/F/Male/Female.\")))","v":""},null,null,{"$f":"IF('MARK Enrollment Template'!A76=\"\",\"\",IF(AND('MARK Enrollment Template'!A76<>\"\",'MARK Enrollment Template'!G76=\"\"),\"Please fill in Email Address.\",IF(IFERROR(FIND(\"@\",'MARK Enrollment Template'!G76),\"X\")=\"X\",\"Email Address must include an @ symbol.\",\"\")))","v":""},null,null,null,{"$f":"IF('MARK Enrollment Template'!A76=\"\",\"\",IF(AND('MARK Enrollment Template'!A76<>\"\",'MARK Enrollment Template'!K76=\"\"),\"Please fill in Zip Code.\",IF(LEN(SUBSTITUTE(TRIM('MARK Enrollment Template'!K76),CHAR(9),\"\"))<5,\"Zip <5 digits. If leading zero, add apostrophe (ex. '01234).\",\"\")))","v":""},null,null,{"$f":"CELL(\"format\",'MARK Enrollment Template'!C76)","v":"D4"}]
["",{"$f":"IF(AND(SUMPRODUCT(--('MARK Enrollment Template'!A77:L77<>\"\"))<>0,'MARK Enrollment Template'!A77=\"\"),\"Please fill in First Name.\",IF(LEN('MARK Enrollment Template'!A77)=1,\"Please fill in full first name.\",\"\"))","v":""},{"$f":"IF('MARK Enrollment Template'!A77=\"\",\"\",IF(AND('MARK Enrollment Template'!A77<>\"\",'MARK Enrollment Template'!B77=\"\"),\"Please fill in a Last Name.\",\"\"))","v":""},{"$f":"IF('MARK Enrollment Template'!A77=\"\",\"\",IF(AND('MARK Enrollment Template'!A77<>\"\",'MARK Enrollment Template'!C77=\"\"),\"Please fill in Date of Birth.\",IF(TRIM(O72)<>\"D4\",\"Please format DOB as a date in the form MM/DD/YYYY.\",IF('MARK Enrollment Template'!C77>TODAY(),\"Please check DOB.\",\"\"))))","v":""},{"$f":"IF('MARK Enrollment Template'!A77=\"\",\"\",IF(AND('MARK Enrollment Template'!A77<>\"\",'MARK Enrollment Template'!D77=\"\"),\"Please fill in Sex.\",IF(OR(TRIM('MARK Enrollment Template'!D77)=\"M\",TRIM('MARK Enrollment Template'!D77)=\"F\",TRIM('MARK Enrollment Template'!D77)=\"Male\",TRIM('MARK Enrollment Template'!D77)=\"Female\"),\"\",\"Sex must be M/F/Male/Female.\")))","v":""},null,null,{"$f":"IF('MARK Enrollment Template'!A77=\"\",\"\",IF(AND('MARK Enrollment Template'!A77<>\"\",'MARK Enrollment Template'!G77=\"\"),\"Please fill in Email Address.\",IF(IFERROR(FIND(\"@\",'MARK Enrollment Template'!G77),\"X\")=\"X\",\"Email Address must include an @ symbol.\",\"\")))","v":""},null,null,null,{"$f":"IF('MARK Enrollment Template'!A77=\"\",\"\",IF(AND('MARK Enrollment Template'!A77<>\"\",'MARK Enrollment Template'!K77=\"\"),\"Please fill in Zip Code.\",IF(LEN(SUBSTITUTE(TRIM('MARK Enrollment Template'!K77),CHAR(9),\"\"))<5,\"Zip <5 digits. If leading zero, add apostrophe (ex. '01234).\",\"\")))","v":""},null,null,{"$f":"CELL(\"format\",'MARK Enrollment Template'!C77)","v":"D4"}]
[{"$f":"IF(B73<>\"\",B73,IF(C73<>\"\",C73,IF(D73<>\"\",D73,IF(E73<>\"\",E73,IF(F73<>\"\",F73,IF(G73<>\"\",G73,IF(H73<>\"\",H73,IF(I73<>\"\",I73,IF(J73<>\"\",J73,IF(K73<>\"\",K73,L73))))))))))","v":""},{"$f":"IF(AND(SUMPRODUCT(--('MARK Enrollment Template'!A78:L78<>\"\"))<>0,'MARK Enrollment Template'!A78=\"\"),\"Please fill in First Name.\",IF(LEN('MARK Enrollment Template'!A78)=1,\"Please fill in full first name.\",\"\"))","v":""},{"$f":"IF('MARK Enrollment Template'!A78=\"\",\"\",IF(AND('MARK Enrollment Template'!A78<>\"\",'MARK Enrollment Template'!B78=\"\"),\"Please fill in a Last Name.\",\"\"))","v":""},{"$f":"IF('MARK Enrollment Template'!A78=\"\",\"\",IF(AND('MARK Enrollment Template'!A78<>\"\",'MARK Enrollment Template'!C78=\"\"),\"Please fill in Date of Birth.\",IF(TRIM(O73)<>\"D4\",\"Please format DOB as a date in the form MM/DD/YYYY.\",IF('MARK Enrollment Template'!C78>TODAY(),\"Please check DOB.\",\"\"))))","v":""},{"$f":"IF('MARK Enrollment Template'!A78=\"\",\"\",IF(AND('MARK Enrollment Template'!A78<>\"\",'MARK Enrollment Template'!D78=\"\"),\"Please fill in Sex.\",IF(OR(TRIM('MARK Enrollment Template'!D78)=\"M\",TRIM('MARK Enrollment Template'!D78)=\"F\",TRIM('MARK Enrollment Template'!D78)=\"Male\",TRIM('MARK Enrollment Template'!D78)=\"Female\"),\"\",\"Sex must be M/F/Male/Female.\")))","v":""},null,null,{"$f":"IF('MARK Enrollment Template'!A78=\"\",\"\",IF(AND('MARK Enrollment Template'!A78<>\"\",'MARK Enrollment Template'!G78=\"\"),\"Please fill in Email Address.\",IF(IFERROR(FIND(\"@\",'MARK Enrollment Template'!G78),\"X\")=\"X\",\"Email Address must include an @ symbol.\",\"\")))","v":""},null,null,null,{"$f":"IF('MARK Enrollment Template'!A78=\"\",\"\",IF(AND('MARK Enrollment Template'!A78<>\"\",'MARK Enrollment Template'!K78=\"\"),\"Please fill in Zip Code.\",IF(LEN(SUBSTITUTE(TRIM('MARK Enrollment Template'!K78),CHAR(9),\"\"))<5,\"Zip <5 digits. If leading zero, add apostrophe (ex. '01234).\",\"\")))","v":""},null,null,{"$f":"CELL(\"format\",'MARK Enrollment Template'!C78)","v":"D4"}]
["",{"$f":"IF(AND(SUMPRODUCT(--('MARK Enrollment Template'!A79:L79<>\"\"))<>0,'MARK Enrollment Template'!A79=\"\"),\"Please fill in First Name.\",IF(LEN('MARK Enrollment Template'!A79)=1,\"Please fill in full first name.\",\"\"))","v":""},{"$f":"IF('MARK Enrollment Template'!A79=\"\",\"\",IF(AND('MARK Enrollment Template'!A79<>\"\",'MARK Enrollment Template'!B79=\"\"),\"Please fill in a Last Name.\",\"\"))","v":""},{"$f":"IF('MARK Enrollment Template'!A79=\"\",\"\",IF(AND('MARK Enrollment Template'!A79<>\"\",'MARK Enrollment Template'!C79=\"\"),\"Please fill in Date of Birth.\",IF(TRIM(O74)<>\"D4\",\"Please format DOB as a date in the form MM/DD/YYYY.\",IF('MARK Enrollment Template'!C79>TODAY(),\"Please check DOB.\",\"\"))))","v":""},{"$f":"IF('MARK Enrollment Template'!A79=\"\",\"\",IF(AND('MARK Enrollment Template'!A79<>\"\",'MARK Enrollment Template'!D79=\"\"),\"Please fill in Sex.\",IF(OR(TRIM('MARK Enrollment Template'!D79)=\"M\",TRIM('MARK Enrollment Template'!D79)=\"F\",TRIM('MARK Enrollment Template'!D79)=\"Male\",TRIM('MARK Enrollment Template'!D79)=\"Female\"),\"\",\"Sex must be M/F/Male/Female.\")))","v":""},null,null,{"$f":"IF('MARK Enrollment Template'!A79=\"\",\"\",IF(AND('MARK Enrollment Template'!A79<>\"\",'MARK Enrollment Template'!G79=\"\"),\"Please fill in Email Address.\",IF(IFERROR(FIND(\"@\",'MARK Enrollment Template'!G79),\"X\")=\"X\",\"Email Address must include an @ symbol.\",\"\")))","v":""},null,null,null,{"$f":"IF('MARK Enrollment Template'!A79=\"\",\"\",IF(AND('MARK Enrollment Template'!A79<>\"\",'MARK Enrollment Template'!K79=\"\"),\"Please fill in Zip Code.\",IF(LEN(SUBSTITUTE(TRIM('MARK Enrollment Template'!K79),CHAR(9),\"\"))<5,\"Zip <5 digits. If leading zero, add apostrophe (ex. '01234).\",\"\")))","v":""},null,null,{"$f":"CELL(\"format\",'MARK Enrollment Template'!C79)","v":"D4"}]
["",{"$f":"IF(AND(SUMPRODUCT(--('MARK Enrollment Template'!A80:L80<>\"\"))<>0,'MARK Enrollment Template'!A80=\"\"),\"Please fill in First Name.\",IF(LEN('MARK Enrollment Template'!A80)=1,\"Please fill in full first name.\",\"\"))","v":""},{"$f":"IF('MARK Enrollment Template'!A80=\"\",\"\",IF(AND('MARK Enrollment Template'!A80<>\"\",'MARK Enrollment Template'!B80=\"\"),\"Please fill in a Last Name.\",\"\"))","v":""},{"$f":"IF('MARK Enrollment Template'!A80=\"\",\"\",IF(AND('MARK Enrollment Template'!A80<>\"\",'MARK Enrollment Template'!C80=\"\"),\"Please fill in Date of Birth.\",IF(TRIM(O75)<>\"D4\",\"Please format DOB as a date in the form MM/DD/YYYY.\",IF('MARK Enrollment Template'!C80>TODAY(),\"Please check DOB.\",\"\"))))","v":""},{"$f":"IF('MARK Enrollment Template'!A80=\"\",\"\",IF(AND('MARK Enrollment Template'!A80<>\"\",'MARK Enrollment Template'!D80=\"\"),\"Please fill in Sex.\",IF(OR(TRIM('MARK Enrollment Template'!D80)=\"M\",TRIM('MARK Enrollment Template'!D80)=\"F\",TRIM('MARK Enrollment Template'!D80)=\"Male\",TRIM('MARK Enrollment Template'!D80)=\"Female\"),\"\",\"Sex must be M/F/Male/Female.\")))","v":""},null,null,{"$f":"IF('MARK Enrollment Template'!A80=\"\",\"\",IF(AND('MARK Enrollment Template'!A80<>\"\",'MARK Enrollment Template'!G80=\"\"),\"Please fill in Email Address.\",IF(IFERROR(FIND(\"@\",'MARK Enrollment Template'!G80),\"X\")=\"X\",\"Email Address must include an @ symbol.\",\"\")))","v":""},null,null,null,{"$f":"IF('MARK Enrollment Template'!A80=\"\",\"\",IF(AND('MARK Enrollment Template'!A80<>\"\",'MARK Enrollment Template'!K80=\"\"),\"Please fill in Zip Code.\",IF(LEN(SUBSTITUTE(TRIM('MARK Enrollment Template'!K80),CHAR(9),\"\"))<5,\"Zip <5 digits. If leading zero, add apostrophe (ex. '01234).\",\"\")))","v":""},null,null,{"$f":"CELL(\"format\",'MARK Enrollment Template'!C80)","v":"D4"}]
["",{"$f":"IF(AND(SUMPRODUCT(--('MARK Enrollment Template'!A81:L81<>\"\"))<>0,'MARK Enrollment Template'!A81=\"\"),\"Please fill in First Name.\",IF(LEN('MARK Enrollment Template'!A81)=1,\"Please fill in full first name.\",\"\"))","v":""},{"$f":"IF('MARK Enrollment Template'!A81=\"\",\"\",IF(AND('MARK Enrollment Template'!A81<>\"\",'MARK Enrollment Template'!B81=\"\"),\"Please fill in a Last Name.\",\"\"))","v":""},{"$f":"IF('MARK Enrollment Template'!A81=\"\",\"\",IF(AND('MARK Enrollment Template'!A81<>\"\",'MARK Enrollment Template'!C81=\"\"),\"Please fill in Date of Birth.\",IF(TRIM(O76)<>\"D4\",\"Please format DOB as a date in the form MM/DD/YYYY.\",IF('MARK Enrollment Template'!C81>TODAY(),\"Please check DOB.\",\"\"))))","v":""},{"$f":"IF('MARK Enrollment Template'!A81=\"\",\"\",IF(AND('MARK Enrollment Template'!A81<>\"\",'MARK Enrollment Template'!D81=\"\"),\"Please fill in Sex.\",IF(OR(TRIM('MARK Enrollment Template'!D81)=\"M\",TRIM('MARK Enrollment Template'!D81)=\"F\",TRIM('MARK Enrollment Template'!D81)=\"Male\",TRIM('MARK Enrollment Template'!D81)=\"Female\"),\"\",\"Sex must be M/F/Male/Female.\")))","v":""},null,null,{"$f":"IF('MARK Enrollment Template'!A81=\"\",\"\",IF(AND('MARK Enrollment Template'!A81<>\"\",'MARK Enrollment Template'!G81=\"\"),\"Please fill in Email Address.\",IF(IFERROR(FIND(\"@\",'MARK Enrollment Template'!G81),\"X\")=\"X\",\"Email Address must include an @ symbol.\",\"\")))","v":""},null,null,null,{"$f":"IF('MARK Enrollment Template'!A81=\"\",\"\",IF(AND('MARK Enrollment Template'!A81<>\"\",'MARK Enrollment Template'!K81=\"\"),\"Please fill in Zip Code.\",IF(LEN(SUBSTITUTE(TRIM('MARK Enrollment Template'!K81),CHAR(9),\"\"))<5,\"Zip <5 digits. If leading zero, add apostrophe (ex. '01234).\",\"\")))","v":""},null,null,{"$f":"CELL(\"format\",'MARK Enrollment Template'!C81)","v":"D4"}]
["",{"$f":"IF(AND(SUMPRODUCT(--('MARK Enrollment Template'!A82:L82<>\"\"))<>0,'MARK Enrollment Template'!A82=\"\"),\"Please fill in First Name.\",IF(LEN('MARK Enrollment Template'!A82)=1,\"Please fill in full first name.\",\"\"))","v":""},{"$f":"IF('MARK Enrollment Template'!A82=\"\",\"\",IF(AND('MARK Enrollment Template'!A82<>\"\",'MARK Enrollment Template'!B82=\"\"),\"Please fill in a Last Name.\",\"\"))","v":""},{"$f":"IF('MARK Enrollment Template'!A82=\"\",\"\",IF(AND('MARK Enrollment Template'!A82<>\"\",'MARK Enrollment Template'!C82=\"\"),\"Please fill in Date of Birth.\",IF(TRIM(O77)<>\"D4\",\"Please format DOB as a date in the form MM/DD/YYYY.\",IF('MARK Enrollment Template'!C82>TODAY(),\"Please check DOB.\",\"\"))))","v":""},{"$f":"IF('MARK Enrollment Template'!A82=\"\",\"\",IF(AND('MARK Enrollment Template'!A82<>\"\",'MARK Enrollment Template'!D82=\"\"),\"Please fill in Sex.\",IF(OR(TRIM('MARK Enrollment Template'!D82)=\"M\",TRIM('MARK Enrollment Template'!D82)=\"F\",TRIM('MARK Enrollment Template'!D82)=\"Male\",TRIM('MARK Enrollment Template'!D82)=\"Female\"),\"\",\"Sex must be M/F/Male/Female.\")))","v":""},null,null,{"$f":"IF('MARK Enrollment Template'!A82=\"\",\"\",IF(AND('MARK Enrollment Template'!A82<>\"\",'MARK Enrollment Template'!G82=\"\"),\"Please fill in Email Address.\",IF(IFERROR(FIND(\"@\",'MARK Enrollment Template'!G82),\"X\")=\"X\",\"Email Address must include an @ symbol.\",\"\")))","v":""},null,null,null,{"$f":"IF('MARK Enrollment Template'!A82=\"\",\"\",IF(AND('MARK Enrollment Template'!A82<>\"\",'MARK Enrollment Template'!K82=\"\"),\"Please fill in Zip Code.\",IF(LEN(SUBSTITUTE(TRIM('MARK Enrollment Template'!K82),CHAR(9),\"\"))<5,\"Zip <5 digits. If leading zero, add apostrophe (ex. '01234).\",\"\")))","v":""},null,null,{"$f":"CELL(\"format\",'MARK Enrollment Template'!C82)","v":"D4"}]
["",{"$f":"IF(AND(SUMPRODUCT(--('MARK Enrollment Template'!A83:L83<>\"\"))<>0,'MARK Enrollment Template'!A83=\"\"),\"Please fill in First Name.\",IF(LEN('MARK Enrollment Template'!A83)=1,\"Please fill in full first name.\",\"\"))","v":""},{"$f":"IF('MARK Enrollment Template'!A83=\"\",\"\",IF(AND('MARK Enrollment Template'!A83<>\"\",'MARK Enrollment Template'!B83=\"\"),\"Please fill in a Last Name.\",\"\"))","v":""},{"$f":"IF('MARK Enrollment Template'!A83=\"\",\"\",IF(AND('MARK Enrollment Template'!A83<>\"\",'MARK Enrollment Template'!C83=\"\"),\"Please fill in Date of Birth.\",IF(TRIM(O78)<>\"D4\",\"Please format DOB as a date in the form MM/DD/YYYY.\",IF('MARK Enrollment Template'!C83>TODAY(),\"Please check DOB.\",\"\"))))","v":""},{"$f":"IF('MARK Enrollment Template'!A83=\"\",\"\",IF(AND('MARK Enrollment Template'!A83<>\"\",'MARK Enrollment Template'!D83=\"\"),\"Please fill in Sex.\",IF(OR(TRIM('MARK Enrollment Template'!D83)=\"M\",TRIM('MARK Enrollment Template'!D83)=\"F\",TRIM('MARK Enrollment Template'!D83)=\"Male\",TRIM('MARK Enrollment Template'!D83)=\"Female\"),\"\",\"Sex must be M/F/Male/Female.\")))","v":""},null,null,{"$f":"IF('MARK Enrollment Template'!A83=\"\",\"\",IF(AND('MARK Enrollment Template'!A83<>\"\",'MARK Enrollment Template'!G83=\"\"),\"Please fill in Email Address.\",IF(IFERROR(FIND(\"@\",'MARK Enrollment Template'!G83),\"X\")=\"X\",\"Email Address must include an @ symbol.\",\"\")))","v":""},null,null,null,{"$f":"IF('MARK Enrollment Template'!A83=\"\",\"\",IF(AND('MARK Enrollment Template'!A83<>\"\",'MARK Enrollment Template'!K83=\"\"),\"Please fill in Zip Code.\",IF(LEN(SUBSTITUTE(TRIM('MARK Enrollment Template'!K83),CHAR(9),\"\"))<5,\"Zip <5 digits. If leading zero, add apostrophe (ex. '01234).\",\"\")))","v":""},null,null,{"$f":"CELL(\"format\",'MARK Enrollment Template'!C83)","v":"D4"}]
["",{"$f":"IF(AND(SUMPRODUCT(--('MARK Enrollment Template'!A84:L84<>\"\"))<>0,'MARK Enrollment Template'!A84=\"\"),\"Please fill in First Name.\",IF(LEN('MARK Enrollment Template'!A84)=1,\"Please fill in full first name.\",\"\"))","v":""},{"$f":"IF('MARK Enrollment Template'!A84=\"\",\"\",IF(AND('MARK Enrollment Template'!A84<>\"\",'MARK Enrollment Template'!B84=\"\"),\"Please fill in a Last Name.\",\"\"))","v":""},{"$f":"IF('MARK Enrollment Template'!A84=\"\",\"\",IF(AND('MARK Enrollment Template'!A84<>\"\",'MARK Enrollment Template'!C84=\"\"),\"Please fill in Date of Birth.\",IF(TRIM(O79)<>\"D4\",\"Please format DOB as a date in the form MM/DD/YYYY.\",IF('MARK Enrollment Template'!C84>TODAY(),\"Please check DOB.\",\"\"))))","v":""},{"$f":"IF('MARK Enrollment Template'!A84=\"\",\"\",IF(AND('MARK Enrollment Template'!A84<>\"\",'MARK Enrollment Template'!D84=\"\"),\"Please fill in Sex.\",IF(OR(TRIM('MARK Enrollment Template'!D84)=\"M\",TRIM('MARK Enrollment Template'!D84)=\"F\",TRIM('MARK Enrollment Template'!D84)=\"Male\",TRIM('MARK Enrollment Template'!D84)=\"Female\"),\"\",\"Sex must be M/F/Male/Female.\")))","v":""},null,null,{"$f":"IF('MARK Enrollment Template'!A84=\"\",\"\",IF(AND('MARK Enrollment Template'!A84<>\"\",'MARK Enrollment Template'!G84=\"\"),\"Please fill in Email Address.\",IF(IFERROR(FIND(\"@\",'MARK Enrollment Template'!G84),\"X\")=\"X\",\"Email Address must include an @ symbol.\",\"\")))","v":""},null,null,null,{"$f":"IF('MARK Enrollment Template'!A84=\"\",\"\",IF(AND('MARK Enrollment Template'!A84<>\"\",'MARK Enrollment Template'!K84=\"\"),\"Please fill in Zip Code.\",IF(LEN(SUBSTITUTE(TRIM('MARK Enrollment Template'!K84),CHAR(9),\"\"))<5,\"Zip <5 digits. If leading zero, add apostrophe (ex. '01234).\",\"\")))","v":""},null,null,{"$f":"CELL(\"format\",'MARK Enrollment Template'!C84)","v":"D4"}]
["",{"$f":"IF(AND(SUMPRODUCT(--('MARK Enrollment Template'!A85:L85<>\"\"))<>0,'MARK Enrollment Template'!A85=\"\"),\"Please fill in First Name.\",IF(LEN('MARK Enrollment Template'!A85)=1,\"Please fill in full first name.\",\"\"))","v":""},{"$f":"IF('MARK Enrollment Template'!A85=\"\",\"\",IF(AND('MARK Enrollment Template'!A85<>\"\",'MARK Enrollment Template'!B85=\"\"),\"Please fill in a Last Name.\",\"\"))","v":""},{"$f":"IF('MARK Enrollment Template'!A85=\"\",\"\",IF(AND('MARK Enrollment Template'!A85<>\"\",'MARK Enrollment Template'!C85=\"\"),\"Please fill in Date of Birth.\",IF(TRIM(O80)<>\"D4\",\"Please format DOB as a date in the form MM/DD/YYYY.\",IF('MARK Enrollment Template'!C85>TODAY(),\"Please check DOB.\",\"\"))))","v":""},{"$f":"IF('MARK Enrollment Template'!A85=\"\",\"\",IF(AND('MARK Enrollment Template'!A85<>\"\",'MARK Enrollment Template'!D85=\"\"),\"Please fill in Sex.\",IF(OR(TRIM('MARK Enrollment Template'!D85)=\"M\",TRIM('MARK Enrollment Template'!D85)=\"F\",TRIM('MARK Enrollment Template'!D85)=\"Male\",TRIM('MARK Enrollment Template'!D85)=\"Female\"),\"\",\"Sex must be M/F/Male/Female.\")))","v":""},null,null,{"$f":"IF('MARK Enrollment Template'!A85=\"\",\"\",IF(AND('MARK Enrollment Template'!A85<>\"\",'MARK Enrollment Template'!G85=\"\"),\"Please fill in Email Address.\",IF(IFERROR(FIND(\"@\",'MARK Enrollment Template'!G85),\"X\")=\"X\",\"Email Address must include an @ symbol.\",\"\")))","v":""},null,null,null,{"$f":"IF('MARK Enrollment Template'!A85=\"\",\"\",IF(AND('MARK Enrollment Template'!A85<>\"\",'MARK Enrollment Template'!K85=\"\"),\"Please fill in Zip Code.\",IF(LEN(SUBSTITUTE(TRIM('MARK Enrollment Template'!K85),CHAR(9),\"\"))<5,\"Zip <5 digits. If leading zero, add apostrophe (ex. '01234).\",\"\")))","v":""},null,null,{"$f":"CELL(\"format\",'MARK Enrollment Template'!C85)","v":"D4"}]
["",{"$f":"IF(AND(SUMPRODUCT(--('MARK Enrollment Template'!A86:L86<>\"\"))<>0,'MARK Enrollment Template'!A86=\"\"),\"Please fill in First Name.\",IF(LEN('MARK Enrollment Template'!A86)=1,\"Please fill in full first name.\",\"\"))","v":""},{"$f":"IF('MARK Enrollment Template'!A86=\"\",\"\",IF(AND('MARK Enrollment Template'!A86<>\"\",'MARK Enrollment Template'!B86=\"\"),\"Please fill in a Last Name.\",\"\"))","v":""},{"$f":"IF('MARK Enrollment Template'!A86=\"\",\"\",IF(AND('MARK Enrollment Template'!A86<>\"\",'MARK Enrollment Template'!C86=\"\"),\"Please fill in Date of Birth.\",IF(TRIM(O81)<>\"D4\",\"Please format DOB as a date in the form MM/DD/YYYY.\",IF('MARK Enrollment Template'!C86>TODAY(),\"Please check DOB.\",\"\"))))","v":""},{"$f":"IF('MARK Enrollment Template'!A86=\"\",\"\",IF(AND('MARK Enrollment Template'!A86<>\"\",'MARK Enrollment Template'!D86=\"\"),\"Please fill in Sex.\",IF(OR(TRIM('MARK Enrollment Template'!D86)=\"M\",TRIM('MARK Enrollment Template'!D86)=\"F\",TRIM('MARK Enrollment Template'!D86)=\"Male\",TRIM('MARK Enrollment Template'!D86)=\"Female\"),\"\",\"Sex must be M/F/Male/Female.\")))","v":""},null,null,{"$f":"IF('MARK Enrollment Template'!A86=\"\",\"\",IF(AND('MARK Enrollment Template'!A86<>\"\",'MARK Enrollment Template'!G86=\"\"),\"Please fill in Email Address.\",IF(IFERROR(FIND(\"@\",'MARK Enrollment Template'!G86),\"X\")=\"X\",\"Email Address must include an @ symbol.\",\"\")))","v":""},null,null,null,{"$f":"IF('MARK Enrollment Template'!A86=\"\",\"\",IF(AND('MARK Enrollment Template'!A86<>\"\",'MARK Enrollment Template'!K86=\"\"),\"Please fill in Zip Code.\",IF(LEN(SUBSTITUTE(TRIM('MARK Enrollment Template'!K86),CHAR(9),\"\"))<5,\"Zip <5 digits. If leading zero, add apostrophe (ex. '01234).\",\"\")))","v":""},null,null,{"$f":"CELL(\"format\",'MARK Enrollment Template'!C86)","v":"D4"}]
["",{"$f":"IF(AND(SUMPRODUCT(--('MARK Enrollment Template'!A87:L87<>\"\"))<>0,'MARK Enrollment Template'!A87=\"\"),\"Please fill in First Name.\",IF(LEN('MARK Enrollment Template'!A87)=1,\"Please fill in full first name.\",\"\"))","v":""},{"$f":"IF('MARK Enrollment Template'!A87=\"\",\"\",IF(AND('MARK Enrollment Template'!A87<>\"\",'MARK Enrollment Template'!B87=\"\"),\"Please fill in a Last Name.\",\"\"))","v":""},{"$f":"IF('MARK Enrollment Template'!A87=\"\",\"\",IF(AND('MARK Enrollment Template'!A87<>\"\",'MARK Enrollment Template'!C87=\"\"),\"Please fill in Date of Birth.\",IF(TRIM(O82)<>\"D4\",\"Please format DOB as a date in the form MM/DD/YYYY.\",IF('MARK Enrollment Template'!C87>TODAY(),\"Please check DOB.\",\"\"))))","v":""},{"$f":"IF('MARK Enrollment Template'!A87=\"\",\"\",IF(AND('MARK Enrollment Template'!A87<>\"\",'MARK Enrollment Template'!D87=\"\"),\"Please fill in Sex.\",IF(OR(TRIM('MARK Enrollment Template'!D87)=\"M\",TRIM('MARK Enrollment Template'!D87)=\"F\",TRIM('MARK Enrollment Template'!D87)=\"Male\",TRIM('MARK Enrollment Template'!D87)=\"Female\"),\"\",\"Sex must be M/F/Male/Female.\")))","v":""},null,null,{"$f":"IF('MARK Enrollment Template'!A87=\"\",\"\",IF(AND('MARK Enrollment Template'!A87<>\"\",'MARK Enrollment Template'!G87=\"\"),\"Please fill in Email Address.\",IF(IFERROR(FIND(\"@\",'MARK Enrollment Template'!G87),\"X\")=\"X\",\"Email Address must include an @ symbol.\",\"\")))","v":""},null,null,null,{"$f":"IF('MARK Enrollment Template'!A87=\"\",\"\",IF(AND('MARK Enrollment Template'!A87<>\"\",'MARK Enrollment Template'!K87=\"\"),\"Please fill in Zip Code.\",IF(LEN(SUBSTITUTE(TRIM('MARK Enrollment Template'!K87),CHAR(9),\"\"))<5,\"Zip <5 digits. If leading zero, add apostrophe (ex. '01234).\",\"\")))","v":""},null,null,{"$f":"CELL(\"format\",'MARK Enrollment Template'!C87)","v":"D4"}]
["",{"$f":"IF(AND(SUMPRODUCT(--('MARK Enrollment Template'!A88:L88<>\"\"))<>0,'MARK Enrollment Template'!A88=\"\"),\"Please fill in First Name.\",IF(LEN('MARK Enrollment Template'!A88)=1,\"Please fill in full first name.\",\"\"))","v":""},{"$f":"IF('MARK Enrollment Template'!A88=\"\",\"\",IF(AND('MARK Enrollment Template'!A88<>\"\",'MARK Enrollment Template'!B88=\"\"),\"Please fill in a Last Name.\",\"\"))","v":""},{"$f":"IF('MARK Enrollment Template'!A88=\"\",\"\",IF(AND('MARK Enrollment Template'!A88<>\"\",'MARK Enrollment Template'!C88=\"\"),\"Please fill in Date of Birth.\",IF(TRIM(O83)<>\"D4\",\"Please format DOB as a date in the form MM/DD/YYYY.\",IF('MARK Enrollment Template'!C88>TODAY(),\"Please check DOB.\",\"\"))))","v":""},{"$f":"IF('MARK Enrollment Template'!A88=\"\",\"\",IF(AND('MARK Enrollment Template'!A88<>\"\",'MARK Enrollment Template'!D88=\"\"),\"Please fill in Sex.\",IF(OR(TRIM('MARK Enrollment Template'!D88)=\"M\",TRIM('MARK Enrollment Template'!D88)=\"F\",TRIM('MARK Enrollment Template'!D88)=\"Male\",TRIM('MARK Enrollment Template'!D88)=\"Female\"),\"\",\"Sex must be M/F/Male/Female.\")))","v":""},null,null,{"$f":"IF('MARK Enrollment Template'!A88=\"\",\"\",IF(AND('MARK Enrollment Template'!A88<>\"\",'MARK Enrollment Template'!G88=\"\"),\"Please fill in Email Address.\",IF(IFERROR(FIND(\"@\",'MARK Enrollment Template'!G88),\"X\")=\"X\",\"Email Address must include an @ symbol.\",\"\")))","v":""},null,null,null,{"$f":"IF('MARK Enrollment Template'!A88=\"\",\"\",IF(AND('MARK Enrollment Template'!A88<>\"\",'MARK Enrollment Template'!K88=\"\"),\"Please fill in Zip Code.\",IF(LEN(SUBSTITUTE(TRIM('MARK Enrollment Template'!K88),CHAR(9),\"\"))<5,\"Zip <5 digits. If leading zero, add apostrophe (ex. '01234).\",\"\")))","v":""},null,null,{"$f":"CELL(\"format\",'MARK Enrollment Template'!C88)","v":"D4"}]
["",{"$f":"IF(AND(SUMPRODUCT(--('MARK Enrollment Template'!A89:L89<>\"\"))<>0,'MARK Enrollment Template'!A89=\"\"),\"Please fill in First Name.\",IF(LEN('MARK Enrollment Template'!A89)=1,\"Please fill in full first name.\",\"\"))","v":""},{"$f":"IF('MARK Enrollment Template'!A89=\"\",\"\",IF(AND('MARK Enrollment Template'!A89<>\"\",'MARK Enrollment Template'!B89=\"\"),\"Please fill in a Last Name.\",\"\"))","v":""},{"$f":"IF('MARK Enrollment Template'!A89=\"\",\"\",IF(AND('MARK Enrollment Template'!A89<>\"\",'MARK Enrollment Template'!C89=\"\"),\"Please fill in Date of Birth.\",IF(TRIM(O84)<>\"D4\",\"Please format DOB as a date in the form MM/DD/YYYY.\",IF('MARK Enrollment Template'!C89>TODAY(),\"Please check DOB.\",\"\"))))","v":""},{"$f":"IF('MARK Enrollment Template'!A89=\"\",\"\",IF(AND('MARK Enrollment Template'!A89<>\"\",'MARK Enrollment Template'!D89=\"\"),\"Please fill in Sex.\",IF(OR(TRIM('MARK Enrollment Template'!D89)=\"M\",TRIM('MARK Enrollment Template'!D89)=\"F\",TRIM('MARK Enrollment Template'!D89)=\"Male\",TRIM('MARK Enrollment Template'!D89)=\"Female\"),\"\",\"Sex must be M/F/Male/Female.\")))","v":""},null,null,{"$f":"IF('MARK Enrollment Template'!A89=\"\",\"\",IF(AND('MARK Enrollment Template'!A89<>\"\",'MARK Enrollment Template'!G89=\"\"),\"Please fill in Email Address.\",IF(IFERROR(FIND(\"@\",'MARK Enrollment Template'!G89),\"X\")=\"X\",\"Email Address must include an @ symbol.\",\"\")))","v":""},null,null,null,{"$f":"IF('MARK Enrollment Template'!A89=\"\",\"\",IF(AND('MARK Enrollment Template'!A89<>\"\",'MARK Enrollment Template'!K89=\"\"),\"Please fill in Zip Code.\",IF(LEN(SUBSTITUTE(TRIM('MARK Enrollment Template'!K89),CHAR(9),\"\"))<5,\"Zip <5 digits. If leading zero, add apostrophe (ex. '01234).\",\"\")))","v":""},null,null,{"$f":"CELL(\"format\",'MARK Enrollment Template'!C89)","v":"D4"}]
["",{"$f":"IF(AND(SUMPRODUCT(--('MARK Enrollment Template'!A90:L90<>\"\"))<>0,'MARK Enrollment Template'!A90=\"\"),\"Please fill in First Name.\",IF(LEN('MARK Enrollment Template'!A90)=1,\"Please fill in full first name.\",\"\"))","v":""},{"$f":"IF('MARK Enrollment Template'!A90=\"\",\"\",IF(AND('MARK Enrollment Template'!A90<>\"\",'MARK Enrollment Template'!B90=\"\"),\"Please fill in a Last Name.\",\"\"))","v":""},{"$f":"IF('MARK Enrollment Template'!A90=\"\",\"\",IF(AND('MARK Enrollment Template'!A90<>\"\",'MARK Enrollment Template'!C90=\"\"),\"Please fill in Date of Birth.\",IF(TRIM(O85)<>\"D4\",\"Please format DOB as a date in the form MM/DD/YYYY.\",IF('MARK Enrollment Template'!C90>TODAY(),\"Please check DOB.\",\"\"))))","v":""},{"$f":"IF('MARK Enrollment Template'!A90=\"\",\"\",IF(AND('MARK Enrollment Template'!A90<>\"\",'MARK Enrollment Template'!D90=\"\"),\"Please fill in Sex.\",IF(OR(TRIM('MARK Enrollment Template'!D90)=\"M\",TRIM('MARK Enrollment Template'!D90)=\"F\",TRIM('MARK Enrollment Template'!D90)=\"Male\",TRIM('MARK Enrollment Template'!D90)=\"Female\"),\"\",\"Sex must be M/F/Male/Female.\")))","v":""},null,null,{"$f":"IF('MARK Enrollment Template'!A90=\"\",\"\",IF(AND('MARK Enrollment Template'!A90<>\"\",'MARK Enrollment Template'!G90=\"\"),\"Please fill in Email Address.\",IF(IFERROR(FIND(\"@\",'MARK Enrollment Template'!G90),\"X\")=\"X\",\"Email Address must include an @ symbol.\",\"\")))","v":""},null,null,null,{"$f":"IF('MARK Enrollment Template'!A90=\"\",\"\",IF(AND('MARK Enrollment Template'!A90<>\"\",'MARK Enrollment Template'!K90=\"\"),\"Please fill in Zip Code.\",IF(LEN(SUBSTITUTE(TRIM('MARK Enrollment Template'!K90),CHAR(9),\"\"))<5,\"Zip <5 digits. If leading zero, add apostrophe (ex. '01234).\",\"\")))","v":""},null,null,{"$f":"CELL(\"format\",'MARK Enrollment Template'!C90)","v":"D4"}]
["",{"$f":"IF(AND(SUMPRODUCT(--('MARK Enrollment Template'!A91:L91<>\"\"))<>0,'MARK Enrollment Template'!A91=\"\"),\"Please fill in First Name.\",IF(LEN('MARK Enrollment Template'!A91)=1,\"Please fill in full first name.\",\"\"))","v":""},{"$f":"IF('MARK Enrollment Template'!A91=\"\",\"\",IF(AND('MARK Enrollment Template'!A91<>\"\",'MARK Enrollment Template'!B91=\"\"),\"Please fill in a Last Name.\",\"\"))","v":""},{"$f":"IF('MARK Enrollment Template'!A91=\"\",\"\",IF(AND('MARK Enrollment Template'!A91<>\"\",'MARK Enrollment Template'!C91=\"\"),\"Please fill in Date of Birth.\",IF(TRIM(O86)<>\"D4\",\"Please format DOB as a date in the form MM/DD/YYYY.\",IF('MARK Enrollment Template'!C91>TODAY(),\"Please check DOB.\",\"\"))))","v":""},{"$f":"IF('MARK Enrollment Template'!A91=\"\",\"\",IF(AND('MARK Enrollment Template'!A91<>\"\",'MARK Enrollment Template'!D91=\"\"),\"Please fill in Sex.\",IF(OR(TRIM('MARK Enrollment Template'!D91)=\"M\",TRIM('MARK Enrollment Template'!D91)=\"F\",TRIM('MARK Enrollment Template'!D91)=\"Male\",TRIM('MARK Enrollment Template'!D91)=\"Female\"),\"\",\"Sex must be M/F/Male/Female.\")))","v":""},null,null,{"$f":"IF('MARK Enrollment Template'!A91=\"\",\"\",IF(AND('MARK Enrollment Template'!A91<>\"\",'MARK Enrollment Template'!G91=\"\"),\"Please fill in Email Address.\",IF(IFERROR(FIND(\"@\",'MARK Enrollment Template'!G91),\"X\")=\"X\",\"Email Address must include an @ symbol.\",\"\")))","v":""},null,null,null,{"$f":"IF('MARK Enrollment Template'!A91=\"\",\"\",IF(AND('MARK Enrollment Template'!A91<>\"\",'MARK Enrollment Template'!K91=\"\"),\"Please fill in Zip Code.\",IF(LEN(SUBSTITUTE(TRIM('MARK Enrollment Template'!K91),CHAR(9),\"\"))<5,\"Zip <5 digits. If leading zero, add apostrophe (ex. '01234).\",\"\")))","v":""},null,null,{"$f":"CELL(\"format\",'MARK Enrollment Template'!C91)","v":"D4"}]
["",{"$f":"IF(AND(SUMPRODUCT(--('MARK Enrollment Template'!A92:L92<>\"\"))<>0,'MARK Enrollment Template'!A92=\"\"),\"Please fill in First Name.\",IF(LEN('MARK Enrollment Template'!A92)=1,\"Please fill in full first name.\",\"\"))","v":""},{"$f":"IF('MARK Enrollment Template'!A92=\"\",\"\",IF(AND('MARK Enrollment Template'!A92<>\"\",'MARK Enrollment Template'!B92=\"\"),\"Please fill in a Last Name.\",\"\"))","v":""},{"$f":"IF('MARK Enrollment Template'!A92=\"\",\"\",IF(AND('MARK Enrollment Template'!A92<>\"\",'MARK Enrollment Template'!C92=\"\"),\"Please fill in Date of Birth.\",IF(TRIM(O87)<>\"D4\",\"Please format DOB as a date in the form MM/DD/YYYY.\",IF('MARK Enrollment Template'!C92>TODAY(),\"Please check DOB.\",\"\"))))","v":""},{"$f":"IF('MARK Enrollment Template'!A92=\"\",\"\",IF(AND('MARK Enrollment Template'!A92<>\"\",'MARK Enrollment Template'!D92=\"\"),\"Please fill in Sex.\",IF(OR(TRIM('MARK Enrollment Template'!D92)=\"M\",TRIM('MARK Enrollment Template'!D92)=\"F\",TRIM('MARK Enrollment Template'!D92)=\"Male\",TRIM('MARK Enrollment Template'!D92)=\"Female\"),\"\",\"Sex must be M/F/Male/Female.\")))","v":""},null,null,{"$f":"IF('MARK Enrollment Template'!A92=\"\",\"\",IF(AND('MARK Enrollment Template'!A92<>\"\",'MARK Enrollment Template'!G92=\"\"),\"Please fill in Email Address.\",IF(IFERROR(FIND(\"@\",'MARK Enrollment Template'!G92),\"X\")=\"X\",\"Email Address must include an @ symbol.\",\"\")))","v":""},null,null,null,{"$f":"IF('MARK Enrollment Template'!A92=\"\",\"\",IF(AND('MARK Enrollment Template'!A92<>\"\",'MARK Enrollment Template'!K92=\"\"),\"Please fill in Zip Code.\",IF(LEN(SUBSTITUTE(TRIM('MARK Enrollment Template'!K92),CHAR(9),\"\"))<5,\"Zip <5 digits. If leading zero, add apostrophe (ex. '01234).\",\"\")))","v":""},null,null,{"$f":"CELL(\"format\",'MARK Enrollment Template'!C92)","v":"D4"}]
["",{"$f":"IF(AND(SUMPRODUCT(--('MARK Enrollment Template'!A93:L93<>\"\"))<>0,'MARK Enrollment Template'!A93=\"\"),\"Please fill in First Name.\",IF(LEN('MARK Enrollment Template'!A93)=1,\"Please fill in full first name.\",\"\"))","v":""},{"$f":"IF('MARK Enrollment Template'!A93=\"\",\"\",IF(AND('MARK Enrollment Template'!A93<>\"\",'MARK Enrollment Template'!B93=\"\"),\"Please fill in a Last Name.\",\"\"))","v":""},{"$f":"IF('MARK Enrollment Template'!A93=\"\",\"\",IF(AND('MARK Enrollment Template'!A93<>\"\",'MARK Enrollment Template'!C93=\"\"),\"Please fill in Date of Birth.\",IF(TRIM(O88)<>\"D4\",\"Please format DOB as a date in the form MM/DD/YYYY.\",IF('MARK Enrollment Template'!C93>TODAY(),\"Please check DOB.\",\"\"))))","v":""},{"$f":"IF('MARK Enrollment Template'!A93=\"\",\"\",IF(AND('MARK Enrollment Template'!A93<>\"\",'MARK Enrollment Template'!D93=\"\"),\"Please fill in Sex.\",IF(OR(TRIM('MARK Enrollment Template'!D93)=\"M\",TRIM('MARK Enrollment Template'!D93)=\"F\",TRIM('MARK Enrollment Template'!D93)=\"Male\",TRIM('MARK Enrollment Template'!D93)=\"Female\"),\"\",\"Sex must be M/F/Male/Female.\")))","v":""},null,null,{"$f":"IF('MARK Enrollment Template'!A93=\"\",\"\",IF(AND('MARK Enrollment Template'!A93<>\"\",'MARK Enrollment Template'!G93=\"\"),\"Please fill in Email Address.\",IF(IFERROR(FIND(\"@\",'MARK Enrollment Template'!G93),\"X\")=\"X\",\"Email Address must include an @ symbol.\",\"\")))","v":""},null,null,null,{"$f":"IF('MARK Enrollment Template'!A93=\"\",\"\",IF(AND('MARK Enrollment Template'!A93<>\"\",'MARK Enrollment Template'!K93=\"\"),\"Please fill in Zip Code.\",IF(LEN(SUBSTITUTE(TRIM('MARK Enrollment Template'!K93),CHAR(9),\"\"))<5,\"Zip <5 digits. If leading zero, add apostrophe (ex. '01234).\",\"\")))","v":""},null,null,{"$f":"CELL(\"format\",'MARK Enrollment Template'!C93)","v":"D4"}]
["",{"$f":"IF(AND(SUMPRODUCT(--('MARK Enrollment Template'!A94:L94<>\"\"))<>0,'MARK Enrollment Template'!A94=\"\"),\"Please fill in First Name.\",IF(LEN('MARK Enrollment Template'!A94)=1,\"Please fill in full first name.\",\"\"))","v":""},{"$f":"IF('MARK Enrollment Template'!A94=\"\",\"\",IF(AND('MARK Enrollment Template'!A94<>\"\",'MARK Enrollment Template'!B94=\"\"),\"Please fill in a Last Name.\",\"\"))","v":""},{"$f":"IF('MARK Enrollment Template'!A94=\"\",\"\",IF(AND('MARK Enrollment Template'!A94<>\"\",'MARK Enrollment Template'!C94=\"\"),\"Please fill in Date of Birth.\",IF(TRIM(O89)<>\"D4\",\"Please format DOB as a date in the form MM/DD/YYYY.\",IF('MARK Enrollment Template'!C94>TODAY(),\"Please check DOB.\",\"\"))))","v":""},{"$f":"IF('MARK Enrollment Template'!A94=\"\",\"\",IF(AND('MARK Enrollment Template'!A94<>\"\",'MARK Enrollment Template'!D94=\"\"),\"Please fill in Sex.\",IF(OR(TRIM('MARK Enrollment Template'!D94)=\"M\",TRIM('MARK Enrollment Template'!D94)=\"F\",TRIM('MARK Enrollment Template'!D94)=\"Male\",TRIM('MARK Enrollment Template'!D94)=\"Female\"),\"\",\"Sex must be M/F/Male/Female.\")))","v":""},null,null,{"$f":"IF('MARK Enrollment Template'!A94=\"\",\"\",IF(AND('MARK Enrollment Template'!A94<>\"\",'MARK Enrollment Template'!G94=\"\"),\"Please fill in Email Address.\",IF(IFERROR(FIND(\"@\",'MARK Enrollment Template'!G94),\"X\")=\"X\",\"Email Address must include an @ symbol.\",\"\")))","v":""},null,null,null,{"$f":"IF('MARK Enrollment Template'!A94=\"\",\"\",IF(AND('MARK Enrollment Template'!A94<>\"\",'MARK Enrollment Template'!K94=\"\"),\"Please fill in Zip Code.\",IF(LEN(SUBSTITUTE(TRIM('MARK Enrollment Template'!K94),CHAR(9),\"\"))<5,\"Zip <5 digits. If leading zero, add apostrophe (ex. '01234).\",\"\")))","v":""},null,null,{"$f":"CELL(\"format\",'MARK Enrollment Template'!C94)","v":"D4"}]
["",{"$f":"IF(AND(SUMPRODUCT(--('MARK Enrollment Template'!A95:L95<>\"\"))<>0,'MARK Enrollment Template'!A95=\"\"),\"Please fill in First Name.\",IF(LEN('MARK Enrollment Template'!A95)=1,\"Please fill in full first name.\",\"\"))","v":""},{"$f":"IF('MARK Enrollment Template'!A95=\"\",\"\",IF(AND('MARK Enrollment Template'!A95<>\"\",'MARK Enrollment Template'!B95=\"\"),\"Please fill in a Last Name.\",\"\"))","v":""},{"$f":"IF('MARK Enrollment Template'!A95=\"\",\"\",IF(AND('MARK Enrollment Template'!A95<>\"\",'MARK Enrollment Template'!C95=\"\"),\"Please fill in Date of Birth.\",IF(TRIM(O90)<>\"D4\",\"Please format DOB as a date in the form MM/DD/YYYY.\",IF('MARK Enrollment Template'!C95>TODAY(),\"Please check DOB.\",\"\"))))","v":""},{"$f":"IF('MARK Enrollment Template'!A95=\"\",\"\",IF(AND('MARK Enrollment Template'!A95<>\"\",'MARK Enrollment Template'!D95=\"\"),\"Please fill in Sex.\",IF(OR(TRIM('MARK Enrollment Template'!D95)=\"M\",TRIM('MARK Enrollment Template'!D95)=\"F\",TRIM('MARK Enrollment Template'!D95)=\"Male\",TRIM('MARK Enrollment Template'!D95)=\"Female\"),\"\",\"Sex must be M/F/Male/Female.\")))","v":""},null,null,{"$f":"IF('MARK Enrollment Template'!A95=\"\",\"\",IF(AND('MARK Enrollment Template'!A95<>\"\",'MARK Enrollment Template'!G95=\"\"),\"Please fill in Email Address.\",IF(IFERROR(FIND(\"@\",'MARK Enrollment Template'!G95),\"X\")=\"X\",\"Email Address must include an @ symbol.\",\"\")))","v":""},null,null,null,{"$f":"IF('MARK Enrollment Template'!A95=\"\",\"\",IF(AND('MARK Enrollment Template'!A95<>\"\",'MARK Enrollment Template'!K95=\"\"),\"Please fill in Zip Code.\",IF(LEN(SUBSTITUTE(TRIM('MARK Enrollment Template'!K95),CHAR(9),\"\"))<5,\"Zip <5 digits. If leading zero, add apostrophe (ex. '01234).\",\"\")))","v":""},null,null,{"$f":"CELL(\"format\",'MARK Enrollment Template'!C95)","v":"D4"}]
["",{"$f":"IF(AND(SUMPRODUCT(--('MARK Enrollment Template'!A96:L96<>\"\"))<>0,'MARK Enrollment Template'!A96=\"\"),\"Please fill in First Name.\",IF(LEN('MARK Enrollment Template'!A96)=1,\"Please fill in full first name.\",\"\"))","v":""},{"$f":"IF('MARK Enrollment Template'!A96=\"\",\"\",IF(AND('MARK Enrollment Template'!A96<>\"\",'MARK Enrollment Template'!B96=\"\"),\"Please fill in a Last Name.\",\"\"))","v":""},{"$f":"IF('MARK Enrollment Template'!A96=\"\",\"\",IF(AND('MARK Enrollment Template'!A96<>\"\",'MARK Enrollment Template'!C96=\"\"),\"Please fill in Date of Birth.\",IF(TRIM(O91)<>\"D4\",\"Please format DOB as a date in the form MM/DD/YYYY.\",IF('MARK Enrollment Template'!C96>TODAY(),\"Please check DOB.\",\"\"))))","v":""},{"$f":"IF('MARK Enrollment Template'!A96=\"\",\"\",IF(AND('MARK Enrollment Template'!A96<>\"\",'MARK Enrollment Template'!D96=\"\"),\"Please fill in Sex.\",IF(OR(TRIM('MARK Enrollment Template'!D96)=\"M\",TRIM('MARK Enrollment Template'!D96)=\"F\",TRIM('MARK Enrollment Template'!D96)=\"Male\",TRIM('MARK Enrollment Template'!D96)=\"Female\"),\"\",\"Sex must be M/F/Male/Female.\")))","v":""},null,null,{"$f":"IF('MARK Enrollment Template'!A96=\"\",\"\",IF(AND('MARK Enrollment Template'!A96<>\"\",'MARK Enrollment Template'!G96=\"\"),\"Please fill in Email Address.\",IF(IFERROR(FIND(\"@\",'MARK Enrollment Template'!G96),\"X\")=\"X\",\"Email Address must include an @ symbol.\",\"\")))","v":""},null,null,null,{"$f":"IF('MARK Enrollment Template'!A96=\"\",\"\",IF(AND('MARK Enrollment Template'!A96<>\"\",'MARK Enrollment Template'!K96=\"\"),\"Please fill in Zip Code.\",IF(LEN(SUBSTITUTE(TRIM('MARK Enrollment Template'!K96),CHAR(9),\"\"))<5,\"Zip <5 digits. If leading zero, add apostrophe (ex. '01234).\",\"\")))","v":""},null,null,{"$f":"CELL(\"format\",'MARK Enrollment Template'!C96)","v":"D4"}]
["",{"$f":"IF(AND(SUMPRODUCT(--('MARK Enrollment Template'!A97:L97<>\"\"))<>0,'MARK Enrollment Template'!A97=\"\"),\"Please fill in First Name.\",IF(LEN('MARK Enrollment Template'!A97)=1,\"Please fill in full first name.\",\"\"))","v":""},{"$f":"IF('MARK Enrollment Template'!A97=\"\",\"\",IF(AND('MARK Enrollment Template'!A97<>\"\",'MARK Enrollment Template'!B97=\"\"),\"Please fill in a Last Name.\",\"\"))","v":""},{"$f":"IF('MARK Enrollment Template'!A97=\"\",\"\",IF(AND('MARK Enrollment Template'!A97<>\"\",'MARK Enrollment Template'!C97=\"\"),\"Please fill in Date of Birth.\",IF(TRIM(O92)<>\"D4\",\"Please format DOB as a date in the form MM/DD/YYYY.\",IF('MARK Enrollment Template'!C97>TODAY(),\"Please check DOB.\",\"\"))))","v":""},{"$f":"IF('MARK Enrollment Template'!A97=\"\",\"\",IF(AND('MARK Enrollment Template'!A97<>\"\",'MARK Enrollment Template'!D97=\"\"),\"Please fill in Sex.\",IF(OR(TRIM('MARK Enrollment Template'!D97)=\"M\",TRIM('MARK Enrollment Template'!D97)=\"F\",TRIM('MARK Enrollment Template'!D97)=\"Male\",TRIM('MARK Enrollment Template'!D97)=\"Female\"),\"\",\"Sex must be M/F/Male/Female.\")))","v":""},null,null,{"$f":"IF('MARK Enrollment Template'!A97=\"\",\"\",IF(AND('MARK Enrollment Template'!A97<>\"\",'MARK Enrollment Template'!G97=\"\"),\"Please fill in Email Address.\",IF(IFERROR(FIND(\"@\",'MARK Enrollment Template'!G97),\"X\")=\"X\",\"Email Address must include an @ symbol.\",\"\")))","v":""},null,null,null,{"$f":"IF('MARK Enrollment Template'!A97=\"\",\"\",IF(AND('MARK Enrollment Template'!A97<>\"\",'MARK Enrollment Template'!K97=\"\"),\"Please fill in Zip Code.\",IF(LEN(SUBSTITUTE(TRIM('MARK Enrollment Template'!K97),CHAR(9),\"\"))<5,\"Zip <5 digits. If leading zero, add apostrophe (ex. '01234).\",\"\")))","v":""},null,null,{"$f":"CELL(\"format\",'MARK Enrollment Template'!C97)","v":"D4"}]
["",{"$f":"IF(AND(SUMPRODUCT(--('MARK Enrollment Template'!A98:L98<>\"\"))<>0,'MARK Enrollment Template'!A98=\"\"),\"Please fill in First Name.\",IF(LEN('MARK Enrollment Template'!A98)=1,\"Please fill in full first name.\",\"\"))","v":""},{"$f":"IF('MARK Enrollment Template'!A98=\"\",\"\",IF(AND('MARK Enrollment Template'!A98<>\"\",'MARK Enrollment Template'!B98=\"\"),\"Please fill in a Last Name.\",\"\"))","v":""},{"$f":"IF('MARK Enrollment Template'!A98=\"\",\"\",IF(AND('MARK Enrollment Template'!A98<>\"\",'MARK Enrollment Template'!C98=\"\"),\"Please fill in Date of Birth.\",IF(TRIM(O93)<>\"D4\",\"Please format DOB as a date in the form MM/DD/YYYY.\",IF('MARK Enrollment Template'!C98>TODAY(),\"Please check DOB.\",\"\"))))","v":""},{"$f":"IF('MARK Enrollment Template'!A98=\"\",\"\",IF(AND('MARK Enrollment Template'!A98<>\"\",'MARK Enrollment Template'!D98=\"\"),\"Please fill in Sex.\",IF(OR(TRIM('MARK Enrollment Template'!D98)=\"M\",TRIM('MARK Enrollment Template'!D98)=\"F\",TRIM('MARK Enrollment Template'!D98)=\"Male\",TRIM('MARK Enrollment Template'!D98)=\"Female\"),\"\",\"Sex must be M/F/Male/Female.\")))","v":""},null,null,{"$f":"IF('MARK Enrollment Template'!A98=\"\",\"\",IF(AND('MARK Enrollment Template'!A98<>\"\",'MARK Enrollment Template'!G98=\"\"),\"Please fill in Email Address.\",IF(IFERROR(FIND(\"@\",'MARK Enrollment Template'!G98),\"X\")=\"X\",\"Email Address must include an @ symbol.\",\"\")))","v":""},null,null,null,{"$f":"IF('MARK Enrollment Template'!A98=\"\",\"\",IF(AND('MARK Enrollment Template'!A98<>\"\",'MARK Enrollment Template'!K98=\"\"),\"Please fill in Zip Code.\",IF(LEN(SUBSTITUTE(TRIM('MARK Enrollment Template'!K98),CHAR(9),\"\"))<5,\"Zip <5 digits. If leading zero, add apostrophe (ex. '01234).\",\"\")))","v":""},null,null,{"$f":"CELL(\"format\",'MARK Enrollment Template'!C98)","v":"D4"}]
["",{"$f":"IF(AND(SUMPRODUCT(--('MARK Enrollment Template'!A99:L99<>\"\"))<>0,'MARK Enrollment Template'!A99=\"\"),\"Please fill in First Name.\",IF(LEN('MARK Enrollment Template'!A99)=1,\"Please fill in full first name.\",\"\"))","v":""},{"$f":"IF('MARK Enrollment Template'!A99=\"\",\"\",IF(AND('MARK Enrollment Template'!A99<>\"\",'MARK Enrollment Template'!B99=\"\"),\"Please fill in a Last Name.\",\"\"))","v":""},{"$f":"IF('MARK Enrollment Template'!A99=\"\",\"\",IF(AND('MARK Enrollment Template'!A99<>\"\",'MARK Enrollment Template'!C99=\"\"),\"Please fill in Date of Birth.\",IF(TRIM(O94)<>\"D4\",\"Please format DOB as a date in the form MM/DD/YYYY.\",IF('MARK Enrollment Template'!C99>TODAY(),\"Please check DOB.\",\"\"))))","v":""},{"$f":"IF('MARK Enrollment Template'!A99=\"\",\"\",IF(AND('MARK Enrollment Template'!A99<>\"\",'MARK Enrollment Template'!D99=\"\"),\"Please fill in Sex.\",IF(OR(TRIM('MARK Enrollment Template'!D99)=\"M\",TRIM('MARK Enrollment Template'!D99)=\"F\",TRIM('MARK Enrollment Template'!D99)=\"Male\",TRIM('MARK Enrollment Template'!D99)=\"Female\"),\"\",\"Sex must be M/F/Male/Female.\")))","v":""},null,null,{"$f":"IF('MARK Enrollment Template'!A99=\"\",\"\",IF(AND('MARK Enrollment Template'!A99<>\"\",'MARK Enrollment Template'!G99=\"\"),\"Please fill in Email Address.\",IF(IFERROR(FIND(\"@\",'MARK Enrollment Template'!G99),\"X\")=\"X\",\"Email Address must include an @ symbol.\",\"\")))","v":""},null,null,null,{"$f":"IF('MARK Enrollment Template'!A99=\"\",\"\",IF(AND('MARK Enrollment Template'!A99<>\"\",'MARK Enrollment Template'!K99=\"\"),\"Please fill in Zip Code.\",IF(LEN(SUBSTITUTE(TRIM('MARK Enrollment Template'!K99),CHAR(9),\"\"))<5,\"Zip <5 digits. If leading zero, add apostrophe (ex. '01234).\",\"\")))","v":""},null,null,{"$f":"CELL(\"format\",'MARK Enrollment Template'!C99)","v":"D4"}]
["",{"$f":"IF(AND(SUMPRODUCT(--('MARK Enrollment Template'!A100:L100<>\"\"))<>0,'MARK Enrollment Template'!A100=\"\"),\"Please fill in First Name.\",IF(LEN('MARK Enrollment Template'!A100)=1,\"Please fill in full first name.\",\"\"))","v":""},{"$f":"IF('MARK Enrollment Template'!A100=\"\",\"\",IF(AND('MARK Enrollment Template'!A100<>\"\",'MARK Enrollment Template'!B100=\"\"),\"Please fill in a Last Name.\",\"\"))","v":""},{"$f":"IF('MARK Enrollment Template'!A100=\"\",\"\",IF(AND('MARK Enrollment Template'!A100<>\"\",'MARK Enrollment Template'!C100=\"\"),\"Please fill in Date of Birth.\",IF(TRIM(O95)<>\"D4\",\"Please format DOB as a date in the form MM/DD/YYYY.\",IF('MARK Enrollment Template'!C100>TODAY(),\"Please check DOB.\",\"\"))))","v":""},{"$f":"IF('MARK Enrollment Template'!A100=\"\",\"\",IF(AND('MARK Enrollment Template'!A100<>\"\",'MARK Enrollment Template'!D100=\"\"),\"Please fill in Sex.\",IF(OR(TRIM('MARK Enrollment Template'!D100)=\"M\",TRIM('MARK Enrollment Template'!D100)=\"F\",TRIM('MARK Enrollment Template'!D100)=\"Male\",TRIM('MARK Enrollment Template'!D100)=\"Female\"),\"\",\"Sex must be M/F/Male/Female.\")))","v":""},null,null,{"$f":"IF('MARK Enrollment Template'!A100=\"\",\"\",IF(AND('MARK Enrollment Template'!A100<>\"\",'MARK Enrollment Template'!G100=\"\"),\"Please fill in Email Address.\",IF(IFERROR(FIND(\"@\",'MARK Enrollment Template'!G100),\"X\")=\"X\",\"Email Address must include an @ symbol.\",\"\")))","v":""},null,null,null,{"$f":"IF('MARK Enrollment Template'!A100=\"\",\"\",IF(AND('MARK Enrollment Template'!A100<>\"\",'MARK Enrollment Template'!K100=\"\"),\"Please fill in Zip Code.\",IF(LEN(SUBSTITUTE(TRIM('MARK Enrollment Template'!K100),CHAR(9),\"\"))<5,\"Zip <5 digits. If leading zero, add apostrophe (ex. '01234).\",\"\")))","v":""},null,null,{"$f":"CELL(\"format\",'MARK Enrollment Template'!C100)","v":"D4"}]
["",{"$f":"IF(AND(SUMPRODUCT(--('MARK Enrollment Template'!A101:L101<>\"\"))<>0,'MARK Enrollment Template'!A101=\"\"),\"Please fill in First Name.\",IF(LEN('MARK Enrollment Template'!A101)=1,\"Please fill in full first name.\",\"\"))","v":""},{"$f":"IF('MARK Enrollment Template'!A101=\"\",\"\",IF(AND('MARK Enrollment Template'!A101<>\"\",'MARK Enrollment Template'!B101=\"\"),\"Please fill in a Last Name.\",\"\"))","v":""},{"$f":"IF('MARK Enrollment Template'!A101=\"\",\"\",IF(AND('MARK Enrollment Template'!A101<>\"\",'MARK Enrollment Template'!C101=\"\"),\"Please fill in Date of Birth.\",IF(TRIM(O96)<>\"D4\",\"Please format DOB as a date in the form MM/DD/YYYY.\",IF('MARK Enrollment Template'!C101>TODAY(),\"Please check DOB.\",\"\"))))","v":""},{"$f":"IF('MARK Enrollment Template'!A101=\"\",\"\",IF(AND('MARK Enrollment Template'!A101<>\"\",'MARK Enrollment Template'!D101=\"\"),\"Please fill in Sex.\",IF(OR(TRIM('MARK Enrollment Template'!D101)=\"M\",TRIM('MARK Enrollment Template'!D101)=\"F\",TRIM('MARK Enrollment Template'!D101)=\"Male\",TRIM('MARK Enrollment Template'!D101)=\"Female\"),\"\",\"Sex must be M/F/Male/Female.\")))","v":""},null,null,{"$f":"IF('MARK Enrollment Template'!A101=\"\",\"\",IF(AND('MARK Enrollment Template'!A101<>\"\",'MARK Enrollment Template'!G101=\"\"),\"Please fill in Email Address.\",IF(IFERROR(FIND(\"@\",'MARK Enrollment Template'!G101),\"X\")=\"X\",\"Email Address must include an @ symbol.\",\"\")))","v":""},null,null,null,{"$f":"IF('MARK Enrollment Template'!A101=\"\",\"\",IF(AND('MARK Enrollment Template'!A101<>\"\",'MARK Enrollment Template'!K101=\"\"),\"Please fill in Zip Code.\",IF(LEN(SUBSTITUTE(TRIM('MARK Enrollment Template'!K101),CHAR(9),\"\"))<5,\"Zip <5 digits. If leading zero, add apostrophe (ex. '01234).\",\"\")))","v":""},null,null,{"$f":"CELL(\"format\",'MARK Enrollment Template'!C101)","v":"D4"}]
["",{"$f":"IF(AND(SUMPRODUCT(--('MARK Enrollment Template'!A102:L102<>\"\"))<>0,'MARK Enrollment Template'!A102=\"\"),\"Please fill in First Name.\",IF(LEN('MARK Enrollment Template'!A102)=1,\"Please fill in full first name.\",\"\"))","v":""},{"$f":"IF('MARK Enrollment Template'!A102=\"\",\"\",IF(AND('MARK Enrollment Template'!A102<>\"\",'MARK Enrollment Template'!B102=\"\"),\"Please fill in a Last Name.\",\"\"))","v":""},{"$f":"IF('MARK Enrollment Template'!A102=\"\",\"\",IF(AND('MARK Enrollment Template'!A102<>\"\",'MARK Enrollment Template'!C102=\"\"),\"Please fill in Date of Birth.\",IF(TRIM(O97)<>\"D4\",\"Please format DOB as a date in the form MM/DD/YYYY.\",IF('MARK Enrollment Template'!C102>TODAY(),\"Please check DOB.\",\"\"))))","v":""},{"$f":"IF('MARK Enrollment Template'!A102=\"\",\"\",IF(AND('MARK Enrollment Template'!A102<>\"\",'MARK Enrollment Template'!D102=\"\"),\"Please fill in Sex.\",IF(OR(TRIM('MARK Enrollment Template'!D102)=\"M\",TRIM('MARK Enrollment Template'!D102)=\"F\",TRIM('MARK Enrollment Template'!D102)=\"Male\",TRIM('MARK Enrollment Template'!D102)=\"Female\"),\"\",\"Sex must be M/F/Male/Female.\")))","v":""},null,null,{"$f":"IF('MARK Enrollment Template'!A102=\"\",\"\",IF(AND('MARK Enrollment Template'!A102<>\"\",'MARK Enrollment Template'!G102=\"\"),\"Please fill in Email Address.\",IF(IFERROR(FIND(\"@\",'MARK Enrollment Template'!G102),\"X\")=\"X\",\"Email Address must include an @ symbol.\",\"\")))","v":""},null,null,null,{"$f":"IF('MARK Enrollment Template'!A102=\"\",\"\",IF(AND('MARK Enrollment Template'!A102<>\"\",'MARK Enrollment Template'!K102=\"\"),\"Please fill in Zip Code.\",IF(LEN(SUBSTITUTE(TRIM('MARK Enrollment Template'!K102),CHAR(9),\"\"))<5,\"Zip <5 digits. If leading zero, add apostrophe (ex. '01234).\",\"\")))","v":""},null,null,{"$f":"CELL(\"format\",'MARK Enrollment Template'!C102)","v":"D4"}]
["",{"$f":"IF(AND(SUMPRODUCT(--('MARK Enrollment Template'!A103:L103<>\"\"))<>0,'MARK Enrollment Template'!A103=\"\"),\"Please fill in First Name.\",IF(LEN('MARK Enrollment Template'!A103)=1,\"Please fill in full first name.\",\"\"))","v":""},{"$f":"IF('MARK Enrollment Template'!A103=\"\",\"\",IF(AND('MARK Enrollment Template'!A103<>\"\",'MARK Enrollment Template'!B103=\"\"),\"Please fill in a Last Name.\",\"\"))","v":""},{"$f":"IF('MARK Enrollment Template'!A103=\"\",\"\",IF(AND('MARK Enrollment Template'!A103<>\"\",'MARK Enrollment Template'!C103=\"\"),\"Please fill in Date of Birth.\",IF(TRIM(O98)<>\"D4\",\"Please format DOB as a date in the form MM/DD/YYYY.\",IF('MARK Enrollment Template'!C103>TODAY(),\"Please check DOB.\",\"\"))))","v":""},{"$f":"IF('MARK Enrollment Template'!A103=\"\",\"\",IF(AND('MARK Enrollment Template'!A103<>\"\",'MARK Enrollment Template'!D103=\"\"),\"Please fill in Sex.\",IF(OR(TRIM('MARK Enrollment Template'!D103)=\"M\",TRIM('MARK Enrollment Template'!D103)=\"F\",TRIM('MARK Enrollment Template'!D103)=\"Male\",TRIM('MARK Enrollment Template'!D103)=\"Female\"),\"\",\"Sex must be M/F/Male/Female.\")))","v":""},null,null,{"$f":"IF('MARK Enrollment Template'!A103=\"\",\"\",IF(AND('MARK Enrollment Template'!A103<>\"\",'MARK Enrollment Template'!G103=\"\"),\"Please fill in Email Address.\",IF(IFERROR(FIND(\"@\",'MARK Enrollment Template'!G103),\"X\")=\"X\",\"Email Address must include an @ symbol.\",\"\")))","v":""},null,null,null,{"$f":"IF('MARK Enrollment Template'!A103=\"\",\"\",IF(AND('MARK Enrollment Template'!A103<>\"\",'MARK Enrollment Template'!K103=\"\"),\"Please fill in Zip Code.\",IF(LEN(SUBSTITUTE(TRIM('MARK Enrollment Template'!K103),CHAR(9),\"\"))<5,\"Zip <5 digits. If leading zero, add apostrophe (ex. '01234).\",\"\")))","v":""},null,null,{"$f":"CELL(\"format\",'MARK Enrollment Template'!C103)","v":"D4"}]
["",{"$f":"IF(AND(SUMPRODUCT(--('MARK Enrollment Template'!A104:L104<>\"\"))<>0,'MARK Enrollment Template'!A104=\"\"),\"Please fill in First Name.\",IF(LEN('MARK Enrollment Template'!A104)=1,\"Please fill in full first name.\",\"\"))","v":""},{"$f":"IF('MARK Enrollment Template'!A104=\"\",\"\",IF(AND('MARK Enrollment Template'!A104<>\"\",'MARK Enrollment Template'!B104=\"\"),\"Please fill in a Last Name.\",\"\"))","v":""},{"$f":"IF('MARK Enrollment Template'!A104=\"\",\"\",IF(AND('MARK Enrollment Template'!A104<>\"\",'MARK Enrollment Template'!C104=\"\"),\"Please fill in Date of Birth.\",IF(TRIM(O99)<>\"D4\",\"Please format DOB as a date in the form MM/DD/YYYY.\",IF('MARK Enrollment Template'!C104>TODAY(),\"Please check DOB.\",\"\"))))","v":""},{"$f":"IF('MARK Enrollment Template'!A104=\"\",\"\",IF(AND('MARK Enrollment Template'!A104<>\"\",'MARK Enrollment Template'!D104=\"\"),\"Please fill in Sex.\",IF(OR(TRIM('MARK Enrollment Template'!D104)=\"M\",TRIM('MARK Enrollment Template'!D104)=\"F\",TRIM('MARK Enrollment Template'!D104)=\"Male\",TRIM('MARK Enrollment Template'!D104)=\"Female\"),\"\",\"Sex must be M/F/Male/Female.\")))","v":""},null,null,{"$f":"IF('MARK Enrollment Template'!A104=\"\",\"\",IF(AND('MARK Enrollment Template'!A104<>\"\",'MARK Enrollment Template'!G104=\"\"),\"Please fill in Email Address.\",IF(IFERROR(FIND(\"@\",'MARK Enrollment Template'!G104),\"X\")=\"X\",\"Email Address must include an @ symbol.\",\"\")))","v":""},null,null,null,{"$f":"IF('MARK Enrollment Template'!A104=\"\",\"\",IF(AND('MARK Enrollment Template'!A104<>\"\",'MARK Enrollment Template'!K104=\"\"),\"Please fill in Zip Code.\",IF(LEN(SUBSTITUTE(TRIM('MARK Enrollment Template'!K104),CHAR(9),\"\"))<5,\"Zip <5 digits. If leading zero, add apostrophe (ex. '01234).\",\"\")))","v":""},null,null,{"$f":"CELL(\"format\",'MARK Enrollment Template'!C104)","v":"D4"}]
["",{"$f":"IF(AND(SUMPRODUCT(--('MARK Enrollment Template'!A105:L105<>\"\"))<>0,'MARK Enrollment Template'!A105=\"\"),\"Please fill in First Name.\",IF(LEN('MARK Enrollment Template'!A105)=1,\"Please fill in full first name.\",\"\"))","v":""},{"$f":"IF('MARK Enrollment Template'!A105=\"\",\"\",IF(AND('MARK Enrollment Template'!A105<>\"\",'MARK Enrollment Template'!B105=\"\"),\"Please fill in a Last Name.\",\"\"))","v":""},{"$f":"IF('MARK Enrollment Template'!A105=\"\",\"\",IF(AND('MARK Enrollment Template'!A105<>\"\",'MARK Enrollment Template'!C105=\"\"),\"Please fill in Date of Birth.\",IF(TRIM(O100)<>\"D4\",\"Please format DOB as a date in the form MM/DD/YYYY.\",IF('MARK Enrollment Template'!C105>TODAY(),\"Please check DOB.\",\"\"))))","v":""},{"$f":"IF('MARK Enrollment Template'!A105=\"\",\"\",IF(AND('MARK Enrollment Template'!A105<>\"\",'MARK Enrollment Template'!D105=\"\"),\"Please fill in Sex.\",IF(OR(TRIM('MARK Enrollment Template'!D105)=\"M\",TRIM('MARK Enrollment Template'!D105)=\"F\",TRIM('MARK Enrollment Template'!D105)=\"Male\",TRIM('MARK Enrollment Template'!D105)=\"Female\"),\"\",\"Sex must be M/F/Male/Female.\")))","v":""},null,null,{"$f":"IF('MARK Enrollment Template'!A105=\"\",\"\",IF(AND('MARK Enrollment Template'!A105<>\"\",'MARK Enrollment Template'!G105=\"\"),\"Please fill in Email Address.\",IF(IFERROR(FIND(\"@\",'MARK Enrollment Template'!G105),\"X\")=\"X\",\"Email Address must include an @ symbol.\",\"\")))","v":""},null,null,null,{"$f":"IF('MARK Enrollment Template'!A105=\"\",\"\",IF(AND('MARK Enrollment Template'!A105<>\"\",'MARK Enrollment Template'!K105=\"\"),\"Please fill in Zip Code.\",IF(LEN(SUBSTITUTE(TRIM('MARK Enrollment Template'!K105),CHAR(9),\"\"))<5,\"Zip <5 digits. If leading zero, add apostrophe (ex. '01234).\",\"\")))","v":""},null,null,{"$f":"CELL(\"format\",'MARK Enrollment Template'!C105)","v":"D4"}]
["",{"$f":"IF(AND(SUMPRODUCT(--('MARK Enrollment Template'!A106:L106<>\"\"))<>0,'MARK Enrollment Template'!A106=\"\"),\"Please fill in First Name.\",IF(LEN('MARK Enrollment Template'!A106)=1,\"Please fill in full first name.\",\"\"))","v":""},{"$f":"IF('MARK Enrollment Template'!A106=\"\",\"\",IF(AND('MARK Enrollment Template'!A106<>\"\",'MARK Enrollment Template'!B106=\"\"),\"Please fill in a Last Name.\",\"\"))","v":""},{"$f":"IF('MARK Enrollment Template'!A106=\"\",\"\",IF(AND('MARK Enrollment Template'!A106<>\"\",'MARK Enrollment Template'!C106=\"\"),\"Please fill in Date of Birth.\",IF(TRIM(O101)<>\"D4\",\"Please format DOB as a date in the form MM/DD/YYYY.\",IF('MARK Enrollment Template'!C106>TODAY(),\"Please check DOB.\",\"\"))))","v":""},{"$f":"IF('MARK Enrollment Template'!A106=\"\",\"\",IF(AND('MARK Enrollment Template'!A106<>\"\",'MARK Enrollment Template'!D106=\"\"),\"Please fill in Sex.\",IF(OR(TRIM('MARK Enrollment Template'!D106)=\"M\",TRIM('MARK Enrollment Template'!D106)=\"F\",TRIM('MARK Enrollment Template'!D106)=\"Male\",TRIM('MARK Enrollment Template'!D106)=\"Female\"),\"\",\"Sex must be M/F/Male/Female.\")))","v":""},null,null,{"$f":"IF('MARK Enrollment Template'!A106=\"\",\"\",IF(AND('MARK Enrollment Template'!A106<>\"\",'MARK Enrollment Template'!G106=\"\"),\"Please fill in Email Address.\",IF(IFERROR(FIND(\"@\",'MARK Enrollment Template'!G106),\"X\")=\"X\",\"Email Address must include an @ symbol.\",\"\")))","v":""},null,null,null,{"$f":"IF('MARK Enrollment Template'!A106=\"\",\"\",IF(AND('MARK Enrollment Template'!A106<>\"\",'MARK Enrollment Template'!K106=\"\"),\"Please fill in Zip Code.\",IF(LEN(SUBSTITUTE(TRIM('MARK Enrollment Template'!K106),CHAR(9),\"\"))<5,\"Zip <5 digits. If leading zero, add apostrophe (ex. '01234).\",\"\")))","v":""},null,null,{"$f":"CELL(\"format\",'MARK Enrollment Template'!C106)","v":"D4"}]
["",{"$f":"IF(AND(SUMPRODUCT(--('MARK Enrollment Template'!A107:L107<>\"\"))<>0,'MARK Enrollment Template'!A107=\"\"),\"Please fill in First Name.\",IF(LEN('MARK Enrollment Template'!A107)=1,\"Please fill in full first name.\",\"\"))","v":""},{"$f":"IF('MARK Enrollment Template'!A107=\"\",\"\",IF(AND('MARK Enrollment Template'!A107<>\"\",'MARK Enrollment Template'!B107=\"\"),\"Please fill in a Last Name.\",\"\"))","v":""},{"$f":"IF('MARK Enrollment Template'!A107=\"\",\"\",IF(AND('MARK Enrollment Template'!A107<>\"\",'MARK Enrollment Template'!C107=\"\"),\"Please fill in Date of Birth.\",IF(TRIM(O102)<>\"D4\",\"Please format DOB as a date in the form MM/DD/YYYY.\",IF('MARK Enrollment Template'!C107>TODAY(),\"Please check DOB.\",\"\"))))","v":""},{"$f":"IF('MARK Enrollment Template'!A107=\"\",\"\",IF(AND('MARK Enrollment Template'!A107<>\"\",'MARK Enrollment Template'!D107=\"\"),\"Please fill in Sex.\",IF(OR(TRIM('MARK Enrollment Template'!D107)=\"M\",TRIM('MARK Enrollment Template'!D107)=\"F\",TRIM('MARK Enrollment Template'!D107)=\"Male\",TRIM('MARK Enrollment Template'!D107)=\"Female\"),\"\",\"Sex must be M/F/Male/Female.\")))","v":""},null,null,{"$f":"IF('MARK Enrollment Template'!A107=\"\",\"\",IF(AND('MARK Enrollment Template'!A107<>\"\",'MARK Enrollment Template'!G107=\"\"),\"Please fill in Email Address.\",IF(IFERROR(FIND(\"@\",'MARK Enrollment Template'!G107),\"X\")=\"X\",\"Email Address must include an @ symbol.\",\"\")))","v":""},null,null,null,{"$f":"IF('MARK Enrollment Template'!A107=\"\",\"\",IF(AND('MARK Enrollment Template'!A107<>\"\",'MARK Enrollment Template'!K107=\"\"),\"Please fill in Zip Code.\",IF(LEN(SUBSTITUTE(TRIM('MARK Enrollment Template'!K107),CHAR(9),\"\"))<5,\"Zip <5 digits. If leading zero, add apostrophe (ex. '01234).\",\"\")))","v":""},null,null,{"$f":"CELL(\"format\",'MARK Enrollment Template'!C107)","v":"D4"}]
["",{"$f":"IF(AND(SUMPRODUCT(--('MARK Enrollment Template'!A108:L108<>\"\"))<>0,'MARK Enrollment Template'!A108=\"\"),\"Please fill in First Name.\",IF(LEN('MARK Enrollment Template'!A108)=1,\"Please fill in full first name.\",\"\"))","v":""},{"$f":"IF('MARK Enrollment Template'!A108=\"\",\"\",IF(AND('MARK Enrollment Template'!A108<>\"\",'MARK Enrollment Template'!B108=\"\"),\"Please fill in a Last Name.\",\"\"))","v":""},{"$f":"IF('MARK Enrollment Template'!A108=\"\",\"\",IF(AND('MARK Enrollment Template'!A108<>\"\",'MARK Enrollment Template'!C108=\"\"),\"Please fill in Date of Birth.\",IF(TRIM(O103)<>\"D4\",\"Please format DOB as a date in the form MM/DD/YYYY.\",IF('MARK Enrollment Template'!C108>TODAY(),\"Please check DOB.\",\"\"))))","v":""},{"$f":"IF('MARK Enrollment Template'!A108=\"\",\"\",IF(AND('MARK Enrollment Template'!A108<>\"\",'MARK Enrollment Template'!D108=\"\"),\"Please fill in Sex.\",IF(OR(TRIM('MARK Enrollment Template'!D108)=\"M\",TRIM('MARK Enrollment Template'!D108)=\"F\",TRIM('MARK Enrollment Template'!D108)=\"Male\",TRIM('MARK Enrollment Template'!D108)=\"Female\"),\"\",\"Sex must be M/F/Male/Female.\")))","v":""},null,null,{"$f":"IF('MARK Enrollment Template'!A108=\"\",\"\",IF(AND('MARK Enrollment Template'!A108<>\"\",'MARK Enrollment Template'!G108=\"\"),\"Please fill in Email Address.\",IF(IFERROR(FIND(\"@\",'MARK Enrollment Template'!G108),\"X\")=\"X\",\"Email Address must include an @ symbol.\",\"\")))","v":""},null,null,null,{"$f":"IF('MARK Enrollment Template'!A108=\"\",\"\",IF(AND('MARK Enrollment Template'!A108<>\"\",'MARK Enrollment Template'!K108=\"\"),\"Please fill in Zip Code.\",IF(LEN(SUBSTITUTE(TRIM('MARK Enrollment Template'!K108),CHAR(9),\"\"))<5,\"Zip <5 digits. If leading zero, add apostrophe (ex. '01234).\",\"\")))","v":""},null,null,{"$f":"CELL(\"format\",'MARK Enrollment Template'!C108)","v":"D4"}]
["",{"$f":"IF(AND(SUMPRODUCT(--('MARK Enrollment Template'!A109:L109<>\"\"))<>0,'MARK Enrollment Template'!A109=\"\"),\"Please fill in First Name.\",IF(LEN('MARK Enrollment Template'!A109)=1,\"Please fill in full first name.\",\"\"))","v":""},{"$f":"IF('MARK Enrollment Template'!A109=\"\",\"\",IF(AND('MARK Enrollment Template'!A109<>\"\",'MARK Enrollment Template'!B109=\"\"),\"Please fill in a Last Name.\",\"\"))","v":""},{"$f":"IF('MARK Enrollment Template'!A109=\"\",\"\",IF(AND('MARK Enrollment Template'!A109<>\"\",'MARK Enrollment Template'!C109=\"\"),\"Please fill in Date of Birth.\",IF(TRIM(O104)<>\"D4\",\"Please format DOB as a date in the form MM/DD/YYYY.\",IF('MARK Enrollment Template'!C109>TODAY(),\"Please check DOB.\",\"\"))))","v":""},{"$f":"IF('MARK Enrollment Template'!A109=\"\",\"\",IF(AND('MARK Enrollment Template'!A109<>\"\",'MARK Enrollment Template'!D109=\"\"),\"Please fill in Sex.\",IF(OR(TRIM('MARK Enrollment Template'!D109)=\"M\",TRIM('MARK Enrollment Template'!D109)=\"F\",TRIM('MARK Enrollment Template'!D109)=\"Male\",TRIM('MARK Enrollment Template'!D109)=\"Female\"),\"\",\"Sex must be M/F/Male/Female.\")))","v":""},null,null,{"$f":"IF('MARK Enrollment Template'!A109=\"\",\"\",IF(AND('MARK Enrollment Template'!A109<>\"\",'MARK Enrollment Template'!G109=\"\"),\"Please fill in Email Address.\",IF(IFERROR(FIND(\"@\",'MARK Enrollment Template'!G109),\"X\")=\"X\",\"Email Address must include an @ symbol.\",\"\")))","v":""},null,null,null,{"$f":"IF('MARK Enrollment Template'!A109=\"\",\"\",IF(AND('MARK Enrollment Template'!A109<>\"\",'MARK Enrollment Template'!K109=\"\"),\"Please fill in Zip Code.\",IF(LEN(SUBSTITUTE(TRIM('MARK Enrollment Template'!K109),CHAR(9),\"\"))<5,\"Zip <5 digits. If leading zero, add apostrophe (ex. '01234).\",\"\")))","v":""},null,null,{"$f":"CELL(\"format\",'MARK Enrollment Template'!C109)","v":"D4"}]
["",{"$f":"IF(AND(SUMPRODUCT(--('MARK Enrollment Template'!A110:L110<>\"\"))<>0,'MARK Enrollment Template'!A110=\"\"),\"Please fill in First Name.\",IF(LEN('MARK Enrollment Template'!A110)=1,\"Please fill in full first name.\",\"\"))","v":""},{"$f":"IF('MARK Enrollment Template'!A110=\"\",\"\",IF(AND('MARK Enrollment Template'!A110<>\"\",'MARK Enrollment Template'!B110=\"\"),\"Please fill in a Last Name.\",\"\"))","v":""},{"$f":"IF('MARK Enrollment Template'!A110=\"\",\"\",IF(AND('MARK Enrollment Template'!A110<>\"\",'MARK Enrollment Template'!C110=\"\"),\"Please fill in Date of Birth.\",IF(TRIM(O105)<>\"D4\",\"Please format DOB as a date in the form MM/DD/YYYY.\",IF('MARK Enrollment Template'!C110>TODAY(),\"Please check DOB.\",\"\"))))","v":""},{"$f":"IF('MARK Enrollment Template'!A110=\"\",\"\",IF(AND('MARK Enrollment Template'!A110<>\"\",'MARK Enrollment Template'!D110=\"\"),\"Please fill in Sex.\",IF(OR(TRIM('MARK Enrollment Template'!D110)=\"M\",TRIM('MARK Enrollment Template'!D110)=\"F\",TRIM('MARK Enrollment Template'!D110)=\"Male\",TRIM('MARK Enrollment Template'!D110)=\"Female\"),\"\",\"Sex must be M/F/Male/Female.\")))","v":""},null,null,{"$f":"IF('MARK Enrollment Template'!A110=\"\",\"\",IF(AND('MARK Enrollment Template'!A110<>\"\",'MARK Enrollment Template'!G110=\"\"),\"Please fill in Email Address.\",IF(IFERROR(FIND(\"@\",'MARK Enrollment Template'!G110),\"X\")=\"X\",\"Email Address must include an @ symbol.\",\"\")))","v":""},null,null,null,{"$f":"IF('MARK Enrollment Template'!A110=\"\",\"\",IF(AND('MARK Enrollment Template'!A110<>\"\",'MARK Enrollment Template'!K110=\"\"),\"Please fill in Zip Code.\",IF(LEN(SUBSTITUTE(TRIM('MARK Enrollment Template'!K110),CHAR(9),\"\"))<5,\"Zip <5 digits. If leading zero, add apostrophe (ex. '01234).\",\"\")))","v":""},null,null,{"$f":"CELL(\"format\",'MARK Enrollment Template'!C110)","v":"D4"}]
["",{"$f":"IF(AND(SUMPRODUCT(--('MARK Enrollment Template'!A111:L111<>\"\"))<>0,'MARK Enrollment Template'!A111=\"\"),\"Please fill in First Name.\",IF(LEN('MARK Enrollment Template'!A111)=1,\"Please fill in full first name.\",\"\"))","v":""},{"$f":"IF('MARK Enrollment Template'!A111=\"\",\"\",IF(AND('MARK Enrollment Template'!A111<>\"\",'MARK Enrollment Template'!B111=\"\"),\"Please fill in a Last Name.\",\"\"))","v":""},{"$f":"IF('MARK Enrollment Template'!A111=\"\",\"\",IF(AND('MARK Enrollment Template'!A111<>\"\",'MARK Enrollment Template'!C111=\"\"),\"Please fill in Date of Birth.\",IF(TRIM(O106)<>\"D4\",\"Please format DOB as a date in the form MM/DD/YYYY.\",IF('MARK Enrollment Template'!C111>TODAY(),\"Please check DOB.\",\"\"))))","v":""},{"$f":"IF('MARK Enrollment Template'!A111=\"\",\"\",IF(AND('MARK Enrollment Template'!A111<>\"\",'MARK Enrollment Template'!D111=\"\"),\"Please fill in Sex.\",IF(OR(TRIM('MARK Enrollment Template'!D111)=\"M\",TRIM('MARK Enrollment Template'!D111)=\"F\",TRIM('MARK Enrollment Template'!D111)=\"Male\",TRIM('MARK Enrollment Template'!D111)=\"Female\"),\"\",\"Sex must be M/F/Male/Female.\")))","v":""},null,null,{"$f":"IF('MARK Enrollment Template'!A111=\"\",\"\",IF(AND('MARK Enrollment Template'!A111<>\"\",'MARK Enrollment Template'!G111=\"\"),\"Please fill in Email Address.\",IF(IFERROR(FIND(\"@\",'MARK Enrollment Template'!G111),\"X\")=\"X\",\"Email Address must include an @ symbol.\",\"\")))","v":""},null,null,null,{"$f":"IF('MARK Enrollment Template'!A111=\"\",\"\",IF(AND('MARK Enrollment Template'!A111<>\"\",'MARK Enrollment Template'!K111=\"\"),\"Please fill in Zip Code.\",IF(LEN(SUBSTITUTE(TRIM('MARK Enrollment Template'!K111),CHAR(9),\"\"))<5,\"Zip <5 digits. If leading zero, add apostrophe (ex. '01234).\",\"\")))","v":""},null,null,{"$f":"CELL(\"format\",'MARK Enrollment Template'!C111)","v":"D4"}]
["",{"$f":"IF(AND(SUMPRODUCT(--('MARK Enrollment Template'!A112:L112<>\"\"))<>0,'MARK Enrollment Template'!A112=\"\"),\"Please fill in First Name.\",IF(LEN('MARK Enrollment Template'!A112)=1,\"Please fill in full first name.\",\"\"))","v":""},{"$f":"IF('MARK Enrollment Template'!A112=\"\",\"\",IF(AND('MARK Enrollment Template'!A112<>\"\",'MARK Enrollment Template'!B112=\"\"),\"Please fill in a Last Name.\",\"\"))","v":""},{"$f":"IF('MARK Enrollment Template'!A112=\"\",\"\",IF(AND('MARK Enrollment Template'!A112<>\"\",'MARK Enrollment Template'!C112=\"\"),\"Please fill in Date of Birth.\",IF(TRIM(O107)<>\"D4\",\"Please format DOB as a date in the form MM/DD/YYYY.\",IF('MARK Enrollment Template'!C112>TODAY(),\"Please check DOB.\",\"\"))))","v":""},{"$f":"IF('MARK Enrollment Template'!A112=\"\",\"\",IF(AND('MARK Enrollment Template'!A112<>\"\",'MARK Enrollment Template'!D112=\"\"),\"Please fill in Sex.\",IF(OR(TRIM('MARK Enrollment Template'!D112)=\"M\",TRIM('MARK Enrollment Template'!D112)=\"F\",TRIM('MARK Enrollment Template'!D112)=\"Male\",TRIM('MARK Enrollment Template'!D112)=\"Female\"),\"\",\"Sex must be M/F/Male/Female.\")))","v":""},null,null,{"$f":"IF('MARK Enrollment Template'!A112=\"\",\"\",IF(AND('MARK Enrollment Template'!A112<>\"\",'MARK Enrollment Template'!G112=\"\"),\"Please fill in Email Address.\",IF(IFERROR(FIND(\"@\",'MARK Enrollment Template'!G112),\"X\")=\"X\",\"Email Address must include an @ symbol.\",\"\")))","v":""},null,null,null,{"$f":"IF('MARK Enrollment Template'!A112=\"\",\"\",IF(AND('MARK Enrollment Template'!A112<>\"\",'MARK Enrollment Template'!K112=\"\"),\"Please fill in Zip Code.\",IF(LEN(SUBSTITUTE(TRIM('MARK Enrollment Template'!K112),CHAR(9),\"\"))<5,\"Zip <5 digits. If leading zero, add apostrophe (ex. '01234).\",\"\")))","v":""},null,null,{"$f":"CELL(\"format\",'MARK Enrollment Template'!C112)","v":"D4"}]
["",{"$f":"IF(AND(SUMPRODUCT(--('MARK Enrollment Template'!A113:L113<>\"\"))<>0,'MARK Enrollment Template'!A113=\"\"),\"Please fill in First Name.\",IF(LEN('MARK Enrollment Template'!A113)=1,\"Please fill in full first name.\",\"\"))","v":""},{"$f":"IF('MARK Enrollment Template'!A113=\"\",\"\",IF(AND('MARK Enrollment Template'!A113<>\"\",'MARK Enrollment Template'!B113=\"\"),\"Please fill in a Last Name.\",\"\"))","v":""},{"$f":"IF('MARK Enrollment Template'!A113=\"\",\"\",IF(AND('MARK Enrollment Template'!A113<>\"\",'MARK Enrollment Template'!C113=\"\"),\"Please fill in Date of Birth.\",IF(TRIM(O108)<>\"D4\",\"Please format DOB as a date in the form MM/DD/YYYY.\",IF('MARK Enrollment Template'!C113>TODAY(),\"Please check DOB.\",\"\"))))","v":""},{"$f":"IF('MARK Enrollment Template'!A113=\"\",\"\",IF(AND('MARK Enrollment Template'!A113<>\"\",'MARK Enrollment Template'!D113=\"\"),\"Please fill in Sex.\",IF(OR(TRIM('MARK Enrollment Template'!D113)=\"M\",TRIM('MARK Enrollment Template'!D113)=\"F\",TRIM('MARK Enrollment Template'!D113)=\"Male\",TRIM('MARK Enrollment Template'!D113)=\"Female\"),\"\",\"Sex must be M/F/Male/Female.\")))","v":""},null,null,{"$f":"IF('MARK Enrollment Template'!A113=\"\",\"\",IF(AND('MARK Enrollment Template'!A113<>\"\",'MARK Enrollment Template'!G113=\"\"),\"Please fill in Email Address.\",IF(IFERROR(FIND(\"@\",'MARK Enrollment Template'!G113),\"X\")=\"X\",\"Email Address must include an @ symbol.\",\"\")))","v":""},null,null,null,{"$f":"IF('MARK Enrollment Template'!A113=\"\",\"\",IF(AND('MARK Enrollment Template'!A113<>\"\",'MARK Enrollment Template'!K113=\"\"),\"Please fill in Zip Code.\",IF(LEN(SUBSTITUTE(TRIM('MARK Enrollment Template'!K113),CHAR(9),\"\"))<5,\"Zip <5 digits. If leading zero, add apostrophe (ex. '01234).\",\"\")))","v":""},null,null,{"$f":"CELL(\"format\",'MARK Enrollment Template'!C113)","v":"D4"}]
["",{"$f":"IF(AND(SUMPRODUCT(--('MARK Enrollment Template'!A114:L114<>\"\"))<>0,'MARK Enrollment Template'!A114=\"\"),\"Please fill in First Name.\",IF(LEN('MARK Enrollment Template'!A114)=1,\"Please fill in full first name.\",\"\"))","v":""},{"$f":"IF('MARK Enrollment Template'!A114=\"\",\"\",IF(AND('MARK Enrollment Template'!A114<>\"\",'MARK Enrollment Template'!B114=\"\"),\"Please fill in a Last Name.\",\"\"))","v":""},{"$f":"IF('MARK Enrollment Template'!A114=\"\",\"\",IF(AND('MARK Enrollment Template'!A114<>\"\",'MARK Enrollment Template'!C114=\"\"),\"Please fill in Date of Birth.\",IF(TRIM(O109)<>\"D4\",\"Please format DOB as a date in the form MM/DD/YYYY.\",IF('MARK Enrollment Template'!C114>TODAY(),\"Please check DOB.\",\"\"))))","v":""},{"$f":"IF('MARK Enrollment Template'!A114=\"\",\"\",IF(AND('MARK Enrollment Template'!A114<>\"\",'MARK Enrollment Template'!D114=\"\"),\"Please fill in Sex.\",IF(OR(TRIM('MARK Enrollment Template'!D114)=\"M\",TRIM('MARK Enrollment Template'!D114)=\"F\",TRIM('MARK Enrollment Template'!D114)=\"Male\",TRIM('MARK Enrollment Template'!D114)=\"Female\"),\"\",\"Sex must be M/F/Male/Female.\")))","v":""},null,null,{"$f":"IF('MARK Enrollment Template'!A114=\"\",\"\",IF(AND('MARK Enrollment Template'!A114<>\"\",'MARK Enrollment Template'!G114=\"\"),\"Please fill in Email Address.\",IF(IFERROR(FIND(\"@\",'MARK Enrollment Template'!G114),\"X\")=\"X\",\"Email Address must include an @ symbol.\",\"\")))","v":""},null,null,null,{"$f":"IF('MARK Enrollment Template'!A114=\"\",\"\",IF(AND('MARK Enrollment Template'!A114<>\"\",'MARK Enrollment Template'!K114=\"\"),\"Please fill in Zip Code.\",IF(LEN(SUBSTITUTE(TRIM('MARK Enrollment Template'!K114),CHAR(9),\"\"))<5,\"Zip <5 digits. If leading zero, add apostrophe (ex. '01234).\",\"\")))","v":""},null,null,{"$f":"CELL(\"format\",'MARK Enrollment Template'!C114)","v":"D4"}]
["",{"$f":"IF(AND(SUMPRODUCT(--('MARK Enrollment Template'!A115:L115<>\"\"))<>0,'MARK Enrollment Template'!A115=\"\"),\"Please fill in First Name.\",IF(LEN('MARK Enrollment Template'!A115)=1,\"Please fill in full first name.\",\"\"))","v":""},{"$f":"IF('MARK Enrollment Template'!A115=\"\",\"\",IF(AND('MARK Enrollment Template'!A115<>\"\",'MARK Enrollment Template'!B115=\"\"),\"Please fill in a Last Name.\",\"\"))","v":""},{"$f":"IF('MARK Enrollment Template'!A115=\"\",\"\",IF(AND('MARK Enrollment Template'!A115<>\"\",'MARK Enrollment Template'!C115=\"\"),\"Please fill in Date of Birth.\",IF(TRIM(O110)<>\"D4\",\"Please format DOB as a date in the form MM/DD/YYYY.\",IF('MARK Enrollment Template'!C115>TODAY(),\"Please check DOB.\",\"\"))))","v":""},{"$f":"IF('MARK Enrollment Template'!A115=\"\",\"\",IF(AND('MARK Enrollment Template'!A115<>\"\",'MARK Enrollment Template'!D115=\"\"),\"Please fill in Sex.\",IF(OR(TRIM('MARK Enrollment Template'!D115)=\"M\",TRIM('MARK Enrollment Template'!D115)=\"F\",TRIM('MARK Enrollment Template'!D115)=\"Male\",TRIM('MARK Enrollment Template'!D115)=\"Female\"),\"\",\"Sex must be M/F/Male/Female.\")))","v":""},null,null,{"$f":"IF('MARK Enrollment Template'!A115=\"\",\"\",IF(AND('MARK Enrollment Template'!A115<>\"\",'MARK Enrollment Template'!G115=\"\"),\"Please fill in Email Address.\",IF(IFERROR(FIND(\"@\",'MARK Enrollment Template'!G115),\"X\")=\"X\",\"Email Address must include an @ symbol.\",\"\")))","v":""},null,null,null,{"$f":"IF('MARK Enrollment Template'!A115=\"\",\"\",IF(AND('MARK Enrollment Template'!A115<>\"\",'MARK Enrollment Template'!K115=\"\"),\"Please fill in Zip Code.\",IF(LEN(SUBSTITUTE(TRIM('MARK Enrollment Template'!K115),CHAR(9),\"\"))<5,\"Zip <5 digits. If leading zero, add apostrophe (ex. '01234).\",\"\")))","v":""},null,null,{"$f":"CELL(\"format\",'MARK Enrollment Template'!C115)","v":"D4"}]
["",{"$f":"IF(AND(SUMPRODUCT(--('MARK Enrollment Template'!A116:L116<>\"\"))<>0,'MARK Enrollment Template'!A116=\"\"),\"Please fill in First Name.\",IF(LEN('MARK Enrollment Template'!A116)=1,\"Please fill in full first name.\",\"\"))","v":""},{"$f":"IF('MARK Enrollment Template'!A116=\"\",\"\",IF(AND('MARK Enrollment Template'!A116<>\"\",'MARK Enrollment Template'!B116=\"\"),\"Please fill in a Last Name.\",\"\"))","v":""},{"$f":"IF('MARK Enrollment Template'!A116=\"\",\"\",IF(AND('MARK Enrollment Template'!A116<>\"\",'MARK Enrollment Template'!C116=\"\"),\"Please fill in Date of Birth.\",IF(TRIM(O111)<>\"D4\",\"Please format DOB as a date in the form MM/DD/YYYY.\",IF('MARK Enrollment Template'!C116>TODAY(),\"Please check DOB.\",\"\"))))","v":""},{"$f":"IF('MARK Enrollment Template'!A116=\"\",\"\",IF(AND('MARK Enrollment Template'!A116<>\"\",'MARK Enrollment Template'!D116=\"\"),\"Please fill in Sex.\",IF(OR(TRIM('MARK Enrollment Template'!D116)=\"M\",TRIM('MARK Enrollment Template'!D116)=\"F\",TRIM('MARK Enrollment Template'!D116)=\"Male\",TRIM('MARK Enrollment Template'!D116)=\"Female\"),\"\",\"Sex must be M/F/Male/Female.\")))","v":""},null,null,{"$f":"IF('MARK Enrollment Template'!A116=\"\",\"\",IF(AND('MARK Enrollment Template'!A116<>\"\",'MARK Enrollment Template'!G116=\"\"),\"Please fill in Email Address.\",IF(IFERROR(FIND(\"@\",'MARK Enrollment Template'!G116),\"X\")=\"X\",\"Email Address must include an @ symbol.\",\"\")))","v":""},null,null,null,{"$f":"IF('MARK Enrollment Template'!A116=\"\",\"\",IF(AND('MARK Enrollment Template'!A116<>\"\",'MARK Enrollment Template'!K116=\"\"),\"Please fill in Zip Code.\",IF(LEN(SUBSTITUTE(TRIM('MARK Enrollment Template'!K116),CHAR(9),\"\"))<5,\"Zip <5 digits. If leading zero, add apostrophe (ex. '01234).\",\"\")))","v":""},null,null,{"$f":"CELL(\"format\",'MARK Enrollment Template'!C116)","v":"D4"}]
["",{"$f":"IF(AND(SUMPRODUCT(--('MARK Enrollment Template'!A117:L117<>\"\"))<>0,'MARK Enrollment Template'!A117=\"\"),\"Please fill in First Name.\",IF(LEN('MARK Enrollment Template'!A117)=1,\"Please fill in full first name.\",\"\"))","v":""},{"$f":"IF('MARK Enrollment Template'!A117=\"\",\"\",IF(AND('MARK Enrollment Template'!A117<>\"\",'MARK Enrollment Template'!B117=\"\"),\"Please fill in a Last Name.\",\"\"))","v":""},{"$f":"IF('MARK Enrollment Template'!A117=\"\",\"\",IF(AND('MARK Enrollment Template'!A117<>\"\",'MARK Enrollment Template'!C117=\"\"),\"Please fill in Date of Birth.\",IF(TRIM(O112)<>\"D4\",\"Please format DOB as a date in the form MM/DD/YYYY.\",IF('MARK Enrollment Template'!C117>TODAY(),\"Please check DOB.\",\"\"))))","v":""},{"$f":"IF('MARK Enrollment Template'!A117=\"\",\"\",IF(AND('MARK Enrollment Template'!A117<>\"\",'MARK Enrollment Template'!D117=\"\"),\"Please fill in Sex.\",IF(OR(TRIM('MARK Enrollment Template'!D117)=\"M\",TRIM('MARK Enrollment Template'!D117)=\"F\",TRIM('MARK Enrollment Template'!D117)=\"Male\",TRIM('MARK Enrollment Template'!D117)=\"Female\"),\"\",\"Sex must be M/F/Male/Female.\")))","v":""},null,null,{"$f":"IF('MARK Enrollment Template'!A117=\"\",\"\",IF(AND('MARK Enrollment Template'!A117<>\"\",'MARK Enrollment Template'!G117=\"\"),\"Please fill in Email Address.\",IF(IFERROR(FIND(\"@\",'MARK Enrollment Template'!G117),\"X\")=\"X\",\"Email Address must include an @ symbol.\",\"\")))","v":""},null,null,null,{"$f":"IF('MARK Enrollment Template'!A117=\"\",\"\",IF(AND('MARK Enrollment Template'!A117<>\"\",'MARK Enrollment Template'!K117=\"\"),\"Please fill in Zip Code.\",IF(LEN(SUBSTITUTE(TRIM('MARK Enrollment Template'!K117),CHAR(9),\"\"))<5,\"Zip <5 digits. If leading zero, add apostrophe (ex. '01234).\",\"\")))","v":""},null,null,{"$f":"CELL(\"format\",'MARK Enrollment Template'!C117)","v":"D4"}]
["",{"$f":"IF(AND(SUMPRODUCT(--('MARK Enrollment Template'!A118:L118<>\"\"))<>0,'MARK Enrollment Template'!A118=\"\"),\"Please fill in First Name.\",IF(LEN('MARK Enrollment Template'!A118)=1,\"Please fill in full first name.\",\"\"))","v":""},{"$f":"IF('MARK Enrollment Template'!A118=\"\",\"\",IF(AND('MARK Enrollment Template'!A118<>\"\",'MARK Enrollment Template'!B118=\"\"),\"Please fill in a Last Name.\",\"\"))","v":""},{"$f":"IF('MARK Enrollment Template'!A118=\"\",\"\",IF(AND('MARK Enrollment Template'!A118<>\"\",'MARK Enrollment Template'!C118=\"\"),\"Please fill in Date of Birth.\",IF(TRIM(O113)<>\"D4\",\"Please format DOB as a date in the form MM/DD/YYYY.\",IF('MARK Enrollment Template'!C118>TODAY(),\"Please check DOB.\",\"\"))))","v":""},{"$f":"IF('MARK Enrollment Template'!A118=\"\",\"\",IF(AND('MARK Enrollment Template'!A118<>\"\",'MARK Enrollment Template'!D118=\"\"),\"Please fill in Sex.\",IF(OR(TRIM('MARK Enrollment Template'!D118)=\"M\",TRIM('MARK Enrollment Template'!D118)=\"F\",TRIM('MARK Enrollment Template'!D118)=\"Male\",TRIM('MARK Enrollment Template'!D118)=\"Female\"),\"\",\"Sex must be M/F/Male/Female.\")))","v":""},null,null,{"$f":"IF('MARK Enrollment Template'!A118=\"\",\"\",IF(AND('MARK Enrollment Template'!A118<>\"\",'MARK Enrollment Template'!G118=\"\"),\"Please fill in Email Address.\",IF(IFERROR(FIND(\"@\",'MARK Enrollment Template'!G118),\"X\")=\"X\",\"Email Address must include an @ symbol.\",\"\")))","v":""},null,null,null,{"$f":"IF('MARK Enrollment Template'!A118=\"\",\"\",IF(AND('MARK Enrollment Template'!A118<>\"\",'MARK Enrollment Template'!K118=\"\"),\"Please fill in Zip Code.\",IF(LEN(SUBSTITUTE(TRIM('MARK Enrollment Template'!K118),CHAR(9),\"\"))<5,\"Zip <5 digits. If leading zero, add apostrophe (ex. '01234).\",\"\")))","v":""},null,null,{"$f":"CELL(\"format\",'MARK Enrollment Template'!C118)","v":"D4"}]
["",{"$f":"IF(AND(SUMPRODUCT(--('MARK Enrollment Template'!A119:L119<>\"\"))<>0,'MARK Enrollment Template'!A119=\"\"),\"Please fill in First Name.\",IF(LEN('MARK Enrollment Template'!A119)=1,\"Please fill in full first name.\",\"\"))","v":""},{"$f":"IF('MARK Enrollment Template'!A119=\"\",\"\",IF(AND('MARK Enrollment Template'!A119<>\"\",'MARK Enrollment Template'!B119=\"\"),\"Please fill in a Last Name.\",\"\"))","v":""},{"$f":"IF('MARK Enrollment Template'!A119=\"\",\"\",IF(AND('MARK Enrollment Template'!A119<>\"\",'MARK Enrollment Template'!C119=\"\"),\"Please fill in Date of Birth.\",IF(TRIM(O114)<>\"D4\",\"Please format DOB as a date in the form MM/DD/YYYY.\",IF('MARK Enrollment Template'!C119>TODAY(),\"Please check DOB.\",\"\"))))","v":""},{"$f":"IF('MARK Enrollment Template'!A119=\"\",\"\",IF(AND('MARK Enrollment Template'!A119<>\"\",'MARK Enrollment Template'!D119=\"\"),\"Please fill in Sex.\",IF(OR(TRIM('MARK Enrollment Template'!D119)=\"M\",TRIM('MARK Enrollment Template'!D119)=\"F\",TRIM('MARK Enrollment Template'!D119)=\"Male\",TRIM('MARK Enrollment Template'!D119)=\"Female\"),\"\",\"Sex must be M/F/Male/Female.\")))","v":""},null,null,{"$f":"IF('MARK Enrollment Template'!A119=\"\",\"\",IF(AND('MARK Enrollment Template'!A119<>\"\",'MARK Enrollment Template'!G119=\"\"),\"Please fill in Email Address.\",IF(IFERROR(FIND(\"@\",'MARK Enrollment Template'!G119),\"X\")=\"X\",\"Email Address must include an @ symbol.\",\"\")))","v":""},null,null,null,{"$f":"IF('MARK Enrollment Template'!A119=\"\",\"\",IF(AND('MARK Enrollment Template'!A119<>\"\",'MARK Enrollment Template'!K119=\"\"),\"Please fill in Zip Code.\",IF(LEN(SUBSTITUTE(TRIM('MARK Enrollment Template'!K119),CHAR(9),\"\"))<5,\"Zip <5 digits. If leading zero, add apostrophe (ex. '01234).\",\"\")))","v":""},null,null,{"$f":"CELL(\"format\",'MARK Enrollment Template'!C119)","v":"D4"}]
["",{"$f":"IF(AND(SUMPRODUCT(--('MARK Enrollment Template'!A120:L120<>\"\"))<>0,'MARK Enrollment Template'!A120=\"\"),\"Please fill in First Name.\",IF(LEN('MARK Enrollment Template'!A120)=1,\"Please fill in full first name.\",\"\"))","v":""},{"$f":"IF('MARK Enrollment Template'!A120=\"\",\"\",IF(AND('MARK Enrollment Template'!A120<>\"\",'MARK Enrollment Template'!B120=\"\"),\"Please fill in a Last Name.\",\"\"))","v":""},{"$f":"IF('MARK Enrollment Template'!A120=\"\",\"\",IF(AND('MARK Enrollment Template'!A120<>\"\",'MARK Enrollment Template'!C120=\"\"),\"Please fill in Date of Birth.\",IF(TRIM(O115)<>\"D4\",\"Please format DOB as a date in the form MM/DD/YYYY.\",IF('MARK Enrollment Template'!C120>TODAY(),\"Please check DOB.\",\"\"))))","v":""},{"$f":"IF('MARK Enrollment Template'!A120=\"\",\"\",IF(AND('MARK Enrollment Template'!A120<>\"\",'MARK Enrollment Template'!D120=\"\"),\"Please fill in Sex.\",IF(OR(TRIM('MARK Enrollment Template'!D120)=\"M\",TRIM('MARK Enrollment Template'!D120)=\"F\",TRIM('MARK Enrollment Template'!D120)=\"Male\",TRIM('MARK Enrollment Template'!D120)=\"Female\"),\"\",\"Sex must be M/F/Male/Female.\")))","v":""},null,null,{"$f":"IF('MARK Enrollment Template'!A120=\"\",\"\",IF(AND('MARK Enrollment Template'!A120<>\"\",'MARK Enrollment Template'!G120=\"\"),\"Please fill in Email Address.\",IF(IFERROR(FIND(\"@\",'MARK Enrollment Template'!G120),\"X\")=\"X\",\"Email Address must include an @ symbol.\",\"\")))","v":""},null,null,null,{"$f":"IF('MARK Enrollment Template'!A120=\"\",\"\",IF(AND('MARK Enrollment Template'!A120<>\"\",'MARK Enrollment Template'!K120=\"\"),\"Please fill in Zip Code.\",IF(LEN(SUBSTITUTE(TRIM('MARK Enrollment Template'!K120),CHAR(9),\"\"))<5,\"Zip <5 digits. If leading zero, add apostrophe (ex. '01234).\",\"\")))","v":""},null,null,{"$f":"CELL(\"format\",'MARK Enrollment Template'!C120)","v":"D4"}]
["",{"$f":"IF(AND(SUMPRODUCT(--('MARK Enrollment Template'!A121:L121<>\"\"))<>0,'MARK Enrollment Template'!A121=\"\"),\"Please fill in First Name.\",IF(LEN('MARK Enrollment Template'!A121)=1,\"Please fill in full first name.\",\"\"))","v":""},{"$f":"IF('MARK Enrollment Template'!A121=\"\",\"\",IF(AND('MARK Enrollment Template'!A121<>\"\",'MARK Enrollment Template'!B121=\"\"),\"Please fill in a Last Name.\",\"\"))","v":""},{"$f":"IF('MARK Enrollment Template'!A121=\"\",\"\",IF(AND('MARK Enrollment Template'!A121<>\"\",'MARK Enrollment Template'!C121=\"\"),\"Please fill in Date of Birth.\",IF(TRIM(O116)<>\"D4\",\"Please format DOB as a date in the form MM/DD/YYYY.\",IF('MARK Enrollment Template'!C121>TODAY(),\"Please check DOB.\",\"\"))))","v":""},{"$f":"IF('MARK Enrollment Template'!A121=\"\",\"\",IF(AND('MARK Enrollment Template'!A121<>\"\",'MARK Enrollment Template'!D121=\"\"),\"Please fill in Sex.\",IF(OR(TRIM('MARK Enrollment Template'!D121)=\"M\",TRIM('MARK Enrollment Template'!D121)=\"F\",TRIM('MARK Enrollment Template'!D121)=\"Male\",TRIM('MARK Enrollment Template'!D121)=\"Female\"),\"\",\"Sex must be M/F/Male/Female.\")))","v":""},null,null,{"$f":"IF('MARK Enrollment Template'!A121=\"\",\"\",IF(AND('MARK Enrollment Template'!A121<>\"\",'MARK Enrollment Template'!G121=\"\"),\"Please fill in Email Address.\",IF(IFERROR(FIND(\"@\",'MARK Enrollment Template'!G121),\"X\")=\"X\",\"Email Address must include an @ symbol.\",\"\")))","v":""},null,null,null,{"$f":"IF('MARK Enrollment Template'!A121=\"\",\"\",IF(AND('MARK Enrollment Template'!A121<>\"\",'MARK Enrollment Template'!K121=\"\"),\"Please fill in Zip Code.\",IF(LEN(SUBSTITUTE(TRIM('MARK Enrollment Template'!K121),CHAR(9),\"\"))<5,\"Zip <5 digits. If leading zero, add apostrophe (ex. '01234).\",\"\")))","v":""},null,null,{"$f":"CELL(\"format\",'MARK Enrollment Template'!C121)","v":"D4"}]
["",{"$f":"IF(AND(SUMPRODUCT(--('MARK Enrollment Template'!A122:L122<>\"\"))<>0,'MARK Enrollment Template'!A122=\"\"),\"Please fill in First Name.\",IF(LEN('MARK Enrollment Template'!A122)=1,\"Please fill in full first name.\",\"\"))","v":""},{"$f":"IF('MARK Enrollment Template'!A122=\"\",\"\",IF(AND('MARK Enrollment Template'!A122<>\"\",'MARK Enrollment Template'!B122=\"\"),\"Please fill in a Last Name.\",\"\"))","v":""},{"$f":"IF('MARK Enrollment Template'!A122=\"\",\"\",IF(AND('MARK Enrollment Template'!A122<>\"\",'MARK Enrollment Template'!C122=\"\"),\"Please fill in Date of Birth.\",IF(TRIM(O117)<>\"D4\",\"Please format DOB as a date in the form MM/DD/YYYY.\",IF('MARK Enrollment Template'!C122>TODAY(),\"Please check DOB.\",\"\"))))","v":""},{"$f":"IF('MARK Enrollment Template'!A122=\"\",\"\",IF(AND('MARK Enrollment Template'!A122<>\"\",'MARK Enrollment Template'!D122=\"\"),\"Please fill in Sex.\",IF(OR(TRIM('MARK Enrollment Template'!D122)=\"M\",TRIM('MARK Enrollment Template'!D122)=\"F\",TRIM('MARK Enrollment Template'!D122)=\"Male\",TRIM('MARK Enrollment Template'!D122)=\"Female\"),\"\",\"Sex must be M/F/Male/Female.\")))","v":""},null,null,{"$f":"IF('MARK Enrollment Template'!A122=\"\",\"\",IF(AND('MARK Enrollment Template'!A122<>\"\",'MARK Enrollment Template'!G122=\"\"),\"Please fill in Email Address.\",IF(IFERROR(FIND(\"@\",'MARK Enrollment Template'!G122),\"X\")=\"X\",\"Email Address must include an @ symbol.\",\"\")))","v":""},null,null,null,{"$f":"IF('MARK Enrollment Template'!A122=\"\",\"\",IF(AND('MARK Enrollment Template'!A122<>\"\",'MARK Enrollment Template'!K122=\"\"),\"Please fill in Zip Code.\",IF(LEN(SUBSTITUTE(TRIM('MARK Enrollment Template'!K122),CHAR(9),\"\"))<5,\"Zip <5 digits. If leading zero, add apostrophe (ex. '01234).\",\"\")))","v":""},null,null,{"$f":"CELL(\"format\",'MARK Enrollment Template'!C122)","v":"D4"}]
["",{"$f":"IF(AND(SUMPRODUCT(--('MARK Enrollment Template'!A123:L123<>\"\"))<>0,'MARK Enrollment Template'!A123=\"\"),\"Please fill in First Name.\",IF(LEN('MARK Enrollment Template'!A123)=1,\"Please fill in full first name.\",\"\"))","v":""},{"$f":"IF('MARK Enrollment Template'!A123=\"\",\"\",IF(AND('MARK Enrollment Template'!A123<>\"\",'MARK Enrollment Template'!B123=\"\"),\"Please fill in a Last Name.\",\"\"))","v":""},{"$f":"IF('MARK Enrollment Template'!A123=\"\",\"\",IF(AND('MARK Enrollment Template'!A123<>\"\",'MARK Enrollment Template'!C123=\"\"),\"Please fill in Date of Birth.\",IF(TRIM(O118)<>\"D4\",\"Please format DOB as a date in the form MM/DD/YYYY.\",IF('MARK Enrollment Template'!C123>TODAY(),\"Please check DOB.\",\"\"))))","v":""},{"$f":"IF('MARK Enrollment Template'!A123=\"\",\"\",IF(AND('MARK Enrollment Template'!A123<>\"\",'MARK Enrollment Template'!D123=\"\"),\"Please fill in Sex.\",IF(OR(TRIM('MARK Enrollment Template'!D123)=\"M\",TRIM('MARK Enrollment Template'!D123)=\"F\",TRIM('MARK Enrollment Template'!D123)=\"Male\",TRIM('MARK Enrollment Template'!D123)=\"Female\"),\"\",\"Sex must be M/F/Male/Female.\")))","v":""},null,null,{"$f":"IF('MARK Enrollment Template'!A123=\"\",\"\",IF(AND('MARK Enrollment Template'!A123<>\"\",'MARK Enrollment Template'!G123=\"\"),\"Please fill in Email Address.\",IF(IFERROR(FIND(\"@\",'MARK Enrollment Template'!G123),\"X\")=\"X\",\"Email Address must include an @ symbol.\",\"\")))","v":""},null,null,null,{"$f":"IF('MARK Enrollment Template'!A123=\"\",\"\",IF(AND('MARK Enrollment Template'!A123<>\"\",'MARK Enrollment Template'!K123=\"\"),\"Please fill in Zip Code.\",IF(LEN(SUBSTITUTE(TRIM('MARK Enrollment Template'!K123),CHAR(9),\"\"))<5,\"Zip <5 digits. If leading zero, add apostrophe (ex. '01234).\",\"\")))","v":""},null,null,{"$f":"CELL(\"format\",'MARK Enrollment Template'!C123)","v":"D4"}]
["",{"$f":"IF(AND(SUMPRODUCT(--('MARK Enrollment Template'!A124:L124<>\"\"))<>0,'MARK Enrollment Template'!A124=\"\"),\"Please fill in First Name.\",IF(LEN('MARK Enrollment Template'!A124)=1,\"Please fill in full first name.\",\"\"))","v":""},{"$f":"IF('MARK Enrollment Template'!A124=\"\",\"\",IF(AND('MARK Enrollment Template'!A124<>\"\",'MARK Enrollment Template'!B124=\"\"),\"Please fill in a Last Name.\",\"\"))","v":""},{"$f":"IF('MARK Enrollment Template'!A124=\"\",\"\",IF(AND('MARK Enrollment Template'!A124<>\"\",'MARK Enrollment Template'!C124=\"\"),\"Please fill in Date of Birth.\",IF(TRIM(O119)<>\"D4\",\"Please format DOB as a date in the form MM/DD/YYYY.\",IF('MARK Enrollment Template'!C124>TODAY(),\"Please check DOB.\",\"\"))))","v":""},{"$f":"IF('MARK Enrollment Template'!A124=\"\",\"\",IF(AND('MARK Enrollment Template'!A124<>\"\",'MARK Enrollment Template'!D124=\"\"),\"Please fill in Sex.\",IF(OR(TRIM('MARK Enrollment Template'!D124)=\"M\",TRIM('MARK Enrollment Template'!D124)=\"F\",TRIM('MARK Enrollment Template'!D124)=\"Male\",TRIM('MARK Enrollment Template'!D124)=\"Female\"),\"\",\"Sex must be M/F/Male/Female.\")))","v":""},null,null,{"$f":"IF('MARK Enrollment Template'!A124=\"\",\"\",IF(AND('MARK Enrollment Template'!A124<>\"\",'MARK Enrollment Template'!G124=\"\"),\"Please fill in Email Address.\",IF(IFERROR(FIND(\"@\",'MARK Enrollment Template'!G124),\"X\")=\"X\",\"Email Address must include an @ symbol.\",\"\")))","v":""},null,null,null,{"$f":"IF('MARK Enrollment Template'!A124=\"\",\"\",IF(AND('MARK Enrollment Template'!A124<>\"\",'MARK Enrollment Template'!K124=\"\"),\"Please fill in Zip Code.\",IF(LEN(SUBSTITUTE(TRIM('MARK Enrollment Template'!K124),CHAR(9),\"\"))<5,\"Zip <5 digits. If leading zero, add apostrophe (ex. '01234).\",\"\")))","v":""},null,null,{"$f":"CELL(\"format\",'MARK Enrollment Template'!C124)","v":"D4"}]
["",{"$f":"IF(AND(SUMPRODUCT(--('MARK Enrollment Template'!A125:L125<>\"\"))<>0,'MARK Enrollment Template'!A125=\"\"),\"Please fill in First Name.\",IF(LEN('MARK Enrollment Template'!A125)=1,\"Please fill in full first name.\",\"\"))","v":""},{"$f":"IF('MARK Enrollment Template'!A125=\"\",\"\",IF(AND('MARK Enrollment Template'!A125<>\"\",'MARK Enrollment Template'!B125=\"\"),\"Please fill in a Last Name.\",\"\"))","v":""},{"$f":"IF('MARK Enrollment Template'!A125=\"\",\"\",IF(AND('MARK Enrollment Template'!A125<>\"\",'MARK Enrollment Template'!C125=\"\"),\"Please fill in Date of Birth.\",IF(TRIM(O120)<>\"D4\",\"Please format DOB as a date in the form MM/DD/YYYY.\",IF('MARK Enrollment Template'!C125>TODAY(),\"Please check DOB.\",\"\"))))","v":""},{"$f":"IF('MARK Enrollment Template'!A125=\"\",\"\",IF(AND('MARK Enrollment Template'!A125<>\"\",'MARK Enrollment Template'!D125=\"\"),\"Please fill in Sex.\",IF(OR(TRIM('MARK Enrollment Template'!D125)=\"M\",TRIM('MARK Enrollment Template'!D125)=\"F\",TRIM('MARK Enrollment Template'!D125)=\"Male\",TRIM('MARK Enrollment Template'!D125)=\"Female\"),\"\",\"Sex must be M/F/Male/Female.\")))","v":""},null,null,{"$f":"IF('MARK Enrollment Template'!A125=\"\",\"\",IF(AND('MARK Enrollment Template'!A125<>\"\",'MARK Enrollment Template'!G125=\"\"),\"Please fill in Email Address.\",IF(IFERROR(FIND(\"@\",'MARK Enrollment Template'!G125),\"X\")=\"X\",\"Email Address must include an @ symbol.\",\"\")))","v":""},null,null,null,{"$f":"IF('MARK Enrollment Template'!A125=\"\",\"\",IF(AND('MARK Enrollment Template'!A125<>\"\",'MARK Enrollment Template'!K125=\"\"),\"Please fill in Zip Code.\",IF(LEN(SUBSTITUTE(TRIM('MARK Enrollment Template'!K125),CHAR(9),\"\"))<5,\"Zip <5 digits. If leading zero, add apostrophe (ex. '01234).\",\"\")))","v":""},null,null,{"$f":"CELL(\"format\",'MARK Enrollment Template'!C125)","v":"D4"}]
["",{"$f":"IF(AND(SUMPRODUCT(--('MARK Enrollment Template'!A126:L126<>\"\"))<>0,'MARK Enrollment Template'!A126=\"\"),\"Please fill in First Name.\",IF(LEN('MARK Enrollment Template'!A126)=1,\"Please fill in full first name.\",\"\"))","v":""},{"$f":"IF('MARK Enrollment Template'!A126=\"\",\"\",IF(AND('MARK Enrollment Template'!A126<>\"\",'MARK Enrollment Template'!B126=\"\"),\"Please fill in a Last Name.\",\"\"))","v":""},{"$f":"IF('MARK Enrollment Template'!A126=\"\",\"\",IF(AND('MARK Enrollment Template'!A126<>\"\",'MARK Enrollment Template'!C126=\"\"),\"Please fill in Date of Birth.\",IF(TRIM(O121)<>\"D4\",\"Please format DOB as a date in the form MM/DD/YYYY.\",IF('MARK Enrollment Template'!C126>TODAY(),\"Please check DOB.\",\"\"))))","v":""},{"$f":"IF('MARK Enrollment Template'!A126=\"\",\"\",IF(AND('MARK Enrollment Template'!A126<>\"\",'MARK Enrollment Template'!D126=\"\"),\"Please fill in Sex.\",IF(OR(TRIM('MARK Enrollment Template'!D126)=\"M\",TRIM('MARK Enrollment Template'!D126)=\"F\",TRIM('MARK Enrollment Template'!D126)=\"Male\",TRIM('MARK Enrollment Template'!D126)=\"Female\"),\"\",\"Sex must be M/F/Male/Female.\")))","v":""},null,null,{"$f":"IF('MARK Enrollment Template'!A126=\"\",\"\",IF(AND('MARK Enrollment Template'!A126<>\"\",'MARK Enrollment Template'!G126=\"\"),\"Please fill in Email Address.\",IF(IFERROR(FIND(\"@\",'MARK Enrollment Template'!G126),\"X\")=\"X\",\"Email Address must include an @ symbol.\",\"\")))","v":""},null,null,null,{"$f":"IF('MARK Enrollment Template'!A126=\"\",\"\",IF(AND('MARK Enrollment Template'!A126<>\"\",'MARK Enrollment Template'!K126=\"\"),\"Please fill in Zip Code.\",IF(LEN(SUBSTITUTE(TRIM('MARK Enrollment Template'!K126),CHAR(9),\"\"))<5,\"Zip <5 digits. If leading zero, add apostrophe (ex. '01234).\",\"\")))","v":""},null,null,{"$f":"CELL(\"format\",'MARK Enrollment Template'!C126)","v":"D4"}]
["",{"$f":"IF(AND(SUMPRODUCT(--('MARK Enrollment Template'!A127:L127<>\"\"))<>0,'MARK Enrollment Template'!A127=\"\"),\"Please fill in First Name.\",IF(LEN('MARK Enrollment Template'!A127)=1,\"Please fill in full first name.\",\"\"))","v":""},{"$f":"IF('MARK Enrollment Template'!A127=\"\",\"\",IF(AND('MARK Enrollment Template'!A127<>\"\",'MARK Enrollment Template'!B127=\"\"),\"Please fill in a Last Name.\",\"\"))","v":""},{"$f":"IF('MARK Enrollment Template'!A127=\"\",\"\",IF(AND('MARK Enrollment Template'!A127<>\"\",'MARK Enrollment Template'!C127=\"\"),\"Please fill in Date of Birth.\",IF(TRIM(O122)<>\"D4\",\"Please format DOB as a date in the form MM/DD/YYYY.\",IF('MARK Enrollment Template'!C127>TODAY(),\"Please check DOB.\",\"\"))))","v":""},{"$f":"IF('MARK Enrollment Template'!A127=\"\",\"\",IF(AND('MARK Enrollment Template'!A127<>\"\",'MARK Enrollment Template'!D127=\"\"),\"Please fill in Sex.\",IF(OR(TRIM('MARK Enrollment Template'!D127)=\"M\",TRIM('MARK Enrollment Template'!D127)=\"F\",TRIM('MARK Enrollment Template'!D127)=\"Male\",TRIM('MARK Enrollment Template'!D127)=\"Female\"),\"\",\"Sex must be M/F/Male/Female.\")))","v":""},null,null,{"$f":"IF('MARK Enrollment Template'!A127=\"\",\"\",IF(AND('MARK Enrollment Template'!A127<>\"\",'MARK Enrollment Template'!G127=\"\"),\"Please fill in Email Address.\",IF(IFERROR(FIND(\"@\",'MARK Enrollment Template'!G127),\"X\")=\"X\",\"Email Address must include an @ symbol.\",\"\")))","v":""},null,null,null,{"$f":"IF('MARK Enrollment Template'!A127=\"\",\"\",IF(AND('MARK Enrollment Template'!A127<>\"\",'MARK Enrollment Template'!K127=\"\"),\"Please fill in Zip Code.\",IF(LEN(SUBSTITUTE(TRIM('MARK Enrollment Template'!K127),CHAR(9),\"\"))<5,\"Zip <5 digits. If leading zero, add apostrophe (ex. '01234).\",\"\")))","v":""},null,null,{"$f":"CELL(\"format\",'MARK Enrollment Template'!C127)","v":"D4"}]
["",{"$f":"IF(AND(SUMPRODUCT(--('MARK Enrollment Template'!A128:L128<>\"\"))<>0,'MARK Enrollment Template'!A128=\"\"),\"Please fill in First Name.\",IF(LEN('MARK Enrollment Template'!A128)=1,\"Please fill in full first name.\",\"\"))","v":""},{"$f":"IF('MARK Enrollment Template'!A128=\"\",\"\",IF(AND('MARK Enrollment Template'!A128<>\"\",'MARK Enrollment Template'!B128=\"\"),\"Please fill in a Last Name.\",\"\"))","v":""},{"$f":"IF('MARK Enrollment Template'!A128=\"\",\"\",IF(AND('MARK Enrollment Template'!A128<>\"\",'MARK Enrollment Template'!C128=\"\"),\"Please fill in Date of Birth.\",IF(TRIM(O123)<>\"D4\",\"Please format DOB as a date in the form MM/DD/YYYY.\",IF('MARK Enrollment Template'!C128>TODAY(),\"Please check DOB.\",\"\"))))","v":""},{"$f":"IF('MARK Enrollment Template'!A128=\"\",\"\",IF(AND('MARK Enrollment Template'!A128<>\"\",'MARK Enrollment Template'!D128=\"\"),\"Please fill in Sex.\",IF(OR(TRIM('MARK Enrollment Template'!D128)=\"M\",TRIM('MARK Enrollment Template'!D128)=\"F\",TRIM('MARK Enrollment Template'!D128)=\"Male\",TRIM('MARK Enrollment Template'!D128)=\"Female\"),\"\",\"Sex must be M/F/Male/Female.\")))","v":""},null,null,{"$f":"IF('MARK Enrollment Template'!A128=\"\",\"\",IF(AND('MARK Enrollment Template'!A128<>\"\",'MARK Enrollment Template'!G128=\"\"),\"Please fill in Email Address.\",IF(IFERROR(FIND(\"@\",'MARK Enrollment Template'!G128),\"X\")=\"X\",\"Email Address must include an @ symbol.\",\"\")))","v":""},null,null,null,{"$f":"IF('MARK Enrollment Template'!A128=\"\",\"\",IF(AND('MARK Enrollment Template'!A128<>\"\",'MARK Enrollment Template'!K128=\"\"),\"Please fill in Zip Code.\",IF(LEN(SUBSTITUTE(TRIM('MARK Enrollment Template'!K128),CHAR(9),\"\"))<5,\"Zip <5 digits. If leading zero, add apostrophe (ex. '01234).\",\"\")))","v":""},null,null,{"$f":"CELL(\"format\",'MARK Enrollment Template'!C128)","v":"D4"}]
["",{"$f":"IF(AND(SUMPRODUCT(--('MARK Enrollment Template'!A129:L129<>\"\"))<>0,'MARK Enrollment Template'!A129=\"\"),\"Please fill in First Name.\",IF(LEN('MARK Enrollment Template'!A129)=1,\"Please fill in full first name.\",\"\"))","v":""},{"$f":"IF('MARK Enrollment Template'!A129=\"\",\"\",IF(AND('MARK Enrollment Template'!A129<>\"\",'MARK Enrollment Template'!B129=\"\"),\"Please fill in a Last Name.\",\"\"))","v":""},{"$f":"IF('MARK Enrollment Template'!A129=\"\",\"\",IF(AND('MARK Enrollment Template'!A129<>\"\",'MARK Enrollment Template'!C129=\"\"),\"Please fill in Date of Birth.\",IF(TRIM(O124)<>\"D4\",\"Please format DOB as a date in the form MM/DD/YYYY.\",IF('MARK Enrollment Template'!C129>TODAY(),\"Please check DOB.\",\"\"))))","v":""},{"$f":"IF('MARK Enrollment Template'!A129=\"\",\"\",IF(AND('MARK Enrollment Template'!A129<>\"\",'MARK Enrollment Template'!D129=\"\"),\"Please fill in Sex.\",IF(OR(TRIM('MARK Enrollment Template'!D129)=\"M\",TRIM('MARK Enrollment Template'!D129)=\"F\",TRIM('MARK Enrollment Template'!D129)=\"Male\",TRIM('MARK Enrollment Template'!D129)=\"Female\"),\"\",\"Sex must be M/F/Male/Female.\")))","v":""},null,null,{"$f":"IF('MARK Enrollment Template'!A129=\"\",\"\",IF(AND('MARK Enrollment Template'!A129<>\"\",'MARK Enrollment Template'!G129=\"\"),\"Please fill in Email Address.\",IF(IFERROR(FIND(\"@\",'MARK Enrollment Template'!G129),\"X\")=\"X\",\"Email Address must include an @ symbol.\",\"\")))","v":""},null,null,null,{"$f":"IF('MARK Enrollment Template'!A129=\"\",\"\",IF(AND('MARK Enrollment Template'!A129<>\"\",'MARK Enrollment Template'!K129=\"\"),\"Please fill in Zip Code.\",IF(LEN(SUBSTITUTE(TRIM('MARK Enrollment Template'!K129),CHAR(9),\"\"))<5,\"Zip <5 digits. If leading zero, add apostrophe (ex. '01234).\",\"\")))","v":""},null,null,{"$f":"CELL(\"format\",'MARK Enrollment Template'!C129)","v":"D4"}]
["",{"$f":"IF(AND(SUMPRODUCT(--('MARK Enrollment Template'!A130:L130<>\"\"))<>0,'MARK Enrollment Template'!A130=\"\"),\"Please fill in First Name.\",IF(LEN('MARK Enrollment Template'!A130)=1,\"Please fill in full first name.\",\"\"))","v":""},{"$f":"IF('MARK Enrollment Template'!A130=\"\",\"\",IF(AND('MARK Enrollment Template'!A130<>\"\",'MARK Enrollment Template'!B130=\"\"),\"Please fill in a Last Name.\",\"\"))","v":""},{"$f":"IF('MARK Enrollment Template'!A130=\"\",\"\",IF(AND('MARK Enrollment Template'!A130<>\"\",'MARK Enrollment Template'!C130=\"\"),\"Please fill in Date of Birth.\",IF(TRIM(O125)<>\"D4\",\"Please format DOB as a date in the form MM/DD/YYYY.\",IF('MARK Enrollment Template'!C130>TODAY(),\"Please check DOB.\",\"\"))))","v":""},{"$f":"IF('MARK Enrollment Template'!A130=\"\",\"\",IF(AND('MARK Enrollment Template'!A130<>\"\",'MARK Enrollment Template'!D130=\"\"),\"Please fill in Sex.\",IF(OR(TRIM('MARK Enrollment Template'!D130)=\"M\",TRIM('MARK Enrollment Template'!D130)=\"F\",TRIM('MARK Enrollment Template'!D130)=\"Male\",TRIM('MARK Enrollment Template'!D130)=\"Female\"),\"\",\"Sex must be M/F/Male/Female.\")))","v":""},null,null,{"$f":"IF('MARK Enrollment Template'!A130=\"\",\"\",IF(AND('MARK Enrollment Template'!A130<>\"\",'MARK Enrollment Template'!G130=\"\"),\"Please fill in Email Address.\",IF(IFERROR(FIND(\"@\",'MARK Enrollment Template'!G130),\"X\")=\"X\",\"Email Address must include an @ symbol.\",\"\")))","v":""},null,null,null,{"$f":"IF('MARK Enrollment Template'!A130=\"\",\"\",IF(AND('MARK Enrollment Template'!A130<>\"\",'MARK Enrollment Template'!K130=\"\"),\"Please fill in Zip Code.\",IF(LEN(SUBSTITUTE(TRIM('MARK Enrollment Template'!K130),CHAR(9),\"\"))<5,\"Zip <5 digits. If leading zero, add apostrophe (ex. '01234).\",\"\")))","v":""},null,null,{"$f":"CELL(\"format\",'MARK Enrollment Template'!C130)","v":"D4"}]
["",{"$f":"IF(AND(SUMPRODUCT(--('MARK Enrollment Template'!A131:L131<>\"\"))<>0,'MARK Enrollment Template'!A131=\"\"),\"Please fill in First Name.\",IF(LEN('MARK Enrollment Template'!A131)=1,\"Please fill in full first name.\",\"\"))","v":""},{"$f":"IF('MARK Enrollment Template'!A131=\"\",\"\",IF(AND('MARK Enrollment Template'!A131<>\"\",'MARK Enrollment Template'!B131=\"\"),\"Please fill in a Last Name.\",\"\"))","v":""},{"$f":"IF('MARK Enrollment Template'!A131=\"\",\"\",IF(AND('MARK Enrollment Template'!A131<>\"\",'MARK Enrollment Template'!C131=\"\"),\"Please fill in Date of Birth.\",IF(TRIM(O126)<>\"D4\",\"Please format DOB as a date in the form MM/DD/YYYY.\",IF('MARK Enrollment Template'!C131>TODAY(),\"Please check DOB.\",\"\"))))","v":""},{"$f":"IF('MARK Enrollment Template'!A131=\"\",\"\",IF(AND('MARK Enrollment Template'!A131<>\"\",'MARK Enrollment Template'!D131=\"\"),\"Please fill in Sex.\",IF(OR(TRIM('MARK Enrollment Template'!D131)=\"M\",TRIM('MARK Enrollment Template'!D131)=\"F\",TRIM('MARK Enrollment Template'!D131)=\"Male\",TRIM('MARK Enrollment Template'!D131)=\"Female\"),\"\",\"Sex must be M/F/Male/Female.\")))","v":""},null,null,{"$f":"IF('MARK Enrollment Template'!A131=\"\",\"\",IF(AND('MARK Enrollment Template'!A131<>\"\",'MARK Enrollment Template'!G131=\"\"),\"Please fill in Email Address.\",IF(IFERROR(FIND(\"@\",'MARK Enrollment Template'!G131),\"X\")=\"X\",\"Email Address must include an @ symbol.\",\"\")))","v":""},null,null,null,{"$f":"IF('MARK Enrollment Template'!A131=\"\",\"\",IF(AND('MARK Enrollment Template'!A131<>\"\",'MARK Enrollment Template'!K131=\"\"),\"Please fill in Zip Code.\",IF(LEN(SUBSTITUTE(TRIM('MARK Enrollment Template'!K131),CHAR(9),\"\"))<5,\"Zip <5 digits. If leading zero, add apostrophe (ex. '01234).\",\"\")))","v":""},null,null,{"$f":"CELL(\"format\",'MARK Enrollment Template'!C131)","v":"D4"}]
["",{"$f":"IF(AND(SUMPRODUCT(--('MARK Enrollment Template'!A132:L132<>\"\"))<>0,'MARK Enrollment Template'!A132=\"\"),\"Please fill in First Name.\",IF(LEN('MARK Enrollment Template'!A132)=1,\"Please fill in full first name.\",\"\"))","v":""},{"$f":"IF('MARK Enrollment Template'!A132=\"\",\"\",IF(AND('MARK Enrollment Template'!A132<>\"\",'MARK Enrollment Template'!B132=\"\"),\"Please fill in a Last Name.\",\"\"))","v":""},{"$f":"IF('MARK Enrollment Template'!A132=\"\",\"\",IF(AND('MARK Enrollment Template'!A132<>\"\",'MARK Enrollment Template'!C132=\"\"),\"Please fill in Date of Birth.\",IF(TRIM(O127)<>\"D4\",\"Please format DOB as a date in the form MM/DD/YYYY.\",IF('MARK Enrollment Template'!C132>TODAY(),\"Please check DOB.\",\"\"))))","v":""},{"$f":"IF('MARK Enrollment Template'!A132=\"\",\"\",IF(AND('MARK Enrollment Template'!A132<>\"\",'MARK Enrollment Template'!D132=\"\"),\"Please fill in Sex.\",IF(OR(TRIM('MARK Enrollment Template'!D132)=\"M\",TRIM('MARK Enrollment Template'!D132)=\"F\",TRIM('MARK Enrollment Template'!D132)=\"Male\",TRIM('MARK Enrollment Template'!D132)=\"Female\"),\"\",\"Sex must be M/F/Male/Female.\")))","v":""},null,null,{"$f":"IF('MARK Enrollment Template'!A132=\"\",\"\",IF(AND('MARK Enrollment Template'!A132<>\"\",'MARK Enrollment Template'!G132=\"\"),\"Please fill in Email Address.\",IF(IFERROR(FIND(\"@\",'MARK Enrollment Template'!G132),\"X\")=\"X\",\"Email Address must include an @ symbol.\",\"\")))","v":""},null,null,null,{"$f":"IF('MARK Enrollment Template'!A132=\"\",\"\",IF(AND('MARK Enrollment Template'!A132<>\"\",'MARK Enrollment Template'!K132=\"\"),\"Please fill in Zip Code.\",IF(LEN(SUBSTITUTE(TRIM('MARK Enrollment Template'!K132),CHAR(9),\"\"))<5,\"Zip <5 digits. If leading zero, add apostrophe (ex. '01234).\",\"\")))","v":""},null,null,{"$f":"CELL(\"format\",'MARK Enrollment Template'!C132)","v":"D4"}]
["",{"$f":"IF(AND(SUMPRODUCT(--('MARK Enrollment Template'!A133:L133<>\"\"))<>0,'MARK Enrollment Template'!A133=\"\"),\"Please fill in First Name.\",IF(LEN('MARK Enrollment Template'!A133)=1,\"Please fill in full first name.\",\"\"))","v":""},{"$f":"IF('MARK Enrollment Template'!A133=\"\",\"\",IF(AND('MARK Enrollment Template'!A133<>\"\",'MARK Enrollment Template'!B133=\"\"),\"Please fill in a Last Name.\",\"\"))","v":""},{"$f":"IF('MARK Enrollment Template'!A133=\"\",\"\",IF(AND('MARK Enrollment Template'!A133<>\"\",'MARK Enrollment Template'!C133=\"\"),\"Please fill in Date of Birth.\",IF(TRIM(O128)<>\"D4\",\"Please format DOB as a date in the form MM/DD/YYYY.\",IF('MARK Enrollment Template'!C133>TODAY(),\"Please check DOB.\",\"\"))))","v":""},{"$f":"IF('MARK Enrollment Template'!A133=\"\",\"\",IF(AND('MARK Enrollment Template'!A133<>\"\",'MARK Enrollment Template'!D133=\"\"),\"Please fill in Sex.\",IF(OR(TRIM('MARK Enrollment Template'!D133)=\"M\",TRIM('MARK Enrollment Template'!D133)=\"F\",TRIM('MARK Enrollment Template'!D133)=\"Male\",TRIM('MARK Enrollment Template'!D133)=\"Female\"),\"\",\"Sex must be M/F/Male/Female.\")))","v":""},null,null,{"$f":"IF('MARK Enrollment Template'!A133=\"\",\"\",IF(AND('MARK Enrollment Template'!A133<>\"\",'MARK Enrollment Template'!G133=\"\"),\"Please fill in Email Address.\",IF(IFERROR(FIND(\"@\",'MARK Enrollment Template'!G133),\"X\")=\"X\",\"Email Address must include an @ symbol.\",\"\")))","v":""},null,null,null,{"$f":"IF('MARK Enrollment Template'!A133=\"\",\"\",IF(AND('MARK Enrollment Template'!A133<>\"\",'MARK Enrollment Template'!K133=\"\"),\"Please fill in Zip Code.\",IF(LEN(SUBSTITUTE(TRIM('MARK Enrollment Template'!K133),CHAR(9),\"\"))<5,\"Zip <5 digits. If leading zero, add apostrophe (ex. '01234).\",\"\")))","v":""},null,null,{"$f":"CELL(\"format\",'MARK Enrollment Template'!C133)","v":"D4"}]
["",{"$f":"IF(AND(SUMPRODUCT(--('MARK Enrollment Template'!A134:L134<>\"\"))<>0,'MARK Enrollment Template'!A134=\"\"),\"Please fill in First Name.\",IF(LEN('MARK Enrollment Template'!A134)=1,\"Please fill in full first name.\",\"\"))","v":""},{"$f":"IF('MARK Enrollment Template'!A134=\"\",\"\",IF(AND('MARK Enrollment Template'!A134<>\"\",'MARK Enrollment Template'!B134=\"\"),\"Please fill in a Last Name.\",\"\"))","v":""},{"$f":"IF('MARK Enrollment Template'!A134=\"\",\"\",IF(AND('MARK Enrollment Template'!A134<>\"\",'MARK Enrollment Template'!C134=\"\"),\"Please fill in Date of Birth.\",IF(TRIM(O129)<>\"D4\",\"Please format DOB as a date in the form MM/DD/YYYY.\",IF('MARK Enrollment Template'!C134>TODAY(),\"Please check DOB.\",\"\"))))","v":""},{"$f":"IF('MARK Enrollment Template'!A134=\"\",\"\",IF(AND('MARK Enrollment Template'!A134<>\"\",'MARK Enrollment Template'!D134=\"\"),\"Please fill in Sex.\",IF(OR(TRIM('MARK Enrollment Template'!D134)=\"M\",TRIM('MARK Enrollment Template'!D134)=\"F\",TRIM('MARK Enrollment Template'!D134)=\"Male\",TRIM('MARK Enrollment Template'!D134)=\"Female\"),\"\",\"Sex must be M/F/Male/Female.\")))","v":""},null,null,{"$f":"IF('MARK Enrollment Template'!A134=\"\",\"\",IF(AND('MARK Enrollment Template'!A134<>\"\",'MARK Enrollment Template'!G134=\"\"),\"Please fill in Email Address.\",IF(IFERROR(FIND(\"@\",'MARK Enrollment Template'!G134),\"X\")=\"X\",\"Email Address must include an @ symbol.\",\"\")))","v":""},null,null,null,{"$f":"IF('MARK Enrollment Template'!A134=\"\",\"\",IF(AND('MARK Enrollment Template'!A134<>\"\",'MARK Enrollment Template'!K134=\"\"),\"Please fill in Zip Code.\",IF(LEN(SUBSTITUTE(TRIM('MARK Enrollment Template'!K134),CHAR(9),\"\"))<5,\"Zip <5 digits. If leading zero, add apostrophe (ex. '01234).\",\"\")))","v":""},null,null,{"$f":"CELL(\"format\",'MARK Enrollment Template'!C134)","v":"D4"}]
["",{"$f":"IF(AND(SUMPRODUCT(--('MARK Enrollment Template'!A135:L135<>\"\"))<>0,'MARK Enrollment Template'!A135=\"\"),\"Please fill in First Name.\",IF(LEN('MARK Enrollment Template'!A135)=1,\"Please fill in full first name.\",\"\"))","v":""},{"$f":"IF('MARK Enrollment Template'!A135=\"\",\"\",IF(AND('MARK Enrollment Template'!A135<>\"\",'MARK Enrollment Template'!B135=\"\"),\"Please fill in a Last Name.\",\"\"))","v":""},{"$f":"IF('MARK Enrollment Template'!A135=\"\",\"\",IF(AND('MARK Enrollment Template'!A135<>\"\",'MARK Enrollment Template'!C135=\"\"),\"Please fill in Date of Birth.\",IF(TRIM(O130)<>\"D4\",\"Please format DOB as a date in the form MM/DD/YYYY.\",IF('MARK Enrollment Template'!C135>TODAY(),\"Please check DOB.\",\"\"))))","v":""},{"$f":"IF('MARK Enrollment Template'!A135=\"\",\"\",IF(AND('MARK Enrollment Template'!A135<>\"\",'MARK Enrollment Template'!D135=\"\"),\"Please fill in Sex.\",IF(OR(TRIM('MARK Enrollment Template'!D135)=\"M\",TRIM('MARK Enrollment Template'!D135)=\"F\",TRIM('MARK Enrollment Template'!D135)=\"Male\",TRIM('MARK Enrollment Template'!D135)=\"Female\"),\"\",\"Sex must be M/F/Male/Female.\")))","v":""},null,null,{"$f":"IF('MARK Enrollment Template'!A135=\"\",\"\",IF(AND('MARK Enrollment Template'!A135<>\"\",'MARK Enrollment Template'!G135=\"\"),\"Please fill in Email Address.\",IF(IFERROR(FIND(\"@\",'MARK Enrollment Template'!G135),\"X\")=\"X\",\"Email Address must include an @ symbol.\",\"\")))","v":""},null,null,null,{"$f":"IF('MARK Enrollment Template'!A135=\"\",\"\",IF(AND('MARK Enrollment Template'!A135<>\"\",'MARK Enrollment Template'!K135=\"\"),\"Please fill in Zip Code.\",IF(LEN(SUBSTITUTE(TRIM('MARK Enrollment Template'!K135),CHAR(9),\"\"))<5,\"Zip <5 digits. If leading zero, add apostrophe (ex. '01234).\",\"\")))","v":""},null,null,{"$f":"CELL(\"format\",'MARK Enrollment Template'!C135)","v":"D4"}]
["",{"$f":"IF(AND(SUMPRODUCT(--('MARK Enrollment Template'!A136:L136<>\"\"))<>0,'MARK Enrollment Template'!A136=\"\"),\"Please fill in First Name.\",IF(LEN('MARK Enrollment Template'!A136)=1,\"Please fill in full first name.\",\"\"))","v":""},{"$f":"IF('MARK Enrollment Template'!A136=\"\",\"\",IF(AND('MARK Enrollment Template'!A136<>\"\",'MARK Enrollment Template'!B136=\"\"),\"Please fill in a Last Name.\",\"\"))","v":""},{"$f":"IF('MARK Enrollment Template'!A136=\"\",\"\",IF(AND('MARK Enrollment Template'!A136<>\"\",'MARK Enrollment Template'!C136=\"\"),\"Please fill in Date of Birth.\",IF(TRIM(O131)<>\"D4\",\"Please format DOB as a date in the form MM/DD/YYYY.\",IF('MARK Enrollment Template'!C136>TODAY(),\"Please check DOB.\",\"\"))))","v":""},{"$f":"IF('MARK Enrollment Template'!A136=\"\",\"\",IF(AND('MARK Enrollment Template'!A136<>\"\",'MARK Enrollment Template'!D136=\"\"),\"Please fill in Sex.\",IF(OR(TRIM('MARK Enrollment Template'!D136)=\"M\",TRIM('MARK Enrollment Template'!D136)=\"F\",TRIM('MARK Enrollment Template'!D136)=\"Male\",TRIM('MARK Enrollment Template'!D136)=\"Female\"),\"\",\"Sex must be M/F/Male/Female.\")))","v":""},null,null,{"$f":"IF('MARK Enrollment Template'!A136=\"\",\"\",IF(AND('MARK Enrollment Template'!A136<>\"\",'MARK Enrollment Template'!G136=\"\"),\"Please fill in Email Address.\",IF(IFERROR(FIND(\"@\",'MARK Enrollment Template'!G136),\"X\")=\"X\",\"Email Address must include an @ symbol.\",\"\")))","v":""},null,null,null,{"$f":"IF('MARK Enrollment Template'!A136=\"\",\"\",IF(AND('MARK Enrollment Template'!A136<>\"\",'MARK Enrollment Template'!K136=\"\"),\"Please fill in Zip Code.\",IF(LEN(SUBSTITUTE(TRIM('MARK Enrollment Template'!K136),CHAR(9),\"\"))<5,\"Zip <5 digits. If leading zero, add apostrophe (ex. '01234).\",\"\")))","v":""},null,null,{"$f":"CELL(\"format\",'MARK Enrollment Template'!C136)","v":"D4"}]
["",{"$f":"IF(AND(SUMPRODUCT(--('MARK Enrollment Template'!A137:L137<>\"\"))<>0,'MARK Enrollment Template'!A137=\"\"),\"Please fill in First Name.\",IF(LEN('MARK Enrollment Template'!A137)=1,\"Please fill in full first name.\",\"\"))","v":""},{"$f":"IF('MARK Enrollment Template'!A137=\"\",\"\",IF(AND('MARK Enrollment Template'!A137<>\"\",'MARK Enrollment Template'!B137=\"\"),\"Please fill in a Last Name.\",\"\"))","v":""},{"$f":"IF('MARK Enrollment Template'!A137=\"\",\"\",IF(AND('MARK Enrollment Template'!A137<>\"\",'MARK Enrollment Template'!C137=\"\"),\"Please fill in Date of Birth.\",IF(TRIM(O132)<>\"D4\",\"Please format DOB as a date in the form MM/DD/YYYY.\",IF('MARK Enrollment Template'!C137>TODAY(),\"Please check DOB.\",\"\"))))","v":""},{"$f":"IF('MARK Enrollment Template'!A137=\"\",\"\",IF(AND('MARK Enrollment Template'!A137<>\"\",'MARK Enrollment Template'!D137=\"\"),\"Please fill in Sex.\",IF(OR(TRIM('MARK Enrollment Template'!D137)=\"M\",TRIM('MARK Enrollment Template'!D137)=\"F\",TRIM('MARK Enrollment Template'!D137)=\"Male\",TRIM('MARK Enrollment Template'!D137)=\"Female\"),\"\",\"Sex must be M/F/Male/Female.\")))","v":""},null,null,{"$f":"IF('MARK Enrollment Template'!A137=\"\",\"\",IF(AND('MARK Enrollment Template'!A137<>\"\",'MARK Enrollment Template'!G137=\"\"),\"Please fill in Email Address.\",IF(IFERROR(FIND(\"@\",'MARK Enrollment Template'!G137),\"X\")=\"X\",\"Email Address must include an @ symbol.\",\"\")))","v":""},null,null,null,{"$f":"IF('MARK Enrollment Template'!A137=\"\",\"\",IF(AND('MARK Enrollment Template'!A137<>\"\",'MARK Enrollment Template'!K137=\"\"),\"Please fill in Zip Code.\",IF(LEN(SUBSTITUTE(TRIM('MARK Enrollment Template'!K137),CHAR(9),\"\"))<5,\"Zip <5 digits. If leading zero, add apostrophe (ex. '01234).\",\"\")))","v":""},null,null,{"$f":"CELL(\"format\",'MARK Enrollment Template'!C137)","v":"D4"}]
["",{"$f":"IF(AND(SUMPRODUCT(--('MARK Enrollment Template'!A138:L138<>\"\"))<>0,'MARK Enrollment Template'!A138=\"\"),\"Please fill in First Name.\",IF(LEN('MARK Enrollment Template'!A138)=1,\"Please fill in full first name.\",\"\"))","v":""},{"$f":"IF('MARK Enrollment Template'!A138=\"\",\"\",IF(AND('MARK Enrollment Template'!A138<>\"\",'MARK Enrollment Template'!B138=\"\"),\"Please fill in a Last Name.\",\"\"))","v":""},{"$f":"IF('MARK Enrollment Template'!A138=\"\",\"\",IF(AND('MARK Enrollment Template'!A138<>\"\",'MARK Enrollment Template'!C138=\"\"),\"Please fill in Date of Birth.\",IF(TRIM(O133)<>\"D4\",\"Please format DOB as a date in the form MM/DD/YYYY.\",IF('MARK Enrollment Template'!C138>TODAY(),\"Please check DOB.\",\"\"))))","v":""},{"$f":"IF('MARK Enrollment Template'!A138=\"\",\"\",IF(AND('MARK Enrollment Template'!A138<>\"\",'MARK Enrollment Template'!D138=\"\"),\"Please fill in Sex.\",IF(OR(TRIM('MARK Enrollment Template'!D138)=\"M\",TRIM('MARK Enrollment Template'!D138)=\"F\",TRIM('MARK Enrollment Template'!D138)=\"Male\",TRIM('MARK Enrollment Template'!D138)=\"Female\"),\"\",\"Sex must be M/F/Male/Female.\")))","v":""},null,null,{"$f":"IF('MARK Enrollment Template'!A138=\"\",\"\",IF(AND('MARK Enrollment Template'!A138<>\"\",'MARK Enrollment Template'!G138=\"\"),\"Please fill in Email Address.\",IF(IFERROR(FIND(\"@\",'MARK Enrollment Template'!G138),\"X\")=\"X\",\"Email Address must include an @ symbol.\",\"\")))","v":""},null,null,null,{"$f":"IF('MARK Enrollment Template'!A138=\"\",\"\",IF(AND('MARK Enrollment Template'!A138<>\"\",'MARK Enrollment Template'!K138=\"\"),\"Please fill in Zip Code.\",IF(LEN(SUBSTITUTE(TRIM('MARK Enrollment Template'!K138),CHAR(9),\"\"))<5,\"Zip <5 digits. If leading zero, add apostrophe (ex. '01234).\",\"\")))","v":""},null,null,{"$f":"CELL(\"format\",'MARK Enrollment Template'!C138)","v":"D4"}]
["",{"$f":"IF(AND(SUMPRODUCT(--('MARK Enrollment Template'!A139:L139<>\"\"))<>0,'MARK Enrollment Template'!A139=\"\"),\"Please fill in First Name.\",IF(LEN('MARK Enrollment Template'!A139)=1,\"Please fill in full first name.\",\"\"))","v":""},{"$f":"IF('MARK Enrollment Template'!A139=\"\",\"\",IF(AND('MARK Enrollment Template'!A139<>\"\",'MARK Enrollment Template'!B139=\"\"),\"Please fill in a Last Name.\",\"\"))","v":""},{"$f":"IF('MARK Enrollment Template'!A139=\"\",\"\",IF(AND('MARK Enrollment Template'!A139<>\"\",'MARK Enrollment Template'!C139=\"\"),\"Please fill in Date of Birth.\",IF(TRIM(O134)<>\"D4\",\"Please format DOB as a date in the form MM/DD/YYYY.\",IF('MARK Enrollment Template'!C139>TODAY(),\"Please check DOB.\",\"\"))))","v":""},{"$f":"IF('MARK Enrollment Template'!A139=\"\",\"\",IF(AND('MARK Enrollment Template'!A139<>\"\",'MARK Enrollment Template'!D139=\"\"),\"Please fill in Sex.\",IF(OR(TRIM('MARK Enrollment Template'!D139)=\"M\",TRIM('MARK Enrollment Template'!D139)=\"F\",TRIM('MARK Enrollment Template'!D139)=\"Male\",TRIM('MARK Enrollment Template'!D139)=\"Female\"),\"\",\"Sex must be M/F/Male/Female.\")))","v":""},null,null,{"$f":"IF('MARK Enrollment Template'!A139=\"\",\"\",IF(AND('MARK Enrollment Template'!A139<>\"\",'MARK Enrollment Template'!G139=\"\"),\"Please fill in Email Address.\",IF(IFERROR(FIND(\"@\",'MARK Enrollment Template'!G139),\"X\")=\"X\",\"Email Address must include an @ symbol.\",\"\")))","v":""},null,null,null,{"$f":"IF('MARK Enrollment Template'!A139=\"\",\"\",IF(AND('MARK Enrollment Template'!A139<>\"\",'MARK Enrollment Template'!K139=\"\"),\"Please fill in Zip Code.\",IF(LEN(SUBSTITUTE(TRIM('MARK Enrollment Template'!K139),CHAR(9),\"\"))<5,\"Zip <5 digits. If leading zero, add apostrophe (ex. '01234).\",\"\")))","v":""},null,null,{"$f":"CELL(\"format\",'MARK Enrollment Template'!C139)","v":"D4"}]
["",{"$f":"IF(AND(SUMPRODUCT(--('MARK Enrollment Template'!A140:L140<>\"\"))<>0,'MARK Enrollment Template'!A140=\"\"),\"Please fill in First Name.\",IF(LEN('MARK Enrollment Template'!A140)=1,\"Please fill in full first name.\",\"\"))","v":""},{"$f":"IF('MARK Enrollment Template'!A140=\"\",\"\",IF(AND('MARK Enrollment Template'!A140<>\"\",'MARK Enrollment Template'!B140=\"\"),\"Please fill in a Last Name.\",\"\"))","v":""},{"$f":"IF('MARK Enrollment Template'!A140=\"\",\"\",IF(AND('MARK Enrollment Template'!A140<>\"\",'MARK Enrollment Template'!C140=\"\"),\"Please fill in Date of Birth.\",IF(TRIM(O135)<>\"D4\",\"Please format DOB as a date in the form MM/DD/YYYY.\",IF('MARK Enrollment Template'!C140>TODAY(),\"Please check DOB.\",\"\"))))","v":""},{"$f":"IF('MARK Enrollment Template'!A140=\"\",\"\",IF(AND('MARK Enrollment Template'!A140<>\"\",'MARK Enrollment Template'!D140=\"\"),\"Please fill in Sex.\",IF(OR(TRIM('MARK Enrollment Template'!D140)=\"M\",TRIM('MARK Enrollment Template'!D140)=\"F\",TRIM('MARK Enrollment Template'!D140)=\"Male\",TRIM('MARK Enrollment Template'!D140)=\"Female\"),\"\",\"Sex must be M/F/Male/Female.\")))","v":""},null,null,{"$f":"IF('MARK Enrollment Template'!A140=\"\",\"\",IF(AND('MARK Enrollment Template'!A140<>\"\",'MARK Enrollment Template'!G140=\"\"),\"Please fill in Email Address.\",IF(IFERROR(FIND(\"@\",'MARK Enrollment Template'!G140),\"X\")=\"X\",\"Email Address must include an @ symbol.\",\"\")))","v":""},null,null,null,{"$f":"IF('MARK Enrollment Template'!A140=\"\",\"\",IF(AND('MARK Enrollment Template'!A140<>\"\",'MARK Enrollment Template'!K140=\"\"),\"Please fill in Zip Code.\",IF(LEN(SUBSTITUTE(TRIM('MARK Enrollment Template'!K140),CHAR(9),\"\"))<5,\"Zip <5 digits. If leading zero, add apostrophe (ex. '01234).\",\"\")))","v":""},null,null,{"$f":"CELL(\"format\",'MARK Enrollment Template'!C140)","v":"D4"}]
["",{"$f":"IF(AND(SUMPRODUCT(--('MARK Enrollment Template'!A141:L141<>\"\"))<>0,'MARK Enrollment Template'!A141=\"\"),\"Please fill in First Name.\",IF(LEN('MARK Enrollment Template'!A141)=1,\"Please fill in full first name.\",\"\"))","v":""},{"$f":"IF('MARK Enrollment Template'!A141=\"\",\"\",IF(AND('MARK Enrollment Template'!A141<>\"\",'MARK Enrollment Template'!B141=\"\"),\"Please fill in a Last Name.\",\"\"))","v":""},{"$f":"IF('MARK Enrollment Template'!A141=\"\",\"\",IF(AND('MARK Enrollment Template'!A141<>\"\",'MARK Enrollment Template'!C141=\"\"),\"Please fill in Date of Birth.\",IF(TRIM(O136)<>\"D4\",\"Please format DOB as a date in the form MM/DD/YYYY.\",IF('MARK Enrollment Template'!C141>TODAY(),\"Please check DOB.\",\"\"))))","v":""},{"$f":"IF('MARK Enrollment Template'!A141=\"\",\"\",IF(AND('MARK Enrollment Template'!A141<>\"\",'MARK Enrollment Template'!D141=\"\"),\"Please fill in Sex.\",IF(OR(TRIM('MARK Enrollment Template'!D141)=\"M\",TRIM('MARK Enrollment Template'!D141)=\"F\",TRIM('MARK Enrollment Template'!D141)=\"Male\",TRIM('MARK Enrollment Template'!D141)=\"Female\"),\"\",\"Sex must be M/F/Male/Female.\")))","v":""},null,null,{"$f":"IF('MARK Enrollment Template'!A141=\"\",\"\",IF(AND('MARK Enrollment Template'!A141<>\"\",'MARK Enrollment Template'!G141=\"\"),\"Please fill in Email Address.\",IF(IFERROR(FIND(\"@\",'MARK Enrollment Template'!G141),\"X\")=\"X\",\"Email Address must include an @ symbol.\",\"\")))","v":""},null,null,null,{"$f":"IF('MARK Enrollment Template'!A141=\"\",\"\",IF(AND('MARK Enrollment Template'!A141<>\"\",'MARK Enrollment Template'!K141=\"\"),\"Please fill in Zip Code.\",IF(LEN(SUBSTITUTE(TRIM('MARK Enrollment Template'!K141),CHAR(9),\"\"))<5,\"Zip <5 digits. If leading zero, add apostrophe (ex. '01234).\",\"\")))","v":""},null,null,{"$f":"CELL(\"format\",'MARK Enrollment Template'!C141)","v":"D4"}]
[{"$f":"IF(B137<>\"\",B137,IF(C137<>\"\",C137,IF(D137<>\"\",D137,IF(E137<>\"\",E137,IF(F137<>\"\",F137,IF(G137<>\"\",G137,IF(H137<>\"\",H137,IF(I137<>\"\",I137,IF(J137<>\"\",J137,IF(K137<>\"\",K137,L137))))))))))","v":""},{"$f":"IF(AND(SUMPRODUCT(--('MARK Enrollment Template'!A142:L142<>\"\"))<>0,'MARK Enrollment Template'!A142=\"\"),\"Please fill in First Name.\",IF(LEN('MARK Enrollment Template'!A142)=1,\"Please fill in full first name.\",\"\"))","v":""},{"$f":"IF('MARK Enrollment Template'!A142=\"\",\"\",IF(AND('MARK Enrollment Template'!A142<>\"\",'MARK Enrollment Template'!B142=\"\"),\"Please fill in a Last Name.\",\"\"))","v":""},{"$f":"IF('MARK Enrollment Template'!A142=\"\",\"\",IF(AND('MARK Enrollment Template'!A142<>\"\",'MARK Enrollment Template'!C142=\"\"),\"Please fill in Date of Birth.\",IF(TRIM(O137)<>\"D4\",\"Please format DOB as a date in the form MM/DD/YYYY.\",IF('MARK Enrollment Template'!C142>TODAY(),\"Please check DOB.\",\"\"))))","v":""},{"$f":"IF('MARK Enrollment Template'!A142=\"\",\"\",IF(AND('MARK Enrollment Template'!A142<>\"\",'MARK Enrollment Template'!D142=\"\"),\"Please fill in Sex.\",IF(OR(TRIM('MARK Enrollment Template'!D142)=\"M\",TRIM('MARK Enrollment Template'!D142)=\"F\",TRIM('MARK Enrollment Template'!D142)=\"Male\",TRIM('MARK Enrollment Template'!D142)=\"Female\"),\"\",\"Sex must be M/F/Male/Female.\")))","v":""},null,null,{"$f":"IF('MARK Enrollment Template'!A142=\"\",\"\",IF(AND('MARK Enrollment Template'!A142<>\"\",'MARK Enrollment Template'!G142=\"\"),\"Please fill in Email Address.\",IF(IFERROR(FIND(\"@\",'MARK Enrollment Template'!G142),\"X\")=\"X\",\"Email Address must include an @ symbol.\",\"\")))","v":""},null,null,null,{"$f":"IF('MARK Enrollment Template'!A142=\"\",\"\",IF(AND('MARK Enrollment Template'!A142<>\"\",'MARK Enrollment Template'!K142=\"\"),\"Please fill in Zip Code.\",IF(LEN(SUBSTITUTE(TRIM('MARK Enrollment Template'!K142),CHAR(9),\"\"))<5,\"Zip <5 digits. If leading zero, add apostrophe (ex. '01234).\",\"\")))","v":""},null,null,{"$f":"CELL(\"format\",'MARK Enrollment Template'!C142)","v":"D4"}]
["",{"$f":"IF(AND(SUMPRODUCT(--('MARK Enrollment Template'!A143:L143<>\"\"))<>0,'MARK Enrollment Template'!A143=\"\"),\"Please fill in First Name.\",IF(LEN('MARK Enrollment Template'!A143)=1,\"Please fill in full first name.\",\"\"))","v":""},{"$f":"IF('MARK Enrollment Template'!A143=\"\",\"\",IF(AND('MARK Enrollment Template'!A143<>\"\",'MARK Enrollment Template'!B143=\"\"),\"Please fill in a Last Name.\",\"\"))","v":""},{"$f":"IF('MARK Enrollment Template'!A143=\"\",\"\",IF(AND('MARK Enrollment Template'!A143<>\"\",'MARK Enrollment Template'!C143=\"\"),\"Please fill in Date of Birth.\",IF(TRIM(O138)<>\"D4\",\"Please format DOB as a date in the form MM/DD/YYYY.\",IF('MARK Enrollment Template'!C143>TODAY(),\"Please check DOB.\",\"\"))))","v":""},{"$f":"IF('MARK Enrollment Template'!A143=\"\",\"\",IF(AND('MARK Enrollment Template'!A143<>\"\",'MARK Enrollment Template'!D143=\"\"),\"Please fill in Sex.\",IF(OR(TRIM('MARK Enrollment Template'!D143)=\"M\",TRIM('MARK Enrollment Template'!D143)=\"F\",TRIM('MARK Enrollment Template'!D143)=\"Male\",TRIM('MARK Enrollment Template'!D143)=\"Female\"),\"\",\"Sex must be M/F/Male/Female.\")))","v":""},null,null,{"$f":"IF('MARK Enrollment Template'!A143=\"\",\"\",IF(AND('MARK Enrollment Template'!A143<>\"\",'MARK Enrollment Template'!G143=\"\"),\"Please fill in Email Address.\",IF(IFERROR(FIND(\"@\",'MARK Enrollment Template'!G143),\"X\")=\"X\",\"Email Address must include an @ symbol.\",\"\")))","v":""},null,null,null,{"$f":"IF('MARK Enrollment Template'!A143=\"\",\"\",IF(AND('MARK Enrollment Template'!A143<>\"\",'MARK Enrollment Template'!K143=\"\"),\"Please fill in Zip Code.\",IF(LEN(SUBSTITUTE(TRIM('MARK Enrollment Template'!K143),CHAR(9),\"\"))<5,\"Zip <5 digits. If leading zero, add apostrophe (ex. '01234).\",\"\")))","v":""},null,null,{"$f":"CELL(\"format\",'MARK Enrollment Template'!C143)","v":"D4"}]
["",{"$f":"IF(AND(SUMPRODUCT(--('MARK Enrollment Template'!A144:L144<>\"\"))<>0,'MARK Enrollment Template'!A144=\"\"),\"Please fill in First Name.\",IF(LEN('MARK Enrollment Template'!A144)=1,\"Please fill in full first name.\",\"\"))","v":""},{"$f":"IF('MARK Enrollment Template'!A144=\"\",\"\",IF(AND('MARK Enrollment Template'!A144<>\"\",'MARK Enrollment Template'!B144=\"\"),\"Please fill in a Last Name.\",\"\"))","v":""},{"$f":"IF('MARK Enrollment Template'!A144=\"\",\"\",IF(AND('MARK Enrollment Template'!A144<>\"\",'MARK Enrollment Template'!C144=\"\"),\"Please fill in Date of Birth.\",IF(TRIM(O139)<>\"D4\",\"Please format DOB as a date in the form MM/DD/YYYY.\",IF('MARK Enrollment Template'!C144>TODAY(),\"Please check DOB.\",\"\"))))","v":""},{"$f":"IF('MARK Enrollment Template'!A144=\"\",\"\",IF(AND('MARK Enrollment Template'!A144<>\"\",'MARK Enrollment Template'!D144=\"\"),\"Please fill in Sex.\",IF(OR(TRIM('MARK Enrollment Template'!D144)=\"M\",TRIM('MARK Enrollment Template'!D144)=\"F\",TRIM('MARK Enrollment Template'!D144)=\"Male\",TRIM('MARK Enrollment Template'!D144)=\"Female\"),\"\",\"Sex must be M/F/Male/Female.\")))","v":""},null,null,{"$f":"IF('MARK Enrollment Template'!A144=\"\",\"\",IF(AND('MARK Enrollment Template'!A144<>\"\",'MARK Enrollment Template'!G144=\"\"),\"Please fill in Email Address.\",IF(IFERROR(FIND(\"@\",'MARK Enrollment Template'!G144),\"X\")=\"X\",\"Email Address must include an @ symbol.\",\"\")))","v":""},null,null,null,{"$f":"IF('MARK Enrollment Template'!A144=\"\",\"\",IF(AND('MARK Enrollment Template'!A144<>\"\",'MARK Enrollment Template'!K144=\"\"),\"Please fill in Zip Code.\",IF(LEN(SUBSTITUTE(TRIM('MARK Enrollment Template'!K144),CHAR(9),\"\"))<5,\"Zip <5 digits. If leading zero, add apostrophe (ex. '01234).\",\"\")))","v":""},null,null,{"$f":"CELL(\"format\",'MARK Enrollment Template'!C144)","v":"D4"}]
["",{"$f":"IF(AND(SUMPRODUCT(--('MARK Enrollment Template'!A145:L145<>\"\"))<>0,'MARK Enrollment Template'!A145=\"\"),\"Please fill in First Name.\",IF(LEN('MARK Enrollment Template'!A145)=1,\"Please fill in full first name.\",\"\"))","v":""},{"$f":"IF('MARK Enrollment Template'!A145=\"\",\"\",IF(AND('MARK Enrollment Template'!A145<>\"\",'MARK Enrollment Template'!B145=\"\"),\"Please fill in a Last Name.\",\"\"))","v":""},{"$f":"IF('MARK Enrollment Template'!A145=\"\",\"\",IF(AND('MARK Enrollment Template'!A145<>\"\",'MARK Enrollment Template'!C145=\"\"),\"Please fill in Date of Birth.\",IF(TRIM(O140)<>\"D4\",\"Please format DOB as a date in the form MM/DD/YYYY.\",IF('MARK Enrollment Template'!C145>TODAY(),\"Please check DOB.\",\"\"))))","v":""},{"$f":"IF('MARK Enrollment Template'!A145=\"\",\"\",IF(AND('MARK Enrollment Template'!A145<>\"\",'MARK Enrollment Template'!D145=\"\"),\"Please fill in Sex.\",IF(OR(TRIM('MARK Enrollment Template'!D145)=\"M\",TRIM('MARK Enrollment Template'!D145)=\"F\",TRIM('MARK Enrollment Template'!D145)=\"Male\",TRIM('MARK Enrollment Template'!D145)=\"Female\"),\"\",\"Sex must be M/F/Male/Female.\")))","v":""},null,null,{"$f":"IF('MARK Enrollment Template'!A145=\"\",\"\",IF(AND('MARK Enrollment Template'!A145<>\"\",'MARK Enrollment Template'!G145=\"\"),\"Please fill in Email Address.\",IF(IFERROR(FIND(\"@\",'MARK Enrollment Template'!G145),\"X\")=\"X\",\"Email Address must include an @ symbol.\",\"\")))","v":""},null,null,null,{"$f":"IF('MARK Enrollment Template'!A145=\"\",\"\",IF(AND('MARK Enrollment Template'!A145<>\"\",'MARK Enrollment Template'!K145=\"\"),\"Please fill in Zip Code.\",IF(LEN(SUBSTITUTE(TRIM('MARK Enrollment Template'!K145),CHAR(9),\"\"))<5,\"Zip <5 digits. If leading zero, add apostrophe (ex. '01234).\",\"\")))","v":""},null,null,{"$f":"CELL(\"format\",'MARK Enrollment Template'!C145)","v":"D4"}]
["",{"$f":"IF(AND(SUMPRODUCT(--('MARK Enrollment Template'!A146:L146<>\"\"))<>0,'MARK Enrollment Template'!A146=\"\"),\"Please fill in First Name.\",IF(LEN('MARK Enrollment Template'!A146)=1,\"Please fill in full first name.\",\"\"))","v":""},{"$f":"IF('MARK Enrollment Template'!A146=\"\",\"\",IF(AND('MARK Enrollment Template'!A146<>\"\",'MARK Enrollment Template'!B146=\"\"),\"Please fill in a Last Name.\",\"\"))","v":""},{"$f":"IF('MARK Enrollment Template'!A146=\"\",\"\",IF(AND('MARK Enrollment Template'!A146<>\"\",'MARK Enrollment Template'!C146=\"\"),\"Please fill in Date of Birth.\",IF(TRIM(O141)<>\"D4\",\"Please format DOB as a date in the form MM/DD/YYYY.\",IF('MARK Enrollment Template'!C146>TODAY(),\"Please check DOB.\",\"\"))))","v":""},{"$f":"IF('MARK Enrollment Template'!A146=\"\",\"\",IF(AND('MARK Enrollment Template'!A146<>\"\",'MARK Enrollment Template'!D146=\"\"),\"Please fill in Sex.\",IF(OR(TRIM('MARK Enrollment Template'!D146)=\"M\",TRIM('MARK Enrollment Template'!D146)=\"F\",TRIM('MARK Enrollment Template'!D146)=\"Male\",TRIM('MARK Enrollment Template'!D146)=\"Female\"),\"\",\"Sex must be M/F/Male/Female.\")))","v":""},null,null,{"$f":"IF('MARK Enrollment Template'!A146=\"\",\"\",IF(AND('MARK Enrollment Template'!A146<>\"\",'MARK Enrollment Template'!G146=\"\"),\"Please fill in Email Address.\",IF(IFERROR(FIND(\"@\",'MARK Enrollment Template'!G146),\"X\")=\"X\",\"Email Address must include an @ symbol.\",\"\")))","v":""},null,null,null,{"$f":"IF('MARK Enrollment Template'!A146=\"\",\"\",IF(AND('MARK Enrollment Template'!A146<>\"\",'MARK Enrollment Template'!K146=\"\"),\"Please fill in Zip Code.\",IF(LEN(SUBSTITUTE(TRIM('MARK Enrollment Template'!K146),CHAR(9),\"\"))<5,\"Zip <5 digits. If leading zero, add apostrophe (ex. '01234).\",\"\")))","v":""},null,null,{"$f":"CELL(\"format\",'MARK Enrollment Template'!C146)","v":"D4"}]
["",{"$f":"IF(AND(SUMPRODUCT(--('MARK Enrollment Template'!A147:L147<>\"\"))<>0,'MARK Enrollment Template'!A147=\"\"),\"Please fill in First Name.\",IF(LEN('MARK Enrollment Template'!A147)=1,\"Please fill in full first name.\",\"\"))","v":""},{"$f":"IF('MARK Enrollment Template'!A147=\"\",\"\",IF(AND('MARK Enrollment Template'!A147<>\"\",'MARK Enrollment Template'!B147=\"\"),\"Please fill in a Last Name.\",\"\"))","v":""},{"$f":"IF('MARK Enrollment Template'!A147=\"\",\"\",IF(AND('MARK Enrollment Template'!A147<>\"\",'MARK Enrollment Template'!C147=\"\"),\"Please fill in Date of Birth.\",IF(TRIM(O142)<>\"D4\",\"Please format DOB as a date in the form MM/DD/YYYY.\",IF('MARK Enrollment Template'!C147>TODAY(),\"Please check DOB.\",\"\"))))","v":""},{"$f":"IF('MARK Enrollment Template'!A147=\"\",\"\",IF(AND('MARK Enrollment Template'!A147<>\"\",'MARK Enrollment Template'!D147=\"\"),\"Please fill in Sex.\",IF(OR(TRIM('MARK Enrollment Template'!D147)=\"M\",TRIM('MARK Enrollment Template'!D147)=\"F\",TRIM('MARK Enrollment Template'!D147)=\"Male\",TRIM('MARK Enrollment Template'!D147)=\"Female\"),\"\",\"Sex must be M/F/Male/Female.\")))","v":""},null,null,{"$f":"IF('MARK Enrollment Template'!A147=\"\",\"\",IF(AND('MARK Enrollment Template'!A147<>\"\",'MARK Enrollment Template'!G147=\"\"),\"Please fill in Email Address.\",IF(IFERROR(FIND(\"@\",'MARK Enrollment Template'!G147),\"X\")=\"X\",\"Email Address must include an @ symbol.\",\"\")))","v":""},null,null,null,{"$f":"IF('MARK Enrollment Template'!A147=\"\",\"\",IF(AND('MARK Enrollment Template'!A147<>\"\",'MARK Enrollment Template'!K147=\"\"),\"Please fill in Zip Code.\",IF(LEN(SUBSTITUTE(TRIM('MARK Enrollment Template'!K147),CHAR(9),\"\"))<5,\"Zip <5 digits. If leading zero, add apostrophe (ex. '01234).\",\"\")))","v":""},null,null,{"$f":"CELL(\"format\",'MARK Enrollment Template'!C147)","v":"D4"}]
["",{"$f":"IF(AND(SUMPRODUCT(--('MARK Enrollment Template'!A148:L148<>\"\"))<>0,'MARK Enrollment Template'!A148=\"\"),\"Please fill in First Name.\",IF(LEN('MARK Enrollment Template'!A148)=1,\"Please fill in full first name.\",\"\"))","v":""},{"$f":"IF('MARK Enrollment Template'!A148=\"\",\"\",IF(AND('MARK Enrollment Template'!A148<>\"\",'MARK Enrollment Template'!B148=\"\"),\"Please fill in a Last Name.\",\"\"))","v":""},{"$f":"IF('MARK Enrollment Template'!A148=\"\",\"\",IF(AND('MARK Enrollment Template'!A148<>\"\",'MARK Enrollment Template'!C148=\"\"),\"Please fill in Date of Birth.\",IF(TRIM(O143)<>\"D4\",\"Please format DOB as a date in the form MM/DD/YYYY.\",IF('MARK Enrollment Template'!C148>TODAY(),\"Please check DOB.\",\"\"))))","v":""},{"$f":"IF('MARK Enrollment Template'!A148=\"\",\"\",IF(AND('MARK Enrollment Template'!A148<>\"\",'MARK Enrollment Template'!D148=\"\"),\"Please fill in Sex.\",IF(OR(TRIM('MARK Enrollment Template'!D148)=\"M\",TRIM('MARK Enrollment Template'!D148)=\"F\",TRIM('MARK Enrollment Template'!D148)=\"Male\",TRIM('MARK Enrollment Template'!D148)=\"Female\"),\"\",\"Sex must be M/F/Male/Female.\")))","v":""},null,null,{"$f":"IF('MARK Enrollment Template'!A148=\"\",\"\",IF(AND('MARK Enrollment Template'!A148<>\"\",'MARK Enrollment Template'!G148=\"\"),\"Please fill in Email Address.\",IF(IFERROR(FIND(\"@\",'MARK Enrollment Template'!G148),\"X\")=\"X\",\"Email Address must include an @ symbol.\",\"\")))","v":""},null,null,null,{"$f":"IF('MARK Enrollment Template'!A148=\"\",\"\",IF(AND('MARK Enrollment Template'!A148<>\"\",'MARK Enrollment Template'!K148=\"\"),\"Please fill in Zip Code.\",IF(LEN(SUBSTITUTE(TRIM('MARK Enrollment Template'!K148),CHAR(9),\"\"))<5,\"Zip <5 digits. If leading zero, add apostrophe (ex. '01234).\",\"\")))","v":""},null,null,{"$f":"CELL(\"format\",'MARK Enrollment Template'!C148)","v":"D4"}]
["",{"$f":"IF(AND(SUMPRODUCT(--('MARK Enrollment Template'!A149:L149<>\"\"))<>0,'MARK Enrollment Template'!A149=\"\"),\"Please fill in First Name.\",IF(LEN('MARK Enrollment Template'!A149)=1,\"Please fill in full first name.\",\"\"))","v":""},{"$f":"IF('MARK Enrollment Template'!A149=\"\",\"\",IF(AND('MARK Enrollment Template'!A149<>\"\",'MARK Enrollment Template'!B149=\"\"),\"Please fill in a Last Name.\",\"\"))","v":""},{"$f":"IF('MARK Enrollment Template'!A149=\"\",\"\",IF(AND('MARK Enrollment Template'!A149<>\"\",'MARK Enrollment Template'!C149=\"\"),\"Please fill in Date of Birth.\",IF(TRIM(O144)<>\"D4\",\"Please format DOB as a date in the form MM/DD/YYYY.\",IF('MARK Enrollment Template'!C149>TODAY(),\"Please check DOB.\",\"\"))))","v":""},{"$f":"IF('MARK Enrollment Template'!A149=\"\",\"\",IF(AND('MARK Enrollment Template'!A149<>\"\",'MARK Enrollment Template'!D149=\"\"),\"Please fill in Sex.\",IF(OR(TRIM('MARK Enrollment Template'!D149)=\"M\",TRIM('MARK Enrollment Template'!D149)=\"F\",TRIM('MARK Enrollment Template'!D149)=\"Male\",TRIM('MARK Enrollment Template'!D149)=\"Female\"),\"\",\"Sex must be M/F/Male/Female.\")))","v":""},null,null,{"$f":"IF('MARK Enrollment Template'!A149=\"\",\"\",IF(AND('MARK Enrollment Template'!A149<>\"\",'MARK Enrollment Template'!G149=\"\"),\"Please fill in Email Address.\",IF(IFERROR(FIND(\"@\",'MARK Enrollment Template'!G149),\"X\")=\"X\",\"Email Address must include an @ symbol.\",\"\")))","v":""},null,null,null,{"$f":"IF('MARK Enrollment Template'!A149=\"\",\"\",IF(AND('MARK Enrollment Template'!A149<>\"\",'MARK Enrollment Template'!K149=\"\"),\"Please fill in Zip Code.\",IF(LEN(SUBSTITUTE(TRIM('MARK Enrollment Template'!K149),CHAR(9),\"\"))<5,\"Zip <5 digits. If leading zero, add apostrophe (ex. '01234).\",\"\")))","v":""},null,null,{"$f":"CELL(\"format\",'MARK Enrollment Template'!C149)","v":"D4"}]
["",{"$f":"IF(AND(SUMPRODUCT(--('MARK Enrollment Template'!A150:L150<>\"\"))<>0,'MARK Enrollment Template'!A150=\"\"),\"Please fill in First Name.\",IF(LEN('MARK Enrollment Template'!A150)=1,\"Please fill in full first name.\",\"\"))","v":""},{"$f":"IF('MARK Enrollment Template'!A150=\"\",\"\",IF(AND('MARK Enrollment Template'!A150<>\"\",'MARK Enrollment Template'!B150=\"\"),\"Please fill in a Last Name.\",\"\"))","v":""},{"$f":"IF('MARK Enrollment Template'!A150=\"\",\"\",IF(AND('MARK Enrollment Template'!A150<>\"\",'MARK Enrollment Template'!C150=\"\"),\"Please fill in Date of Birth.\",IF(TRIM(O145)<>\"D4\",\"Please format DOB as a date in the form MM/DD/YYYY.\",IF('MARK Enrollment Template'!C150>TODAY(),\"Please check DOB.\",\"\"))))","v":""},{"$f":"IF('MARK Enrollment Template'!A150=\"\",\"\",IF(AND('MARK Enrollment Template'!A150<>\"\",'MARK Enrollment Template'!D150=\"\"),\"Please fill in Sex.\",IF(OR(TRIM('MARK Enrollment Template'!D150)=\"M\",TRIM('MARK Enrollment Template'!D150)=\"F\",TRIM('MARK Enrollment Template'!D150)=\"Male\",TRIM('MARK Enrollment Template'!D150)=\"Female\"),\"\",\"Sex must be M/F/Male/Female.\")))","v":""},null,null,{"$f":"IF('MARK Enrollment Template'!A150=\"\",\"\",IF(AND('MARK Enrollment Template'!A150<>\"\",'MARK Enrollment Template'!G150=\"\"),\"Please fill in Email Address.\",IF(IFERROR(FIND(\"@\",'MARK Enrollment Template'!G150),\"X\")=\"X\",\"Email Address must include an @ symbol.\",\"\")))","v":""},null,null,null,{"$f":"IF('MARK Enrollment Template'!A150=\"\",\"\",IF(AND('MARK Enrollment Template'!A150<>\"\",'MARK Enrollment Template'!K150=\"\"),\"Please fill in Zip Code.\",IF(LEN(SUBSTITUTE(TRIM('MARK Enrollment Template'!K150),CHAR(9),\"\"))<5,\"Zip <5 digits. If leading zero, add apostrophe (ex. '01234).\",\"\")))","v":""},null,null,{"$f":"CELL(\"format\",'MARK Enrollment Template'!C150)","v":"D4"}]
["",{"$f":"IF(AND(SUMPRODUCT(--('MARK Enrollment Template'!A151:L151<>\"\"))<>0,'MARK Enrollment Template'!A151=\"\"),\"Please fill in First Name.\",IF(LEN('MARK Enrollment Template'!A151)=1,\"Please fill in full first name.\",\"\"))","v":""},{"$f":"IF('MARK Enrollment Template'!A151=\"\",\"\",IF(AND('MARK Enrollment Template'!A151<>\"\",'MARK Enrollment Template'!B151=\"\"),\"Please fill in a Last Name.\",\"\"))","v":""},{"$f":"IF('MARK Enrollment Template'!A151=\"\",\"\",IF(AND('MARK Enrollment Template'!A151<>\"\",'MARK Enrollment Template'!C151=\"\"),\"Please fill in Date of Birth.\",IF(TRIM(O146)<>\"D4\",\"Please format DOB as a date in the form MM/DD/YYYY.\",IF('MARK Enrollment Template'!C151>TODAY(),\"Please check DOB.\",\"\"))))","v":""},{"$f":"IF('MARK Enrollment Template'!A151=\"\",\"\",IF(AND('MARK Enrollment Template'!A151<>\"\",'MARK Enrollment Template'!D151=\"\"),\"Please fill in Sex.\",IF(OR(TRIM('MARK Enrollment Template'!D151)=\"M\",TRIM('MARK Enrollment Template'!D151)=\"F\",TRIM('MARK Enrollment Template'!D151)=\"Male\",TRIM('MARK Enrollment Template'!D151)=\"Female\"),\"\",\"Sex must be M/F/Male/Female.\")))","v":""},null,null,{"$f":"IF('MARK Enrollment Template'!A151=\"\",\"\",IF(AND('MARK Enrollment Template'!A151<>\"\",'MARK Enrollment Template'!G151=\"\"),\"Please fill in Email Address.\",IF(IFERROR(FIND(\"@\",'MARK Enrollment Template'!G151),\"X\")=\"X\",\"Email Address must include an @ symbol.\",\"\")))","v":""},null,null,null,{"$f":"IF('MARK Enrollment Template'!A151=\"\",\"\",IF(AND('MARK Enrollment Template'!A151<>\"\",'MARK Enrollment Template'!K151=\"\"),\"Please fill in Zip Code.\",IF(LEN(SUBSTITUTE(TRIM('MARK Enrollment Template'!K151),CHAR(9),\"\"))<5,\"Zip <5 digits. If leading zero, add apostrophe (ex. '01234).\",\"\")))","v":""},null,null,{"$f":"CELL(\"format\",'MARK Enrollment Template'!C151)","v":"D4"}]
["",{"$f":"IF(AND(SUMPRODUCT(--('MARK Enrollment Template'!A152:L152<>\"\"))<>0,'MARK Enrollment Template'!A152=\"\"),\"Please fill in First Name.\",IF(LEN('MARK Enrollment Template'!A152)=1,\"Please fill in full first name.\",\"\"))","v":""},{"$f":"IF('MARK Enrollment Template'!A152=\"\",\"\",IF(AND('MARK Enrollment Template'!A152<>\"\",'MARK Enrollment Template'!B152=\"\"),\"Please fill in a Last Name.\",\"\"))","v":""},{"$f":"IF('MARK Enrollment Template'!A152=\"\",\"\",IF(AND('MARK Enrollment Template'!A152<>\"\",'MARK Enrollment Template'!C152=\"\"),\"Please fill in Date of Birth.\",IF(TRIM(O147)<>\"D4\",\"Please format DOB as a date in the form MM/DD/YYYY.\",IF('MARK Enrollment Template'!C152>TODAY(),\"Please check DOB.\",\"\"))))","v":""},{"$f":"IF('MARK Enrollment Template'!A152=\"\",\"\",IF(AND('MARK Enrollment Template'!A152<>\"\",'MARK Enrollment Template'!D152=\"\"),\"Please fill in Sex.\",IF(OR(TRIM('MARK Enrollment Template'!D152)=\"M\",TRIM('MARK Enrollment Template'!D152)=\"F\",TRIM('MARK Enrollment Template'!D152)=\"Male\",TRIM('MARK Enrollment Template'!D152)=\"Female\"),\"\",\"Sex must be M/F/Male/Female.\")))","v":""},null,null,{"$f":"IF('MARK Enrollment Template'!A152=\"\",\"\",IF(AND('MARK Enrollment Template'!A152<>\"\",'MARK Enrollment Template'!G152=\"\"),\"Please fill in Email Address.\",IF(IFERROR(FIND(\"@\",'MARK Enrollment Template'!G152),\"X\")=\"X\",\"Email Address must include an @ symbol.\",\"\")))","v":""},null,null,null,{"$f":"IF('MARK Enrollment Template'!A152=\"\",\"\",IF(AND('MARK Enrollment Template'!A152<>\"\",'MARK Enrollment Template'!K152=\"\"),\"Please fill in Zip Code.\",IF(LEN(SUBSTITUTE(TRIM('MARK Enrollment Template'!K152),CHAR(9),\"\"))<5,\"Zip <5 digits. If leading zero, add apostrophe (ex. '01234).\",\"\")))","v":""},null,null,{"$f":"CELL(\"format\",'MARK Enrollment Template'!C152)","v":"D4"}]
["",{"$f":"IF(AND(SUMPRODUCT(--('MARK Enrollment Template'!A153:L153<>\"\"))<>0,'MARK Enrollment Template'!A153=\"\"),\"Please fill in First Name.\",IF(LEN('MARK Enrollment Template'!A153)=1,\"Please fill in full first name.\",\"\"))","v":""},{"$f":"IF('MARK Enrollment Template'!A153=\"\",\"\",IF(AND('MARK Enrollment Template'!A153<>\"\",'MARK Enrollment Template'!B153=\"\"),\"Please fill in a Last Name.\",\"\"))","v":""},{"$f":"IF('MARK Enrollment Template'!A153=\"\",\"\",IF(AND('MARK Enrollment Template'!A153<>\"\",'MARK Enrollment Template'!C153=\"\"),\"Please fill in Date of Birth.\",IF(TRIM(O148)<>\"D4\",\"Please format DOB as a date in the form MM/DD/YYYY.\",IF('MARK Enrollment Template'!C153>TODAY(),\"Please check DOB.\",\"\"))))","v":""},{"$f":"IF('MARK Enrollment Template'!A153=\"\",\"\",IF(AND('MARK Enrollment Template'!A153<>\"\",'MARK Enrollment Template'!D153=\"\"),\"Please fill in Sex.\",IF(OR(TRIM('MARK Enrollment Template'!D153)=\"M\",TRIM('MARK Enrollment Template'!D153)=\"F\",TRIM('MARK Enrollment Template'!D153)=\"Male\",TRIM('MARK Enrollment Template'!D153)=\"Female\"),\"\",\"Sex must be M/F/Male/Female.\")))","v":""},null,null,{"$f":"IF('MARK Enrollment Template'!A153=\"\",\"\",IF(AND('MARK Enrollment Template'!A153<>\"\",'MARK Enrollment Template'!G153=\"\"),\"Please fill in Email Address.\",IF(IFERROR(FIND(\"@\",'MARK Enrollment Template'!G153),\"X\")=\"X\",\"Email Address must include an @ symbol.\",\"\")))","v":""},null,null,null,{"$f":"IF('MARK Enrollment Template'!A153=\"\",\"\",IF(AND('MARK Enrollment Template'!A153<>\"\",'MARK Enrollment Template'!K153=\"\"),\"Please fill in Zip Code.\",IF(LEN(SUBSTITUTE(TRIM('MARK Enrollment Template'!K153),CHAR(9),\"\"))<5,\"Zip <5 digits. If leading zero, add apostrophe (ex. '01234).\",\"\")))","v":""},null,null,{"$f":"CELL(\"format\",'MARK Enrollment Template'!C153)","v":"D4"}]
["",{"$f":"IF(AND(SUMPRODUCT(--('MARK Enrollment Template'!A154:L154<>\"\"))<>0,'MARK Enrollment Template'!A154=\"\"),\"Please fill in First Name.\",IF(LEN('MARK Enrollment Template'!A154)=1,\"Please fill in full first name.\",\"\"))","v":""},{"$f":"IF('MARK Enrollment Template'!A154=\"\",\"\",IF(AND('MARK Enrollment Template'!A154<>\"\",'MARK Enrollment Template'!B154=\"\"),\"Please fill in a Last Name.\",\"\"))","v":""},{"$f":"IF('MARK Enrollment Template'!A154=\"\",\"\",IF(AND('MARK Enrollment Template'!A154<>\"\",'MARK Enrollment Template'!C154=\"\"),\"Please fill in Date of Birth.\",IF(TRIM(O149)<>\"D4\",\"Please format DOB as a date in the form MM/DD/YYYY.\",IF('MARK Enrollment Template'!C154>TODAY(),\"Please check DOB.\",\"\"))))","v":""},{"$f":"IF('MARK Enrollment Template'!A154=\"\",\"\",IF(AND('MARK Enrollment Template'!A154<>\"\",'MARK Enrollment Template'!D154=\"\"),\"Please fill in Sex.\",IF(OR(TRIM('MARK Enrollment Template'!D154)=\"M\",TRIM('MARK Enrollment Template'!D154)=\"F\",TRIM('MARK Enrollment Template'!D154)=\"Male\",TRIM('MARK Enrollment Template'!D154)=\"Female\"),\"\",\"Sex must be M/F/Male/Female.\")))","v":""},null,null,{"$f":"IF('MARK Enrollment Template'!A154=\"\",\"\",IF(AND('MARK Enrollment Template'!A154<>\"\",'MARK Enrollment Template'!G154=\"\"),\"Please fill in Email Address.\",IF(IFERROR(FIND(\"@\",'MARK Enrollment Template'!G154),\"X\")=\"X\",\"Email Address must include an @ symbol.\",\"\")))","v":""},null,null,null,{"$f":"IF('MARK Enrollment Template'!A154=\"\",\"\",IF(AND('MARK Enrollment Template'!A154<>\"\",'MARK Enrollment Template'!K154=\"\"),\"Please fill in Zip Code.\",IF(LEN(SUBSTITUTE(TRIM('MARK Enrollment Template'!K154),CHAR(9),\"\"))<5,\"Zip <5 digits. If leading zero, add apostrophe (ex. '01234).\",\"\")))","v":""},null,null,{"$f":"CELL(\"format\",'MARK Enrollment Template'!C154)","v":"D4"}]
["",{"$f":"IF(AND(SUMPRODUCT(--('MARK Enrollment Template'!A155:L155<>\"\"))<>0,'MARK Enrollment Template'!A155=\"\"),\"Please fill in First Name.\",IF(LEN('MARK Enrollment Template'!A155)=1,\"Please fill in full first name.\",\"\"))","v":""},{"$f":"IF('MARK Enrollment Template'!A155=\"\",\"\",IF(AND('MARK Enrollment Template'!A155<>\"\",'MARK Enrollment Template'!B155=\"\"),\"Please fill in a Last Name.\",\"\"))","v":""},{"$f":"IF('MARK Enrollment Template'!A155=\"\",\"\",IF(AND('MARK Enrollment Template'!A155<>\"\",'MARK Enrollment Template'!C155=\"\"),\"Please fill in Date of Birth.\",IF(TRIM(O150)<>\"D4\",\"Please format DOB as a date in the form MM/DD/YYYY.\",IF('MARK Enrollment Template'!C155>TODAY(),\"Please check DOB.\",\"\"))))","v":""},{"$f":"IF('MARK Enrollment Template'!A155=\"\",\"\",IF(AND('MARK Enrollment Template'!A155<>\"\",'MARK Enrollment Template'!D155=\"\"),\"Please fill in Sex.\",IF(OR(TRIM('MARK Enrollment Template'!D155)=\"M\",TRIM('MARK Enrollment Template'!D155)=\"F\",TRIM('MARK Enrollment Template'!D155)=\"Male\",TRIM('MARK Enrollment Template'!D155)=\"Female\"),\"\",\"Sex must be M/F/Male/Female.\")))","v":""},null,null,{"$f":"IF('MARK Enrollment Template'!A155=\"\",\"\",IF(AND('MARK Enrollment Template'!A155<>\"\",'MARK Enrollment Template'!G155=\"\"),\"Please fill in Email Address.\",IF(IFERROR(FIND(\"@\",'MARK Enrollment Template'!G155),\"X\")=\"X\",\"Email Address must include an @ symbol.\",\"\")))","v":""},null,null,null,{"$f":"IF('MARK Enrollment Template'!A155=\"\",\"\",IF(AND('MARK Enrollment Template'!A155<>\"\",'MARK Enrollment Template'!K155=\"\"),\"Please fill in Zip Code.\",IF(LEN(SUBSTITUTE(TRIM('MARK Enrollment Template'!K155),CHAR(9),\"\"))<5,\"Zip <5 digits. If leading zero, add apostrophe (ex. '01234).\",\"\")))","v":""},null,null,{"$f":"CELL(\"format\",'MARK Enrollment Template'!C155)","v":"D4"}]
["",{"$f":"IF(AND(SUMPRODUCT(--('MARK Enrollment Template'!A156:L156<>\"\"))<>0,'MARK Enrollment Template'!A156=\"\"),\"Please fill in First Name.\",IF(LEN('MARK Enrollment Template'!A156)=1,\"Please fill in full first name.\",\"\"))","v":""},{"$f":"IF('MARK Enrollment Template'!A156=\"\",\"\",IF(AND('MARK Enrollment Template'!A156<>\"\",'MARK Enrollment Template'!B156=\"\"),\"Please fill in a Last Name.\",\"\"))","v":""},{"$f":"IF('MARK Enrollment Template'!A156=\"\",\"\",IF(AND('MARK Enrollment Template'!A156<>\"\",'MARK Enrollment Template'!C156=\"\"),\"Please fill in Date of Birth.\",IF(TRIM(O151)<>\"D4\",\"Please format DOB as a date in the form MM/DD/YYYY.\",IF('MARK Enrollment Template'!C156>TODAY(),\"Please check DOB.\",\"\"))))","v":""},{"$f":"IF('MARK Enrollment Template'!A156=\"\",\"\",IF(AND('MARK Enrollment Template'!A156<>\"\",'MARK Enrollment Template'!D156=\"\"),\"Please fill in Sex.\",IF(OR(TRIM('MARK Enrollment Template'!D156)=\"M\",TRIM('MARK Enrollment Template'!D156)=\"F\",TRIM('MARK Enrollment Template'!D156)=\"Male\",TRIM('MARK Enrollment Template'!D156)=\"Female\"),\"\",\"Sex must be M/F/Male/Female.\")))","v":""},null,null,{"$f":"IF('MARK Enrollment Template'!A156=\"\",\"\",IF(AND('MARK Enrollment Template'!A156<>\"\",'MARK Enrollment Template'!G156=\"\"),\"Please fill in Email Address.\",IF(IFERROR(FIND(\"@\",'MARK Enrollment Template'!G156),\"X\")=\"X\",\"Email Address must include an @ symbol.\",\"\")))","v":""},null,null,null,{"$f":"IF('MARK Enrollment Template'!A156=\"\",\"\",IF(AND('MARK Enrollment Template'!A156<>\"\",'MARK Enrollment Template'!K156=\"\"),\"Please fill in Zip Code.\",IF(LEN(SUBSTITUTE(TRIM('MARK Enrollment Template'!K156),CHAR(9),\"\"))<5,\"Zip <5 digits. If leading zero, add apostrophe (ex. '01234).\",\"\")))","v":""},null,null,{"$f":"CELL(\"format\",'MARK Enrollment Template'!C156)","v":"D4"}]
["",{"$f":"IF(AND(SUMPRODUCT(--('MARK Enrollment Template'!A157:L157<>\"\"))<>0,'MARK Enrollment Template'!A157=\"\"),\"Please fill in First Name.\",IF(LEN('MARK Enrollment Template'!A157)=1,\"Please fill in full first name.\",\"\"))","v":""},{"$f":"IF('MARK Enrollment Template'!A157=\"\",\"\",IF(AND('MARK Enrollment Template'!A157<>\"\",'MARK Enrollment Template'!B157=\"\"),\"Please fill in a Last Name.\",\"\"))","v":""},{"$f":"IF('MARK Enrollment Template'!A157=\"\",\"\",IF(AND('MARK Enrollment Template'!A157<>\"\",'MARK Enrollment Template'!C157=\"\"),\"Please fill in Date of Birth.\",IF(TRIM(O152)<>\"D4\",\"Please format DOB as a date in the form MM/DD/YYYY.\",IF('MARK Enrollment Template'!C157>TODAY(),\"Please check DOB.\",\"\"))))","v":""},{"$f":"IF('MARK Enrollment Template'!A157=\"\",\"\",IF(AND('MARK Enrollment Template'!A157<>\"\",'MARK Enrollment Template'!D157=\"\"),\"Please fill in Sex.\",IF(OR(TRIM('MARK Enrollment Template'!D157)=\"M\",TRIM('MARK Enrollment Template'!D157)=\"F\",TRIM('MARK Enrollment Template'!D157)=\"Male\",TRIM('MARK Enrollment Template'!D157)=\"Female\"),\"\",\"Sex must be M/F/Male/Female.\")))","v":""},null,null,{"$f":"IF('MARK Enrollment Template'!A157=\"\",\"\",IF(AND('MARK Enrollment Template'!A157<>\"\",'MARK Enrollment Template'!G157=\"\"),\"Please fill in Email Address.\",IF(IFERROR(FIND(\"@\",'MARK Enrollment Template'!G157),\"X\")=\"X\",\"Email Address must include an @ symbol.\",\"\")))","v":""},null,null,null,{"$f":"IF('MARK Enrollment Template'!A157=\"\",\"\",IF(AND('MARK Enrollment Template'!A157<>\"\",'MARK Enrollment Template'!K157=\"\"),\"Please fill in Zip Code.\",IF(LEN(SUBSTITUTE(TRIM('MARK Enrollment Template'!K157),CHAR(9),\"\"))<5,\"Zip <5 digits. If leading zero, add apostrophe (ex. '01234).\",\"\")))","v":""},null,null,{"$f":"CELL(\"format\",'MARK Enrollment Template'!C157)","v":"D4"}]
["",{"$f":"IF(AND(SUMPRODUCT(--('MARK Enrollment Template'!A158:L158<>\"\"))<>0,'MARK Enrollment Template'!A158=\"\"),\"Please fill in First Name.\",IF(LEN('MARK Enrollment Template'!A158)=1,\"Please fill in full first name.\",\"\"))","v":""},{"$f":"IF('MARK Enrollment Template'!A158=\"\",\"\",IF(AND('MARK Enrollment Template'!A158<>\"\",'MARK Enrollment Template'!B158=\"\"),\"Please fill in a Last Name.\",\"\"))","v":""},{"$f":"IF('MARK Enrollment Template'!A158=\"\",\"\",IF(AND('MARK Enrollment Template'!A158<>\"\",'MARK Enrollment Template'!C158=\"\"),\"Please fill in Date of Birth.\",IF(TRIM(O153)<>\"D4\",\"Please format DOB as a date in the form MM/DD/YYYY.\",IF('MARK Enrollment Template'!C158>TODAY(),\"Please check DOB.\",\"\"))))","v":""},{"$f":"IF('MARK Enrollment Template'!A158=\"\",\"\",IF(AND('MARK Enrollment Template'!A158<>\"\",'MARK Enrollment Template'!D158=\"\"),\"Please fill in Sex.\",IF(OR(TRIM('MARK Enrollment Template'!D158)=\"M\",TRIM('MARK Enrollment Template'!D158)=\"F\",TRIM('MARK Enrollment Template'!D158)=\"Male\",TRIM('MARK Enrollment Template'!D158)=\"Female\"),\"\",\"Sex must be M/F/Male/Female.\")))","v":""},null,null,{"$f":"IF('MARK Enrollment Template'!A158=\"\",\"\",IF(AND('MARK Enrollment Template'!A158<>\"\",'MARK Enrollment Template'!G158=\"\"),\"Please fill in Email Address.\",IF(IFERROR(FIND(\"@\",'MARK Enrollment Template'!G158),\"X\")=\"X\",\"Email Address must include an @ symbol.\",\"\")))","v":""},null,null,null,{"$f":"IF('MARK Enrollment Template'!A158=\"\",\"\",IF(AND('MARK Enrollment Template'!A158<>\"\",'MARK Enrollment Template'!K158=\"\"),\"Please fill in Zip Code.\",IF(LEN(SUBSTITUTE(TRIM('MARK Enrollment Template'!K158),CHAR(9),\"\"))<5,\"Zip <5 digits. If leading zero, add apostrophe (ex. '01234).\",\"\")))","v":""},null,null,{"$f":"CELL(\"format\",'MARK Enrollment Template'!C158)","v":"D4"}]
["",{"$f":"IF(AND(SUMPRODUCT(--('MARK Enrollment Template'!A159:L159<>\"\"))<>0,'MARK Enrollment Template'!A159=\"\"),\"Please fill in First Name.\",IF(LEN('MARK Enrollment Template'!A159)=1,\"Please fill in full first name.\",\"\"))","v":""},{"$f":"IF('MARK Enrollment Template'!A159=\"\",\"\",IF(AND('MARK Enrollment Template'!A159<>\"\",'MARK Enrollment Template'!B159=\"\"),\"Please fill in a Last Name.\",\"\"))","v":""},{"$f":"IF('MARK Enrollment Template'!A159=\"\",\"\",IF(AND('MARK Enrollment Template'!A159<>\"\",'MARK Enrollment Template'!C159=\"\"),\"Please fill in Date of Birth.\",IF(TRIM(O154)<>\"D4\",\"Please format DOB as a date in the form MM/DD/YYYY.\",IF('MARK Enrollment Template'!C159>TODAY(),\"Please check DOB.\",\"\"))))","v":""},{"$f":"IF('MARK Enrollment Template'!A159=\"\",\"\",IF(AND('MARK Enrollment Template'!A159<>\"\",'MARK Enrollment Template'!D159=\"\"),\"Please fill in Sex.\",IF(OR(TRIM('MARK Enrollment Template'!D159)=\"M\",TRIM('MARK Enrollment Template'!D159)=\"F\",TRIM('MARK Enrollment Template'!D159)=\"Male\",TRIM('MARK Enrollment Template'!D159)=\"Female\"),\"\",\"Sex must be M/F/Male/Female.\")))","v":""},null,null,{"$f":"IF('MARK Enrollment Template'!A159=\"\",\"\",IF(AND('MARK Enrollment Template'!A159<>\"\",'MARK Enrollment Template'!G159=\"\"),\"Please fill in Email Address.\",IF(IFERROR(FIND(\"@\",'MARK Enrollment Template'!G159),\"X\")=\"X\",\"Email Address must include an @ symbol.\",\"\")))","v":""},null,null,null,{"$f":"IF('MARK Enrollment Template'!A159=\"\",\"\",IF(AND('MARK Enrollment Template'!A159<>\"\",'MARK Enrollment Template'!K159=\"\"),\"Please fill in Zip Code.\",IF(LEN(SUBSTITUTE(TRIM('MARK Enrollment Template'!K159),CHAR(9),\"\"))<5,\"Zip <5 digits. If leading zero, add apostrophe (ex. '01234).\",\"\")))","v":""},null,null,{"$f":"CELL(\"format\",'MARK Enrollment Template'!C159)","v":"D4"}]
["",{"$f":"IF(AND(SUMPRODUCT(--('MARK Enrollment Template'!A160:L160<>\"\"))<>0,'MARK Enrollment Template'!A160=\"\"),\"Please fill in First Name.\",IF(LEN('MARK Enrollment Template'!A160)=1,\"Please fill in full first name.\",\"\"))","v":""},{"$f":"IF('MARK Enrollment Template'!A160=\"\",\"\",IF(AND('MARK Enrollment Template'!A160<>\"\",'MARK Enrollment Template'!B160=\"\"),\"Please fill in a Last Name.\",\"\"))","v":""},{"$f":"IF('MARK Enrollment Template'!A160=\"\",\"\",IF(AND('MARK Enrollment Template'!A160<>\"\",'MARK Enrollment Template'!C160=\"\"),\"Please fill in Date of Birth.\",IF(TRIM(O155)<>\"D4\",\"Please format DOB as a date in the form MM/DD/YYYY.\",IF('MARK Enrollment Template'!C160>TODAY(),\"Please check DOB.\",\"\"))))","v":""},{"$f":"IF('MARK Enrollment Template'!A160=\"\",\"\",IF(AND('MARK Enrollment Template'!A160<>\"\",'MARK Enrollment Template'!D160=\"\"),\"Please fill in Sex.\",IF(OR(TRIM('MARK Enrollment Template'!D160)=\"M\",TRIM('MARK Enrollment Template'!D160)=\"F\",TRIM('MARK Enrollment Template'!D160)=\"Male\",TRIM('MARK Enrollment Template'!D160)=\"Female\"),\"\",\"Sex must be M/F/Male/Female.\")))","v":""},null,null,{"$f":"IF('MARK Enrollment Template'!A160=\"\",\"\",IF(AND('MARK Enrollment Template'!A160<>\"\",'MARK Enrollment Template'!G160=\"\"),\"Please fill in Email Address.\",IF(IFERROR(FIND(\"@\",'MARK Enrollment Template'!G160),\"X\")=\"X\",\"Email Address must include an @ symbol.\",\"\")))","v":""},null,null,null,{"$f":"IF('MARK Enrollment Template'!A160=\"\",\"\",IF(AND('MARK Enrollment Template'!A160<>\"\",'MARK Enrollment Template'!K160=\"\"),\"Please fill in Zip Code.\",IF(LEN(SUBSTITUTE(TRIM('MARK Enrollment Template'!K160),CHAR(9),\"\"))<5,\"Zip <5 digits. If leading zero, add apostrophe (ex. '01234).\",\"\")))","v":""},null,null,{"$f":"CELL(\"format\",'MARK Enrollment Template'!C160)","v":"D4"}]
["",{"$f":"IF(AND(SUMPRODUCT(--('MARK Enrollment Template'!A161:L161<>\"\"))<>0,'MARK Enrollment Template'!A161=\"\"),\"Please fill in First Name.\",IF(LEN('MARK Enrollment Template'!A161)=1,\"Please fill in full first name.\",\"\"))","v":""},{"$f":"IF('MARK Enrollment Template'!A161=\"\",\"\",IF(AND('MARK Enrollment Template'!A161<>\"\",'MARK Enrollment Template'!B161=\"\"),\"Please fill in a Last Name.\",\"\"))","v":""},{"$f":"IF('MARK Enrollment Template'!A161=\"\",\"\",IF(AND('MARK Enrollment Template'!A161<>\"\",'MARK Enrollment Template'!C161=\"\"),\"Please fill in Date of Birth.\",IF(TRIM(O156)<>\"D4\",\"Please format DOB as a date in the form MM/DD/YYYY.\",IF('MARK Enrollment Template'!C161>TODAY(),\"Please check DOB.\",\"\"))))","v":""},{"$f":"IF('MARK Enrollment Template'!A161=\"\",\"\",IF(AND('MARK Enrollment Template'!A161<>\"\",'MARK Enrollment Template'!D161=\"\"),\"Please fill in Sex.\",IF(OR(TRIM('MARK Enrollment Template'!D161)=\"M\",TRIM('MARK Enrollment Template'!D161)=\"F\",TRIM('MARK Enrollment Template'!D161)=\"Male\",TRIM('MARK Enrollment Template'!D161)=\"Female\"),\"\",\"Sex must be M/F/Male/Female.\")))","v":""},null,null,{"$f":"IF('MARK Enrollment Template'!A161=\"\",\"\",IF(AND('MARK Enrollment Template'!A161<>\"\",'MARK Enrollment Template'!G161=\"\"),\"Please fill in Email Address.\",IF(IFERROR(FIND(\"@\",'MARK Enrollment Template'!G161),\"X\")=\"X\",\"Email Address must include an @ symbol.\",\"\")))","v":""},null,null,null,{"$f":"IF('MARK Enrollment Template'!A161=\"\",\"\",IF(AND('MARK Enrollment Template'!A161<>\"\",'MARK Enrollment Template'!K161=\"\"),\"Please fill in Zip Code.\",IF(LEN(SUBSTITUTE(TRIM('MARK Enrollment Template'!K161),CHAR(9),\"\"))<5,\"Zip <5 digits. If leading zero, add apostrophe (ex. '01234).\",\"\")))","v":""},null,null,{"$f":"CELL(\"format\",'MARK Enrollment Template'!C161)","v":"D4"}]
["",{"$f":"IF(AND(SUMPRODUCT(--('MARK Enrollment Template'!A162:L162<>\"\"))<>0,'MARK Enrollment Template'!A162=\"\"),\"Please fill in First Name.\",IF(LEN('MARK Enrollment Template'!A162)=1,\"Please fill in full first name.\",\"\"))","v":""},{"$f":"IF('MARK Enrollment Template'!A162=\"\",\"\",IF(AND('MARK Enrollment Template'!A162<>\"\",'MARK Enrollment Template'!B162=\"\"),\"Please fill in a Last Name.\",\"\"))","v":""},{"$f":"IF('MARK Enrollment Template'!A162=\"\",\"\",IF(AND('MARK Enrollment Template'!A162<>\"\",'MARK Enrollment Template'!C162=\"\"),\"Please fill in Date of Birth.\",IF(TRIM(O157)<>\"D4\",\"Please format DOB as a date in the form MM/DD/YYYY.\",IF('MARK Enrollment Template'!C162>TODAY(),\"Please check DOB.\",\"\"))))","v":""},{"$f":"IF('MARK Enrollment Template'!A162=\"\",\"\",IF(AND('MARK Enrollment Template'!A162<>\"\",'MARK Enrollment Template'!D162=\"\"),\"Please fill in Sex.\",IF(OR(TRIM('MARK Enrollment Template'!D162)=\"M\",TRIM('MARK Enrollment Template'!D162)=\"F\",TRIM('MARK Enrollment Template'!D162)=\"Male\",TRIM('MARK Enrollment Template'!D162)=\"Female\"),\"\",\"Sex must be M/F/Male/Female.\")))","v":""},null,null,{"$f":"IF('MARK Enrollment Template'!A162=\"\",\"\",IF(AND('MARK Enrollment Template'!A162<>\"\",'MARK Enrollment Template'!G162=\"\"),\"Please fill in Email Address.\",IF(IFERROR(FIND(\"@\",'MARK Enrollment Template'!G162),\"X\")=\"X\",\"Email Address must include an @ symbol.\",\"\")))","v":""},null,null,null,{"$f":"IF('MARK Enrollment Template'!A162=\"\",\"\",IF(AND('MARK Enrollment Template'!A162<>\"\",'MARK Enrollment Template'!K162=\"\"),\"Please fill in Zip Code.\",IF(LEN(SUBSTITUTE(TRIM('MARK Enrollment Template'!K162),CHAR(9),\"\"))<5,\"Zip <5 digits. If leading zero, add apostrophe (ex. '01234).\",\"\")))","v":""},null,null,{"$f":"CELL(\"format\",'MARK Enrollment Template'!C162)","v":"D4"}]
["",{"$f":"IF(AND(SUMPRODUCT(--('MARK Enrollment Template'!A163:L163<>\"\"))<>0,'MARK Enrollment Template'!A163=\"\"),\"Please fill in First Name.\",IF(LEN('MARK Enrollment Template'!A163)=1,\"Please fill in full first name.\",\"\"))","v":""},{"$f":"IF('MARK Enrollment Template'!A163=\"\",\"\",IF(AND('MARK Enrollment Template'!A163<>\"\",'MARK Enrollment Template'!B163=\"\"),\"Please fill in a Last Name.\",\"\"))","v":""},{"$f":"IF('MARK Enrollment Template'!A163=\"\",\"\",IF(AND('MARK Enrollment Template'!A163<>\"\",'MARK Enrollment Template'!C163=\"\"),\"Please fill in Date of Birth.\",IF(TRIM(O158)<>\"D4\",\"Please format DOB as a date in the form MM/DD/YYYY.\",IF('MARK Enrollment Template'!C163>TODAY(),\"Please check DOB.\",\"\"))))","v":""},{"$f":"IF('MARK Enrollment Template'!A163=\"\",\"\",IF(AND('MARK Enrollment Template'!A163<>\"\",'MARK Enrollment Template'!D163=\"\"),\"Please fill in Sex.\",IF(OR(TRIM('MARK Enrollment Template'!D163)=\"M\",TRIM('MARK Enrollment Template'!D163)=\"F\",TRIM('MARK Enrollment Template'!D163)=\"Male\",TRIM('MARK Enrollment Template'!D163)=\"Female\"),\"\",\"Sex must be M/F/Male/Female.\")))","v":""},null,null,{"$f":"IF('MARK Enrollment Template'!A163=\"\",\"\",IF(AND('MARK Enrollment Template'!A163<>\"\",'MARK Enrollment Template'!G163=\"\"),\"Please fill in Email Address.\",IF(IFERROR(FIND(\"@\",'MARK Enrollment Template'!G163),\"X\")=\"X\",\"Email Address must include an @ symbol.\",\"\")))","v":""},null,null,null,{"$f":"IF('MARK Enrollment Template'!A163=\"\",\"\",IF(AND('MARK Enrollment Template'!A163<>\"\",'MARK Enrollment Template'!K163=\"\"),\"Please fill in Zip Code.\",IF(LEN(SUBSTITUTE(TRIM('MARK Enrollment Template'!K163),CHAR(9),\"\"))<5,\"Zip <5 digits. If leading zero, add apostrophe (ex. '01234).\",\"\")))","v":""},null,null,{"$f":"CELL(\"format\",'MARK Enrollment Template'!C163)","v":"D4"}]
["",{"$f":"IF(AND(SUMPRODUCT(--('MARK Enrollment Template'!A164:L164<>\"\"))<>0,'MARK Enrollment Template'!A164=\"\"),\"Please fill in First Name.\",IF(LEN('MARK Enrollment Template'!A164)=1,\"Please fill in full first name.\",\"\"))","v":""},{"$f":"IF('MARK Enrollment Template'!A164=\"\",\"\",IF(AND('MARK Enrollment Template'!A164<>\"\",'MARK Enrollment Template'!B164=\"\"),\"Please fill in a Last Name.\",\"\"))","v":""},{"$f":"IF('MARK Enrollment Template'!A164=\"\",\"\",IF(AND('MARK Enrollment Template'!A164<>\"\",'MARK Enrollment Template'!C164=\"\"),\"Please fill in Date of Birth.\",IF(TRIM(O159)<>\"D4\",\"Please format DOB as a date in the form MM/DD/YYYY.\",IF('MARK Enrollment Template'!C164>TODAY(),\"Please check DOB.\",\"\"))))","v":""},{"$f":"IF('MARK Enrollment Template'!A164=\"\",\"\",IF(AND('MARK Enrollment Template'!A164<>\"\",'MARK Enrollment Template'!D164=\"\"),\"Please fill in Sex.\",IF(OR(TRIM('MARK Enrollment Template'!D164)=\"M\",TRIM('MARK Enrollment Template'!D164)=\"F\",TRIM('MARK Enrollment Template'!D164)=\"Male\",TRIM('MARK Enrollment Template'!D164)=\"Female\"),\"\",\"Sex must be M/F/Male/Female.\")))","v":""},null,null,{"$f":"IF('MARK Enrollment Template'!A164=\"\",\"\",IF(AND('MARK Enrollment Template'!A164<>\"\",'MARK Enrollment Template'!G164=\"\"),\"Please fill in Email Address.\",IF(IFERROR(FIND(\"@\",'MARK Enrollment Template'!G164),\"X\")=\"X\",\"Email Address must include an @ symbol.\",\"\")))","v":""},null,null,null,{"$f":"IF('MARK Enrollment Template'!A164=\"\",\"\",IF(AND('MARK Enrollment Template'!A164<>\"\",'MARK Enrollment Template'!K164=\"\"),\"Please fill in Zip Code.\",IF(LEN(SUBSTITUTE(TRIM('MARK Enrollment Template'!K164),CHAR(9),\"\"))<5,\"Zip <5 digits. If leading zero, add apostrophe (ex. '01234).\",\"\")))","v":""},null,null,{"$f":"CELL(\"format\",'MARK Enrollment Template'!C164)","v":"D4"}]
["",{"$f":"IF(AND(SUMPRODUCT(--('MARK Enrollment Template'!A165:L165<>\"\"))<>0,'MARK Enrollment Template'!A165=\"\"),\"Please fill in First Name.\",IF(LEN('MARK Enrollment Template'!A165)=1,\"Please fill in full first name.\",\"\"))","v":""},{"$f":"IF('MARK Enrollment Template'!A165=\"\",\"\",IF(AND('MARK Enrollment Template'!A165<>\"\",'MARK Enrollment Template'!B165=\"\"),\"Please fill in a Last Name.\",\"\"))","v":""},{"$f":"IF('MARK Enrollment Template'!A165=\"\",\"\",IF(AND('MARK Enrollment Template'!A165<>\"\",'MARK Enrollment Template'!C165=\"\"),\"Please fill in Date of Birth.\",IF(TRIM(O160)<>\"D4\",\"Please format DOB as a date in the form MM/DD/YYYY.\",IF('MARK Enrollment Template'!C165>TODAY(),\"Please check DOB.\",\"\"))))","v":""},{"$f":"IF('MARK Enrollment Template'!A165=\"\",\"\",IF(AND('MARK Enrollment Template'!A165<>\"\",'MARK Enrollment Template'!D165=\"\"),\"Please fill in Sex.\",IF(OR(TRIM('MARK Enrollment Template'!D165)=\"M\",TRIM('MARK Enrollment Template'!D165)=\"F\",TRIM('MARK Enrollment Template'!D165)=\"Male\",TRIM('MARK Enrollment Template'!D165)=\"Female\"),\"\",\"Sex must be M/F/Male/Female.\")))","v":""},null,null,{"$f":"IF('MARK Enrollment Template'!A165=\"\",\"\",IF(AND('MARK Enrollment Template'!A165<>\"\",'MARK Enrollment Template'!G165=\"\"),\"Please fill in Email Address.\",IF(IFERROR(FIND(\"@\",'MARK Enrollment Template'!G165),\"X\")=\"X\",\"Email Address must include an @ symbol.\",\"\")))","v":""},null,null,null,{"$f":"IF('MARK Enrollment Template'!A165=\"\",\"\",IF(AND('MARK Enrollment Template'!A165<>\"\",'MARK Enrollment Template'!K165=\"\"),\"Please fill in Zip Code.\",IF(LEN(SUBSTITUTE(TRIM('MARK Enrollment Template'!K165),CHAR(9),\"\"))<5,\"Zip <5 digits. If leading zero, add apostrophe (ex. '01234).\",\"\")))","v":""},null,null,{"$f":"CELL(\"format\",'MARK Enrollment Template'!C165)","v":"D4"}]
["",{"$f":"IF(AND(SUMPRODUCT(--('MARK Enrollment Template'!A166:L166<>\"\"))<>0,'MARK Enrollment Template'!A166=\"\"),\"Please fill in First Name.\",IF(LEN('MARK Enrollment Template'!A166)=1,\"Please fill in full first name.\",\"\"))","v":""},{"$f":"IF('MARK Enrollment Template'!A166=\"\",\"\",IF(AND('MARK Enrollment Template'!A166<>\"\",'MARK Enrollment Template'!B166=\"\"),\"Please fill in a Last Name.\",\"\"))","v":""},{"$f":"IF('MARK Enrollment Template'!A166=\"\",\"\",IF(AND('MARK Enrollment Template'!A166<>\"\",'MARK Enrollment Template'!C166=\"\"),\"Please fill in Date of Birth.\",IF(TRIM(O161)<>\"D4\",\"Please format DOB as a date in the form MM/DD/YYYY.\",IF('MARK Enrollment Template'!C166>TODAY(),\"Please check DOB.\",\"\"))))","v":""},{"$f":"IF('MARK Enrollment Template'!A166=\"\",\"\",IF(AND('MARK Enrollment Template'!A166<>\"\",'MARK Enrollment Template'!D166=\"\"),\"Please fill in Sex.\",IF(OR(TRIM('MARK Enrollment Template'!D166)=\"M\",TRIM('MARK Enrollment Template'!D166)=\"F\",TRIM('MARK Enrollment Template'!D166)=\"Male\",TRIM('MARK Enrollment Template'!D166)=\"Female\"),\"\",\"Sex must be M/F/Male/Female.\")))","v":""},null,null,{"$f":"IF('MARK Enrollment Template'!A166=\"\",\"\",IF(AND('MARK Enrollment Template'!A166<>\"\",'MARK Enrollment Template'!G166=\"\"),\"Please fill in Email Address.\",IF(IFERROR(FIND(\"@\",'MARK Enrollment Template'!G166),\"X\")=\"X\",\"Email Address must include an @ symbol.\",\"\")))","v":""},null,null,null,{"$f":"IF('MARK Enrollment Template'!A166=\"\",\"\",IF(AND('MARK Enrollment Template'!A166<>\"\",'MARK Enrollment Template'!K166=\"\"),\"Please fill in Zip Code.\",IF(LEN(SUBSTITUTE(TRIM('MARK Enrollment Template'!K166),CHAR(9),\"\"))<5,\"Zip <5 digits. If leading zero, add apostrophe (ex. '01234).\",\"\")))","v":""},null,null,{"$f":"CELL(\"format\",'MARK Enrollment Template'!C166)","v":"D4"}]
["",{"$f":"IF(AND(SUMPRODUCT(--('MARK Enrollment Template'!A167:L167<>\"\"))<>0,'MARK Enrollment Template'!A167=\"\"),\"Please fill in First Name.\",IF(LEN('MARK Enrollment Template'!A167)=1,\"Please fill in full first name.\",\"\"))","v":""},{"$f":"IF('MARK Enrollment Template'!A167=\"\",\"\",IF(AND('MARK Enrollment Template'!A167<>\"\",'MARK Enrollment Template'!B167=\"\"),\"Please fill in a Last Name.\",\"\"))","v":""},{"$f":"IF('MARK Enrollment Template'!A167=\"\",\"\",IF(AND('MARK Enrollment Template'!A167<>\"\",'MARK Enrollment Template'!C167=\"\"),\"Please fill in Date of Birth.\",IF(TRIM(O162)<>\"D4\",\"Please format DOB as a date in the form MM/DD/YYYY.\",IF('MARK Enrollment Template'!C167>TODAY(),\"Please check DOB.\",\"\"))))","v":""},{"$f":"IF('MARK Enrollment Template'!A167=\"\",\"\",IF(AND('MARK Enrollment Template'!A167<>\"\",'MARK Enrollment Template'!D167=\"\"),\"Please fill in Sex.\",IF(OR(TRIM('MARK Enrollment Template'!D167)=\"M\",TRIM('MARK Enrollment Template'!D167)=\"F\",TRIM('MARK Enrollment Template'!D167)=\"Male\",TRIM('MARK Enrollment Template'!D167)=\"Female\"),\"\",\"Sex must be M/F/Male/Female.\")))","v":""},null,null,{"$f":"IF('MARK Enrollment Template'!A167=\"\",\"\",IF(AND('MARK Enrollment Template'!A167<>\"\",'MARK Enrollment Template'!G167=\"\"),\"Please fill in Email Address.\",IF(IFERROR(FIND(\"@\",'MARK Enrollment Template'!G167),\"X\")=\"X\",\"Email Address must include an @ symbol.\",\"\")))","v":""},null,null,null,{"$f":"IF('MARK Enrollment Template'!A167=\"\",\"\",IF(AND('MARK Enrollment Template'!A167<>\"\",'MARK Enrollment Template'!K167=\"\"),\"Please fill in Zip Code.\",IF(LEN(SUBSTITUTE(TRIM('MARK Enrollment Template'!K167),CHAR(9),\"\"))<5,\"Zip <5 digits. If leading zero, add apostrophe (ex. '01234).\",\"\")))","v":""},null,null,{"$f":"CELL(\"format\",'MARK Enrollment Template'!C167)","v":"D4"}]
["",{"$f":"IF(AND(SUMPRODUCT(--('MARK Enrollment Template'!A168:L168<>\"\"))<>0,'MARK Enrollment Template'!A168=\"\"),\"Please fill in First Name.\",IF(LEN('MARK Enrollment Template'!A168)=1,\"Please fill in full first name.\",\"\"))","v":""},{"$f":"IF('MARK Enrollment Template'!A168=\"\",\"\",IF(AND('MARK Enrollment Template'!A168<>\"\",'MARK Enrollment Template'!B168=\"\"),\"Please fill in a Last Name.\",\"\"))","v":""},{"$f":"IF('MARK Enrollment Template'!A168=\"\",\"\",IF(AND('MARK Enrollment Template'!A168<>\"\",'MARK Enrollment Template'!C168=\"\"),\"Please fill in Date of Birth.\",IF(TRIM(O163)<>\"D4\",\"Please format DOB as a date in the form MM/DD/YYYY.\",IF('MARK Enrollment Template'!C168>TODAY(),\"Please check DOB.\",\"\"))))","v":""},{"$f":"IF('MARK Enrollment Template'!A168=\"\",\"\",IF(AND('MARK Enrollment Template'!A168<>\"\",'MARK Enrollment Template'!D168=\"\"),\"Please fill in Sex.\",IF(OR(TRIM('MARK Enrollment Template'!D168)=\"M\",TRIM('MARK Enrollment Template'!D168)=\"F\",TRIM('MARK Enrollment Template'!D168)=\"Male\",TRIM('MARK Enrollment Template'!D168)=\"Female\"),\"\",\"Sex must be M/F/Male/Female.\")))","v":""},null,null,{"$f":"IF('MARK Enrollment Template'!A168=\"\",\"\",IF(AND('MARK Enrollment Template'!A168<>\"\",'MARK Enrollment Template'!G168=\"\"),\"Please fill in Email Address.\",IF(IFERROR(FIND(\"@\",'MARK Enrollment Template'!G168),\"X\")=\"X\",\"Email Address must include an @ symbol.\",\"\")))","v":""},null,null,null,{"$f":"IF('MARK Enrollment Template'!A168=\"\",\"\",IF(AND('MARK Enrollment Template'!A168<>\"\",'MARK Enrollment Template'!K168=\"\"),\"Please fill in Zip Code.\",IF(LEN(SUBSTITUTE(TRIM('MARK Enrollment Template'!K168),CHAR(9),\"\"))<5,\"Zip <5 digits. If leading zero, add apostrophe (ex. '01234).\",\"\")))","v":""},null,null,{"$f":"CELL(\"format\",'MARK Enrollment Template'!C168)","v":"D4"}]
["",{"$f":"IF(AND(SUMPRODUCT(--('MARK Enrollment Template'!A169:L169<>\"\"))<>0,'MARK Enrollment Template'!A169=\"\"),\"Please fill in First Name.\",IF(LEN('MARK Enrollment Template'!A169)=1,\"Please fill in full first name.\",\"\"))","v":""},{"$f":"IF('MARK Enrollment Template'!A169=\"\",\"\",IF(AND('MARK Enrollment Template'!A169<>\"\",'MARK Enrollment Template'!B169=\"\"),\"Please fill in a Last Name.\",\"\"))","v":""},{"$f":"IF('MARK Enrollment Template'!A169=\"\",\"\",IF(AND('MARK Enrollment Template'!A169<>\"\",'MARK Enrollment Template'!C169=\"\"),\"Please fill in Date of Birth.\",IF(TRIM(O164)<>\"D4\",\"Please format DOB as a date in the form MM/DD/YYYY.\",IF('MARK Enrollment Template'!C169>TODAY(),\"Please check DOB.\",\"\"))))","v":""},{"$f":"IF('MARK Enrollment Template'!A169=\"\",\"\",IF(AND('MARK Enrollment Template'!A169<>\"\",'MARK Enrollment Template'!D169=\"\"),\"Please fill in Sex.\",IF(OR(TRIM('MARK Enrollment Template'!D169)=\"M\",TRIM('MARK Enrollment Template'!D169)=\"F\",TRIM('MARK Enrollment Template'!D169)=\"Male\",TRIM('MARK Enrollment Template'!D169)=\"Female\"),\"\",\"Sex must be M/F/Male/Female.\")))","v":""},null,null,{"$f":"IF('MARK Enrollment Template'!A169=\"\",\"\",IF(AND('MARK Enrollment Template'!A169<>\"\",'MARK Enrollment Template'!G169=\"\"),\"Please fill in Email Address.\",IF(IFERROR(FIND(\"@\",'MARK Enrollment Template'!G169),\"X\")=\"X\",\"Email Address must include an @ symbol.\",\"\")))","v":""},null,null,null,{"$f":"IF('MARK Enrollment Template'!A169=\"\",\"\",IF(AND('MARK Enrollment Template'!A169<>\"\",'MARK Enrollment Template'!K169=\"\"),\"Please fill in Zip Code.\",IF(LEN(SUBSTITUTE(TRIM('MARK Enrollment Template'!K169),CHAR(9),\"\"))<5,\"Zip <5 digits. If leading zero, add apostrophe (ex. '01234).\",\"\")))","v":""},null,null,{"$f":"CELL(\"format\",'MARK Enrollment Template'!C169)","v":"D4"}]
["",{"$f":"IF(AND(SUMPRODUCT(--('MARK Enrollment Template'!A170:L170<>\"\"))<>0,'MARK Enrollment Template'!A170=\"\"),\"Please fill in First Name.\",IF(LEN('MARK Enrollment Template'!A170)=1,\"Please fill in full first name.\",\"\"))","v":""},{"$f":"IF('MARK Enrollment Template'!A170=\"\",\"\",IF(AND('MARK Enrollment Template'!A170<>\"\",'MARK Enrollment Template'!B170=\"\"),\"Please fill in a Last Name.\",\"\"))","v":""},{"$f":"IF('MARK Enrollment Template'!A170=\"\",\"\",IF(AND('MARK Enrollment Template'!A170<>\"\",'MARK Enrollment Template'!C170=\"\"),\"Please fill in Date of Birth.\",IF(TRIM(O165)<>\"D4\",\"Please format DOB as a date in the form MM/DD/YYYY.\",IF('MARK Enrollment Template'!C170>TODAY(),\"Please check DOB.\",\"\"))))","v":""},{"$f":"IF('MARK Enrollment Template'!A170=\"\",\"\",IF(AND('MARK Enrollment Template'!A170<>\"\",'MARK Enrollment Template'!D170=\"\"),\"Please fill in Sex.\",IF(OR(TRIM('MARK Enrollment Template'!D170)=\"M\",TRIM('MARK Enrollment Template'!D170)=\"F\",TRIM('MARK Enrollment Template'!D170)=\"Male\",TRIM('MARK Enrollment Template'!D170)=\"Female\"),\"\",\"Sex must be M/F/Male/Female.\")))","v":""},null,null,{"$f":"IF('MARK Enrollment Template'!A170=\"\",\"\",IF(AND('MARK Enrollment Template'!A170<>\"\",'MARK Enrollment Template'!G170=\"\"),\"Please fill in Email Address.\",IF(IFERROR(FIND(\"@\",'MARK Enrollment Template'!G170),\"X\")=\"X\",\"Email Address must include an @ symbol.\",\"\")))","v":""},null,null,null,{"$f":"IF('MARK Enrollment Template'!A170=\"\",\"\",IF(AND('MARK Enrollment Template'!A170<>\"\",'MARK Enrollment Template'!K170=\"\"),\"Please fill in Zip Code.\",IF(LEN(SUBSTITUTE(TRIM('MARK Enrollment Template'!K170),CHAR(9),\"\"))<5,\"Zip <5 digits. If leading zero, add apostrophe (ex. '01234).\",\"\")))","v":""},null,null,{"$f":"CELL(\"format\",'MARK Enrollment Template'!C170)","v":"D4"}]
["",{"$f":"IF(AND(SUMPRODUCT(--('MARK Enrollment Template'!A171:L171<>\"\"))<>0,'MARK Enrollment Template'!A171=\"\"),\"Please fill in First Name.\",IF(LEN('MARK Enrollment Template'!A171)=1,\"Please fill in full first name.\",\"\"))","v":""},{"$f":"IF('MARK Enrollment Template'!A171=\"\",\"\",IF(AND('MARK Enrollment Template'!A171<>\"\",'MARK Enrollment Template'!B171=\"\"),\"Please fill in a Last Name.\",\"\"))","v":""},{"$f":"IF('MARK Enrollment Template'!A171=\"\",\"\",IF(AND('MARK Enrollment Template'!A171<>\"\",'MARK Enrollment Template'!C171=\"\"),\"Please fill in Date of Birth.\",IF(TRIM(O166)<>\"D4\",\"Please format DOB as a date in the form MM/DD/YYYY.\",IF('MARK Enrollment Template'!C171>TODAY(),\"Please check DOB.\",\"\"))))","v":""},{"$f":"IF('MARK Enrollment Template'!A171=\"\",\"\",IF(AND('MARK Enrollment Template'!A171<>\"\",'MARK Enrollment Template'!D171=\"\"),\"Please fill in Sex.\",IF(OR(TRIM('MARK Enrollment Template'!D171)=\"M\",TRIM('MARK Enrollment Template'!D171)=\"F\",TRIM('MARK Enrollment Template'!D171)=\"Male\",TRIM('MARK Enrollment Template'!D171)=\"Female\"),\"\",\"Sex must be M/F/Male/Female.\")))","v":""},null,null,{"$f":"IF('MARK Enrollment Template'!A171=\"\",\"\",IF(AND('MARK Enrollment Template'!A171<>\"\",'MARK Enrollment Template'!G171=\"\"),\"Please fill in Email Address.\",IF(IFERROR(FIND(\"@\",'MARK Enrollment Template'!G171),\"X\")=\"X\",\"Email Address must include an @ symbol.\",\"\")))","v":""},null,null,null,{"$f":"IF('MARK Enrollment Template'!A171=\"\",\"\",IF(AND('MARK Enrollment Template'!A171<>\"\",'MARK Enrollment Template'!K171=\"\"),\"Please fill in Zip Code.\",IF(LEN(SUBSTITUTE(TRIM('MARK Enrollment Template'!K171),CHAR(9),\"\"))<5,\"Zip <5 digits. If leading zero, add apostrophe (ex. '01234).\",\"\")))","v":""},null,null,{"$f":"CELL(\"format\",'MARK Enrollment Template'!C171)","v":"D4"}]
["",{"$f":"IF(AND(SUMPRODUCT(--('MARK Enrollment Template'!A172:L172<>\"\"))<>0,'MARK Enrollment Template'!A172=\"\"),\"Please fill in First Name.\",IF(LEN('MARK Enrollment Template'!A172)=1,\"Please fill in full first name.\",\"\"))","v":""},{"$f":"IF('MARK Enrollment Template'!A172=\"\",\"\",IF(AND('MARK Enrollment Template'!A172<>\"\",'MARK Enrollment Template'!B172=\"\"),\"Please fill in a Last Name.\",\"\"))","v":""},{"$f":"IF('MARK Enrollment Template'!A172=\"\",\"\",IF(AND('MARK Enrollment Template'!A172<>\"\",'MARK Enrollment Template'!C172=\"\"),\"Please fill in Date of Birth.\",IF(TRIM(O167)<>\"D4\",\"Please format DOB as a date in the form MM/DD/YYYY.\",IF('MARK Enrollment Template'!C172>TODAY(),\"Please check DOB.\",\"\"))))","v":""},{"$f":"IF('MARK Enrollment Template'!A172=\"\",\"\",IF(AND('MARK Enrollment Template'!A172<>\"\",'MARK Enrollment Template'!D172=\"\"),\"Please fill in Sex.\",IF(OR(TRIM('MARK Enrollment Template'!D172)=\"M\",TRIM('MARK Enrollment Template'!D172)=\"F\",TRIM('MARK Enrollment Template'!D172)=\"Male\",TRIM('MARK Enrollment Template'!D172)=\"Female\"),\"\",\"Sex must be M/F/Male/Female.\")))","v":""},null,null,{"$f":"IF('MARK Enrollment Template'!A172=\"\",\"\",IF(AND('MARK Enrollment Template'!A172<>\"\",'MARK Enrollment Template'!G172=\"\"),\"Please fill in Email Address.\",IF(IFERROR(FIND(\"@\",'MARK Enrollment Template'!G172),\"X\")=\"X\",\"Email Address must include an @ symbol.\",\"\")))","v":""},null,null,null,{"$f":"IF('MARK Enrollment Template'!A172=\"\",\"\",IF(AND('MARK Enrollment Template'!A172<>\"\",'MARK Enrollment Template'!K172=\"\"),\"Please fill in Zip Code.\",IF(LEN(SUBSTITUTE(TRIM('MARK Enrollment Template'!K172),CHAR(9),\"\"))<5,\"Zip <5 digits. If leading zero, add apostrophe (ex. '01234).\",\"\")))","v":""},null,null,{"$f":"CELL(\"format\",'MARK Enrollment Template'!C172)","v":"D4"}]
["",{"$f":"IF(AND(SUMPRODUCT(--('MARK Enrollment Template'!A173:L173<>\"\"))<>0,'MARK Enrollment Template'!A173=\"\"),\"Please fill in First Name.\",IF(LEN('MARK Enrollment Template'!A173)=1,\"Please fill in full first name.\",\"\"))","v":""},{"$f":"IF('MARK Enrollment Template'!A173=\"\",\"\",IF(AND('MARK Enrollment Template'!A173<>\"\",'MARK Enrollment Template'!B173=\"\"),\"Please fill in a Last Name.\",\"\"))","v":""},{"$f":"IF('MARK Enrollment Template'!A173=\"\",\"\",IF(AND('MARK Enrollment Template'!A173<>\"\",'MARK Enrollment Template'!C173=\"\"),\"Please fill in Date of Birth.\",IF(TRIM(O168)<>\"D4\",\"Please format DOB as a date in the form MM/DD/YYYY.\",IF('MARK Enrollment Template'!C173>TODAY(),\"Please check DOB.\",\"\"))))","v":""},{"$f":"IF('MARK Enrollment Template'!A173=\"\",\"\",IF(AND('MARK Enrollment Template'!A173<>\"\",'MARK Enrollment Template'!D173=\"\"),\"Please fill in Sex.\",IF(OR(TRIM('MARK Enrollment Template'!D173)=\"M\",TRIM('MARK Enrollment Template'!D173)=\"F\",TRIM('MARK Enrollment Template'!D173)=\"Male\",TRIM('MARK Enrollment Template'!D173)=\"Female\"),\"\",\"Sex must be M/F/Male/Female.\")))","v":""},null,null,{"$f":"IF('MARK Enrollment Template'!A173=\"\",\"\",IF(AND('MARK Enrollment Template'!A173<>\"\",'MARK Enrollment Template'!G173=\"\"),\"Please fill in Email Address.\",IF(IFERROR(FIND(\"@\",'MARK Enrollment Template'!G173),\"X\")=\"X\",\"Email Address must include an @ symbol.\",\"\")))","v":""},null,null,null,{"$f":"IF('MARK Enrollment Template'!A173=\"\",\"\",IF(AND('MARK Enrollment Template'!A173<>\"\",'MARK Enrollment Template'!K173=\"\"),\"Please fill in Zip Code.\",IF(LEN(SUBSTITUTE(TRIM('MARK Enrollment Template'!K173),CHAR(9),\"\"))<5,\"Zip <5 digits. If leading zero, add apostrophe (ex. '01234).\",\"\")))","v":""},null,null,{"$f":"CELL(\"format\",'MARK Enrollment Template'!C173)","v":"D4"}]
["",{"$f":"IF(AND(SUMPRODUCT(--('MARK Enrollment Template'!A174:L174<>\"\"))<>0,'MARK Enrollment Template'!A174=\"\"),\"Please fill in First Name.\",IF(LEN('MARK Enrollment Template'!A174)=1,\"Please fill in full first name.\",\"\"))","v":""},{"$f":"IF('MARK Enrollment Template'!A174=\"\",\"\",IF(AND('MARK Enrollment Template'!A174<>\"\",'MARK Enrollment Template'!B174=\"\"),\"Please fill in a Last Name.\",\"\"))","v":""},{"$f":"IF('MARK Enrollment Template'!A174=\"\",\"\",IF(AND('MARK Enrollment Template'!A174<>\"\",'MARK Enrollment Template'!C174=\"\"),\"Please fill in Date of Birth.\",IF(TRIM(O169)<>\"D4\",\"Please format DOB as a date in the form MM/DD/YYYY.\",IF('MARK Enrollment Template'!C174>TODAY(),\"Please check DOB.\",\"\"))))","v":""},{"$f":"IF('MARK Enrollment Template'!A174=\"\",\"\",IF(AND('MARK Enrollment Template'!A174<>\"\",'MARK Enrollment Template'!D174=\"\"),\"Please fill in Sex.\",IF(OR(TRIM('MARK Enrollment Template'!D174)=\"M\",TRIM('MARK Enrollment Template'!D174)=\"F\",TRIM('MARK Enrollment Template'!D174)=\"Male\",TRIM('MARK Enrollment Template'!D174)=\"Female\"),\"\",\"Sex must be M/F/Male/Female.\")))","v":""},null,null,{"$f":"IF('MARK Enrollment Template'!A174=\"\",\"\",IF(AND('MARK Enrollment Template'!A174<>\"\",'MARK Enrollment Template'!G174=\"\"),\"Please fill in Email Address.\",IF(IFERROR(FIND(\"@\",'MARK Enrollment Template'!G174),\"X\")=\"X\",\"Email Address must include an @ symbol.\",\"\")))","v":""},null,null,null,{"$f":"IF('MARK Enrollment Template'!A174=\"\",\"\",IF(AND('MARK Enrollment Template'!A174<>\"\",'MARK Enrollment Template'!K174=\"\"),\"Please fill in Zip Code.\",IF(LEN(SUBSTITUTE(TRIM('MARK Enrollment Template'!K174),CHAR(9),\"\"))<5,\"Zip <5 digits. If leading zero, add apostrophe (ex. '01234).\",\"\")))","v":""},null,null,{"$f":"CELL(\"format\",'MARK Enrollment Template'!C174)","v":"D4"}]
["",{"$f":"IF(AND(SUMPRODUCT(--('MARK Enrollment Template'!A175:L175<>\"\"))<>0,'MARK Enrollment Template'!A175=\"\"),\"Please fill in First Name.\",IF(LEN('MARK Enrollment Template'!A175)=1,\"Please fill in full first name.\",\"\"))","v":""},{"$f":"IF('MARK Enrollment Template'!A175=\"\",\"\",IF(AND('MARK Enrollment Template'!A175<>\"\",'MARK Enrollment Template'!B175=\"\"),\"Please fill in a Last Name.\",\"\"))","v":""},{"$f":"IF('MARK Enrollment Template'!A175=\"\",\"\",IF(AND('MARK Enrollment Template'!A175<>\"\",'MARK Enrollment Template'!C175=\"\"),\"Please fill in Date of Birth.\",IF(TRIM(O170)<>\"D4\",\"Please format DOB as a date in the form MM/DD/YYYY.\",IF('MARK Enrollment Template'!C175>TODAY(),\"Please check DOB.\",\"\"))))","v":""},{"$f":"IF('MARK Enrollment Template'!A175=\"\",\"\",IF(AND('MARK Enrollment Template'!A175<>\"\",'MARK Enrollment Template'!D175=\"\"),\"Please fill in Sex.\",IF(OR(TRIM('MARK Enrollment Template'!D175)=\"M\",TRIM('MARK Enrollment Template'!D175)=\"F\",TRIM('MARK Enrollment Template'!D175)=\"Male\",TRIM('MARK Enrollment Template'!D175)=\"Female\"),\"\",\"Sex must be M/F/Male/Female.\")))","v":""},null,null,{"$f":"IF('MARK Enrollment Template'!A175=\"\",\"\",IF(AND('MARK Enrollment Template'!A175<>\"\",'MARK Enrollment Template'!G175=\"\"),\"Please fill in Email Address.\",IF(IFERROR(FIND(\"@\",'MARK Enrollment Template'!G175),\"X\")=\"X\",\"Email Address must include an @ symbol.\",\"\")))","v":""},null,null,null,{"$f":"IF('MARK Enrollment Template'!A175=\"\",\"\",IF(AND('MARK Enrollment Template'!A175<>\"\",'MARK Enrollment Template'!K175=\"\"),\"Please fill in Zip Code.\",IF(LEN(SUBSTITUTE(TRIM('MARK Enrollment Template'!K175),CHAR(9),\"\"))<5,\"Zip <5 digits. If leading zero, add apostrophe (ex. '01234).\",\"\")))","v":""},null,null,{"$f":"CELL(\"format\",'MARK Enrollment Template'!C175)","v":"D4"}]
["",{"$f":"IF(AND(SUMPRODUCT(--('MARK Enrollment Template'!A176:L176<>\"\"))<>0,'MARK Enrollment Template'!A176=\"\"),\"Please fill in First Name.\",IF(LEN('MARK Enrollment Template'!A176)=1,\"Please fill in full first name.\",\"\"))","v":""},{"$f":"IF('MARK Enrollment Template'!A176=\"\",\"\",IF(AND('MARK Enrollment Template'!A176<>\"\",'MARK Enrollment Template'!B176=\"\"),\"Please fill in a Last Name.\",\"\"))","v":""},{"$f":"IF('MARK Enrollment Template'!A176=\"\",\"\",IF(AND('MARK Enrollment Template'!A176<>\"\",'MARK Enrollment Template'!C176=\"\"),\"Please fill in Date of Birth.\",IF(TRIM(O171)<>\"D4\",\"Please format DOB as a date in the form MM/DD/YYYY.\",IF('MARK Enrollment Template'!C176>TODAY(),\"Please check DOB.\",\"\"))))","v":""},{"$f":"IF('MARK Enrollment Template'!A176=\"\",\"\",IF(AND('MARK Enrollment Template'!A176<>\"\",'MARK Enrollment Template'!D176=\"\"),\"Please fill in Sex.\",IF(OR(TRIM('MARK Enrollment Template'!D176)=\"M\",TRIM('MARK Enrollment Template'!D176)=\"F\",TRIM('MARK Enrollment Template'!D176)=\"Male\",TRIM('MARK Enrollment Template'!D176)=\"Female\"),\"\",\"Sex must be M/F/Male/Female.\")))","v":""},null,null,{"$f":"IF('MARK Enrollment Template'!A176=\"\",\"\",IF(AND('MARK Enrollment Template'!A176<>\"\",'MARK Enrollment Template'!G176=\"\"),\"Please fill in Email Address.\",IF(IFERROR(FIND(\"@\",'MARK Enrollment Template'!G176),\"X\")=\"X\",\"Email Address must include an @ symbol.\",\"\")))","v":""},null,null,null,{"$f":"IF('MARK Enrollment Template'!A176=\"\",\"\",IF(AND('MARK Enrollment Template'!A176<>\"\",'MARK Enrollment Template'!K176=\"\"),\"Please fill in Zip Code.\",IF(LEN(SUBSTITUTE(TRIM('MARK Enrollment Template'!K176),CHAR(9),\"\"))<5,\"Zip <5 digits. If leading zero, add apostrophe (ex. '01234).\",\"\")))","v":""},null,null,{"$f":"CELL(\"format\",'MARK Enrollment Template'!C176)","v":"D4"}]
["",{"$f":"IF(AND(SUMPRODUCT(--('MARK Enrollment Template'!A177:L177<>\"\"))<>0,'MARK Enrollment Template'!A177=\"\"),\"Please fill in First Name.\",IF(LEN('MARK Enrollment Template'!A177)=1,\"Please fill in full first name.\",\"\"))","v":""},{"$f":"IF('MARK Enrollment Template'!A177=\"\",\"\",IF(AND('MARK Enrollment Template'!A177<>\"\",'MARK Enrollment Template'!B177=\"\"),\"Please fill in a Last Name.\",\"\"))","v":""},{"$f":"IF('MARK Enrollment Template'!A177=\"\",\"\",IF(AND('MARK Enrollment Template'!A177<>\"\",'MARK Enrollment Template'!C177=\"\"),\"Please fill in Date of Birth.\",IF(TRIM(O172)<>\"D4\",\"Please format DOB as a date in the form MM/DD/YYYY.\",IF('MARK Enrollment Template'!C177>TODAY(),\"Please check DOB.\",\"\"))))","v":""},{"$f":"IF('MARK Enrollment Template'!A177=\"\",\"\",IF(AND('MARK Enrollment Template'!A177<>\"\",'MARK Enrollment Template'!D177=\"\"),\"Please fill in Sex.\",IF(OR(TRIM('MARK Enrollment Template'!D177)=\"M\",TRIM('MARK Enrollment Template'!D177)=\"F\",TRIM('MARK Enrollment Template'!D177)=\"Male\",TRIM('MARK Enrollment Template'!D177)=\"Female\"),\"\",\"Sex must be M/F/Male/Female.\")))","v":""},null,null,{"$f":"IF('MARK Enrollment Template'!A177=\"\",\"\",IF(AND('MARK Enrollment Template'!A177<>\"\",'MARK Enrollment Template'!G177=\"\"),\"Please fill in Email Address.\",IF(IFERROR(FIND(\"@\",'MARK Enrollment Template'!G177),\"X\")=\"X\",\"Email Address must include an @ symbol.\",\"\")))","v":""},null,null,null,{"$f":"IF('MARK Enrollment Template'!A177=\"\",\"\",IF(AND('MARK Enrollment Template'!A177<>\"\",'MARK Enrollment Template'!K177=\"\"),\"Please fill in Zip Code.\",IF(LEN(SUBSTITUTE(TRIM('MARK Enrollment Template'!K177),CHAR(9),\"\"))<5,\"Zip <5 digits. If leading zero, add apostrophe (ex. '01234).\",\"\")))","v":""},null,null,{"$f":"CELL(\"format\",'MARK Enrollment Template'!C177)","v":"D4"}]
["",{"$f":"IF(AND(SUMPRODUCT(--('MARK Enrollment Template'!A178:L178<>\"\"))<>0,'MARK Enrollment Template'!A178=\"\"),\"Please fill in First Name.\",IF(LEN('MARK Enrollment Template'!A178)=1,\"Please fill in full first name.\",\"\"))","v":""},{"$f":"IF('MARK Enrollment Template'!A178=\"\",\"\",IF(AND('MARK Enrollment Template'!A178<>\"\",'MARK Enrollment Template'!B178=\"\"),\"Please fill in a Last Name.\",\"\"))","v":""},{"$f":"IF('MARK Enrollment Template'!A178=\"\",\"\",IF(AND('MARK Enrollment Template'!A178<>\"\",'MARK Enrollment Template'!C178=\"\"),\"Please fill in Date of Birth.\",IF(TRIM(O173)<>\"D4\",\"Please format DOB as a date in the form MM/DD/YYYY.\",IF('MARK Enrollment Template'!C178>TODAY(),\"Please check DOB.\",\"\"))))","v":""},{"$f":"IF('MARK Enrollment Template'!A178=\"\",\"\",IF(AND('MARK Enrollment Template'!A178<>\"\",'MARK Enrollment Template'!D178=\"\"),\"Please fill in Sex.\",IF(OR(TRIM('MARK Enrollment Template'!D178)=\"M\",TRIM('MARK Enrollment Template'!D178)=\"F\",TRIM('MARK Enrollment Template'!D178)=\"Male\",TRIM('MARK Enrollment Template'!D178)=\"Female\"),\"\",\"Sex must be M/F/Male/Female.\")))","v":""},null,null,{"$f":"IF('MARK Enrollment Template'!A178=\"\",\"\",IF(AND('MARK Enrollment Template'!A178<>\"\",'MARK Enrollment Template'!G178=\"\"),\"Please fill in Email Address.\",IF(IFERROR(FIND(\"@\",'MARK Enrollment Template'!G178),\"X\")=\"X\",\"Email Address must include an @ symbol.\",\"\")))","v":""},null,null,null,{"$f":"IF('MARK Enrollment Template'!A178=\"\",\"\",IF(AND('MARK Enrollment Template'!A178<>\"\",'MARK Enrollment Template'!K178=\"\"),\"Please fill in Zip Code.\",IF(LEN(SUBSTITUTE(TRIM('MARK Enrollment Template'!K178),CHAR(9),\"\"))<5,\"Zip <5 digits. If leading zero, add apostrophe (ex. '01234).\",\"\")))","v":""},null,null,{"$f":"CELL(\"format\",'MARK Enrollment Template'!C178)","v":"D4"}]
["",{"$f":"IF(AND(SUMPRODUCT(--('MARK Enrollment Template'!A179:L179<>\"\"))<>0,'MARK Enrollment Template'!A179=\"\"),\"Please fill in First Name.\",IF(LEN('MARK Enrollment Template'!A179)=1,\"Please fill in full first name.\",\"\"))","v":""},{"$f":"IF('MARK Enrollment Template'!A179=\"\",\"\",IF(AND('MARK Enrollment Template'!A179<>\"\",'MARK Enrollment Template'!B179=\"\"),\"Please fill in a Last Name.\",\"\"))","v":""},{"$f":"IF('MARK Enrollment Template'!A179=\"\",\"\",IF(AND('MARK Enrollment Template'!A179<>\"\",'MARK Enrollment Template'!C179=\"\"),\"Please fill in Date of Birth.\",IF(TRIM(O174)<>\"D4\",\"Please format DOB as a date in the form MM/DD/YYYY.\",IF('MARK Enrollment Template'!C179>TODAY(),\"Please check DOB.\",\"\"))))","v":""},{"$f":"IF('MARK Enrollment Template'!A179=\"\",\"\",IF(AND('MARK Enrollment Template'!A179<>\"\",'MARK Enrollment Template'!D179=\"\"),\"Please fill in Sex.\",IF(OR(TRIM('MARK Enrollment Template'!D179)=\"M\",TRIM('MARK Enrollment Template'!D179)=\"F\",TRIM('MARK Enrollment Template'!D179)=\"Male\",TRIM('MARK Enrollment Template'!D179)=\"Female\"),\"\",\"Sex must be M/F/Male/Female.\")))","v":""},null,null,{"$f":"IF('MARK Enrollment Template'!A179=\"\",\"\",IF(AND('MARK Enrollment Template'!A179<>\"\",'MARK Enrollment Template'!G179=\"\"),\"Please fill in Email Address.\",IF(IFERROR(FIND(\"@\",'MARK Enrollment Template'!G179),\"X\")=\"X\",\"Email Address must include an @ symbol.\",\"\")))","v":""},null,null,null,{"$f":"IF('MARK Enrollment Template'!A179=\"\",\"\",IF(AND('MARK Enrollment Template'!A179<>\"\",'MARK Enrollment Template'!K179=\"\"),\"Please fill in Zip Code.\",IF(LEN(SUBSTITUTE(TRIM('MARK Enrollment Template'!K179),CHAR(9),\"\"))<5,\"Zip <5 digits. If leading zero, add apostrophe (ex. '01234).\",\"\")))","v":""},null,null,{"$f":"CELL(\"format\",'MARK Enrollment Template'!C179)","v":"D4"}]
["",{"$f":"IF(AND(SUMPRODUCT(--('MARK Enrollment Template'!A180:L180<>\"\"))<>0,'MARK Enrollment Template'!A180=\"\"),\"Please fill in First Name.\",IF(LEN('MARK Enrollment Template'!A180)=1,\"Please fill in full first name.\",\"\"))","v":""},{"$f":"IF('MARK Enrollment Template'!A180=\"\",\"\",IF(AND('MARK Enrollment Template'!A180<>\"\",'MARK Enrollment Template'!B180=\"\"),\"Please fill in a Last Name.\",\"\"))","v":""},{"$f":"IF('MARK Enrollment Template'!A180=\"\",\"\",IF(AND('MARK Enrollment Template'!A180<>\"\",'MARK Enrollment Template'!C180=\"\"),\"Please fill in Date of Birth.\",IF(TRIM(O175)<>\"D4\",\"Please format DOB as a date in the form MM/DD/YYYY.\",IF('MARK Enrollment Template'!C180>TODAY(),\"Please check DOB.\",\"\"))))","v":""},{"$f":"IF('MARK Enrollment Template'!A180=\"\",\"\",IF(AND('MARK Enrollment Template'!A180<>\"\",'MARK Enrollment Template'!D180=\"\"),\"Please fill in Sex.\",IF(OR(TRIM('MARK Enrollment Template'!D180)=\"M\",TRIM('MARK Enrollment Template'!D180)=\"F\",TRIM('MARK Enrollment Template'!D180)=\"Male\",TRIM('MARK Enrollment Template'!D180)=\"Female\"),\"\",\"Sex must be M/F/Male/Female.\")))","v":""},null,null,{"$f":"IF('MARK Enrollment Template'!A180=\"\",\"\",IF(AND('MARK Enrollment Template'!A180<>\"\",'MARK Enrollment Template'!G180=\"\"),\"Please fill in Email Address.\",IF(IFERROR(FIND(\"@\",'MARK Enrollment Template'!G180),\"X\")=\"X\",\"Email Address must include an @ symbol.\",\"\")))","v":""},null,null,null,{"$f":"IF('MARK Enrollment Template'!A180=\"\",\"\",IF(AND('MARK Enrollment Template'!A180<>\"\",'MARK Enrollment Template'!K180=\"\"),\"Please fill in Zip Code.\",IF(LEN(SUBSTITUTE(TRIM('MARK Enrollment Template'!K180),CHAR(9),\"\"))<5,\"Zip <5 digits. If leading zero, add apostrophe (ex. '01234).\",\"\")))","v":""},null,null,{"$f":"CELL(\"format\",'MARK Enrollment Template'!C180)","v":"D4"}]
["",{"$f":"IF(AND(SUMPRODUCT(--('MARK Enrollment Template'!A181:L181<>\"\"))<>0,'MARK Enrollment Template'!A181=\"\"),\"Please fill in First Name.\",IF(LEN('MARK Enrollment Template'!A181)=1,\"Please fill in full first name.\",\"\"))","v":""},{"$f":"IF('MARK Enrollment Template'!A181=\"\",\"\",IF(AND('MARK Enrollment Template'!A181<>\"\",'MARK Enrollment Template'!B181=\"\"),\"Please fill in a Last Name.\",\"\"))","v":""},{"$f":"IF('MARK Enrollment Template'!A181=\"\",\"\",IF(AND('MARK Enrollment Template'!A181<>\"\",'MARK Enrollment Template'!C181=\"\"),\"Please fill in Date of Birth.\",IF(TRIM(O176)<>\"D4\",\"Please format DOB as a date in the form MM/DD/YYYY.\",IF('MARK Enrollment Template'!C181>TODAY(),\"Please check DOB.\",\"\"))))","v":""},{"$f":"IF('MARK Enrollment Template'!A181=\"\",\"\",IF(AND('MARK Enrollment Template'!A181<>\"\",'MARK Enrollment Template'!D181=\"\"),\"Please fill in Sex.\",IF(OR(TRIM('MARK Enrollment Template'!D181)=\"M\",TRIM('MARK Enrollment Template'!D181)=\"F\",TRIM('MARK Enrollment Template'!D181)=\"Male\",TRIM('MARK Enrollment Template'!D181)=\"Female\"),\"\",\"Sex must be M/F/Male/Female.\")))","v":""},null,null,{"$f":"IF('MARK Enrollment Template'!A181=\"\",\"\",IF(AND('MARK Enrollment Template'!A181<>\"\",'MARK Enrollment Template'!G181=\"\"),\"Please fill in Email Address.\",IF(IFERROR(FIND(\"@\",'MARK Enrollment Template'!G181),\"X\")=\"X\",\"Email Address must include an @ symbol.\",\"\")))","v":""},null,null,null,{"$f":"IF('MARK Enrollment Template'!A181=\"\",\"\",IF(AND('MARK Enrollment Template'!A181<>\"\",'MARK Enrollment Template'!K181=\"\"),\"Please fill in Zip Code.\",IF(LEN(SUBSTITUTE(TRIM('MARK Enrollment Template'!K181),CHAR(9),\"\"))<5,\"Zip <5 digits. If leading zero, add apostrophe (ex. '01234).\",\"\")))","v":""},null,null,{"$f":"CELL(\"format\",'MARK Enrollment Template'!C181)","v":"D4"}]
["",{"$f":"IF(AND(SUMPRODUCT(--('MARK Enrollment Template'!A182:L182<>\"\"))<>0,'MARK Enrollment Template'!A182=\"\"),\"Please fill in First Name.\",IF(LEN('MARK Enrollment Template'!A182)=1,\"Please fill in full first name.\",\"\"))","v":""},{"$f":"IF('MARK Enrollment Template'!A182=\"\",\"\",IF(AND('MARK Enrollment Template'!A182<>\"\",'MARK Enrollment Template'!B182=\"\"),\"Please fill in a Last Name.\",\"\"))","v":""},{"$f":"IF('MARK Enrollment Template'!A182=\"\",\"\",IF(AND('MARK Enrollment Template'!A182<>\"\",'MARK Enrollment Template'!C182=\"\"),\"Please fill in Date of Birth.\",IF(TRIM(O177)<>\"D4\",\"Please format DOB as a date in the form MM/DD/YYYY.\",IF('MARK Enrollment Template'!C182>TODAY(),\"Please check DOB.\",\"\"))))","v":""},{"$f":"IF('MARK Enrollment Template'!A182=\"\",\"\",IF(AND('MARK Enrollment Template'!A182<>\"\",'MARK Enrollment Template'!D182=\"\"),\"Please fill in Sex.\",IF(OR(TRIM('MARK Enrollment Template'!D182)=\"M\",TRIM('MARK Enrollment Template'!D182)=\"F\",TRIM('MARK Enrollment Template'!D182)=\"Male\",TRIM('MARK Enrollment Template'!D182)=\"Female\"),\"\",\"Sex must be M/F/Male/Female.\")))","v":""},null,null,{"$f":"IF('MARK Enrollment Template'!A182=\"\",\"\",IF(AND('MARK Enrollment Template'!A182<>\"\",'MARK Enrollment Template'!G182=\"\"),\"Please fill in Email Address.\",IF(IFERROR(FIND(\"@\",'MARK Enrollment Template'!G182),\"X\")=\"X\",\"Email Address must include an @ symbol.\",\"\")))","v":""},null,null,null,{"$f":"IF('MARK Enrollment Template'!A182=\"\",\"\",IF(AND('MARK Enrollment Template'!A182<>\"\",'MARK Enrollment Template'!K182=\"\"),\"Please fill in Zip Code.\",IF(LEN(SUBSTITUTE(TRIM('MARK Enrollment Template'!K182),CHAR(9),\"\"))<5,\"Zip <5 digits. If leading zero, add apostrophe (ex. '01234).\",\"\")))","v":""},null,null,{"$f":"CELL(\"format\",'MARK Enrollment Template'!C182)","v":"D4"}]
["",{"$f":"IF(AND(SUMPRODUCT(--('MARK Enrollment Template'!A183:L183<>\"\"))<>0,'MARK Enrollment Template'!A183=\"\"),\"Please fill in First Name.\",IF(LEN('MARK Enrollment Template'!A183)=1,\"Please fill in full first name.\",\"\"))","v":""},{"$f":"IF('MARK Enrollment Template'!A183=\"\",\"\",IF(AND('MARK Enrollment Template'!A183<>\"\",'MARK Enrollment Template'!B183=\"\"),\"Please fill in a Last Name.\",\"\"))","v":""},{"$f":"IF('MARK Enrollment Template'!A183=\"\",\"\",IF(AND('MARK Enrollment Template'!A183<>\"\",'MARK Enrollment Template'!C183=\"\"),\"Please fill in Date of Birth.\",IF(TRIM(O178)<>\"D4\",\"Please format DOB as a date in the form MM/DD/YYYY.\",IF('MARK Enrollment Template'!C183>TODAY(),\"Please check DOB.\",\"\"))))","v":""},{"$f":"IF('MARK Enrollment Template'!A183=\"\",\"\",IF(AND('MARK Enrollment Template'!A183<>\"\",'MARK Enrollment Template'!D183=\"\"),\"Please fill in Sex.\",IF(OR(TRIM('MARK Enrollment Template'!D183)=\"M\",TRIM('MARK Enrollment Template'!D183)=\"F\",TRIM('MARK Enrollment Template'!D183)=\"Male\",TRIM('MARK Enrollment Template'!D183)=\"Female\"),\"\",\"Sex must be M/F/Male/Female.\")))","v":""},null,null,{"$f":"IF('MARK Enrollment Template'!A183=\"\",\"\",IF(AND('MARK Enrollment Template'!A183<>\"\",'MARK Enrollment Template'!G183=\"\"),\"Please fill in Email Address.\",IF(IFERROR(FIND(\"@\",'MARK Enrollment Template'!G183),\"X\")=\"X\",\"Email Address must include an @ symbol.\",\"\")))","v":""},null,null,null,{"$f":"IF('MARK Enrollment Template'!A183=\"\",\"\",IF(AND('MARK Enrollment Template'!A183<>\"\",'MARK Enrollment Template'!K183=\"\"),\"Please fill in Zip Code.\",IF(LEN(SUBSTITUTE(TRIM('MARK Enrollment Template'!K183),CHAR(9),\"\"))<5,\"Zip <5 digits. If leading zero, add apostrophe (ex. '01234).\",\"\")))","v":""},null,null,{"$f":"CELL(\"format\",'MARK Enrollment Template'!C183)","v":"D4"}]
["",{"$f":"IF(AND(SUMPRODUCT(--('MARK Enrollment Template'!A184:L184<>\"\"))<>0,'MARK Enrollment Template'!A184=\"\"),\"Please fill in First Name.\",IF(LEN('MARK Enrollment Template'!A184)=1,\"Please fill in full first name.\",\"\"))","v":""},{"$f":"IF('MARK Enrollment Template'!A184=\"\",\"\",IF(AND('MARK Enrollment Template'!A184<>\"\",'MARK Enrollment Template'!B184=\"\"),\"Please fill in a Last Name.\",\"\"))","v":""},{"$f":"IF('MARK Enrollment Template'!A184=\"\",\"\",IF(AND('MARK Enrollment Template'!A184<>\"\",'MARK Enrollment Template'!C184=\"\"),\"Please fill in Date of Birth.\",IF(TRIM(O179)<>\"D4\",\"Please format DOB as a date in the form MM/DD/YYYY.\",IF('MARK Enrollment Template'!C184>TODAY(),\"Please check DOB.\",\"\"))))","v":""},{"$f":"IF('MARK Enrollment Template'!A184=\"\",\"\",IF(AND('MARK Enrollment Template'!A184<>\"\",'MARK Enrollment Template'!D184=\"\"),\"Please fill in Sex.\",IF(OR(TRIM('MARK Enrollment Template'!D184)=\"M\",TRIM('MARK Enrollment Template'!D184)=\"F\",TRIM('MARK Enrollment Template'!D184)=\"Male\",TRIM('MARK Enrollment Template'!D184)=\"Female\"),\"\",\"Sex must be M/F/Male/Female.\")))","v":""},null,null,{"$f":"IF('MARK Enrollment Template'!A184=\"\",\"\",IF(AND('MARK Enrollment Template'!A184<>\"\",'MARK Enrollment Template'!G184=\"\"),\"Please fill in Email Address.\",IF(IFERROR(FIND(\"@\",'MARK Enrollment Template'!G184),\"X\")=\"X\",\"Email Address must include an @ symbol.\",\"\")))","v":""},null,null,null,{"$f":"IF('MARK Enrollment Template'!A184=\"\",\"\",IF(AND('MARK Enrollment Template'!A184<>\"\",'MARK Enrollment Template'!K184=\"\"),\"Please fill in Zip Code.\",IF(LEN(SUBSTITUTE(TRIM('MARK Enrollment Template'!K184),CHAR(9),\"\"))<5,\"Zip <5 digits. If leading zero, add apostrophe (ex. '01234).\",\"\")))","v":""},null,null,{"$f":"CELL(\"format\",'MARK Enrollment Template'!C184)","v":"D4"}]
["",{"$f":"IF(AND(SUMPRODUCT(--('MARK Enrollment Template'!A185:L185<>\"\"))<>0,'MARK Enrollment Template'!A185=\"\"),\"Please fill in First Name.\",IF(LEN('MARK Enrollment Template'!A185)=1,\"Please fill in full first name.\",\"\"))","v":""},{"$f":"IF('MARK Enrollment Template'!A185=\"\",\"\",IF(AND('MARK Enrollment Template'!A185<>\"\",'MARK Enrollment Template'!B185=\"\"),\"Please fill in a Last Name.\",\"\"))","v":""},{"$f":"IF('MARK Enrollment Template'!A185=\"\",\"\",IF(AND('MARK Enrollment Template'!A185<>\"\",'MARK Enrollment Template'!C185=\"\"),\"Please fill in Date of Birth.\",IF(TRIM(O180)<>\"D4\",\"Please format DOB as a date in the form MM/DD/YYYY.\",IF('MARK Enrollment Template'!C185>TODAY(),\"Please check DOB.\",\"\"))))","v":""},{"$f":"IF('MARK Enrollment Template'!A185=\"\",\"\",IF(AND('MARK Enrollment Template'!A185<>\"\",'MARK Enrollment Template'!D185=\"\"),\"Please fill in Sex.\",IF(OR(TRIM('MARK Enrollment Template'!D185)=\"M\",TRIM('MARK Enrollment Template'!D185)=\"F\",TRIM('MARK Enrollment Template'!D185)=\"Male\",TRIM('MARK Enrollment Template'!D185)=\"Female\"),\"\",\"Sex must be M/F/Male/Female.\")))","v":""},null,null,{"$f":"IF('MARK Enrollment Template'!A185=\"\",\"\",IF(AND('MARK Enrollment Template'!A185<>\"\",'MARK Enrollment Template'!G185=\"\"),\"Please fill in Email Address.\",IF(IFERROR(FIND(\"@\",'MARK Enrollment Template'!G185),\"X\")=\"X\",\"Email Address must include an @ symbol.\",\"\")))","v":""},null,null,null,{"$f":"IF('MARK Enrollment Template'!A185=\"\",\"\",IF(AND('MARK Enrollment Template'!A185<>\"\",'MARK Enrollment Template'!K185=\"\"),\"Please fill in Zip Code.\",IF(LEN(SUBSTITUTE(TRIM('MARK Enrollment Template'!K185),CHAR(9),\"\"))<5,\"Zip <5 digits. If leading zero, add apostrophe (ex. '01234).\",\"\")))","v":""},null,null,{"$f":"CELL(\"format\",'MARK Enrollment Template'!C185)","v":"D4"}]
["",{"$f":"IF(AND(SUMPRODUCT(--('MARK Enrollment Template'!A186:L186<>\"\"))<>0,'MARK Enrollment Template'!A186=\"\"),\"Please fill in First Name.\",IF(LEN('MARK Enrollment Template'!A186)=1,\"Please fill in full first name.\",\"\"))","v":""},{"$f":"IF('MARK Enrollment Template'!A186=\"\",\"\",IF(AND('MARK Enrollment Template'!A186<>\"\",'MARK Enrollment Template'!B186=\"\"),\"Please fill in a Last Name.\",\"\"))","v":""},{"$f":"IF('MARK Enrollment Template'!A186=\"\",\"\",IF(AND('MARK Enrollment Template'!A186<>\"\",'MARK Enrollment Template'!C186=\"\"),\"Please fill in Date of Birth.\",IF(TRIM(O181)<>\"D4\",\"Please format DOB as a date in the form MM/DD/YYYY.\",IF('MARK Enrollment Template'!C186>TODAY(),\"Please check DOB.\",\"\"))))","v":""},{"$f":"IF('MARK Enrollment Template'!A186=\"\",\"\",IF(AND('MARK Enrollment Template'!A186<>\"\",'MARK Enrollment Template'!D186=\"\"),\"Please fill in Sex.\",IF(OR(TRIM('MARK Enrollment Template'!D186)=\"M\",TRIM('MARK Enrollment Template'!D186)=\"F\",TRIM('MARK Enrollment Template'!D186)=\"Male\",TRIM('MARK Enrollment Template'!D186)=\"Female\"),\"\",\"Sex must be M/F/Male/Female.\")))","v":""},null,null,{"$f":"IF('MARK Enrollment Template'!A186=\"\",\"\",IF(AND('MARK Enrollment Template'!A186<>\"\",'MARK Enrollment Template'!G186=\"\"),\"Please fill in Email Address.\",IF(IFERROR(FIND(\"@\",'MARK Enrollment Template'!G186),\"X\")=\"X\",\"Email Address must include an @ symbol.\",\"\")))","v":""},null,null,null,{"$f":"IF('MARK Enrollment Template'!A186=\"\",\"\",IF(AND('MARK Enrollment Template'!A186<>\"\",'MARK Enrollment Template'!K186=\"\"),\"Please fill in Zip Code.\",IF(LEN(SUBSTITUTE(TRIM('MARK Enrollment Template'!K186),CHAR(9),\"\"))<5,\"Zip <5 digits. If leading zero, add apostrophe (ex. '01234).\",\"\")))","v":""},null,null,{"$f":"CELL(\"format\",'MARK Enrollment Template'!C186)","v":"D4"}]
["",{"$f":"IF(AND(SUMPRODUCT(--('MARK Enrollment Template'!A187:L187<>\"\"))<>0,'MARK Enrollment Template'!A187=\"\"),\"Please fill in First Name.\",IF(LEN('MARK Enrollment Template'!A187)=1,\"Please fill in full first name.\",\"\"))","v":""},{"$f":"IF('MARK Enrollment Template'!A187=\"\",\"\",IF(AND('MARK Enrollment Template'!A187<>\"\",'MARK Enrollment Template'!B187=\"\"),\"Please fill in a Last Name.\",\"\"))","v":""},{"$f":"IF('MARK Enrollment Template'!A187=\"\",\"\",IF(AND('MARK Enrollment Template'!A187<>\"\",'MARK Enrollment Template'!C187=\"\"),\"Please fill in Date of Birth.\",IF(TRIM(O182)<>\"D4\",\"Please format DOB as a date in the form MM/DD/YYYY.\",IF('MARK Enrollment Template'!C187>TODAY(),\"Please check DOB.\",\"\"))))","v":""},{"$f":"IF('MARK Enrollment Template'!A187=\"\",\"\",IF(AND('MARK Enrollment Template'!A187<>\"\",'MARK Enrollment Template'!D187=\"\"),\"Please fill in Sex.\",IF(OR(TRIM('MARK Enrollment Template'!D187)=\"M\",TRIM('MARK Enrollment Template'!D187)=\"F\",TRIM('MARK Enrollment Template'!D187)=\"Male\",TRIM('MARK Enrollment Template'!D187)=\"Female\"),\"\",\"Sex must be M/F/Male/Female.\")))","v":""},null,null,{"$f":"IF('MARK Enrollment Template'!A187=\"\",\"\",IF(AND('MARK Enrollment Template'!A187<>\"\",'MARK Enrollment Template'!G187=\"\"),\"Please fill in Email Address.\",IF(IFERROR(FIND(\"@\",'MARK Enrollment Template'!G187),\"X\")=\"X\",\"Email Address must include an @ symbol.\",\"\")))","v":""},null,null,null,{"$f":"IF('MARK Enrollment Template'!A187=\"\",\"\",IF(AND('MARK Enrollment Template'!A187<>\"\",'MARK Enrollment Template'!K187=\"\"),\"Please fill in Zip Code.\",IF(LEN(SUBSTITUTE(TRIM('MARK Enrollment Template'!K187),CHAR(9),\"\"))<5,\"Zip <5 digits. If leading zero, add apostrophe (ex. '01234).\",\"\")))","v":""},null,null,{"$f":"CELL(\"format\",'MARK Enrollment Template'!C187)","v":"D4"}]
["",{"$f":"IF(AND(SUMPRODUCT(--('MARK Enrollment Template'!A188:L188<>\"\"))<>0,'MARK Enrollment Template'!A188=\"\"),\"Please fill in First Name.\",IF(LEN('MARK Enrollment Template'!A188)=1,\"Please fill in full first name.\",\"\"))","v":""},{"$f":"IF('MARK Enrollment Template'!A188=\"\",\"\",IF(AND('MARK Enrollment Template'!A188<>\"\",'MARK Enrollment Template'!B188=\"\"),\"Please fill in a Last Name.\",\"\"))","v":""},{"$f":"IF('MARK Enrollment Template'!A188=\"\",\"\",IF(AND('MARK Enrollment Template'!A188<>\"\",'MARK Enrollment Template'!C188=\"\"),\"Please fill in Date of Birth.\",IF(TRIM(O183)<>\"D4\",\"Please format DOB as a date in the form MM/DD/YYYY.\",IF('MARK Enrollment Template'!C188>TODAY(),\"Please check DOB.\",\"\"))))","v":""},{"$f":"IF('MARK Enrollment Template'!A188=\"\",\"\",IF(AND('MARK Enrollment Template'!A188<>\"\",'MARK Enrollment Template'!D188=\"\"),\"Please fill in Sex.\",IF(OR(TRIM('MARK Enrollment Template'!D188)=\"M\",TRIM('MARK Enrollment Template'!D188)=\"F\",TRIM('MARK Enrollment Template'!D188)=\"Male\",TRIM('MARK Enrollment Template'!D188)=\"Female\"),\"\",\"Sex must be M/F/Male/Female.\")))","v":""},null,null,{"$f":"IF('MARK Enrollment Template'!A188=\"\",\"\",IF(AND('MARK Enrollment Template'!A188<>\"\",'MARK Enrollment Template'!G188=\"\"),\"Please fill in Email Address.\",IF(IFERROR(FIND(\"@\",'MARK Enrollment Template'!G188),\"X\")=\"X\",\"Email Address must include an @ symbol.\",\"\")))","v":""},null,null,null,{"$f":"IF('MARK Enrollment Template'!A188=\"\",\"\",IF(AND('MARK Enrollment Template'!A188<>\"\",'MARK Enrollment Template'!K188=\"\"),\"Please fill in Zip Code.\",IF(LEN(SUBSTITUTE(TRIM('MARK Enrollment Template'!K188),CHAR(9),\"\"))<5,\"Zip <5 digits. If leading zero, add apostrophe (ex. '01234).\",\"\")))","v":""},null,null,{"$f":"CELL(\"format\",'MARK Enrollment Template'!C188)","v":"D4"}]
["",{"$f":"IF(AND(SUMPRODUCT(--('MARK Enrollment Template'!A189:L189<>\"\"))<>0,'MARK Enrollment Template'!A189=\"\"),\"Please fill in First Name.\",IF(LEN('MARK Enrollment Template'!A189)=1,\"Please fill in full first name.\",\"\"))","v":""},{"$f":"IF('MARK Enrollment Template'!A189=\"\",\"\",IF(AND('MARK Enrollment Template'!A189<>\"\",'MARK Enrollment Template'!B189=\"\"),\"Please fill in a Last Name.\",\"\"))","v":""},{"$f":"IF('MARK Enrollment Template'!A189=\"\",\"\",IF(AND('MARK Enrollment Template'!A189<>\"\",'MARK Enrollment Template'!C189=\"\"),\"Please fill in Date of Birth.\",IF(TRIM(O184)<>\"D4\",\"Please format DOB as a date in the form MM/DD/YYYY.\",IF('MARK Enrollment Template'!C189>TODAY(),\"Please check DOB.\",\"\"))))","v":""},{"$f":"IF('MARK Enrollment Template'!A189=\"\",\"\",IF(AND('MARK Enrollment Template'!A189<>\"\",'MARK Enrollment Template'!D189=\"\"),\"Please fill in Sex.\",IF(OR(TRIM('MARK Enrollment Template'!D189)=\"M\",TRIM('MARK Enrollment Template'!D189)=\"F\",TRIM('MARK Enrollment Template'!D189)=\"Male\",TRIM('MARK Enrollment Template'!D189)=\"Female\"),\"\",\"Sex must be M/F/Male/Female.\")))","v":""},null,null,{"$f":"IF('MARK Enrollment Template'!A189=\"\",\"\",IF(AND('MARK Enrollment Template'!A189<>\"\",'MARK Enrollment Template'!G189=\"\"),\"Please fill in Email Address.\",IF(IFERROR(FIND(\"@\",'MARK Enrollment Template'!G189),\"X\")=\"X\",\"Email Address must include an @ symbol.\",\"\")))","v":""},null,null,null,{"$f":"IF('MARK Enrollment Template'!A189=\"\",\"\",IF(AND('MARK Enrollment Template'!A189<>\"\",'MARK Enrollment Template'!K189=\"\"),\"Please fill in Zip Code.\",IF(LEN(SUBSTITUTE(TRIM('MARK Enrollment Template'!K189),CHAR(9),\"\"))<5,\"Zip <5 digits. If leading zero, add apostrophe (ex. '01234).\",\"\")))","v":""},null,null,{"$f":"CELL(\"format\",'MARK Enrollment Template'!C189)","v":"D4"}]
["",{"$f":"IF(AND(SUMPRODUCT(--('MARK Enrollment Template'!A190:L190<>\"\"))<>0,'MARK Enrollment Template'!A190=\"\"),\"Please fill in First Name.\",IF(LEN('MARK Enrollment Template'!A190)=1,\"Please fill in full first name.\",\"\"))","v":""},{"$f":"IF('MARK Enrollment Template'!A190=\"\",\"\",IF(AND('MARK Enrollment Template'!A190<>\"\",'MARK Enrollment Template'!B190=\"\"),\"Please fill in a Last Name.\",\"\"))","v":""},{"$f":"IF('MARK Enrollment Template'!A190=\"\",\"\",IF(AND('MARK Enrollment Template'!A190<>\"\",'MARK Enrollment Template'!C190=\"\"),\"Please fill in Date of Birth.\",IF(TRIM(O185)<>\"D4\",\"Please format DOB as a date in the form MM/DD/YYYY.\",IF('MARK Enrollment Template'!C190>TODAY(),\"Please check DOB.\",\"\"))))","v":""},{"$f":"IF('MARK Enrollment Template'!A190=\"\",\"\",IF(AND('MARK Enrollment Template'!A190<>\"\",'MARK Enrollment Template'!D190=\"\"),\"Please fill in Sex.\",IF(OR(TRIM('MARK Enrollment Template'!D190)=\"M\",TRIM('MARK Enrollment Template'!D190)=\"F\",TRIM('MARK Enrollment Template'!D190)=\"Male\",TRIM('MARK Enrollment Template'!D190)=\"Female\"),\"\",\"Sex must be M/F/Male/Female.\")))","v":""},null,null,{"$f":"IF('MARK Enrollment Template'!A190=\"\",\"\",IF(AND('MARK Enrollment Template'!A190<>\"\",'MARK Enrollment Template'!G190=\"\"),\"Please fill in Email Address.\",IF(IFERROR(FIND(\"@\",'MARK Enrollment Template'!G190),\"X\")=\"X\",\"Email Address must include an @ symbol.\",\"\")))","v":""},null,null,null,{"$f":"IF('MARK Enrollment Template'!A190=\"\",\"\",IF(AND('MARK Enrollment Template'!A190<>\"\",'MARK Enrollment Template'!K190=\"\"),\"Please fill in Zip Code.\",IF(LEN(SUBSTITUTE(TRIM('MARK Enrollment Template'!K190),CHAR(9),\"\"))<5,\"Zip <5 digits. If leading zero, add apostrophe (ex. '01234).\",\"\")))","v":""},null,null,{"$f":"CELL(\"format\",'MARK Enrollment Template'!C190)","v":"D4"}]
["",{"$f":"IF(AND(SUMPRODUCT(--('MARK Enrollment Template'!A191:L191<>\"\"))<>0,'MARK Enrollment Template'!A191=\"\"),\"Please fill in First Name.\",IF(LEN('MARK Enrollment Template'!A191)=1,\"Please fill in full first name.\",\"\"))","v":""},{"$f":"IF('MARK Enrollment Template'!A191=\"\",\"\",IF(AND('MARK Enrollment Template'!A191<>\"\",'MARK Enrollment Template'!B191=\"\"),\"Please fill in a Last Name.\",\"\"))","v":""},{"$f":"IF('MARK Enrollment Template'!A191=\"\",\"\",IF(AND('MARK Enrollment Template'!A191<>\"\",'MARK Enrollment Template'!C191=\"\"),\"Please fill in Date of Birth.\",IF(TRIM(O186)<>\"D4\",\"Please format DOB as a date in the form MM/DD/YYYY.\",IF('MARK Enrollment Template'!C191>TODAY(),\"Please check DOB.\",\"\"))))","v":""},{"$f":"IF('MARK Enrollment Template'!A191=\"\",\"\",IF(AND('MARK Enrollment Template'!A191<>\"\",'MARK Enrollment Template'!D191=\"\"),\"Please fill in Sex.\",IF(OR(TRIM('MARK Enrollment Template'!D191)=\"M\",TRIM('MARK Enrollment Template'!D191)=\"F\",TRIM('MARK Enrollment Template'!D191)=\"Male\",TRIM('MARK Enrollment Template'!D191)=\"Female\"),\"\",\"Sex must be M/F/Male/Female.\")))","v":""},null,null,{"$f":"IF('MARK Enrollment Template'!A191=\"\",\"\",IF(AND('MARK Enrollment Template'!A191<>\"\",'MARK Enrollment Template'!G191=\"\"),\"Please fill in Email Address.\",IF(IFERROR(FIND(\"@\",'MARK Enrollment Template'!G191),\"X\")=\"X\",\"Email Address must include an @ symbol.\",\"\")))","v":""},null,null,null,{"$f":"IF('MARK Enrollment Template'!A191=\"\",\"\",IF(AND('MARK Enrollment Template'!A191<>\"\",'MARK Enrollment Template'!K191=\"\"),\"Please fill in Zip Code.\",IF(LEN(SUBSTITUTE(TRIM('MARK Enrollment Template'!K191),CHAR(9),\"\"))<5,\"Zip <5 digits. If leading zero, add apostrophe (ex. '01234).\",\"\")))","v":""},null,null,{"$f":"CELL(\"format\",'MARK Enrollment Template'!C191)","v":"D4"}]
["",{"$f":"IF(AND(SUMPRODUCT(--('MARK Enrollment Template'!A192:L192<>\"\"))<>0,'MARK Enrollment Template'!A192=\"\"),\"Please fill in First Name.\",IF(LEN('MARK Enrollment Template'!A192)=1,\"Please fill in full first name.\",\"\"))","v":""},{"$f":"IF('MARK Enrollment Template'!A192=\"\",\"\",IF(AND('MARK Enrollment Template'!A192<>\"\",'MARK Enrollment Template'!B192=\"\"),\"Please fill in a Last Name.\",\"\"))","v":""},{"$f":"IF('MARK Enrollment Template'!A192=\"\",\"\",IF(AND('MARK Enrollment Template'!A192<>\"\",'MARK Enrollment Template'!C192=\"\"),\"Please fill in Date of Birth.\",IF(TRIM(O187)<>\"D4\",\"Please format DOB as a date in the form MM/DD/YYYY.\",IF('MARK Enrollment Template'!C192>TODAY(),\"Please check DOB.\",\"\"))))","v":""},{"$f":"IF('MARK Enrollment Template'!A192=\"\",\"\",IF(AND('MARK Enrollment Template'!A192<>\"\",'MARK Enrollment Template'!D192=\"\"),\"Please fill in Sex.\",IF(OR(TRIM('MARK Enrollment Template'!D192)=\"M\",TRIM('MARK Enrollment Template'!D192)=\"F\",TRIM('MARK Enrollment Template'!D192)=\"Male\",TRIM('MARK Enrollment Template'!D192)=\"Female\"),\"\",\"Sex must be M/F/Male/Female.\")))","v":""},null,null,{"$f":"IF('MARK Enrollment Template'!A192=\"\",\"\",IF(AND('MARK Enrollment Template'!A192<>\"\",'MARK Enrollment Template'!G192=\"\"),\"Please fill in Email Address.\",IF(IFERROR(FIND(\"@\",'MARK Enrollment Template'!G192),\"X\")=\"X\",\"Email Address must include an @ symbol.\",\"\")))","v":""},null,null,null,{"$f":"IF('MARK Enrollment Template'!A192=\"\",\"\",IF(AND('MARK Enrollment Template'!A192<>\"\",'MARK Enrollment Template'!K192=\"\"),\"Please fill in Zip Code.\",IF(LEN(SUBSTITUTE(TRIM('MARK Enrollment Template'!K192),CHAR(9),\"\"))<5,\"Zip <5 digits. If leading zero, add apostrophe (ex. '01234).\",\"\")))","v":""},null,null,{"$f":"CELL(\"format\",'MARK Enrollment Template'!C192)","v":"D4"}]
["",{"$f":"IF(AND(SUMPRODUCT(--('MARK Enrollment Template'!A193:L193<>\"\"))<>0,'MARK Enrollment Template'!A193=\"\"),\"Please fill in First Name.\",IF(LEN('MARK Enrollment Template'!A193)=1,\"Please fill in full first name.\",\"\"))","v":""},{"$f":"IF('MARK Enrollment Template'!A193=\"\",\"\",IF(AND('MARK Enrollment Template'!A193<>\"\",'MARK Enrollment Template'!B193=\"\"),\"Please fill in a Last Name.\",\"\"))","v":""},{"$f":"IF('MARK Enrollment Template'!A193=\"\",\"\",IF(AND('MARK Enrollment Template'!A193<>\"\",'MARK Enrollment Template'!C193=\"\"),\"Please fill in Date of Birth.\",IF(TRIM(O188)<>\"D4\",\"Please format DOB as a date in the form MM/DD/YYYY.\",IF('MARK Enrollment Template'!C193>TODAY(),\"Please check DOB.\",\"\"))))","v":""},{"$f":"IF('MARK Enrollment Template'!A193=\"\",\"\",IF(AND('MARK Enrollment Template'!A193<>\"\",'MARK Enrollment Template'!D193=\"\"),\"Please fill in Sex.\",IF(OR(TRIM('MARK Enrollment Template'!D193)=\"M\",TRIM('MARK Enrollment Template'!D193)=\"F\",TRIM('MARK Enrollment Template'!D193)=\"Male\",TRIM('MARK Enrollment Template'!D193)=\"Female\"),\"\",\"Sex must be M/F/Male/Female.\")))","v":""},null,null,{"$f":"IF('MARK Enrollment Template'!A193=\"\",\"\",IF(AND('MARK Enrollment Template'!A193<>\"\",'MARK Enrollment Template'!G193=\"\"),\"Please fill in Email Address.\",IF(IFERROR(FIND(\"@\",'MARK Enrollment Template'!G193),\"X\")=\"X\",\"Email Address must include an @ symbol.\",\"\")))","v":""},null,null,null,{"$f":"IF('MARK Enrollment Template'!A193=\"\",\"\",IF(AND('MARK Enrollment Template'!A193<>\"\",'MARK Enrollment Template'!K193=\"\"),\"Please fill in Zip Code.\",IF(LEN(SUBSTITUTE(TRIM('MARK Enrollment Template'!K193),CHAR(9),\"\"))<5,\"Zip <5 digits. If leading zero, add apostrophe (ex. '01234).\",\"\")))","v":""},null,null,{"$f":"CELL(\"format\",'MARK Enrollment Template'!C193)","v":"D4"}]
["",{"$f":"IF(AND(SUMPRODUCT(--('MARK Enrollment Template'!A194:L194<>\"\"))<>0,'MARK Enrollment Template'!A194=\"\"),\"Please fill in First Name.\",IF(LEN('MARK Enrollment Template'!A194)=1,\"Please fill in full first name.\",\"\"))","v":""},{"$f":"IF('MARK Enrollment Template'!A194=\"\",\"\",IF(AND('MARK Enrollment Template'!A194<>\"\",'MARK Enrollment Template'!B194=\"\"),\"Please fill in a Last Name.\",\"\"))","v":""},{"$f":"IF('MARK Enrollment Template'!A194=\"\",\"\",IF(AND('MARK Enrollment Template'!A194<>\"\",'MARK Enrollment Template'!C194=\"\"),\"Please fill in Date of Birth.\",IF(TRIM(O189)<>\"D4\",\"Please format DOB as a date in the form MM/DD/YYYY.\",IF('MARK Enrollment Template'!C194>TODAY(),\"Please check DOB.\",\"\"))))","v":""},{"$f":"IF('MARK Enrollment Template'!A194=\"\",\"\",IF(AND('MARK Enrollment Template'!A194<>\"\",'MARK Enrollment Template'!D194=\"\"),\"Please fill in Sex.\",IF(OR(TRIM('MARK Enrollment Template'!D194)=\"M\",TRIM('MARK Enrollment Template'!D194)=\"F\",TRIM('MARK Enrollment Template'!D194)=\"Male\",TRIM('MARK Enrollment Template'!D194)=\"Female\"),\"\",\"Sex must be M/F/Male/Female.\")))","v":""},null,null,{"$f":"IF('MARK Enrollment Template'!A194=\"\",\"\",IF(AND('MARK Enrollment Template'!A194<>\"\",'MARK Enrollment Template'!G194=\"\"),\"Please fill in Email Address.\",IF(IFERROR(FIND(\"@\",'MARK Enrollment Template'!G194),\"X\")=\"X\",\"Email Address must include an @ symbol.\",\"\")))","v":""},null,null,null,{"$f":"IF('MARK Enrollment Template'!A194=\"\",\"\",IF(AND('MARK Enrollment Template'!A194<>\"\",'MARK Enrollment Template'!K194=\"\"),\"Please fill in Zip Code.\",IF(LEN(SUBSTITUTE(TRIM('MARK Enrollment Template'!K194),CHAR(9),\"\"))<5,\"Zip <5 digits. If leading zero, add apostrophe (ex. '01234).\",\"\")))","v":""},null,null,{"$f":"CELL(\"format\",'MARK Enrollment Template'!C194)","v":"D4"}]
["",{"$f":"IF(AND(SUMPRODUCT(--('MARK Enrollment Template'!A195:L195<>\"\"))<>0,'MARK Enrollment Template'!A195=\"\"),\"Please fill in First Name.\",IF(LEN('MARK Enrollment Template'!A195)=1,\"Please fill in full first name.\",\"\"))","v":""},{"$f":"IF('MARK Enrollment Template'!A195=\"\",\"\",IF(AND('MARK Enrollment Template'!A195<>\"\",'MARK Enrollment Template'!B195=\"\"),\"Please fill in a Last Name.\",\"\"))","v":""},{"$f":"IF('MARK Enrollment Template'!A195=\"\",\"\",IF(AND('MARK Enrollment Template'!A195<>\"\",'MARK Enrollment Template'!C195=\"\"),\"Please fill in Date of Birth.\",IF(TRIM(O190)<>\"D4\",\"Please format DOB as a date in the form MM/DD/YYYY.\",IF('MARK Enrollment Template'!C195>TODAY(),\"Please check DOB.\",\"\"))))","v":""},{"$f":"IF('MARK Enrollment Template'!A195=\"\",\"\",IF(AND('MARK Enrollment Template'!A195<>\"\",'MARK Enrollment Template'!D195=\"\"),\"Please fill in Sex.\",IF(OR(TRIM('MARK Enrollment Template'!D195)=\"M\",TRIM('MARK Enrollment Template'!D195)=\"F\",TRIM('MARK Enrollment Template'!D195)=\"Male\",TRIM('MARK Enrollment Template'!D195)=\"Female\"),\"\",\"Sex must be M/F/Male/Female.\")))","v":""},null,null,{"$f":"IF('MARK Enrollment Template'!A195=\"\",\"\",IF(AND('MARK Enrollment Template'!A195<>\"\",'MARK Enrollment Template'!G195=\"\"),\"Please fill in Email Address.\",IF(IFERROR(FIND(\"@\",'MARK Enrollment Template'!G195),\"X\")=\"X\",\"Email Address must include an @ symbol.\",\"\")))","v":""},null,null,null,{"$f":"IF('MARK Enrollment Template'!A195=\"\",\"\",IF(AND('MARK Enrollment Template'!A195<>\"\",'MARK Enrollment Template'!K195=\"\"),\"Please fill in Zip Code.\",IF(LEN(SUBSTITUTE(TRIM('MARK Enrollment Template'!K195),CHAR(9),\"\"))<5,\"Zip <5 digits. If leading zero, add apostrophe (ex. '01234).\",\"\")))","v":""},null,null,{"$f":"CELL(\"format\",'MARK Enrollment Template'!C195)","v":"D4"}]
["",{"$f":"IF(AND(SUMPRODUCT(--('MARK Enrollment Template'!A196:L196<>\"\"))<>0,'MARK Enrollment Template'!A196=\"\"),\"Please fill in First Name.\",IF(LEN('MARK Enrollment Template'!A196)=1,\"Please fill in full first name.\",\"\"))","v":""},{"$f":"IF('MARK Enrollment Template'!A196=\"\",\"\",IF(AND('MARK Enrollment Template'!A196<>\"\",'MARK Enrollment Template'!B196=\"\"),\"Please fill in a Last Name.\",\"\"))","v":""},{"$f":"IF('MARK Enrollment Template'!A196=\"\",\"\",IF(AND('MARK Enrollment Template'!A196<>\"\",'MARK Enrollment Template'!C196=\"\"),\"Please fill in Date of Birth.\",IF(TRIM(O191)<>\"D4\",\"Please format DOB as a date in the form MM/DD/YYYY.\",IF('MARK Enrollment Template'!C196>TODAY(),\"Please check DOB.\",\"\"))))","v":""},{"$f":"IF('MARK Enrollment Template'!A196=\"\",\"\",IF(AND('MARK Enrollment Template'!A196<>\"\",'MARK Enrollment Template'!D196=\"\"),\"Please fill in Sex.\",IF(OR(TRIM('MARK Enrollment Template'!D196)=\"M\",TRIM('MARK Enrollment Template'!D196)=\"F\",TRIM('MARK Enrollment Template'!D196)=\"Male\",TRIM('MARK Enrollment Template'!D196)=\"Female\"),\"\",\"Sex must be M/F/Male/Female.\")))","v":""},null,null,{"$f":"IF('MARK Enrollment Template'!A196=\"\",\"\",IF(AND('MARK Enrollment Template'!A196<>\"\",'MARK Enrollment Template'!G196=\"\"),\"Please fill in Email Address.\",IF(IFERROR(FIND(\"@\",'MARK Enrollment Template'!G196),\"X\")=\"X\",\"Email Address must include an @ symbol.\",\"\")))","v":""},null,null,null,{"$f":"IF('MARK Enrollment Template'!A196=\"\",\"\",IF(AND('MARK Enrollment Template'!A196<>\"\",'MARK Enrollment Template'!K196=\"\"),\"Please fill in Zip Code.\",IF(LEN(SUBSTITUTE(TRIM('MARK Enrollment Template'!K196),CHAR(9),\"\"))<5,\"Zip <5 digits. If leading zero, add apostrophe (ex. '01234).\",\"\")))","v":""},null,null,{"$f":"CELL(\"format\",'MARK Enrollment Template'!C196)","v":"D4"}]
["",{"$f":"IF(AND(SUMPRODUCT(--('MARK Enrollment Template'!A197:L197<>\"\"))<>0,'MARK Enrollment Template'!A197=\"\"),\"Please fill in First Name.\",IF(LEN('MARK Enrollment Template'!A197)=1,\"Please fill in full first name.\",\"\"))","v":""},{"$f":"IF('MARK Enrollment Template'!A197=\"\",\"\",IF(AND('MARK Enrollment Template'!A197<>\"\",'MARK Enrollment Template'!B197=\"\"),\"Please fill in a Last Name.\",\"\"))","v":""},{"$f":"IF('MARK Enrollment Template'!A197=\"\",\"\",IF(AND('MARK Enrollment Template'!A197<>\"\",'MARK Enrollment Template'!C197=\"\"),\"Please fill in Date of Birth.\",IF(TRIM(O192)<>\"D4\",\"Please format DOB as a date in the form MM/DD/YYYY.\",IF('MARK Enrollment Template'!C197>TODAY(),\"Please check DOB.\",\"\"))))","v":""},{"$f":"IF('MARK Enrollment Template'!A197=\"\",\"\",IF(AND('MARK Enrollment Template'!A197<>\"\",'MARK Enrollment Template'!D197=\"\"),\"Please fill in Sex.\",IF(OR(TRIM('MARK Enrollment Template'!D197)=\"M\",TRIM('MARK Enrollment Template'!D197)=\"F\",TRIM('MARK Enrollment Template'!D197)=\"Male\",TRIM('MARK Enrollment Template'!D197)=\"Female\"),\"\",\"Sex must be M/F/Male/Female.\")))","v":""},null,null,{"$f":"IF('MARK Enrollment Template'!A197=\"\",\"\",IF(AND('MARK Enrollment Template'!A197<>\"\",'MARK Enrollment Template'!G197=\"\"),\"Please fill in Email Address.\",IF(IFERROR(FIND(\"@\",'MARK Enrollment Template'!G197),\"X\")=\"X\",\"Email Address must include an @ symbol.\",\"\")))","v":""},null,null,null,{"$f":"IF('MARK Enrollment Template'!A197=\"\",\"\",IF(AND('MARK Enrollment Template'!A197<>\"\",'MARK Enrollment Template'!K197=\"\"),\"Please fill in Zip Code.\",IF(LEN(SUBSTITUTE(TRIM('MARK Enrollment Template'!K197),CHAR(9),\"\"))<5,\"Zip <5 digits. If leading zero, add apostrophe (ex. '01234).\",\"\")))","v":""},null,null,{"$f":"CELL(\"format\",'MARK Enrollment Template'!C197)","v":"D4"}]
["",{"$f":"IF(AND(SUMPRODUCT(--('MARK Enrollment Template'!A198:L198<>\"\"))<>0,'MARK Enrollment Template'!A198=\"\"),\"Please fill in First Name.\",IF(LEN('MARK Enrollment Template'!A198)=1,\"Please fill in full first name.\",\"\"))","v":""},{"$f":"IF('MARK Enrollment Template'!A198=\"\",\"\",IF(AND('MARK Enrollment Template'!A198<>\"\",'MARK Enrollment Template'!B198=\"\"),\"Please fill in a Last Name.\",\"\"))","v":""},{"$f":"IF('MARK Enrollment Template'!A198=\"\",\"\",IF(AND('MARK Enrollment Template'!A198<>\"\",'MARK Enrollment Template'!C198=\"\"),\"Please fill in Date of Birth.\",IF(TRIM(O193)<>\"D4\",\"Please format DOB as a date in the form MM/DD/YYYY.\",IF('MARK Enrollment Template'!C198>TODAY(),\"Please check DOB.\",\"\"))))","v":""},{"$f":"IF('MARK Enrollment Template'!A198=\"\",\"\",IF(AND('MARK Enrollment Template'!A198<>\"\",'MARK Enrollment Template'!D198=\"\"),\"Please fill in Sex.\",IF(OR(TRIM('MARK Enrollment Template'!D198)=\"M\",TRIM('MARK Enrollment Template'!D198)=\"F\",TRIM('MARK Enrollment Template'!D198)=\"Male\",TRIM('MARK Enrollment Template'!D198)=\"Female\"),\"\",\"Sex must be M/F/Male/Female.\")))","v":""},null,null,{"$f":"IF('MARK Enrollment Template'!A198=\"\",\"\",IF(AND('MARK Enrollment Template'!A198<>\"\",'MARK Enrollment Template'!G198=\"\"),\"Please fill in Email Address.\",IF(IFERROR(FIND(\"@\",'MARK Enrollment Template'!G198),\"X\")=\"X\",\"Email Address must include an @ symbol.\",\"\")))","v":""},null,null,null,{"$f":"IF('MARK Enrollment Template'!A198=\"\",\"\",IF(AND('MARK Enrollment Template'!A198<>\"\",'MARK Enrollment Template'!K198=\"\"),\"Please fill in Zip Code.\",IF(LEN(SUBSTITUTE(TRIM('MARK Enrollment Template'!K198),CHAR(9),\"\"))<5,\"Zip <5 digits. If leading zero, add apostrophe (ex. '01234).\",\"\")))","v":""},null,null,{"$f":"CELL(\"format\",'MARK Enrollment Template'!C198)","v":"D4"}]
["",{"$f":"IF(AND(SUMPRODUCT(--('MARK Enrollment Template'!A199:L199<>\"\"))<>0,'MARK Enrollment Template'!A199=\"\"),\"Please fill in First Name.\",IF(LEN('MARK Enrollment Template'!A199)=1,\"Please fill in full first name.\",\"\"))","v":""},{"$f":"IF('MARK Enrollment Template'!A199=\"\",\"\",IF(AND('MARK Enrollment Template'!A199<>\"\",'MARK Enrollment Template'!B199=\"\"),\"Please fill in a Last Name.\",\"\"))","v":""},{"$f":"IF('MARK Enrollment Template'!A199=\"\",\"\",IF(AND('MARK Enrollment Template'!A199<>\"\",'MARK Enrollment Template'!C199=\"\"),\"Please fill in Date of Birth.\",IF(TRIM(O194)<>\"D4\",\"Please format DOB as a date in the form MM/DD/YYYY.\",IF('MARK Enrollment Template'!C199>TODAY(),\"Please check DOB.\",\"\"))))","v":""},{"$f":"IF('MARK Enrollment Template'!A199=\"\",\"\",IF(AND('MARK Enrollment Template'!A199<>\"\",'MARK Enrollment Template'!D199=\"\"),\"Please fill in Sex.\",IF(OR(TRIM('MARK Enrollment Template'!D199)=\"M\",TRIM('MARK Enrollment Template'!D199)=\"F\",TRIM('MARK Enrollment Template'!D199)=\"Male\",TRIM('MARK Enrollment Template'!D199)=\"Female\"),\"\",\"Sex must be M/F/Male/Female.\")))","v":""},null,null,{"$f":"IF('MARK Enrollment Template'!A199=\"\",\"\",IF(AND('MARK Enrollment Template'!A199<>\"\",'MARK Enrollment Template'!G199=\"\"),\"Please fill in Email Address.\",IF(IFERROR(FIND(\"@\",'MARK Enrollment Template'!G199),\"X\")=\"X\",\"Email Address must include an @ symbol.\",\"\")))","v":""},null,null,null,{"$f":"IF('MARK Enrollment Template'!A199=\"\",\"\",IF(AND('MARK Enrollment Template'!A199<>\"\",'MARK Enrollment Template'!K199=\"\"),\"Please fill in Zip Code.\",IF(LEN(SUBSTITUTE(TRIM('MARK Enrollment Template'!K199),CHAR(9),\"\"))<5,\"Zip <5 digits. If leading zero, add apostrophe (ex. '01234).\",\"\")))","v":""},null,null,{"$f":"CELL(\"format\",'MARK Enrollment Template'!C199)","v":"D4"}]
["",{"$f":"IF(AND(SUMPRODUCT(--('MARK Enrollment Template'!A200:L200<>\"\"))<>0,'MARK Enrollment Template'!A200=\"\"),\"Please fill in First Name.\",IF(LEN('MARK Enrollment Template'!A200)=1,\"Please fill in full first name.\",\"\"))","v":""},{"$f":"IF('MARK Enrollment Template'!A200=\"\",\"\",IF(AND('MARK Enrollment Template'!A200<>\"\",'MARK Enrollment Template'!B200=\"\"),\"Please fill in a Last Name.\",\"\"))","v":""},{"$f":"IF('MARK Enrollment Template'!A200=\"\",\"\",IF(AND('MARK Enrollment Template'!A200<>\"\",'MARK Enrollment Template'!C200=\"\"),\"Please fill in Date of Birth.\",IF(TRIM(O195)<>\"D4\",\"Please format DOB as a date in the form MM/DD/YYYY.\",IF('MARK Enrollment Template'!C200>TODAY(),\"Please check DOB.\",\"\"))))","v":""},{"$f":"IF('MARK Enrollment Template'!A200=\"\",\"\",IF(AND('MARK Enrollment Template'!A200<>\"\",'MARK Enrollment Template'!D200=\"\"),\"Please fill in Sex.\",IF(OR(TRIM('MARK Enrollment Template'!D200)=\"M\",TRIM('MARK Enrollment Template'!D200)=\"F\",TRIM('MARK Enrollment Template'!D200)=\"Male\",TRIM('MARK Enrollment Template'!D200)=\"Female\"),\"\",\"Sex must be M/F/Male/Female.\")))","v":""},null,null,{"$f":"IF('MARK Enrollment Template'!A200=\"\",\"\",IF(AND('MARK Enrollment Template'!A200<>\"\",'MARK Enrollment Template'!G200=\"\"),\"Please fill in Email Address.\",IF(IFERROR(FIND(\"@\",'MARK Enrollment Template'!G200),\"X\")=\"X\",\"Email Address must include an @ symbol.\",\"\")))","v":""},null,null,null,{"$f":"IF('MARK Enrollment Template'!A200=\"\",\"\",IF(AND('MARK Enrollment Template'!A200<>\"\",'MARK Enrollment Template'!K200=\"\"),\"Please fill in Zip Code.\",IF(LEN(SUBSTITUTE(TRIM('MARK Enrollment Template'!K200),CHAR(9),\"\"))<5,\"Zip <5 digits. If leading zero, add apostrophe (ex. '01234).\",\"\")))","v":""},null,null,{"$f":"CELL(\"format\",'MARK Enrollment Template'!C200)","v":"D4"}]
["",{"$f":"IF(AND(SUMPRODUCT(--('MARK Enrollment Template'!A201:L201<>\"\"))<>0,'MARK Enrollment Template'!A201=\"\"),\"Please fill in First Name.\",IF(LEN('MARK Enrollment Template'!A201)=1,\"Please fill in full first name.\",\"\"))","v":""},{"$f":"IF('MARK Enrollment Template'!A201=\"\",\"\",IF(AND('MARK Enrollment Template'!A201<>\"\",'MARK Enrollment Template'!B201=\"\"),\"Please fill in a Last Name.\",\"\"))","v":""},{"$f":"IF('MARK Enrollment Template'!A201=\"\",\"\",IF(AND('MARK Enrollment Template'!A201<>\"\",'MARK Enrollment Template'!C201=\"\"),\"Please fill in Date of Birth.\",IF(TRIM(O196)<>\"D4\",\"Please format DOB as a date in the form MM/DD/YYYY.\",IF('MARK Enrollment Template'!C201>TODAY(),\"Please check DOB.\",\"\"))))","v":""},{"$f":"IF('MARK Enrollment Template'!A201=\"\",\"\",IF(AND('MARK Enrollment Template'!A201<>\"\",'MARK Enrollment Template'!D201=\"\"),\"Please fill in Sex.\",IF(OR(TRIM('MARK Enrollment Template'!D201)=\"M\",TRIM('MARK Enrollment Template'!D201)=\"F\",TRIM('MARK Enrollment Template'!D201)=\"Male\",TRIM('MARK Enrollment Template'!D201)=\"Female\"),\"\",\"Sex must be M/F/Male/Female.\")))","v":""},null,null,{"$f":"IF('MARK Enrollment Template'!A201=\"\",\"\",IF(AND('MARK Enrollment Template'!A201<>\"\",'MARK Enrollment Template'!G201=\"\"),\"Please fill in Email Address.\",IF(IFERROR(FIND(\"@\",'MARK Enrollment Template'!G201),\"X\")=\"X\",\"Email Address must include an @ symbol.\",\"\")))","v":""},null,null,null,{"$f":"IF('MARK Enrollment Template'!A201=\"\",\"\",IF(AND('MARK Enrollment Template'!A201<>\"\",'MARK Enrollment Template'!K201=\"\"),\"Please fill in Zip Code.\",IF(LEN(SUBSTITUTE(TRIM('MARK Enrollment Template'!K201),CHAR(9),\"\"))<5,\"Zip <5 digits. If leading zero, add apostrophe (ex. '01234).\",\"\")))","v":""},null,null,{"$f":"CELL(\"format\",'MARK Enrollment Template'!C201)","v":"D4"}]
["",{"$f":"IF(AND(SUMPRODUCT(--('MARK Enrollment Template'!A202:L202<>\"\"))<>0,'MARK Enrollment Template'!A202=\"\"),\"Please fill in First Name.\",IF(LEN('MARK Enrollment Template'!A202)=1,\"Please fill in full first name.\",\"\"))","v":""},{"$f":"IF('MARK Enrollment Template'!A202=\"\",\"\",IF(AND('MARK Enrollment Template'!A202<>\"\",'MARK Enrollment Template'!B202=\"\"),\"Please fill in a Last Name.\",\"\"))","v":""},{"$f":"IF('MARK Enrollment Template'!A202=\"\",\"\",IF(AND('MARK Enrollment Template'!A202<>\"\",'MARK Enrollment Template'!C202=\"\"),\"Please fill in Date of Birth.\",IF(TRIM(O197)<>\"D4\",\"Please format DOB as a date in the form MM/DD/YYYY.\",IF('MARK Enrollment Template'!C202>TODAY(),\"Please check DOB.\",\"\"))))","v":""},{"$f":"IF('MARK Enrollment Template'!A202=\"\",\"\",IF(AND('MARK Enrollment Template'!A202<>\"\",'MARK Enrollment Template'!D202=\"\"),\"Please fill in Sex.\",IF(OR(TRIM('MARK Enrollment Template'!D202)=\"M\",TRIM('MARK Enrollment Template'!D202)=\"F\",TRIM('MARK Enrollment Template'!D202)=\"Male\",TRIM('MARK Enrollment Template'!D202)=\"Female\"),\"\",\"Sex must be M/F/Male/Female.\")))","v":""},null,null,{"$f":"IF('MARK Enrollment Template'!A202=\"\",\"\",IF(AND('MARK Enrollment Template'!A202<>\"\",'MARK Enrollment Template'!G202=\"\"),\"Please fill in Email Address.\",IF(IFERROR(FIND(\"@\",'MARK Enrollment Template'!G202),\"X\")=\"X\",\"Email Address must include an @ symbol.\",\"\")))","v":""},null,null,null,{"$f":"IF('MARK Enrollment Template'!A202=\"\",\"\",IF(AND('MARK Enrollment Template'!A202<>\"\",'MARK Enrollment Template'!K202=\"\"),\"Please fill in Zip Code.\",IF(LEN(SUBSTITUTE(TRIM('MARK Enrollment Template'!K202),CHAR(9),\"\"))<5,\"Zip <5 digits. If leading zero, add apostrophe (ex. '01234).\",\"\")))","v":""},null,null,{"$f":"CELL(\"format\",'MARK Enrollment Template'!C202)","v":"D4"}]
["",{"$f":"IF(AND(SUMPRODUCT(--('MARK Enrollment Template'!A203:L203<>\"\"))<>0,'MARK Enrollment Template'!A203=\"\"),\"Please fill in First Name.\",IF(LEN('MARK Enrollment Template'!A203)=1,\"Please fill in full first name.\",\"\"))","v":""},{"$f":"IF('MARK Enrollment Template'!A203=\"\",\"\",IF(AND('MARK Enrollment Template'!A203<>\"\",'MARK Enrollment Template'!B203=\"\"),\"Please fill in a Last Name.\",\"\"))","v":""},{"$f":"IF('MARK Enrollment Template'!A203=\"\",\"\",IF(AND('MARK Enrollment Template'!A203<>\"\",'MARK Enrollment Template'!C203=\"\"),\"Please fill in Date of Birth.\",IF(TRIM(O198)<>\"D4\",\"Please format DOB as a date in the form MM/DD/YYYY.\",IF('MARK Enrollment Template'!C203>TODAY(),\"Please check DOB.\",\"\"))))","v":""},{"$f":"IF('MARK Enrollment Template'!A203=\"\",\"\",IF(AND('MARK Enrollment Template'!A203<>\"\",'MARK Enrollment Template'!D203=\"\"),\"Please fill in Sex.\",IF(OR(TRIM('MARK Enrollment Template'!D203)=\"M\",TRIM('MARK Enrollment Template'!D203)=\"F\",TRIM('MARK Enrollment Template'!D203)=\"Male\",TRIM('MARK Enrollment Template'!D203)=\"Female\"),\"\",\"Sex must be M/F/Male/Female.\")))","v":""},null,null,{"$f":"IF('MARK Enrollment Template'!A203=\"\",\"\",IF(AND('MARK Enrollment Template'!A203<>\"\",'MARK Enrollment Template'!G203=\"\"),\"Please fill in Email Address.\",IF(IFERROR(FIND(\"@\",'MARK Enrollment Template'!G203),\"X\")=\"X\",\"Email Address must include an @ symbol.\",\"\")))","v":""},null,null,null,{"$f":"IF('MARK Enrollment Template'!A203=\"\",\"\",IF(AND('MARK Enrollment Template'!A203<>\"\",'MARK Enrollment Template'!K203=\"\"),\"Please fill in Zip Code.\",IF(LEN(SUBSTITUTE(TRIM('MARK Enrollment Template'!K203),CHAR(9),\"\"))<5,\"Zip <5 digits. If leading zero, add apostrophe (ex. '01234).\",\"\")))","v":""},null,null,{"$f":"CELL(\"format\",'MARK Enrollment Template'!C203)","v":"D4"}]
["",{"$f":"IF(AND(SUMPRODUCT(--('MARK Enrollment Template'!A204:L204<>\"\"))<>0,'MARK Enrollment Template'!A204=\"\"),\"Please fill in First Name.\",IF(LEN('MARK Enrollment Template'!A204)=1,\"Please fill in full first name.\",\"\"))","v":""},{"$f":"IF('MARK Enrollment Template'!A204=\"\",\"\",IF(AND('MARK Enrollment Template'!A204<>\"\",'MARK Enrollment Template'!B204=\"\"),\"Please fill in a Last Name.\",\"\"))","v":""},{"$f":"IF('MARK Enrollment Template'!A204=\"\",\"\",IF(AND('MARK Enrollment Template'!A204<>\"\",'MARK Enrollment Template'!C204=\"\"),\"Please fill in Date of Birth.\",IF(TRIM(O199)<>\"D4\",\"Please format DOB as a date in the form MM/DD/YYYY.\",IF('MARK Enrollment Template'!C204>TODAY(),\"Please check DOB.\",\"\"))))","v":""},{"$f":"IF('MARK Enrollment Template'!A204=\"\",\"\",IF(AND('MARK Enrollment Template'!A204<>\"\",'MARK Enrollment Template'!D204=\"\"),\"Please fill in Sex.\",IF(OR(TRIM('MARK Enrollment Template'!D204)=\"M\",TRIM('MARK Enrollment Template'!D204)=\"F\",TRIM('MARK Enrollment Template'!D204)=\"Male\",TRIM('MARK Enrollment Template'!D204)=\"Female\"),\"\",\"Sex must be M/F/Male/Female.\")))","v":""},null,null,{"$f":"IF('MARK Enrollment Template'!A204=\"\",\"\",IF(AND('MARK Enrollment Template'!A204<>\"\",'MARK Enrollment Template'!G204=\"\"),\"Please fill in Email Address.\",IF(IFERROR(FIND(\"@\",'MARK Enrollment Template'!G204),\"X\")=\"X\",\"Email Address must include an @ symbol.\",\"\")))","v":""},null,null,null,{"$f":"IF('MARK Enrollment Template'!A204=\"\",\"\",IF(AND('MARK Enrollment Template'!A204<>\"\",'MARK Enrollment Template'!K204=\"\"),\"Please fill in Zip Code.\",IF(LEN(SUBSTITUTE(TRIM('MARK Enrollment Template'!K204),CHAR(9),\"\"))<5,\"Zip <5 digits. If leading zero, add apostrophe (ex. '01234).\",\"\")))","v":""},null,null,{"$f":"CELL(\"format\",'MARK Enrollment Template'!C204)","v":"D4"}]
["",{"$f":"IF(AND(SUMPRODUCT(--('MARK Enrollment Template'!A205:L205<>\"\"))<>0,'MARK Enrollment Template'!A205=\"\"),\"Please fill in First Name.\",IF(LEN('MARK Enrollment Template'!A205)=1,\"Please fill in full first name.\",\"\"))","v":""},{"$f":"IF('MARK Enrollment Template'!A205=\"\",\"\",IF(AND('MARK Enrollment Template'!A205<>\"\",'MARK Enrollment Template'!B205=\"\"),\"Please fill in a Last Name.\",\"\"))","v":""},{"$f":"IF('MARK Enrollment Template'!A205=\"\",\"\",IF(AND('MARK Enrollment Template'!A205<>\"\",'MARK Enrollment Template'!C205=\"\"),\"Please fill in Date of Birth.\",IF(TRIM(O200)<>\"D4\",\"Please format DOB as a date in the form MM/DD/YYYY.\",IF('MARK Enrollment Template'!C205>TODAY(),\"Please check DOB.\",\"\"))))","v":""},{"$f":"IF('MARK Enrollment Template'!A205=\"\",\"\",IF(AND('MARK Enrollment Template'!A205<>\"\",'MARK Enrollment Template'!D205=\"\"),\"Please fill in Sex.\",IF(OR(TRIM('MARK Enrollment Template'!D205)=\"M\",TRIM('MARK Enrollment Template'!D205)=\"F\",TRIM('MARK Enrollment Template'!D205)=\"Male\",TRIM('MARK Enrollment Template'!D205)=\"Female\"),\"\",\"Sex must be M/F/Male/Female.\")))","v":""},null,null,{"$f":"IF('MARK Enrollment Template'!A205=\"\",\"\",IF(AND('MARK Enrollment Template'!A205<>\"\",'MARK Enrollment Template'!G205=\"\"),\"Please fill in Email Address.\",IF(IFERROR(FIND(\"@\",'MARK Enrollment Template'!G205),\"X\")=\"X\",\"Email Address must include an @ symbol.\",\"\")))","v":""},null,null,null,{"$f":"IF('MARK Enrollment Template'!A205=\"\",\"\",IF(AND('MARK Enrollment Template'!A205<>\"\",'MARK Enrollment Template'!K205=\"\"),\"Please fill in Zip Code.\",IF(LEN(SUBSTITUTE(TRIM('MARK Enrollment Template'!K205),CHAR(9),\"\"))<5,\"Zip <5 digits. If leading zero, add apostrophe (ex. '01234).\",\"\")))","v":""},null,null,{"$f":"CELL(\"format\",'MARK Enrollment Template'!C205)","v":"D4"}]
[{"$f":"IF(B201<>\"\",B201,IF(C201<>\"\",C201,IF(D201<>\"\",D201,IF(E201<>\"\",E201,IF(F201<>\"\",F201,IF(G201<>\"\",G201,IF(H201<>\"\",H201,IF(I201<>\"\",I201,IF(J201<>\"\",J201,IF(K201<>\"\",K201,L201))))))))))","v":""},{"$f":"IF(AND(SUMPRODUCT(--('MARK Enrollment Template'!A206:L206<>\"\"))<>0,'MARK Enrollment Template'!A206=\"\"),\"Please fill in First Name.\",IF(LEN('MARK Enrollment Template'!A206)=1,\"Please fill in full first name.\",\"\"))","v":""},{"$f":"IF('MARK Enrollment Template'!A206=\"\",\"\",IF(AND('MARK Enrollment Template'!A206<>\"\",'MARK Enrollment Template'!B206=\"\"),\"Please fill in a Last Name.\",\"\"))","v":""},{"$f":"IF('MARK Enrollment Template'!A206=\"\",\"\",IF(AND('MARK Enrollment Template'!A206<>\"\",'MARK Enrollment Template'!C206=\"\"),\"Please fill in Date of Birth.\",IF(TRIM(O201)<>\"D4\",\"Please format DOB as a date in the form MM/DD/YYYY.\",IF('MARK Enrollment Template'!C206>TODAY(),\"Please check DOB.\",\"\"))))","v":""},{"$f":"IF('MARK Enrollment Template'!A206=\"\",\"\",IF(AND('MARK Enrollment Template'!A206<>\"\",'MARK Enrollment Template'!D206=\"\"),\"Please fill in Sex.\",IF(OR(TRIM('MARK Enrollment Template'!D206)=\"M\",TRIM('MARK Enrollment Template'!D206)=\"F\",TRIM('MARK Enrollment Template'!D206)=\"Male\",TRIM('MARK Enrollment Template'!D206)=\"Female\"),\"\",\"Sex must be M/F/Male/Female.\")))","v":""},null,null,{"$f":"IF('MARK Enrollment Template'!A206=\"\",\"\",IF(AND('MARK Enrollment Template'!A206<>\"\",'MARK Enrollment Template'!G206=\"\"),\"Please fill in Email Address.\",IF(IFERROR(FIND(\"@\",'MARK Enrollment Template'!G206),\"X\")=\"X\",\"Email Address must include an @ symbol.\",\"\")))","v":""},null,null,null,{"$f":"IF('MARK Enrollment Template'!A206=\"\",\"\",IF(AND('MARK Enrollment Template'!A206<>\"\",'MARK Enrollment Template'!K206=\"\"),\"Please fill in Zip Code.\",IF(LEN(SUBSTITUTE(TRIM('MARK Enrollment Template'!K206),CHAR(9),\"\"))<5,\"Zip <5 digits. If leading zero, add apostrophe (ex. '01234).\",\"\")))","v":""},null,null,{"$f":"CELL(\"format\",'MARK Enrollment Template'!C206)","v":"D4"}]
["",{"$f":"IF(AND(SUMPRODUCT(--('MARK Enrollment Template'!A207:L207<>\"\"))<>0,'MARK Enrollment Template'!A207=\"\"),\"Please fill in First Name.\",IF(LEN('MARK Enrollment Template'!A207)=1,\"Please fill in full first name.\",\"\"))","v":""},{"$f":"IF('MARK Enrollment Template'!A207=\"\",\"\",IF(AND('MARK Enrollment Template'!A207<>\"\",'MARK Enrollment Template'!B207=\"\"),\"Please fill in a Last Name.\",\"\"))","v":""},{"$f":"IF('MARK Enrollment Template'!A207=\"\",\"\",IF(AND('MARK Enrollment Template'!A207<>\"\",'MARK Enrollment Template'!C207=\"\"),\"Please fill in Date of Birth.\",IF(TRIM(O202)<>\"D4\",\"Please format DOB as a date in the form MM/DD/YYYY.\",IF('MARK Enrollment Template'!C207>TODAY(),\"Please check DOB.\",\"\"))))","v":""},{"$f":"IF('MARK Enrollment Template'!A207=\"\",\"\",IF(AND('MARK Enrollment Template'!A207<>\"\",'MARK Enrollment Template'!D207=\"\"),\"Please fill in Sex.\",IF(OR(TRIM('MARK Enrollment Template'!D207)=\"M\",TRIM('MARK Enrollment Template'!D207)=\"F\",TRIM('MARK Enrollment Template'!D207)=\"Male\",TRIM('MARK Enrollment Template'!D207)=\"Female\"),\"\",\"Sex must be M/F/Male/Female.\")))","v":""},null,null,{"$f":"IF('MARK Enrollment Template'!A207=\"\",\"\",IF(AND('MARK Enrollment Template'!A207<>\"\",'MARK Enrollment Template'!G207=\"\"),\"Please fill in Email Address.\",IF(IFERROR(FIND(\"@\",'MARK Enrollment Template'!G207),\"X\")=\"X\",\"Email Address must include an @ symbol.\",\"\")))","v":""},null,null,null,{"$f":"IF('MARK Enrollment Template'!A207=\"\",\"\",IF(AND('MARK Enrollment Template'!A207<>\"\",'MARK Enrollment Template'!K207=\"\"),\"Please fill in Zip Code.\",IF(LEN(SUBSTITUTE(TRIM('MARK Enrollment Template'!K207),CHAR(9),\"\"))<5,\"Zip <5 digits. If leading zero, add apostrophe (ex. '01234).\",\"\")))","v":""},null,null,{"$f":"CELL(\"format\",'MARK Enrollment Template'!C207)","v":"D4"}]
["",{"$f":"IF(AND(SUMPRODUCT(--('MARK Enrollment Template'!A208:L208<>\"\"))<>0,'MARK Enrollment Template'!A208=\"\"),\"Please fill in First Name.\",IF(LEN('MARK Enrollment Template'!A208)=1,\"Please fill in full first name.\",\"\"))","v":""},{"$f":"IF('MARK Enrollment Template'!A208=\"\",\"\",IF(AND('MARK Enrollment Template'!A208<>\"\",'MARK Enrollment Template'!B208=\"\"),\"Please fill in a Last Name.\",\"\"))","v":""},{"$f":"IF('MARK Enrollment Template'!A208=\"\",\"\",IF(AND('MARK Enrollment Template'!A208<>\"\",'MARK Enrollment Template'!C208=\"\"),\"Please fill in Date of Birth.\",IF(TRIM(O203)<>\"D4\",\"Please format DOB as a date in the form MM/DD/YYYY.\",IF('MARK Enrollment Template'!C208>TODAY(),\"Please check DOB.\",\"\"))))","v":""},{"$f":"IF('MARK Enrollment Template'!A208=\"\",\"\",IF(AND('MARK Enrollment Template'!A208<>\"\",'MARK Enrollment Template'!D208=\"\"),\"Please fill in Sex.\",IF(OR(TRIM('MARK Enrollment Template'!D208)=\"M\",TRIM('MARK Enrollment Template'!D208)=\"F\",TRIM('MARK Enrollment Template'!D208)=\"Male\",TRIM('MARK Enrollment Template'!D208)=\"Female\"),\"\",\"Sex must be M/F/Male/Female.\")))","v":""},null,null,{"$f":"IF('MARK Enrollment Template'!A208=\"\",\"\",IF(AND('MARK Enrollment Template'!A208<>\"\",'MARK Enrollment Template'!G208=\"\"),\"Please fill in Email Address.\",IF(IFERROR(FIND(\"@\",'MARK Enrollment Template'!G208),\"X\")=\"X\",\"Email Address must include an @ symbol.\",\"\")))","v":""},null,null,null,{"$f":"IF('MARK Enrollment Template'!A208=\"\",\"\",IF(AND('MARK Enrollment Template'!A208<>\"\",'MARK Enrollment Template'!K208=\"\"),\"Please fill in Zip Code.\",IF(LEN(SUBSTITUTE(TRIM('MARK Enrollment Template'!K208),CHAR(9),\"\"))<5,\"Zip <5 digits. If leading zero, add apostrophe (ex. '01234).\",\"\")))","v":""},null,null,{"$f":"CELL(\"format\",'MARK Enrollment Template'!C208)","v":"D4"}]
["",{"$f":"IF(AND(SUMPRODUCT(--('MARK Enrollment Template'!A209:L209<>\"\"))<>0,'MARK Enrollment Template'!A209=\"\"),\"Please fill in First Name.\",IF(LEN('MARK Enrollment Template'!A209)=1,\"Please fill in full first name.\",\"\"))","v":""},{"$f":"IF('MARK Enrollment Template'!A209=\"\",\"\",IF(AND('MARK Enrollment Template'!A209<>\"\",'MARK Enrollment Template'!B209=\"\"),\"Please fill in a Last Name.\",\"\"))","v":""},{"$f":"IF('MARK Enrollment Template'!A209=\"\",\"\",IF(AND('MARK Enrollment Template'!A209<>\"\",'MARK Enrollment Template'!C209=\"\"),\"Please fill in Date of Birth.\",IF(TRIM(O204)<>\"D4\",\"Please format DOB as a date in the form MM/DD/YYYY.\",IF('MARK Enrollment Template'!C209>TODAY(),\"Please check DOB.\",\"\"))))","v":""},{"$f":"IF('MARK Enrollment Template'!A209=\"\",\"\",IF(AND('MARK Enrollment Template'!A209<>\"\",'MARK Enrollment Template'!D209=\"\"),\"Please fill in Sex.\",IF(OR(TRIM('MARK Enrollment Template'!D209)=\"M\",TRIM('MARK Enrollment Template'!D209)=\"F\",TRIM('MARK Enrollment Template'!D209)=\"Male\",TRIM('MARK Enrollment Template'!D209)=\"Female\"),\"\",\"Sex must be M/F/Male/Female.\")))","v":""},null,null,{"$f":"IF('MARK Enrollment Template'!A209=\"\",\"\",IF(AND('MARK Enrollment Template'!A209<>\"\",'MARK Enrollment Template'!G209=\"\"),\"Please fill in Email Address.\",IF(IFERROR(FIND(\"@\",'MARK Enrollment Template'!G209),\"X\")=\"X\",\"Email Address must include an @ symbol.\",\"\")))","v":""},null,null,null,{"$f":"IF('MARK Enrollment Template'!A209=\"\",\"\",IF(AND('MARK Enrollment Template'!A209<>\"\",'MARK Enrollment Template'!K209=\"\"),\"Please fill in Zip Code.\",IF(LEN(SUBSTITUTE(TRIM('MARK Enrollment Template'!K209),CHAR(9),\"\"))<5,\"Zip <5 digits. If leading zero, add apostrophe (ex. '01234).\",\"\")))","v":""},null,null,{"$f":"CELL(\"format\",'MARK Enrollment Template'!C209)","v":"D4"}]
["",{"$f":"IF(AND(SUMPRODUCT(--('MARK Enrollment Template'!A210:L210<>\"\"))<>0,'MARK Enrollment Template'!A210=\"\"),\"Please fill in First Name.\",IF(LEN('MARK Enrollment Template'!A210)=1,\"Please fill in full first name.\",\"\"))","v":""},{"$f":"IF('MARK Enrollment Template'!A210=\"\",\"\",IF(AND('MARK Enrollment Template'!A210<>\"\",'MARK Enrollment Template'!B210=\"\"),\"Please fill in a Last Name.\",\"\"))","v":""},{"$f":"IF('MARK Enrollment Template'!A210=\"\",\"\",IF(AND('MARK Enrollment Template'!A210<>\"\",'MARK Enrollment Template'!C210=\"\"),\"Please fill in Date of Birth.\",IF(TRIM(O205)<>\"D4\",\"Please format DOB as a date in the form MM/DD/YYYY.\",IF('MARK Enrollment Template'!C210>TODAY(),\"Please check DOB.\",\"\"))))","v":""},{"$f":"IF('MARK Enrollment Template'!A210=\"\",\"\",IF(AND('MARK Enrollment Template'!A210<>\"\",'MARK Enrollment Template'!D210=\"\"),\"Please fill in Sex.\",IF(OR(TRIM('MARK Enrollment Template'!D210)=\"M\",TRIM('MARK Enrollment Template'!D210)=\"F\",TRIM('MARK Enrollment Template'!D210)=\"Male\",TRIM('MARK Enrollment Template'!D210)=\"Female\"),\"\",\"Sex must be M/F/Male/Female.\")))","v":""},null,null,{"$f":"IF('MARK Enrollment Template'!A210=\"\",\"\",IF(AND('MARK Enrollment Template'!A210<>\"\",'MARK Enrollment Template'!G210=\"\"),\"Please fill in Email Address.\",IF(IFERROR(FIND(\"@\",'MARK Enrollment Template'!G210),\"X\")=\"X\",\"Email Address must include an @ symbol.\",\"\")))","v":""},null,null,null,{"$f":"IF('MARK Enrollment Template'!A210=\"\",\"\",IF(AND('MARK Enrollment Template'!A210<>\"\",'MARK Enrollment Template'!K210=\"\"),\"Please fill in Zip Code.\",IF(LEN(SUBSTITUTE(TRIM('MARK Enrollment Template'!K210),CHAR(9),\"\"))<5,\"Zip <5 digits. If leading zero, add apostrophe (ex. '01234).\",\"\")))","v":""},null,null,{"$f":"CELL(\"format\",'MARK Enrollment Template'!C210)","v":"D4"}]
["",{"$f":"IF(AND(SUMPRODUCT(--('MARK Enrollment Template'!A211:L211<>\"\"))<>0,'MARK Enrollment Template'!A211=\"\"),\"Please fill in First Name.\",IF(LEN('MARK Enrollment Template'!A211)=1,\"Please fill in full first name.\",\"\"))","v":""},{"$f":"IF('MARK Enrollment Template'!A211=\"\",\"\",IF(AND('MARK Enrollment Template'!A211<>\"\",'MARK Enrollment Template'!B211=\"\"),\"Please fill in a Last Name.\",\"\"))","v":""},{"$f":"IF('MARK Enrollment Template'!A211=\"\",\"\",IF(AND('MARK Enrollment Template'!A211<>\"\",'MARK Enrollment Template'!C211=\"\"),\"Please fill in Date of Birth.\",IF(TRIM(O206)<>\"D4\",\"Please format DOB as a date in the form MM/DD/YYYY.\",IF('MARK Enrollment Template'!C211>TODAY(),\"Please check DOB.\",\"\"))))","v":""},{"$f":"IF('MARK Enrollment Template'!A211=\"\",\"\",IF(AND('MARK Enrollment Template'!A211<>\"\",'MARK Enrollment Template'!D211=\"\"),\"Please fill in Sex.\",IF(OR(TRIM('MARK Enrollment Template'!D211)=\"M\",TRIM('MARK Enrollment Template'!D211)=\"F\",TRIM('MARK Enrollment Template'!D211)=\"Male\",TRIM('MARK Enrollment Template'!D211)=\"Female\"),\"\",\"Sex must be M/F/Male/Female.\")))","v":""},null,null,{"$f":"IF('MARK Enrollment Template'!A211=\"\",\"\",IF(AND('MARK Enrollment Template'!A211<>\"\",'MARK Enrollment Template'!G211=\"\"),\"Please fill in Email Address.\",IF(IFERROR(FIND(\"@\",'MARK Enrollment Template'!G211),\"X\")=\"X\",\"Email Address must include an @ symbol.\",\"\")))","v":""},null,null,null,{"$f":"IF('MARK Enrollment Template'!A211=\"\",\"\",IF(AND('MARK Enrollment Template'!A211<>\"\",'MARK Enrollment Template'!K211=\"\"),\"Please fill in Zip Code.\",IF(LEN(SUBSTITUTE(TRIM('MARK Enrollment Template'!K211),CHAR(9),\"\"))<5,\"Zip <5 digits. If leading zero, add apostrophe (ex. '01234).\",\"\")))","v":""},null,null,{"$f":"CELL(\"format\",'MARK Enrollment Template'!C211)","v":"D4"}]
["",{"$f":"IF(AND(SUMPRODUCT(--('MARK Enrollment Template'!A212:L212<>\"\"))<>0,'MARK Enrollment Template'!A212=\"\"),\"Please fill in First Name.\",IF(LEN('MARK Enrollment Template'!A212)=1,\"Please fill in full first name.\",\"\"))","v":""},{"$f":"IF('MARK Enrollment Template'!A212=\"\",\"\",IF(AND('MARK Enrollment Template'!A212<>\"\",'MARK Enrollment Template'!B212=\"\"),\"Please fill in a Last Name.\",\"\"))","v":""},{"$f":"IF('MARK Enrollment Template'!A212=\"\",\"\",IF(AND('MARK Enrollment Template'!A212<>\"\",'MARK Enrollment Template'!C212=\"\"),\"Please fill in Date of Birth.\",IF(TRIM(O207)<>\"D4\",\"Please format DOB as a date in the form MM/DD/YYYY.\",IF('MARK Enrollment Template'!C212>TODAY(),\"Please check DOB.\",\"\"))))","v":""},{"$f":"IF('MARK Enrollment Template'!A212=\"\",\"\",IF(AND('MARK Enrollment Template'!A212<>\"\",'MARK Enrollment Template'!D212=\"\"),\"Please fill in Sex.\",IF(OR(TRIM('MARK Enrollment Template'!D212)=\"M\",TRIM('MARK Enrollment Template'!D212)=\"F\",TRIM('MARK Enrollment Template'!D212)=\"Male\",TRIM('MARK Enrollment Template'!D212)=\"Female\"),\"\",\"Sex must be M/F/Male/Female.\")))","v":""},null,null,{"$f":"IF('MARK Enrollment Template'!A212=\"\",\"\",IF(AND('MARK Enrollment Template'!A212<>\"\",'MARK Enrollment Template'!G212=\"\"),\"Please fill in Email Address.\",IF(IFERROR(FIND(\"@\",'MARK Enrollment Template'!G212),\"X\")=\"X\",\"Email Address must include an @ symbol.\",\"\")))","v":""},null,null,null,{"$f":"IF('MARK Enrollment Template'!A212=\"\",\"\",IF(AND('MARK Enrollment Template'!A212<>\"\",'MARK Enrollment Template'!K212=\"\"),\"Please fill in Zip Code.\",IF(LEN(SUBSTITUTE(TRIM('MARK Enrollment Template'!K212),CHAR(9),\"\"))<5,\"Zip <5 digits. If leading zero, add apostrophe (ex. '01234).\",\"\")))","v":""},null,null,{"$f":"CELL(\"format\",'MARK Enrollment Template'!C212)","v":"D4"}]
["",{"$f":"IF(AND(SUMPRODUCT(--('MARK Enrollment Template'!A213:L213<>\"\"))<>0,'MARK Enrollment Template'!A213=\"\"),\"Please fill in First Name.\",IF(LEN('MARK Enrollment Template'!A213)=1,\"Please fill in full first name.\",\"\"))","v":""},{"$f":"IF('MARK Enrollment Template'!A213=\"\",\"\",IF(AND('MARK Enrollment Template'!A213<>\"\",'MARK Enrollment Template'!B213=\"\"),\"Please fill in a Last Name.\",\"\"))","v":""},{"$f":"IF('MARK Enrollment Template'!A213=\"\",\"\",IF(AND('MARK Enrollment Template'!A213<>\"\",'MARK Enrollment Template'!C213=\"\"),\"Please fill in Date of Birth.\",IF(TRIM(O208)<>\"D4\",\"Please format DOB as a date in the form MM/DD/YYYY.\",IF('MARK Enrollment Template'!C213>TODAY(),\"Please check DOB.\",\"\"))))","v":""},{"$f":"IF('MARK Enrollment Template'!A213=\"\",\"\",IF(AND('MARK Enrollment Template'!A213<>\"\",'MARK Enrollment Template'!D213=\"\"),\"Please fill in Sex.\",IF(OR(TRIM('MARK Enrollment Template'!D213)=\"M\",TRIM('MARK Enrollment Template'!D213)=\"F\",TRIM('MARK Enrollment Template'!D213)=\"Male\",TRIM('MARK Enrollment Template'!D213)=\"Female\"),\"\",\"Sex must be M/F/Male/Female.\")))","v":""},null,null,{"$f":"IF('MARK Enrollment Template'!A213=\"\",\"\",IF(AND('MARK Enrollment Template'!A213<>\"\",'MARK Enrollment Template'!G213=\"\"),\"Please fill in Email Address.\",IF(IFERROR(FIND(\"@\",'MARK Enrollment Template'!G213),\"X\")=\"X\",\"Email Address must include an @ symbol.\",\"\")))","v":""},null,null,null,{"$f":"IF('MARK Enrollment Template'!A213=\"\",\"\",IF(AND('MARK Enrollment Template'!A213<>\"\",'MARK Enrollment Template'!K213=\"\"),\"Please fill in Zip Code.\",IF(LEN(SUBSTITUTE(TRIM('MARK Enrollment Template'!K213),CHAR(9),\"\"))<5,\"Zip <5 digits. If leading zero, add apostrophe (ex. '01234).\",\"\")))","v":""},null,null,{"$f":"CELL(\"format\",'MARK Enrollment Template'!C213)","v":"D4"}]
["",{"$f":"IF(AND(SUMPRODUCT(--('MARK Enrollment Template'!A214:L214<>\"\"))<>0,'MARK Enrollment Template'!A214=\"\"),\"Please fill in First Name.\",IF(LEN('MARK Enrollment Template'!A214)=1,\"Please fill in full first name.\",\"\"))","v":""},{"$f":"IF('MARK Enrollment Template'!A214=\"\",\"\",IF(AND('MARK Enrollment Template'!A214<>\"\",'MARK Enrollment Template'!B214=\"\"),\"Please fill in a Last Name.\",\"\"))","v":""},{"$f":"IF('MARK Enrollment Template'!A214=\"\",\"\",IF(AND('MARK Enrollment Template'!A214<>\"\",'MARK Enrollment Template'!C214=\"\"),\"Please fill in Date of Birth.\",IF(TRIM(O209)<>\"D4\",\"Please format DOB as a date in the form MM/DD/YYYY.\",IF('MARK Enrollment Template'!C214>TODAY(),\"Please check DOB.\",\"\"))))","v":""},{"$f":"IF('MARK Enrollment Template'!A214=\"\",\"\",IF(AND('MARK Enrollment Template'!A214<>\"\",'MARK Enrollment Template'!D214=\"\"),\"Please fill in Sex.\",IF(OR(TRIM('MARK Enrollment Template'!D214)=\"M\",TRIM('MARK Enrollment Template'!D214)=\"F\",TRIM('MARK Enrollment Template'!D214)=\"Male\",TRIM('MARK Enrollment Template'!D214)=\"Female\"),\"\",\"Sex must be M/F/Male/Female.\")))","v":""},null,null,{"$f":"IF('MARK Enrollment Template'!A214=\"\",\"\",IF(AND('MARK Enrollment Template'!A214<>\"\",'MARK Enrollment Template'!G214=\"\"),\"Please fill in Email Address.\",IF(IFERROR(FIND(\"@\",'MARK Enrollment Template'!G214),\"X\")=\"X\",\"Email Address must include an @ symbol.\",\"\")))","v":""},null,null,null,{"$f":"IF('MARK Enrollment Template'!A214=\"\",\"\",IF(AND('MARK Enrollment Template'!A214<>\"\",'MARK Enrollment Template'!K214=\"\"),\"Please fill in Zip Code.\",IF(LEN(SUBSTITUTE(TRIM('MARK Enrollment Template'!K214),CHAR(9),\"\"))<5,\"Zip <5 digits. If leading zero, add apostrophe (ex. '01234).\",\"\")))","v":""},null,null,{"$f":"CELL(\"format\",'MARK Enrollment Template'!C214)","v":"D4"}]
["",{"$f":"IF(AND(SUMPRODUCT(--('MARK Enrollment Template'!A215:L215<>\"\"))<>0,'MARK Enrollment Template'!A215=\"\"),\"Please fill in First Name.\",IF(LEN('MARK Enrollment Template'!A215)=1,\"Please fill in full first name.\",\"\"))","v":""},{"$f":"IF('MARK Enrollment Template'!A215=\"\",\"\",IF(AND('MARK Enrollment Template'!A215<>\"\",'MARK Enrollment Template'!B215=\"\"),\"Please fill in a Last Name.\",\"\"))","v":""},{"$f":"IF('MARK Enrollment Template'!A215=\"\",\"\",IF(AND('MARK Enrollment Template'!A215<>\"\",'MARK Enrollment Template'!C215=\"\"),\"Please fill in Date of Birth.\",IF(TRIM(O210)<>\"D4\",\"Please format DOB as a date in the form MM/DD/YYYY.\",IF('MARK Enrollment Template'!C215>TODAY(),\"Please check DOB.\",\"\"))))","v":""},{"$f":"IF('MARK Enrollment Template'!A215=\"\",\"\",IF(AND('MARK Enrollment Template'!A215<>\"\",'MARK Enrollment Template'!D215=\"\"),\"Please fill in Sex.\",IF(OR(TRIM('MARK Enrollment Template'!D215)=\"M\",TRIM('MARK Enrollment Template'!D215)=\"F\",TRIM('MARK Enrollment Template'!D215)=\"Male\",TRIM('MARK Enrollment Template'!D215)=\"Female\"),\"\",\"Sex must be M/F/Male/Female.\")))","v":""},null,null,{"$f":"IF('MARK Enrollment Template'!A215=\"\",\"\",IF(AND('MARK Enrollment Template'!A215<>\"\",'MARK Enrollment Template'!G215=\"\"),\"Please fill in Email Address.\",IF(IFERROR(FIND(\"@\",'MARK Enrollment Template'!G215),\"X\")=\"X\",\"Email Address must include an @ symbol.\",\"\")))","v":""},null,null,null,{"$f":"IF('MARK Enrollment Template'!A215=\"\",\"\",IF(AND('MARK Enrollment Template'!A215<>\"\",'MARK Enrollment Template'!K215=\"\"),\"Please fill in Zip Code.\",IF(LEN(SUBSTITUTE(TRIM('MARK Enrollment Template'!K215),CHAR(9),\"\"))<5,\"Zip <5 digits. If leading zero, add apostrophe (ex. '01234).\",\"\")))","v":""},null,null,{"$f":"CELL(\"format\",'MARK Enrollment Template'!C215)","v":"D4"}]
["",{"$f":"IF(AND(SUMPRODUCT(--('MARK Enrollment Template'!A216:L216<>\"\"))<>0,'MARK Enrollment Template'!A216=\"\"),\"Please fill in First Name.\",IF(LEN('MARK Enrollment Template'!A216)=1,\"Please fill in full first name.\",\"\"))","v":""},{"$f":"IF('MARK Enrollment Template'!A216=\"\",\"\",IF(AND('MARK Enrollment Template'!A216<>\"\",'MARK Enrollment Template'!B216=\"\"),\"Please fill in a Last Name.\",\"\"))","v":""},{"$f":"IF('MARK Enrollment Template'!A216=\"\",\"\",IF(AND('MARK Enrollment Template'!A216<>\"\",'MARK Enrollment Template'!C216=\"\"),\"Please fill in Date of Birth.\",IF(TRIM(O211)<>\"D4\",\"Please format DOB as a date in the form MM/DD/YYYY.\",IF('MARK Enrollment Template'!C216>TODAY(),\"Please check DOB.\",\"\"))))","v":""},{"$f":"IF('MARK Enrollment Template'!A216=\"\",\"\",IF(AND('MARK Enrollment Template'!A216<>\"\",'MARK Enrollment Template'!D216=\"\"),\"Please fill in Sex.\",IF(OR(TRIM('MARK Enrollment Template'!D216)=\"M\",TRIM('MARK Enrollment Template'!D216)=\"F\",TRIM('MARK Enrollment Template'!D216)=\"Male\",TRIM('MARK Enrollment Template'!D216)=\"Female\"),\"\",\"Sex must be M/F/Male/Female.\")))","v":""},null,null,{"$f":"IF('MARK Enrollment Template'!A216=\"\",\"\",IF(AND('MARK Enrollment Template'!A216<>\"\",'MARK Enrollment Template'!G216=\"\"),\"Please fill in Email Address.\",IF(IFERROR(FIND(\"@\",'MARK Enrollment Template'!G216),\"X\")=\"X\",\"Email Address must include an @ symbol.\",\"\")))","v":""},null,null,null,{"$f":"IF('MARK Enrollment Template'!A216=\"\",\"\",IF(AND('MARK Enrollment Template'!A216<>\"\",'MARK Enrollment Template'!K216=\"\"),\"Please fill in Zip Code.\",IF(LEN(SUBSTITUTE(TRIM('MARK Enrollment Template'!K216),CHAR(9),\"\"))<5,\"Zip <5 digits. If leading zero, add apostrophe (ex. '01234).\",\"\")))","v":""},null,null,{"$f":"CELL(\"format\",'MARK Enrollment Template'!C216)","v":"D4"}]
["",{"$f":"IF(AND(SUMPRODUCT(--('MARK Enrollment Template'!A217:L217<>\"\"))<>0,'MARK Enrollment Template'!A217=\"\"),\"Please fill in First Name.\",IF(LEN('MARK Enrollment Template'!A217)=1,\"Please fill in full first name.\",\"\"))","v":""},{"$f":"IF('MARK Enrollment Template'!A217=\"\",\"\",IF(AND('MARK Enrollment Template'!A217<>\"\",'MARK Enrollment Template'!B217=\"\"),\"Please fill in a Last Name.\",\"\"))","v":""},{"$f":"IF('MARK Enrollment Template'!A217=\"\",\"\",IF(AND('MARK Enrollment Template'!A217<>\"\",'MARK Enrollment Template'!C217=\"\"),\"Please fill in Date of Birth.\",IF(TRIM(O212)<>\"D4\",\"Please format DOB as a date in the form MM/DD/YYYY.\",IF('MARK Enrollment Template'!C217>TODAY(),\"Please check DOB.\",\"\"))))","v":""},{"$f":"IF('MARK Enrollment Template'!A217=\"\",\"\",IF(AND('MARK Enrollment Template'!A217<>\"\",'MARK Enrollment Template'!D217=\"\"),\"Please fill in Sex.\",IF(OR(TRIM('MARK Enrollment Template'!D217)=\"M\",TRIM('MARK Enrollment Template'!D217)=\"F\",TRIM('MARK Enrollment Template'!D217)=\"Male\",TRIM('MARK Enrollment Template'!D217)=\"Female\"),\"\",\"Sex must be M/F/Male/Female.\")))","v":""},null,null,{"$f":"IF('MARK Enrollment Template'!A217=\"\",\"\",IF(AND('MARK Enrollment Template'!A217<>\"\",'MARK Enrollment Template'!G217=\"\"),\"Please fill in Email Address.\",IF(IFERROR(FIND(\"@\",'MARK Enrollment Template'!G217),\"X\")=\"X\",\"Email Address must include an @ symbol.\",\"\")))","v":""},null,null,null,{"$f":"IF('MARK Enrollment Template'!A217=\"\",\"\",IF(AND('MARK Enrollment Template'!A217<>\"\",'MARK Enrollment Template'!K217=\"\"),\"Please fill in Zip Code.\",IF(LEN(SUBSTITUTE(TRIM('MARK Enrollment Template'!K217),CHAR(9),\"\"))<5,\"Zip <5 digits. If leading zero, add apostrophe (ex. '01234).\",\"\")))","v":""},null,null,{"$f":"CELL(\"format\",'MARK Enrollment Template'!C217)","v":"D4"}]
["",{"$f":"IF(AND(SUMPRODUCT(--('MARK Enrollment Template'!A218:L218<>\"\"))<>0,'MARK Enrollment Template'!A218=\"\"),\"Please fill in First Name.\",IF(LEN('MARK Enrollment Template'!A218)=1,\"Please fill in full first name.\",\"\"))","v":""},{"$f":"IF('MARK Enrollment Template'!A218=\"\",\"\",IF(AND('MARK Enrollment Template'!A218<>\"\",'MARK Enrollment Template'!B218=\"\"),\"Please fill in a Last Name.\",\"\"))","v":""},{"$f":"IF('MARK Enrollment Template'!A218=\"\",\"\",IF(AND('MARK Enrollment Template'!A218<>\"\",'MARK Enrollment Template'!C218=\"\"),\"Please fill in Date of Birth.\",IF(TRIM(O213)<>\"D4\",\"Please format DOB as a date in the form MM/DD/YYYY.\",IF('MARK Enrollment Template'!C218>TODAY(),\"Please check DOB.\",\"\"))))","v":""},{"$f":"IF('MARK Enrollment Template'!A218=\"\",\"\",IF(AND('MARK Enrollment Template'!A218<>\"\",'MARK Enrollment Template'!D218=\"\"),\"Please fill in Sex.\",IF(OR(TRIM('MARK Enrollment Template'!D218)=\"M\",TRIM('MARK Enrollment Template'!D218)=\"F\",TRIM('MARK Enrollment Template'!D218)=\"Male\",TRIM('MARK Enrollment Template'!D218)=\"Female\"),\"\",\"Sex must be M/F/Male/Female.\")))","v":""},null,null,{"$f":"IF('MARK Enrollment Template'!A218=\"\",\"\",IF(AND('MARK Enrollment Template'!A218<>\"\",'MARK Enrollment Template'!G218=\"\"),\"Please fill in Email Address.\",IF(IFERROR(FIND(\"@\",'MARK Enrollment Template'!G218),\"X\")=\"X\",\"Email Address must include an @ symbol.\",\"\")))","v":""},null,null,null,{"$f":"IF('MARK Enrollment Template'!A218=\"\",\"\",IF(AND('MARK Enrollment Template'!A218<>\"\",'MARK Enrollment Template'!K218=\"\"),\"Please fill in Zip Code.\",IF(LEN(SUBSTITUTE(TRIM('MARK Enrollment Template'!K218),CHAR(9),\"\"))<5,\"Zip <5 digits. If leading zero, add apostrophe (ex. '01234).\",\"\")))","v":""},null,null,{"$f":"CELL(\"format\",'MARK Enrollment Template'!C218)","v":"D4"}]
["",{"$f":"IF(AND(SUMPRODUCT(--('MARK Enrollment Template'!A219:L219<>\"\"))<>0,'MARK Enrollment Template'!A219=\"\"),\"Please fill in First Name.\",IF(LEN('MARK Enrollment Template'!A219)=1,\"Please fill in full first name.\",\"\"))","v":""},{"$f":"IF('MARK Enrollment Template'!A219=\"\",\"\",IF(AND('MARK Enrollment Template'!A219<>\"\",'MARK Enrollment Template'!B219=\"\"),\"Please fill in a Last Name.\",\"\"))","v":""},{"$f":"IF('MARK Enrollment Template'!A219=\"\",\"\",IF(AND('MARK Enrollment Template'!A219<>\"\",'MARK Enrollment Template'!C219=\"\"),\"Please fill in Date of Birth.\",IF(TRIM(O214)<>\"D4\",\"Please format DOB as a date in the form MM/DD/YYYY.\",IF('MARK Enrollment Template'!C219>TODAY(),\"Please check DOB.\",\"\"))))","v":""},{"$f":"IF('MARK Enrollment Template'!A219=\"\",\"\",IF(AND('MARK Enrollment Template'!A219<>\"\",'MARK Enrollment Template'!D219=\"\"),\"Please fill in Sex.\",IF(OR(TRIM('MARK Enrollment Template'!D219)=\"M\",TRIM('MARK Enrollment Template'!D219)=\"F\",TRIM('MARK Enrollment Template'!D219)=\"Male\",TRIM('MARK Enrollment Template'!D219)=\"Female\"),\"\",\"Sex must be M/F/Male/Female.\")))","v":""},null,null,{"$f":"IF('MARK Enrollment Template'!A219=\"\",\"\",IF(AND('MARK Enrollment Template'!A219<>\"\",'MARK Enrollment Template'!G219=\"\"),\"Please fill in Email Address.\",IF(IFERROR(FIND(\"@\",'MARK Enrollment Template'!G219),\"X\")=\"X\",\"Email Address must include an @ symbol.\",\"\")))","v":""},null,null,null,{"$f":"IF('MARK Enrollment Template'!A219=\"\",\"\",IF(AND('MARK Enrollment Template'!A219<>\"\",'MARK Enrollment Template'!K219=\"\"),\"Please fill in Zip Code.\",IF(LEN(SUBSTITUTE(TRIM('MARK Enrollment Template'!K219),CHAR(9),\"\"))<5,\"Zip <5 digits. If leading zero, add apostrophe (ex. '01234).\",\"\")))","v":""},null,null,{"$f":"CELL(\"format\",'MARK Enrollment Template'!C219)","v":"D4"}]
["",{"$f":"IF(AND(SUMPRODUCT(--('MARK Enrollment Template'!A220:L220<>\"\"))<>0,'MARK Enrollment Template'!A220=\"\"),\"Please fill in First Name.\",IF(LEN('MARK Enrollment Template'!A220)=1,\"Please fill in full first name.\",\"\"))","v":""},{"$f":"IF('MARK Enrollment Template'!A220=\"\",\"\",IF(AND('MARK Enrollment Template'!A220<>\"\",'MARK Enrollment Template'!B220=\"\"),\"Please fill in a Last Name.\",\"\"))","v":""},{"$f":"IF('MARK Enrollment Template'!A220=\"\",\"\",IF(AND('MARK Enrollment Template'!A220<>\"\",'MARK Enrollment Template'!C220=\"\"),\"Please fill in Date of Birth.\",IF(TRIM(O215)<>\"D4\",\"Please format DOB as a date in the form MM/DD/YYYY.\",IF('MARK Enrollment Template'!C220>TODAY(),\"Please check DOB.\",\"\"))))","v":""},{"$f":"IF('MARK Enrollment Template'!A220=\"\",\"\",IF(AND('MARK Enrollment Template'!A220<>\"\",'MARK Enrollment Template'!D220=\"\"),\"Please fill in Sex.\",IF(OR(TRIM('MARK Enrollment Template'!D220)=\"M\",TRIM('MARK Enrollment Template'!D220)=\"F\",TRIM('MARK Enrollment Template'!D220)=\"Male\",TRIM('MARK Enrollment Template'!D220)=\"Female\"),\"\",\"Sex must be M/F/Male/Female.\")))","v":""},null,null,{"$f":"IF('MARK Enrollment Template'!A220=\"\",\"\",IF(AND('MARK Enrollment Template'!A220<>\"\",'MARK Enrollment Template'!G220=\"\"),\"Please fill in Email Address.\",IF(IFERROR(FIND(\"@\",'MARK Enrollment Template'!G220),\"X\")=\"X\",\"Email Address must include an @ symbol.\",\"\")))","v":""},null,null,null,{"$f":"IF('MARK Enrollment Template'!A220=\"\",\"\",IF(AND('MARK Enrollment Template'!A220<>\"\",'MARK Enrollment Template'!K220=\"\"),\"Please fill in Zip Code.\",IF(LEN(SUBSTITUTE(TRIM('MARK Enrollment Template'!K220),CHAR(9),\"\"))<5,\"Zip <5 digits. If leading zero, add apostrophe (ex. '01234).\",\"\")))","v":""},null,null,{"$f":"CELL(\"format\",'MARK Enrollment Template'!C220)","v":"D4"}]
["",{"$f":"IF(AND(SUMPRODUCT(--('MARK Enrollment Template'!A221:L221<>\"\"))<>0,'MARK Enrollment Template'!A221=\"\"),\"Please fill in First Name.\",IF(LEN('MARK Enrollment Template'!A221)=1,\"Please fill in full first name.\",\"\"))","v":""},{"$f":"IF('MARK Enrollment Template'!A221=\"\",\"\",IF(AND('MARK Enrollment Template'!A221<>\"\",'MARK Enrollment Template'!B221=\"\"),\"Please fill in a Last Name.\",\"\"))","v":""},{"$f":"IF('MARK Enrollment Template'!A221=\"\",\"\",IF(AND('MARK Enrollment Template'!A221<>\"\",'MARK Enrollment Template'!C221=\"\"),\"Please fill in Date of Birth.\",IF(TRIM(O216)<>\"D4\",\"Please format DOB as a date in the form MM/DD/YYYY.\",IF('MARK Enrollment Template'!C221>TODAY(),\"Please check DOB.\",\"\"))))","v":""},{"$f":"IF('MARK Enrollment Template'!A221=\"\",\"\",IF(AND('MARK Enrollment Template'!A221<>\"\",'MARK Enrollment Template'!D221=\"\"),\"Please fill in Sex.\",IF(OR(TRIM('MARK Enrollment Template'!D221)=\"M\",TRIM('MARK Enrollment Template'!D221)=\"F\",TRIM('MARK Enrollment Template'!D221)=\"Male\",TRIM('MARK Enrollment Template'!D221)=\"Female\"),\"\",\"Sex must be M/F/Male/Female.\")))","v":""},null,null,{"$f":"IF('MARK Enrollment Template'!A221=\"\",\"\",IF(AND('MARK Enrollment Template'!A221<>\"\",'MARK Enrollment Template'!G221=\"\"),\"Please fill in Email Address.\",IF(IFERROR(FIND(\"@\",'MARK Enrollment Template'!G221),\"X\")=\"X\",\"Email Address must include an @ symbol.\",\"\")))","v":""},null,null,null,{"$f":"IF('MARK Enrollment Template'!A221=\"\",\"\",IF(AND('MARK Enrollment Template'!A221<>\"\",'MARK Enrollment Template'!K221=\"\"),\"Please fill in Zip Code.\",IF(LEN(SUBSTITUTE(TRIM('MARK Enrollment Template'!K221),CHAR(9),\"\"))<5,\"Zip <5 digits. If leading zero, add apostrophe (ex. '01234).\",\"\")))","v":""},null,null,{"$f":"CELL(\"format\",'MARK Enrollment Template'!C221)","v":"D4"}]
["",{"$f":"IF(AND(SUMPRODUCT(--('MARK Enrollment Template'!A222:L222<>\"\"))<>0,'MARK Enrollment Template'!A222=\"\"),\"Please fill in First Name.\",IF(LEN('MARK Enrollment Template'!A222)=1,\"Please fill in full first name.\",\"\"))","v":""},{"$f":"IF('MARK Enrollment Template'!A222=\"\",\"\",IF(AND('MARK Enrollment Template'!A222<>\"\",'MARK Enrollment Template'!B222=\"\"),\"Please fill in a Last Name.\",\"\"))","v":""},{"$f":"IF('MARK Enrollment Template'!A222=\"\",\"\",IF(AND('MARK Enrollment Template'!A222<>\"\",'MARK Enrollment Template'!C222=\"\"),\"Please fill in Date of Birth.\",IF(TRIM(O217)<>\"D4\",\"Please format DOB as a date in the form MM/DD/YYYY.\",IF('MARK Enrollment Template'!C222>TODAY(),\"Please check DOB.\",\"\"))))","v":""},{"$f":"IF('MARK Enrollment Template'!A222=\"\",\"\",IF(AND('MARK Enrollment Template'!A222<>\"\",'MARK Enrollment Template'!D222=\"\"),\"Please fill in Sex.\",IF(OR(TRIM('MARK Enrollment Template'!D222)=\"M\",TRIM('MARK Enrollment Template'!D222)=\"F\",TRIM('MARK Enrollment Template'!D222)=\"Male\",TRIM('MARK Enrollment Template'!D222)=\"Female\"),\"\",\"Sex must be M/F/Male/Female.\")))","v":""},null,null,{"$f":"IF('MARK Enrollment Template'!A222=\"\",\"\",IF(AND('MARK Enrollment Template'!A222<>\"\",'MARK Enrollment Template'!G222=\"\"),\"Please fill in Email Address.\",IF(IFERROR(FIND(\"@\",'MARK Enrollment Template'!G222),\"X\")=\"X\",\"Email Address must include an @ symbol.\",\"\")))","v":""},null,null,null,{"$f":"IF('MARK Enrollment Template'!A222=\"\",\"\",IF(AND('MARK Enrollment Template'!A222<>\"\",'MARK Enrollment Template'!K222=\"\"),\"Please fill in Zip Code.\",IF(LEN(SUBSTITUTE(TRIM('MARK Enrollment Template'!K222),CHAR(9),\"\"))<5,\"Zip <5 digits. If leading zero, add apostrophe (ex. '01234).\",\"\")))","v":""},null,null,{"$f":"CELL(\"format\",'MARK Enrollment Template'!C222)","v":"D4"}]
["",{"$f":"IF(AND(SUMPRODUCT(--('MARK Enrollment Template'!A223:L223<>\"\"))<>0,'MARK Enrollment Template'!A223=\"\"),\"Please fill in First Name.\",IF(LEN('MARK Enrollment Template'!A223)=1,\"Please fill in full first name.\",\"\"))","v":""},{"$f":"IF('MARK Enrollment Template'!A223=\"\",\"\",IF(AND('MARK Enrollment Template'!A223<>\"\",'MARK Enrollment Template'!B223=\"\"),\"Please fill in a Last Name.\",\"\"))","v":""},{"$f":"IF('MARK Enrollment Template'!A223=\"\",\"\",IF(AND('MARK Enrollment Template'!A223<>\"\",'MARK Enrollment Template'!C223=\"\"),\"Please fill in Date of Birth.\",IF(TRIM(O218)<>\"D4\",\"Please format DOB as a date in the form MM/DD/YYYY.\",IF('MARK Enrollment Template'!C223>TODAY(),\"Please check DOB.\",\"\"))))","v":""},{"$f":"IF('MARK Enrollment Template'!A223=\"\",\"\",IF(AND('MARK Enrollment Template'!A223<>\"\",'MARK Enrollment Template'!D223=\"\"),\"Please fill in Sex.\",IF(OR(TRIM('MARK Enrollment Template'!D223)=\"M\",TRIM('MARK Enrollment Template'!D223)=\"F\",TRIM('MARK Enrollment Template'!D223)=\"Male\",TRIM('MARK Enrollment Template'!D223)=\"Female\"),\"\",\"Sex must be M/F/Male/Female.\")))","v":""},null,null,{"$f":"IF('MARK Enrollment Template'!A223=\"\",\"\",IF(AND('MARK Enrollment Template'!A223<>\"\",'MARK Enrollment Template'!G223=\"\"),\"Please fill in Email Address.\",IF(IFERROR(FIND(\"@\",'MARK Enrollment Template'!G223),\"X\")=\"X\",\"Email Address must include an @ symbol.\",\"\")))","v":""},null,null,null,{"$f":"IF('MARK Enrollment Template'!A223=\"\",\"\",IF(AND('MARK Enrollment Template'!A223<>\"\",'MARK Enrollment Template'!K223=\"\"),\"Please fill in Zip Code.\",IF(LEN(SUBSTITUTE(TRIM('MARK Enrollment Template'!K223),CHAR(9),\"\"))<5,\"Zip <5 digits. If leading zero, add apostrophe (ex. '01234).\",\"\")))","v":""},null,null,{"$f":"CELL(\"format\",'MARK Enrollment Template'!C223)","v":"D4"}]
["",{"$f":"IF(AND(SUMPRODUCT(--('MARK Enrollment Template'!A224:L224<>\"\"))<>0,'MARK Enrollment Template'!A224=\"\"),\"Please fill in First Name.\",IF(LEN('MARK Enrollment Template'!A224)=1,\"Please fill in full first name.\",\"\"))","v":""},{"$f":"IF('MARK Enrollment Template'!A224=\"\",\"\",IF(AND('MARK Enrollment Template'!A224<>\"\",'MARK Enrollment Template'!B224=\"\"),\"Please fill in a Last Name.\",\"\"))","v":""},{"$f":"IF('MARK Enrollment Template'!A224=\"\",\"\",IF(AND('MARK Enrollment Template'!A224<>\"\",'MARK Enrollment Template'!C224=\"\"),\"Please fill in Date of Birth.\",IF(TRIM(O219)<>\"D4\",\"Please format DOB as a date in the form MM/DD/YYYY.\",IF('MARK Enrollment Template'!C224>TODAY(),\"Please check DOB.\",\"\"))))","v":""},{"$f":"IF('MARK Enrollment Template'!A224=\"\",\"\",IF(AND('MARK Enrollment Template'!A224<>\"\",'MARK Enrollment Template'!D224=\"\"),\"Please fill in Sex.\",IF(OR(TRIM('MARK Enrollment Template'!D224)=\"M\",TRIM('MARK Enrollment Template'!D224)=\"F\",TRIM('MARK Enrollment Template'!D224)=\"Male\",TRIM('MARK Enrollment Template'!D224)=\"Female\"),\"\",\"Sex must be M/F/Male/Female.\")))","v":""},null,null,{"$f":"IF('MARK Enrollment Template'!A224=\"\",\"\",IF(AND('MARK Enrollment Template'!A224<>\"\",'MARK Enrollment Template'!G224=\"\"),\"Please fill in Email Address.\",IF(IFERROR(FIND(\"@\",'MARK Enrollment Template'!G224),\"X\")=\"X\",\"Email Address must include an @ symbol.\",\"\")))","v":""},null,null,null,{"$f":"IF('MARK Enrollment Template'!A224=\"\",\"\",IF(AND('MARK Enrollment Template'!A224<>\"\",'MARK Enrollment Template'!K224=\"\"),\"Please fill in Zip Code.\",IF(LEN(SUBSTITUTE(TRIM('MARK Enrollment Template'!K224),CHAR(9),\"\"))<5,\"Zip <5 digits. If leading zero, add apostrophe (ex. '01234).\",\"\")))","v":""},null,null,{"$f":"CELL(\"format\",'MARK Enrollment Template'!C224)","v":"D4"}]
["",{"$f":"IF(AND(SUMPRODUCT(--('MARK Enrollment Template'!A225:L225<>\"\"))<>0,'MARK Enrollment Template'!A225=\"\"),\"Please fill in First Name.\",IF(LEN('MARK Enrollment Template'!A225)=1,\"Please fill in full first name.\",\"\"))","v":""},{"$f":"IF('MARK Enrollment Template'!A225=\"\",\"\",IF(AND('MARK Enrollment Template'!A225<>\"\",'MARK Enrollment Template'!B225=\"\"),\"Please fill in a Last Name.\",\"\"))","v":""},{"$f":"IF('MARK Enrollment Template'!A225=\"\",\"\",IF(AND('MARK Enrollment Template'!A225<>\"\",'MARK Enrollment Template'!C225=\"\"),\"Please fill in Date of Birth.\",IF(TRIM(O220)<>\"D4\",\"Please format DOB as a date in the form MM/DD/YYYY.\",IF('MARK Enrollment Template'!C225>TODAY(),\"Please check DOB.\",\"\"))))","v":""},{"$f":"IF('MARK Enrollment Template'!A225=\"\",\"\",IF(AND('MARK Enrollment Template'!A225<>\"\",'MARK Enrollment Template'!D225=\"\"),\"Please fill in Sex.\",IF(OR(TRIM('MARK Enrollment Template'!D225)=\"M\",TRIM('MARK Enrollment Template'!D225)=\"F\",TRIM('MARK Enrollment Template'!D225)=\"Male\",TRIM('MARK Enrollment Template'!D225)=\"Female\"),\"\",\"Sex must be M/F/Male/Female.\")))","v":""},null,null,{"$f":"IF('MARK Enrollment Template'!A225=\"\",\"\",IF(AND('MARK Enrollment Template'!A225<>\"\",'MARK Enrollment Template'!G225=\"\"),\"Please fill in Email Address.\",IF(IFERROR(FIND(\"@\",'MARK Enrollment Template'!G225),\"X\")=\"X\",\"Email Address must include an @ symbol.\",\"\")))","v":""},null,null,null,{"$f":"IF('MARK Enrollment Template'!A225=\"\",\"\",IF(AND('MARK Enrollment Template'!A225<>\"\",'MARK Enrollment Template'!K225=\"\"),\"Please fill in Zip Code.\",IF(LEN(SUBSTITUTE(TRIM('MARK Enrollment Template'!K225),CHAR(9),\"\"))<5,\"Zip <5 digits. If leading zero, add apostrophe (ex. '01234).\",\"\")))","v":""},null,null,{"$f":"CELL(\"format\",'MARK Enrollment Template'!C225)","v":"D4"}]
["",{"$f":"IF(AND(SUMPRODUCT(--('MARK Enrollment Template'!A226:L226<>\"\"))<>0,'MARK Enrollment Template'!A226=\"\"),\"Please fill in First Name.\",IF(LEN('MARK Enrollment Template'!A226)=1,\"Please fill in full first name.\",\"\"))","v":""},{"$f":"IF('MARK Enrollment Template'!A226=\"\",\"\",IF(AND('MARK Enrollment Template'!A226<>\"\",'MARK Enrollment Template'!B226=\"\"),\"Please fill in a Last Name.\",\"\"))","v":""},{"$f":"IF('MARK Enrollment Template'!A226=\"\",\"\",IF(AND('MARK Enrollment Template'!A226<>\"\",'MARK Enrollment Template'!C226=\"\"),\"Please fill in Date of Birth.\",IF(TRIM(O221)<>\"D4\",\"Please format DOB as a date in the form MM/DD/YYYY.\",IF('MARK Enrollment Template'!C226>TODAY(),\"Please check DOB.\",\"\"))))","v":""},{"$f":"IF('MARK Enrollment Template'!A226=\"\",\"\",IF(AND('MARK Enrollment Template'!A226<>\"\",'MARK Enrollment Template'!D226=\"\"),\"Please fill in Sex.\",IF(OR(TRIM('MARK Enrollment Template'!D226)=\"M\",TRIM('MARK Enrollment Template'!D226)=\"F\",TRIM('MARK Enrollment Template'!D226)=\"Male\",TRIM('MARK Enrollment Template'!D226)=\"Female\"),\"\",\"Sex must be M/F/Male/Female.\")))","v":""},null,null,{"$f":"IF('MARK Enrollment Template'!A226=\"\",\"\",IF(AND('MARK Enrollment Template'!A226<>\"\",'MARK Enrollment Template'!G226=\"\"),\"Please fill in Email Address.\",IF(IFERROR(FIND(\"@\",'MARK Enrollment Template'!G226),\"X\")=\"X\",\"Email Address must include an @ symbol.\",\"\")))","v":""},null,null,null,{"$f":"IF('MARK Enrollment Template'!A226=\"\",\"\",IF(AND('MARK Enrollment Template'!A226<>\"\",'MARK Enrollment Template'!K226=\"\"),\"Please fill in Zip Code.\",IF(LEN(SUBSTITUTE(TRIM('MARK Enrollment Template'!K226),CHAR(9),\"\"))<5,\"Zip <5 digits. If leading zero, add apostrophe (ex. '01234).\",\"\")))","v":""},null,null,{"$f":"CELL(\"format\",'MARK Enrollment Template'!C226)","v":"D4"}]
["",{"$f":"IF(AND(SUMPRODUCT(--('MARK Enrollment Template'!A227:L227<>\"\"))<>0,'MARK Enrollment Template'!A227=\"\"),\"Please fill in First Name.\",IF(LEN('MARK Enrollment Template'!A227)=1,\"Please fill in full first name.\",\"\"))","v":""},{"$f":"IF('MARK Enrollment Template'!A227=\"\",\"\",IF(AND('MARK Enrollment Template'!A227<>\"\",'MARK Enrollment Template'!B227=\"\"),\"Please fill in a Last Name.\",\"\"))","v":""},{"$f":"IF('MARK Enrollment Template'!A227=\"\",\"\",IF(AND('MARK Enrollment Template'!A227<>\"\",'MARK Enrollment Template'!C227=\"\"),\"Please fill in Date of Birth.\",IF(TRIM(O222)<>\"D4\",\"Please format DOB as a date in the form MM/DD/YYYY.\",IF('MARK Enrollment Template'!C227>TODAY(),\"Please check DOB.\",\"\"))))","v":""},{"$f":"IF('MARK Enrollment Template'!A227=\"\",\"\",IF(AND('MARK Enrollment Template'!A227<>\"\",'MARK Enrollment Template'!D227=\"\"),\"Please fill in Sex.\",IF(OR(TRIM('MARK Enrollment Template'!D227)=\"M\",TRIM('MARK Enrollment Template'!D227)=\"F\",TRIM('MARK Enrollment Template'!D227)=\"Male\",TRIM('MARK Enrollment Template'!D227)=\"Female\"),\"\",\"Sex must be M/F/Male/Female.\")))","v":""},null,null,{"$f":"IF('MARK Enrollment Template'!A227=\"\",\"\",IF(AND('MARK Enrollment Template'!A227<>\"\",'MARK Enrollment Template'!G227=\"\"),\"Please fill in Email Address.\",IF(IFERROR(FIND(\"@\",'MARK Enrollment Template'!G227),\"X\")=\"X\",\"Email Address must include an @ symbol.\",\"\")))","v":""},null,null,null,{"$f":"IF('MARK Enrollment Template'!A227=\"\",\"\",IF(AND('MARK Enrollment Template'!A227<>\"\",'MARK Enrollment Template'!K227=\"\"),\"Please fill in Zip Code.\",IF(LEN(SUBSTITUTE(TRIM('MARK Enrollment Template'!K227),CHAR(9),\"\"))<5,\"Zip <5 digits. If leading zero, add apostrophe (ex. '01234).\",\"\")))","v":""},null,null,{"$f":"CELL(\"format\",'MARK Enrollment Template'!C227)","v":"D4"}]
["",{"$f":"IF(AND(SUMPRODUCT(--('MARK Enrollment Template'!A228:L228<>\"\"))<>0,'MARK Enrollment Template'!A228=\"\"),\"Please fill in First Name.\",IF(LEN('MARK Enrollment Template'!A228)=1,\"Please fill in full first name.\",\"\"))","v":""},{"$f":"IF('MARK Enrollment Template'!A228=\"\",\"\",IF(AND('MARK Enrollment Template'!A228<>\"\",'MARK Enrollment Template'!B228=\"\"),\"Please fill in a Last Name.\",\"\"))","v":""},{"$f":"IF('MARK Enrollment Template'!A228=\"\",\"\",IF(AND('MARK Enrollment Template'!A228<>\"\",'MARK Enrollment Template'!C228=\"\"),\"Please fill in Date of Birth.\",IF(TRIM(O223)<>\"D4\",\"Please format DOB as a date in the form MM/DD/YYYY.\",IF('MARK Enrollment Template'!C228>TODAY(),\"Please check DOB.\",\"\"))))","v":""},{"$f":"IF('MARK Enrollment Template'!A228=\"\",\"\",IF(AND('MARK Enrollment Template'!A228<>\"\",'MARK Enrollment Template'!D228=\"\"),\"Please fill in Sex.\",IF(OR(TRIM('MARK Enrollment Template'!D228)=\"M\",TRIM('MARK Enrollment Template'!D228)=\"F\",TRIM('MARK Enrollment Template'!D228)=\"Male\",TRIM('MARK Enrollment Template'!D228)=\"Female\"),\"\",\"Sex must be M/F/Male/Female.\")))","v":""},null,null,{"$f":"IF('MARK Enrollment Template'!A228=\"\",\"\",IF(AND('MARK Enrollment Template'!A228<>\"\",'MARK Enrollment Template'!G228=\"\"),\"Please fill in Email Address.\",IF(IFERROR(FIND(\"@\",'MARK Enrollment Template'!G228),\"X\")=\"X\",\"Email Address must include an @ symbol.\",\"\")))","v":""},null,null,null,{"$f":"IF('MARK Enrollment Template'!A228=\"\",\"\",IF(AND('MARK Enrollment Template'!A228<>\"\",'MARK Enrollment Template'!K228=\"\"),\"Please fill in Zip Code.\",IF(LEN(SUBSTITUTE(TRIM('MARK Enrollment Template'!K228),CHAR(9),\"\"))<5,\"Zip <5 digits. If leading zero, add apostrophe (ex. '01234).\",\"\")))","v":""},null,null,{"$f":"CELL(\"format\",'MARK Enrollment Template'!C228)","v":"D4"}]
["",{"$f":"IF(AND(SUMPRODUCT(--('MARK Enrollment Template'!A229:L229<>\"\"))<>0,'MARK Enrollment Template'!A229=\"\"),\"Please fill in First Name.\",IF(LEN('MARK Enrollment Template'!A229)=1,\"Please fill in full first name.\",\"\"))","v":""},{"$f":"IF('MARK Enrollment Template'!A229=\"\",\"\",IF(AND('MARK Enrollment Template'!A229<>\"\",'MARK Enrollment Template'!B229=\"\"),\"Please fill in a Last Name.\",\"\"))","v":""},{"$f":"IF('MARK Enrollment Template'!A229=\"\",\"\",IF(AND('MARK Enrollment Template'!A229<>\"\",'MARK Enrollment Template'!C229=\"\"),\"Please fill in Date of Birth.\",IF(TRIM(O224)<>\"D4\",\"Please format DOB as a date in the form MM/DD/YYYY.\",IF('MARK Enrollment Template'!C229>TODAY(),\"Please check DOB.\",\"\"))))","v":""},{"$f":"IF('MARK Enrollment Template'!A229=\"\",\"\",IF(AND('MARK Enrollment Template'!A229<>\"\",'MARK Enrollment Template'!D229=\"\"),\"Please fill in Sex.\",IF(OR(TRIM('MARK Enrollment Template'!D229)=\"M\",TRIM('MARK Enrollment Template'!D229)=\"F\",TRIM('MARK Enrollment Template'!D229)=\"Male\",TRIM('MARK Enrollment Template'!D229)=\"Female\"),\"\",\"Sex must be M/F/Male/Female.\")))","v":""},null,null,{"$f":"IF('MARK Enrollment Template'!A229=\"\",\"\",IF(AND('MARK Enrollment Template'!A229<>\"\",'MARK Enrollment Template'!G229=\"\"),\"Please fill in Email Address.\",IF(IFERROR(FIND(\"@\",'MARK Enrollment Template'!G229),\"X\")=\"X\",\"Email Address must include an @ symbol.\",\"\")))","v":""},null,null,null,{"$f":"IF('MARK Enrollment Template'!A229=\"\",\"\",IF(AND('MARK Enrollment Template'!A229<>\"\",'MARK Enrollment Template'!K229=\"\"),\"Please fill in Zip Code.\",IF(LEN(SUBSTITUTE(TRIM('MARK Enrollment Template'!K229),CHAR(9),\"\"))<5,\"Zip <5 digits. If leading zero, add apostrophe (ex. '01234).\",\"\")))","v":""},null,null,{"$f":"CELL(\"format\",'MARK Enrollment Template'!C229)","v":"D4"}]
["",{"$f":"IF(AND(SUMPRODUCT(--('MARK Enrollment Template'!A230:L230<>\"\"))<>0,'MARK Enrollment Template'!A230=\"\"),\"Please fill in First Name.\",IF(LEN('MARK Enrollment Template'!A230)=1,\"Please fill in full first name.\",\"\"))","v":""},{"$f":"IF('MARK Enrollment Template'!A230=\"\",\"\",IF(AND('MARK Enrollment Template'!A230<>\"\",'MARK Enrollment Template'!B230=\"\"),\"Please fill in a Last Name.\",\"\"))","v":""},{"$f":"IF('MARK Enrollment Template'!A230=\"\",\"\",IF(AND('MARK Enrollment Template'!A230<>\"\",'MARK Enrollment Template'!C230=\"\"),\"Please fill in Date of Birth.\",IF(TRIM(O225)<>\"D4\",\"Please format DOB as a date in the form MM/DD/YYYY.\",IF('MARK Enrollment Template'!C230>TODAY(),\"Please check DOB.\",\"\"))))","v":""},{"$f":"IF('MARK Enrollment Template'!A230=\"\",\"\",IF(AND('MARK Enrollment Template'!A230<>\"\",'MARK Enrollment Template'!D230=\"\"),\"Please fill in Sex.\",IF(OR(TRIM('MARK Enrollment Template'!D230)=\"M\",TRIM('MARK Enrollment Template'!D230)=\"F\",TRIM('MARK Enrollment Template'!D230)=\"Male\",TRIM('MARK Enrollment Template'!D230)=\"Female\"),\"\",\"Sex must be M/F/Male/Female.\")))","v":""},null,null,{"$f":"IF('MARK Enrollment Template'!A230=\"\",\"\",IF(AND('MARK Enrollment Template'!A230<>\"\",'MARK Enrollment Template'!G230=\"\"),\"Please fill in Email Address.\",IF(IFERROR(FIND(\"@\",'MARK Enrollment Template'!G230),\"X\")=\"X\",\"Email Address must include an @ symbol.\",\"\")))","v":""},null,null,null,{"$f":"IF('MARK Enrollment Template'!A230=\"\",\"\",IF(AND('MARK Enrollment Template'!A230<>\"\",'MARK Enrollment Template'!K230=\"\"),\"Please fill in Zip Code.\",IF(LEN(SUBSTITUTE(TRIM('MARK Enrollment Template'!K230),CHAR(9),\"\"))<5,\"Zip <5 digits. If leading zero, add apostrophe (ex. '01234).\",\"\")))","v":""},null,null,{"$f":"CELL(\"format\",'MARK Enrollment Template'!C230)","v":"D4"}]
["",{"$f":"IF(AND(SUMPRODUCT(--('MARK Enrollment Template'!A231:L231<>\"\"))<>0,'MARK Enrollment Template'!A231=\"\"),\"Please fill in First Name.\",IF(LEN('MARK Enrollment Template'!A231)=1,\"Please fill in full first name.\",\"\"))","v":""},{"$f":"IF('MARK Enrollment Template'!A231=\"\",\"\",IF(AND('MARK Enrollment Template'!A231<>\"\",'MARK Enrollment Template'!B231=\"\"),\"Please fill in a Last Name.\",\"\"))","v":""},{"$f":"IF('MARK Enrollment Template'!A231=\"\",\"\",IF(AND('MARK Enrollment Template'!A231<>\"\",'MARK Enrollment Template'!C231=\"\"),\"Please fill in Date of Birth.\",IF(TRIM(O226)<>\"D4\",\"Please format DOB as a date in the form MM/DD/YYYY.\",IF('MARK Enrollment Template'!C231>TODAY(),\"Please check DOB.\",\"\"))))","v":""},{"$f":"IF('MARK Enrollment Template'!A231=\"\",\"\",IF(AND('MARK Enrollment Template'!A231<>\"\",'MARK Enrollment Template'!D231=\"\"),\"Please fill in Sex.\",IF(OR(TRIM('MARK Enrollment Template'!D231)=\"M\",TRIM('MARK Enrollment Template'!D231)=\"F\",TRIM('MARK Enrollment Template'!D231)=\"Male\",TRIM('MARK Enrollment Template'!D231)=\"Female\"),\"\",\"Sex must be M/F/Male/Female.\")))","v":""},null,null,{"$f":"IF('MARK Enrollment Template'!A231=\"\",\"\",IF(AND('MARK Enrollment Template'!A231<>\"\",'MARK Enrollment Template'!G231=\"\"),\"Please fill in Email Address.\",IF(IFERROR(FIND(\"@\",'MARK Enrollment Template'!G231),\"X\")=\"X\",\"Email Address must include an @ symbol.\",\"\")))","v":""},null,null,null,{"$f":"IF('MARK Enrollment Template'!A231=\"\",\"\",IF(AND('MARK Enrollment Template'!A231<>\"\",'MARK Enrollment Template'!K231=\"\"),\"Please fill in Zip Code.\",IF(LEN(SUBSTITUTE(TRIM('MARK Enrollment Template'!K231),CHAR(9),\"\"))<5,\"Zip <5 digits. If leading zero, add apostrophe (ex. '01234).\",\"\")))","v":""},null,null,{"$f":"CELL(\"format\",'MARK Enrollment Template'!C231)","v":"D4"}]
["",{"$f":"IF(AND(SUMPRODUCT(--('MARK Enrollment Template'!A232:L232<>\"\"))<>0,'MARK Enrollment Template'!A232=\"\"),\"Please fill in First Name.\",IF(LEN('MARK Enrollment Template'!A232)=1,\"Please fill in full first name.\",\"\"))","v":""},{"$f":"IF('MARK Enrollment Template'!A232=\"\",\"\",IF(AND('MARK Enrollment Template'!A232<>\"\",'MARK Enrollment Template'!B232=\"\"),\"Please fill in a Last Name.\",\"\"))","v":""},{"$f":"IF('MARK Enrollment Template'!A232=\"\",\"\",IF(AND('MARK Enrollment Template'!A232<>\"\",'MARK Enrollment Template'!C232=\"\"),\"Please fill in Date of Birth.\",IF(TRIM(O227)<>\"D4\",\"Please format DOB as a date in the form MM/DD/YYYY.\",IF('MARK Enrollment Template'!C232>TODAY(),\"Please check DOB.\",\"\"))))","v":""},{"$f":"IF('MARK Enrollment Template'!A232=\"\",\"\",IF(AND('MARK Enrollment Template'!A232<>\"\",'MARK Enrollment Template'!D232=\"\"),\"Please fill in Sex.\",IF(OR(TRIM('MARK Enrollment Template'!D232)=\"M\",TRIM('MARK Enrollment Template'!D232)=\"F\",TRIM('MARK Enrollment Template'!D232)=\"Male\",TRIM('MARK Enrollment Template'!D232)=\"Female\"),\"\",\"Sex must be M/F/Male/Female.\")))","v":""},null,null,{"$f":"IF('MARK Enrollment Template'!A232=\"\",\"\",IF(AND('MARK Enrollment Template'!A232<>\"\",'MARK Enrollment Template'!G232=\"\"),\"Please fill in Email Address.\",IF(IFERROR(FIND(\"@\",'MARK Enrollment Template'!G232),\"X\")=\"X\",\"Email Address must include an @ symbol.\",\"\")))","v":""},null,null,null,{"$f":"IF('MARK Enrollment Template'!A232=\"\",\"\",IF(AND('MARK Enrollment Template'!A232<>\"\",'MARK Enrollment Template'!K232=\"\"),\"Please fill in Zip Code.\",IF(LEN(SUBSTITUTE(TRIM('MARK Enrollment Template'!K232),CHAR(9),\"\"))<5,\"Zip <5 digits. If leading zero, add apostrophe (ex. '01234).\",\"\")))","v":""},null,null,{"$f":"CELL(\"format\",'MARK Enrollment Template'!C232)","v":"G"}]
["",{"$f":"IF(AND(SUMPRODUCT(--('MARK Enrollment Template'!A233:L233<>\"\"))<>0,'MARK Enrollment Template'!A233=\"\"),\"Please fill in First Name.\",IF(LEN('MARK Enrollment Template'!A233)=1,\"Please fill in full first name.\",\"\"))","v":""},{"$f":"IF('MARK Enrollment Template'!A233=\"\",\"\",IF(AND('MARK Enrollment Template'!A233<>\"\",'MARK Enrollment Template'!B233=\"\"),\"Please fill in a Last Name.\",\"\"))","v":""},{"$f":"IF('MARK Enrollment Template'!A233=\"\",\"\",IF(AND('MARK Enrollment Template'!A233<>\"\",'MARK Enrollment Template'!C233=\"\"),\"Please fill in Date of Birth.\",IF(TRIM(O228)<>\"D4\",\"Please format DOB as a date in the form MM/DD/YYYY.\",IF('MARK Enrollment Template'!C233>TODAY(),\"Please check DOB.\",\"\"))))","v":""},{"$f":"IF('MARK Enrollment Template'!A233=\"\",\"\",IF(AND('MARK Enrollment Template'!A233<>\"\",'MARK Enrollment Template'!D233=\"\"),\"Please fill in Sex.\",IF(OR(TRIM('MARK Enrollment Template'!D233)=\"M\",TRIM('MARK Enrollment Template'!D233)=\"F\",TRIM('MARK Enrollment Template'!D233)=\"Male\",TRIM('MARK Enrollment Template'!D233)=\"Female\"),\"\",\"Sex must be M/F/Male/Female.\")))","v":""},null,null,{"$f":"IF('MARK Enrollment Template'!A233=\"\",\"\",IF(AND('MARK Enrollment Template'!A233<>\"\",'MARK Enrollment Template'!G233=\"\"),\"Please fill in Email Address.\",IF(IFERROR(FIND(\"@\",'MARK Enrollment Template'!G233),\"X\")=\"X\",\"Email Address must include an @ symbol.\",\"\")))","v":""},null,null,null,{"$f":"IF('MARK Enrollment Template'!A233=\"\",\"\",IF(AND('MARK Enrollment Template'!A233<>\"\",'MARK Enrollment Template'!K233=\"\"),\"Please fill in Zip Code.\",IF(LEN(SUBSTITUTE(TRIM('MARK Enrollment Template'!K233),CHAR(9),\"\"))<5,\"Zip <5 digits. If leading zero, add apostrophe (ex. '01234).\",\"\")))","v":""},null,null,{"$f":"CELL(\"format\",'MARK Enrollment Template'!C233)","v":"G"}]
["",{"$f":"IF(AND(SUMPRODUCT(--('MARK Enrollment Template'!A234:L234<>\"\"))<>0,'MARK Enrollment Template'!A234=\"\"),\"Please fill in First Name.\",IF(LEN('MARK Enrollment Template'!A234)=1,\"Please fill in full first name.\",\"\"))","v":""},{"$f":"IF('MARK Enrollment Template'!A234=\"\",\"\",IF(AND('MARK Enrollment Template'!A234<>\"\",'MARK Enrollment Template'!B234=\"\"),\"Please fill in a Last Name.\",\"\"))","v":""},{"$f":"IF('MARK Enrollment Template'!A234=\"\",\"\",IF(AND('MARK Enrollment Template'!A234<>\"\",'MARK Enrollment Template'!C234=\"\"),\"Please fill in Date of Birth.\",IF(TRIM(O229)<>\"D4\",\"Please format DOB as a date in the form MM/DD/YYYY.\",IF('MARK Enrollment Template'!C234>TODAY(),\"Please check DOB.\",\"\"))))","v":""},{"$f":"IF('MARK Enrollment Template'!A234=\"\",\"\",IF(AND('MARK Enrollment Template'!A234<>\"\",'MARK Enrollment Template'!D234=\"\"),\"Please fill in Sex.\",IF(OR(TRIM('MARK Enrollment Template'!D234)=\"M\",TRIM('MARK Enrollment Template'!D234)=\"F\",TRIM('MARK Enrollment Template'!D234)=\"Male\",TRIM('MARK Enrollment Template'!D234)=\"Female\"),\"\",\"Sex must be M/F/Male/Female.\")))","v":""},null,null,{"$f":"IF('MARK Enrollment Template'!A234=\"\",\"\",IF(AND('MARK Enrollment Template'!A234<>\"\",'MARK Enrollment Template'!G234=\"\"),\"Please fill in Email Address.\",IF(IFERROR(FIND(\"@\",'MARK Enrollment Template'!G234),\"X\")=\"X\",\"Email Address must include an @ symbol.\",\"\")))","v":""},null,null,null,{"$f":"IF('MARK Enrollment Template'!A234=\"\",\"\",IF(AND('MARK Enrollment Template'!A234<>\"\",'MARK Enrollment Template'!K234=\"\"),\"Please fill in Zip Code.\",IF(LEN(SUBSTITUTE(TRIM('MARK Enrollment Template'!K234),CHAR(9),\"\"))<5,\"Zip <5 digits. If leading zero, add apostrophe (ex. '01234).\",\"\")))","v":""},null,null,{"$f":"CELL(\"format\",'MARK Enrollment Template'!C234)","v":"G"}]
["",{"$f":"IF(AND(SUMPRODUCT(--('MARK Enrollment Template'!A235:L235<>\"\"))<>0,'MARK Enrollment Template'!A235=\"\"),\"Please fill in First Name.\",IF(LEN('MARK Enrollment Template'!A235)=1,\"Please fill in full first name.\",\"\"))","v":""},{"$f":"IF('MARK Enrollment Template'!A235=\"\",\"\",IF(AND('MARK Enrollment Template'!A235<>\"\",'MARK Enrollment Template'!B235=\"\"),\"Please fill in a Last Name.\",\"\"))","v":""},{"$f":"IF('MARK Enrollment Template'!A235=\"\",\"\",IF(AND('MARK Enrollment Template'!A235<>\"\",'MARK Enrollment Template'!C235=\"\"),\"Please fill in Date of Birth.\",IF(TRIM(O230)<>\"D4\",\"Please format DOB as a date in the form MM/DD/YYYY.\",IF('MARK Enrollment Template'!C235>TODAY(),\"Please check DOB.\",\"\"))))","v":""},{"$f":"IF('MARK Enrollment Template'!A235=\"\",\"\",IF(AND('MARK Enrollment Template'!A235<>\"\",'MARK Enrollment Template'!D235=\"\"),\"Please fill in Sex.\",IF(OR(TRIM('MARK Enrollment Template'!D235)=\"M\",TRIM('MARK Enrollment Template'!D235)=\"F\",TRIM('MARK Enrollment Template'!D235)=\"Male\",TRIM('MARK Enrollment Template'!D235)=\"Female\"),\"\",\"Sex must be M/F/Male/Female.\")))","v":""},null,null,{"$f":"IF('MARK Enrollment Template'!A235=\"\",\"\",IF(AND('MARK Enrollment Template'!A235<>\"\",'MARK Enrollment Template'!G235=\"\"),\"Please fill in Email Address.\",IF(IFERROR(FIND(\"@\",'MARK Enrollment Template'!G235),\"X\")=\"X\",\"Email Address must include an @ symbol.\",\"\")))","v":""},null,null,null,{"$f":"IF('MARK Enrollment Template'!A235=\"\",\"\",IF(AND('MARK Enrollment Template'!A235<>\"\",'MARK Enrollment Template'!K235=\"\"),\"Please fill in Zip Code.\",IF(LEN(SUBSTITUTE(TRIM('MARK Enrollment Template'!K235),CHAR(9),\"\"))<5,\"Zip <5 digits. If leading zero, add apostrophe (ex. '01234).\",\"\")))","v":""},null,null,{"$f":"CELL(\"format\",'MARK Enrollment Template'!C235)","v":"G"}]
["",{"$f":"IF(AND(SUMPRODUCT(--('MARK Enrollment Template'!A236:L236<>\"\"))<>0,'MARK Enrollment Template'!A236=\"\"),\"Please fill in First Name.\",IF(LEN('MARK Enrollment Template'!A236)=1,\"Please fill in full first name.\",\"\"))","v":""},{"$f":"IF('MARK Enrollment Template'!A236=\"\",\"\",IF(AND('MARK Enrollment Template'!A236<>\"\",'MARK Enrollment Template'!B236=\"\"),\"Please fill in a Last Name.\",\"\"))","v":""},{"$f":"IF('MARK Enrollment Template'!A236=\"\",\"\",IF(AND('MARK Enrollment Template'!A236<>\"\",'MARK Enrollment Template'!C236=\"\"),\"Please fill in Date of Birth.\",IF(TRIM(O231)<>\"D4\",\"Please format DOB as a date in the form MM/DD/YYYY.\",IF('MARK Enrollment Template'!C236>TODAY(),\"Please check DOB.\",\"\"))))","v":""},{"$f":"IF('MARK Enrollment Template'!A236=\"\",\"\",IF(AND('MARK Enrollment Template'!A236<>\"\",'MARK Enrollment Template'!D236=\"\"),\"Please fill in Sex.\",IF(OR(TRIM('MARK Enrollment Template'!D236)=\"M\",TRIM('MARK Enrollment Template'!D236)=\"F\",TRIM('MARK Enrollment Template'!D236)=\"Male\",TRIM('MARK Enrollment Template'!D236)=\"Female\"),\"\",\"Sex must be M/F/Male/Female.\")))","v":""},null,null,{"$f":"IF('MARK Enrollment Template'!A236=\"\",\"\",IF(AND('MARK Enrollment Template'!A236<>\"\",'MARK Enrollment Template'!G236=\"\"),\"Please fill in Email Address.\",IF(IFERROR(FIND(\"@\",'MARK Enrollment Template'!G236),\"X\")=\"X\",\"Email Address must include an @ symbol.\",\"\")))","v":""},null,null,null,{"$f":"IF('MARK Enrollment Template'!A236=\"\",\"\",IF(AND('MARK Enrollment Template'!A236<>\"\",'MARK Enrollment Template'!K236=\"\"),\"Please fill in Zip Code.\",IF(LEN(SUBSTITUTE(TRIM('MARK Enrollment Template'!K236),CHAR(9),\"\"))<5,\"Zip <5 digits. If leading zero, add apostrophe (ex. '01234).\",\"\")))","v":""},null,null,{"$f":"CELL(\"format\",'MARK Enrollment Template'!C236)","v":"G"}]
["",{"$f":"IF(AND(SUMPRODUCT(--('MARK Enrollment Template'!A237:L237<>\"\"))<>0,'MARK Enrollment Template'!A237=\"\"),\"Please fill in First Name.\",IF(LEN('MARK Enrollment Template'!A237)=1,\"Please fill in full first name.\",\"\"))","v":""},{"$f":"IF('MARK Enrollment Template'!A237=\"\",\"\",IF(AND('MARK Enrollment Template'!A237<>\"\",'MARK Enrollment Template'!B237=\"\"),\"Please fill in a Last Name.\",\"\"))","v":""},{"$f":"IF('MARK Enrollment Template'!A237=\"\",\"\",IF(AND('MARK Enrollment Template'!A237<>\"\",'MARK Enrollment Template'!C237=\"\"),\"Please fill in Date of Birth.\",IF(TRIM(O232)<>\"D4\",\"Please format DOB as a date in the form MM/DD/YYYY.\",IF('MARK Enrollment Template'!C237>TODAY(),\"Please check DOB.\",\"\"))))","v":""},{"$f":"IF('MARK Enrollment Template'!A237=\"\",\"\",IF(AND('MARK Enrollment Template'!A237<>\"\",'MARK Enrollment Template'!D237=\"\"),\"Please fill in Sex.\",IF(OR(TRIM('MARK Enrollment Template'!D237)=\"M\",TRIM('MARK Enrollment Template'!D237)=\"F\",TRIM('MARK Enrollment Template'!D237)=\"Male\",TRIM('MARK Enrollment Template'!D237)=\"Female\"),\"\",\"Sex must be M/F/Male/Female.\")))","v":""},null,null,{"$f":"IF('MARK Enrollment Template'!A237=\"\",\"\",IF(AND('MARK Enrollment Template'!A237<>\"\",'MARK Enrollment Template'!G237=\"\"),\"Please fill in Email Address.\",IF(IFERROR(FIND(\"@\",'MARK Enrollment Template'!G237),\"X\")=\"X\",\"Email Address must include an @ symbol.\",\"\")))","v":""},null,null,null,{"$f":"IF('MARK Enrollment Template'!A237=\"\",\"\",IF(AND('MARK Enrollment Template'!A237<>\"\",'MARK Enrollment Template'!K237=\"\"),\"Please fill in Zip Code.\",IF(LEN(SUBSTITUTE(TRIM('MARK Enrollment Template'!K237),CHAR(9),\"\"))<5,\"Zip <5 digits. If leading zero, add apostrophe (ex. '01234).\",\"\")))","v":""},null,null,{"$f":"CELL(\"format\",'MARK Enrollment Template'!C237)","v":"G"}]
["",{"$f":"IF(AND(SUMPRODUCT(--('MARK Enrollment Template'!A238:L238<>\"\"))<>0,'MARK Enrollment Template'!A238=\"\"),\"Please fill in First Name.\",IF(LEN('MARK Enrollment Template'!A238)=1,\"Please fill in full first name.\",\"\"))","v":""},{"$f":"IF('MARK Enrollment Template'!A238=\"\",\"\",IF(AND('MARK Enrollment Template'!A238<>\"\",'MARK Enrollment Template'!B238=\"\"),\"Please fill in a Last Name.\",\"\"))","v":""},{"$f":"IF('MARK Enrollment Template'!A238=\"\",\"\",IF(AND('MARK Enrollment Template'!A238<>\"\",'MARK Enrollment Template'!C238=\"\"),\"Please fill in Date of Birth.\",IF(TRIM(O233)<>\"D4\",\"Please format DOB as a date in the form MM/DD/YYYY.\",IF('MARK Enrollment Template'!C238>TODAY(),\"Please check DOB.\",\"\"))))","v":""},{"$f":"IF('MARK Enrollment Template'!A238=\"\",\"\",IF(AND('MARK Enrollment Template'!A238<>\"\",'MARK Enrollment Template'!D238=\"\"),\"Please fill in Sex.\",IF(OR(TRIM('MARK Enrollment Template'!D238)=\"M\",TRIM('MARK Enrollment Template'!D238)=\"F\",TRIM('MARK Enrollment Template'!D238)=\"Male\",TRIM('MARK Enrollment Template'!D238)=\"Female\"),\"\",\"Sex must be M/F/Male/Female.\")))","v":""},null,null,{"$f":"IF('MARK Enrollment Template'!A238=\"\",\"\",IF(AND('MARK Enrollment Template'!A238<>\"\",'MARK Enrollment Template'!G238=\"\"),\"Please fill in Email Address.\",IF(IFERROR(FIND(\"@\",'MARK Enrollment Template'!G238),\"X\")=\"X\",\"Email Address must include an @ symbol.\",\"\")))","v":""},null,null,null,{"$f":"IF('MARK Enrollment Template'!A238=\"\",\"\",IF(AND('MARK Enrollment Template'!A238<>\"\",'MARK Enrollment Template'!K238=\"\"),\"Please fill in Zip Code.\",IF(LEN(SUBSTITUTE(TRIM('MARK Enrollment Template'!K238),CHAR(9),\"\"))<5,\"Zip <5 digits. If leading zero, add apostrophe (ex. '01234).\",\"\")))","v":""},null,null,{"$f":"CELL(\"format\",'MARK Enrollment Template'!C238)","v":"G"}]
["",{"$f":"IF(AND(SUMPRODUCT(--('MARK Enrollment Template'!A239:L239<>\"\"))<>0,'MARK Enrollment Template'!A239=\"\"),\"Please fill in First Name.\",IF(LEN('MARK Enrollment Template'!A239)=1,\"Please fill in full first name.\",\"\"))","v":""},{"$f":"IF('MARK Enrollment Template'!A239=\"\",\"\",IF(AND('MARK Enrollment Template'!A239<>\"\",'MARK Enrollment Template'!B239=\"\"),\"Please fill in a Last Name.\",\"\"))","v":""},{"$f":"IF('MARK Enrollment Template'!A239=\"\",\"\",IF(AND('MARK Enrollment Template'!A239<>\"\",'MARK Enrollment Template'!C239=\"\"),\"Please fill in Date of Birth.\",IF(TRIM(O234)<>\"D4\",\"Please format DOB as a date in the form MM/DD/YYYY.\",IF('MARK Enrollment Template'!C239>TODAY(),\"Please check DOB.\",\"\"))))","v":""},{"$f":"IF('MARK Enrollment Template'!A239=\"\",\"\",IF(AND('MARK Enrollment Template'!A239<>\"\",'MARK Enrollment Template'!D239=\"\"),\"Please fill in Sex.\",IF(OR(TRIM('MARK Enrollment Template'!D239)=\"M\",TRIM('MARK Enrollment Template'!D239)=\"F\",TRIM('MARK Enrollment Template'!D239)=\"Male\",TRIM('MARK Enrollment Template'!D239)=\"Female\"),\"\",\"Sex must be M/F/Male/Female.\")))","v":""},null,null,{"$f":"IF('MARK Enrollment Template'!A239=\"\",\"\",IF(AND('MARK Enrollment Template'!A239<>\"\",'MARK Enrollment Template'!G239=\"\"),\"Please fill in Email Address.\",IF(IFERROR(FIND(\"@\",'MARK Enrollment Template'!G239),\"X\")=\"X\",\"Email Address must include an @ symbol.\",\"\")))","v":""},null,null,null,{"$f":"IF('MARK Enrollment Template'!A239=\"\",\"\",IF(AND('MARK Enrollment Template'!A239<>\"\",'MARK Enrollment Template'!K239=\"\"),\"Please fill in Zip Code.\",IF(LEN(SUBSTITUTE(TRIM('MARK Enrollment Template'!K239),CHAR(9),\"\"))<5,\"Zip <5 digits. If leading zero, add apostrophe (ex. '01234).\",\"\")))","v":""},null,null,{"$f":"CELL(\"format\",'MARK Enrollment Template'!C239)","v":"G"}]
["",{"$f":"IF(AND(SUMPRODUCT(--('MARK Enrollment Template'!A240:L240<>\"\"))<>0,'MARK Enrollment Template'!A240=\"\"),\"Please fill in First Name.\",IF(LEN('MARK Enrollment Template'!A240)=1,\"Please fill in full first name.\",\"\"))","v":""},{"$f":"IF('MARK Enrollment Template'!A240=\"\",\"\",IF(AND('MARK Enrollment Template'!A240<>\"\",'MARK Enrollment Template'!B240=\"\"),\"Please fill in a Last Name.\",\"\"))","v":""},{"$f":"IF('MARK Enrollment Template'!A240=\"\",\"\",IF(AND('MARK Enrollment Template'!A240<>\"\",'MARK Enrollment Template'!C240=\"\"),\"Please fill in Date of Birth.\",IF(TRIM(O235)<>\"D4\",\"Please format DOB as a date in the form MM/DD/YYYY.\",IF('MARK Enrollment Template'!C240>TODAY(),\"Please check DOB.\",\"\"))))","v":""},{"$f":"IF('MARK Enrollment Template'!A240=\"\",\"\",IF(AND('MARK Enrollment Template'!A240<>\"\",'MARK Enrollment Template'!D240=\"\"),\"Please fill in Sex.\",IF(OR(TRIM('MARK Enrollment Template'!D240)=\"M\",TRIM('MARK Enrollment Template'!D240)=\"F\",TRIM('MARK Enrollment Template'!D240)=\"Male\",TRIM('MARK Enrollment Template'!D240)=\"Female\"),\"\",\"Sex must be M/F/Male/Female.\")))","v":""},null,null,{"$f":"IF('MARK Enrollment Template'!A240=\"\",\"\",IF(AND('MARK Enrollment Template'!A240<>\"\",'MARK Enrollment Template'!G240=\"\"),\"Please fill in Email Address.\",IF(IFERROR(FIND(\"@\",'MARK Enrollment Template'!G240),\"X\")=\"X\",\"Email Address must include an @ symbol.\",\"\")))","v":""},null,null,null,{"$f":"IF('MARK Enrollment Template'!A240=\"\",\"\",IF(AND('MARK Enrollment Template'!A240<>\"\",'MARK Enrollment Template'!K240=\"\"),\"Please fill in Zip Code.\",IF(LEN(SUBSTITUTE(TRIM('MARK Enrollment Template'!K240),CHAR(9),\"\"))<5,\"Zip <5 digits. If leading zero, add apostrophe (ex. '01234).\",\"\")))","v":""},null,null,{"$f":"CELL(\"format\",'MARK Enrollment Template'!C240)","v":"G"}]
["",{"$f":"IF(AND(SUMPRODUCT(--('MARK Enrollment Template'!A241:L241<>\"\"))<>0,'MARK Enrollment Template'!A241=\"\"),\"Please fill in First Name.\",IF(LEN('MARK Enrollment Template'!A241)=1,\"Please fill in full first name.\",\"\"))","v":""},{"$f":"IF('MARK Enrollment Template'!A241=\"\",\"\",IF(AND('MARK Enrollment Template'!A241<>\"\",'MARK Enrollment Template'!B241=\"\"),\"Please fill in a Last Name.\",\"\"))","v":""},{"$f":"IF('MARK Enrollment Template'!A241=\"\",\"\",IF(AND('MARK Enrollment Template'!A241<>\"\",'MARK Enrollment Template'!C241=\"\"),\"Please fill in Date of Birth.\",IF(TRIM(O236)<>\"D4\",\"Please format DOB as a date in the form MM/DD/YYYY.\",IF('MARK Enrollment Template'!C241>TODAY(),\"Please check DOB.\",\"\"))))","v":""},{"$f":"IF('MARK Enrollment Template'!A241=\"\",\"\",IF(AND('MARK Enrollment Template'!A241<>\"\",'MARK Enrollment Template'!D241=\"\"),\"Please fill in Sex.\",IF(OR(TRIM('MARK Enrollment Template'!D241)=\"M\",TRIM('MARK Enrollment Template'!D241)=\"F\",TRIM('MARK Enrollment Template'!D241)=\"Male\",TRIM('MARK Enrollment Template'!D241)=\"Female\"),\"\",\"Sex must be M/F/Male/Female.\")))","v":""},null,null,{"$f":"IF('MARK Enrollment Template'!A241=\"\",\"\",IF(AND('MARK Enrollment Template'!A241<>\"\",'MARK Enrollment Template'!G241=\"\"),\"Please fill in Email Address.\",IF(IFERROR(FIND(\"@\",'MARK Enrollment Template'!G241),\"X\")=\"X\",\"Email Address must include an @ symbol.\",\"\")))","v":""},null,null,null,{"$f":"IF('MARK Enrollment Template'!A241=\"\",\"\",IF(AND('MARK Enrollment Template'!A241<>\"\",'MARK Enrollment Template'!K241=\"\"),\"Please fill in Zip Code.\",IF(LEN(SUBSTITUTE(TRIM('MARK Enrollment Template'!K241),CHAR(9),\"\"))<5,\"Zip <5 digits. If leading zero, add apostrophe (ex. '01234).\",\"\")))","v":""},null,null,{"$f":"CELL(\"format\",'MARK Enrollment Template'!C241)","v":"G"}]
["",{"$f":"IF(AND(SUMPRODUCT(--('MARK Enrollment Template'!A242:L242<>\"\"))<>0,'MARK Enrollment Template'!A242=\"\"),\"Please fill in First Name.\",IF(LEN('MARK Enrollment Template'!A242)=1,\"Please fill in full first name.\",\"\"))","v":""},{"$f":"IF('MARK Enrollment Template'!A242=\"\",\"\",IF(AND('MARK Enrollment Template'!A242<>\"\",'MARK Enrollment Template'!B242=\"\"),\"Please fill in a Last Name.\",\"\"))","v":""},{"$f":"IF('MARK Enrollment Template'!A242=\"\",\"\",IF(AND('MARK Enrollment Template'!A242<>\"\",'MARK Enrollment Template'!C242=\"\"),\"Please fill in Date of Birth.\",IF(TRIM(O237)<>\"D4\",\"Please format DOB as a date in the form MM/DD/YYYY.\",IF('MARK Enrollment Template'!C242>TODAY(),\"Please check DOB.\",\"\"))))","v":""},{"$f":"IF('MARK Enrollment Template'!A242=\"\",\"\",IF(AND('MARK Enrollment Template'!A242<>\"\",'MARK Enrollment Template'!D242=\"\"),\"Please fill in Sex.\",IF(OR(TRIM('MARK Enrollment Template'!D242)=\"M\",TRIM('MARK Enrollment Template'!D242)=\"F\",TRIM('MARK Enrollment Template'!D242)=\"Male\",TRIM('MARK Enrollment Template'!D242)=\"Female\"),\"\",\"Sex must be M/F/Male/Female.\")))","v":""},null,null,{"$f":"IF('MARK Enrollment Template'!A242=\"\",\"\",IF(AND('MARK Enrollment Template'!A242<>\"\",'MARK Enrollment Template'!G242=\"\"),\"Please fill in Email Address.\",IF(IFERROR(FIND(\"@\",'MARK Enrollment Template'!G242),\"X\")=\"X\",\"Email Address must include an @ symbol.\",\"\")))","v":""},null,null,null,{"$f":"IF('MARK Enrollment Template'!A242=\"\",\"\",IF(AND('MARK Enrollment Template'!A242<>\"\",'MARK Enrollment Template'!K242=\"\"),\"Please fill in Zip Code.\",IF(LEN(SUBSTITUTE(TRIM('MARK Enrollment Template'!K242),CHAR(9),\"\"))<5,\"Zip <5 digits. If leading zero, add apostrophe (ex. '01234).\",\"\")))","v":""},null,null,{"$f":"CELL(\"format\",'MARK Enrollment Template'!C242)","v":"G"}]
["",{"$f":"IF(AND(SUMPRODUCT(--('MARK Enrollment Template'!A243:L243<>\"\"))<>0,'MARK Enrollment Template'!A243=\"\"),\"Please fill in First Name.\",IF(LEN('MARK Enrollment Template'!A243)=1,\"Please fill in full first name.\",\"\"))","v":""},{"$f":"IF('MARK Enrollment Template'!A243=\"\",\"\",IF(AND('MARK Enrollment Template'!A243<>\"\",'MARK Enrollment Template'!B243=\"\"),\"Please fill in a Last Name.\",\"\"))","v":""},{"$f":"IF('MARK Enrollment Template'!A243=\"\",\"\",IF(AND('MARK Enrollment Template'!A243<>\"\",'MARK Enrollment Template'!C243=\"\"),\"Please fill in Date of Birth.\",IF(TRIM(O238)<>\"D4\",\"Please format DOB as a date in the form MM/DD/YYYY.\",IF('MARK Enrollment Template'!C243>TODAY(),\"Please check DOB.\",\"\"))))","v":""},{"$f":"IF('MARK Enrollment Template'!A243=\"\",\"\",IF(AND('MARK Enrollment Template'!A243<>\"\",'MARK Enrollment Template'!D243=\"\"),\"Please fill in Sex.\",IF(OR(TRIM('MARK Enrollment Template'!D243)=\"M\",TRIM('MARK Enrollment Template'!D243)=\"F\",TRIM('MARK Enrollment Template'!D243)=\"Male\",TRIM('MARK Enrollment Template'!D243)=\"Female\"),\"\",\"Sex must be M/F/Male/Female.\")))","v":""},null,null,{"$f":"IF('MARK Enrollment Template'!A243=\"\",\"\",IF(AND('MARK Enrollment Template'!A243<>\"\",'MARK Enrollment Template'!G243=\"\"),\"Please fill in Email Address.\",IF(IFERROR(FIND(\"@\",'MARK Enrollment Template'!G243),\"X\")=\"X\",\"Email Address must include an @ symbol.\",\"\")))","v":""},null,null,null,{"$f":"IF('MARK Enrollment Template'!A243=\"\",\"\",IF(AND('MARK Enrollment Template'!A243<>\"\",'MARK Enrollment Template'!K243=\"\"),\"Please fill in Zip Code.\",IF(LEN(SUBSTITUTE(TRIM('MARK Enrollment Template'!K243),CHAR(9),\"\"))<5,\"Zip <5 digits. If leading zero, add apostrophe (ex. '01234).\",\"\")))","v":""},null,null,{"$f":"CELL(\"format\",'MARK Enrollment Template'!C243)","v":"G"}]
["",{"$f":"IF(AND(SUMPRODUCT(--('MARK Enrollment Template'!A244:L244<>\"\"))<>0,'MARK Enrollment Template'!A244=\"\"),\"Please fill in First Name.\",IF(LEN('MARK Enrollment Template'!A244)=1,\"Please fill in full first name.\",\"\"))","v":""},{"$f":"IF('MARK Enrollment Template'!A244=\"\",\"\",IF(AND('MARK Enrollment Template'!A244<>\"\",'MARK Enrollment Template'!B244=\"\"),\"Please fill in a Last Name.\",\"\"))","v":""},{"$f":"IF('MARK Enrollment Template'!A244=\"\",\"\",IF(AND('MARK Enrollment Template'!A244<>\"\",'MARK Enrollment Template'!C244=\"\"),\"Please fill in Date of Birth.\",IF(TRIM(O239)<>\"D4\",\"Please format DOB as a date in the form MM/DD/YYYY.\",IF('MARK Enrollment Template'!C244>TODAY(),\"Please check DOB.\",\"\"))))","v":""},{"$f":"IF('MARK Enrollment Template'!A244=\"\",\"\",IF(AND('MARK Enrollment Template'!A244<>\"\",'MARK Enrollment Template'!D244=\"\"),\"Please fill in Sex.\",IF(OR(TRIM('MARK Enrollment Template'!D244)=\"M\",TRIM('MARK Enrollment Template'!D244)=\"F\",TRIM('MARK Enrollment Template'!D244)=\"Male\",TRIM('MARK Enrollment Template'!D244)=\"Female\"),\"\",\"Sex must be M/F/Male/Female.\")))","v":""},null,null,{"$f":"IF('MARK Enrollment Template'!A244=\"\",\"\",IF(AND('MARK Enrollment Template'!A244<>\"\",'MARK Enrollment Template'!G244=\"\"),\"Please fill in Email Address.\",IF(IFERROR(FIND(\"@\",'MARK Enrollment Template'!G244),\"X\")=\"X\",\"Email Address must include an @ symbol.\",\"\")))","v":""},null,null,null,{"$f":"IF('MARK Enrollment Template'!A244=\"\",\"\",IF(AND('MARK Enrollment Template'!A244<>\"\",'MARK Enrollment Template'!K244=\"\"),\"Please fill in Zip Code.\",IF(LEN(SUBSTITUTE(TRIM('MARK Enrollment Template'!K244),CHAR(9),\"\"))<5,\"Zip <5 digits. If leading zero, add apostrophe (ex. '01234).\",\"\")))","v":""},null,null,{"$f":"CELL(\"format\",'MARK Enrollment Template'!C244)","v":"G"}]
["",{"$f":"IF(AND(SUMPRODUCT(--('MARK Enrollment Template'!A245:L245<>\"\"))<>0,'MARK Enrollment Template'!A245=\"\"),\"Please fill in First Name.\",IF(LEN('MARK Enrollment Template'!A245)=1,\"Please fill in full first name.\",\"\"))","v":""},{"$f":"IF('MARK Enrollment Template'!A245=\"\",\"\",IF(AND('MARK Enrollment Template'!A245<>\"\",'MARK Enrollment Template'!B245=\"\"),\"Please fill in a Last Name.\",\"\"))","v":""},{"$f":"IF('MARK Enrollment Template'!A245=\"\",\"\",IF(AND('MARK Enrollment Template'!A245<>\"\",'MARK Enrollment Template'!C245=\"\"),\"Please fill in Date of Birth.\",IF(TRIM(O240)<>\"D4\",\"Please format DOB as a date in the form MM/DD/YYYY.\",IF('MARK Enrollment Template'!C245>TODAY(),\"Please check DOB.\",\"\"))))","v":""},{"$f":"IF('MARK Enrollment Template'!A245=\"\",\"\",IF(AND('MARK Enrollment Template'!A245<>\"\",'MARK Enrollment Template'!D245=\"\"),\"Please fill in Sex.\",IF(OR(TRIM('MARK Enrollment Template'!D245)=\"M\",TRIM('MARK Enrollment Template'!D245)=\"F\",TRIM('MARK Enrollment Template'!D245)=\"Male\",TRIM('MARK Enrollment Template'!D245)=\"Female\"),\"\",\"Sex must be M/F/Male/Female.\")))","v":""},null,null,{"$f":"IF('MARK Enrollment Template'!A245=\"\",\"\",IF(AND('MARK Enrollment Template'!A245<>\"\",'MARK Enrollment Template'!G245=\"\"),\"Please fill in Email Address.\",IF(IFERROR(FIND(\"@\",'MARK Enrollment Template'!G245),\"X\")=\"X\",\"Email Address must include an @ symbol.\",\"\")))","v":""},null,null,null,{"$f":"IF('MARK Enrollment Template'!A245=\"\",\"\",IF(AND('MARK Enrollment Template'!A245<>\"\",'MARK Enrollment Template'!K245=\"\"),\"Please fill in Zip Code.\",IF(LEN(SUBSTITUTE(TRIM('MARK Enrollment Template'!K245),CHAR(9),\"\"))<5,\"Zip <5 digits. If leading zero, add apostrophe (ex. '01234).\",\"\")))","v":""},null,null,{"$f":"CELL(\"format\",'MARK Enrollment Template'!C245)","v":"G"}]
["",{"$f":"IF(AND(SUMPRODUCT(--('MARK Enrollment Template'!A246:L246<>\"\"))<>0,'MARK Enrollment Template'!A246=\"\"),\"Please fill in First Name.\",IF(LEN('MARK Enrollment Template'!A246)=1,\"Please fill in full first name.\",\"\"))","v":""},{"$f":"IF('MARK Enrollment Template'!A246=\"\",\"\",IF(AND('MARK Enrollment Template'!A246<>\"\",'MARK Enrollment Template'!B246=\"\"),\"Please fill in a Last Name.\",\"\"))","v":""},{"$f":"IF('MARK Enrollment Template'!A246=\"\",\"\",IF(AND('MARK Enrollment Template'!A246<>\"\",'MARK Enrollment Template'!C246=\"\"),\"Please fill in Date of Birth.\",IF(TRIM(O241)<>\"D4\",\"Please format DOB as a date in the form MM/DD/YYYY.\",IF('MARK Enrollment Template'!C246>TODAY(),\"Please check DOB.\",\"\"))))","v":""},{"$f":"IF('MARK Enrollment Template'!A246=\"\",\"\",IF(AND('MARK Enrollment Template'!A246<>\"\",'MARK Enrollment Template'!D246=\"\"),\"Please fill in Sex.\",IF(OR(TRIM('MARK Enrollment Template'!D246)=\"M\",TRIM('MARK Enrollment Template'!D246)=\"F\",TRIM('MARK Enrollment Template'!D246)=\"Male\",TRIM('MARK Enrollment Template'!D246)=\"Female\"),\"\",\"Sex must be M/F/Male/Female.\")))","v":""},null,null,{"$f":"IF('MARK Enrollment Template'!A246=\"\",\"\",IF(AND('MARK Enrollment Template'!A246<>\"\",'MARK Enrollment Template'!G246=\"\"),\"Please fill in Email Address.\",IF(IFERROR(FIND(\"@\",'MARK Enrollment Template'!G246),\"X\")=\"X\",\"Email Address must include an @ symbol.\",\"\")))","v":""},null,null,null,{"$f":"IF('MARK Enrollment Template'!A246=\"\",\"\",IF(AND('MARK Enrollment Template'!A246<>\"\",'MARK Enrollment Template'!K246=\"\"),\"Please fill in Zip Code.\",IF(LEN(SUBSTITUTE(TRIM('MARK Enrollment Template'!K246),CHAR(9),\"\"))<5,\"Zip <5 digits. If leading zero, add apostrophe (ex. '01234).\",\"\")))","v":""},null,null,{"$f":"CELL(\"format\",'MARK Enrollment Template'!C246)","v":"G"}]
["",{"$f":"IF(AND(SUMPRODUCT(--('MARK Enrollment Template'!A247:L247<>\"\"))<>0,'MARK Enrollment Template'!A247=\"\"),\"Please fill in First Name.\",IF(LEN('MARK Enrollment Template'!A247)=1,\"Please fill in full first name.\",\"\"))","v":""},{"$f":"IF('MARK Enrollment Template'!A247=\"\",\"\",IF(AND('MARK Enrollment Template'!A247<>\"\",'MARK Enrollment Template'!B247=\"\"),\"Please fill in a Last Name.\",\"\"))","v":""},{"$f":"IF('MARK Enrollment Template'!A247=\"\",\"\",IF(AND('MARK Enrollment Template'!A247<>\"\",'MARK Enrollment Template'!C247=\"\"),\"Please fill in Date of Birth.\",IF(TRIM(O242)<>\"D4\",\"Please format DOB as a date in the form MM/DD/YYYY.\",IF('MARK Enrollment Template'!C247>TODAY(),\"Please check DOB.\",\"\"))))","v":""},{"$f":"IF('MARK Enrollment Template'!A247=\"\",\"\",IF(AND('MARK Enrollment Template'!A247<>\"\",'MARK Enrollment Template'!D247=\"\"),\"Please fill in Sex.\",IF(OR(TRIM('MARK Enrollment Template'!D247)=\"M\",TRIM('MARK Enrollment Template'!D247)=\"F\",TRIM('MARK Enrollment Template'!D247)=\"Male\",TRIM('MARK Enrollment Template'!D247)=\"Female\"),\"\",\"Sex must be M/F/Male/Female.\")))","v":""},null,null,{"$f":"IF('MARK Enrollment Template'!A247=\"\",\"\",IF(AND('MARK Enrollment Template'!A247<>\"\",'MARK Enrollment Template'!G247=\"\"),\"Please fill in Email Address.\",IF(IFERROR(FIND(\"@\",'MARK Enrollment Template'!G247),\"X\")=\"X\",\"Email Address must include an @ symbol.\",\"\")))","v":""},null,null,null,{"$f":"IF('MARK Enrollment Template'!A247=\"\",\"\",IF(AND('MARK Enrollment Template'!A247<>\"\",'MARK Enrollment Template'!K247=\"\"),\"Please fill in Zip Code.\",IF(LEN(SUBSTITUTE(TRIM('MARK Enrollment Template'!K247),CHAR(9),\"\"))<5,\"Zip <5 digits. If leading zero, add apostrophe (ex. '01234).\",\"\")))","v":""},null,null,{"$f":"CELL(\"format\",'MARK Enrollment Template'!C247)","v":"G"}]
["",{"$f":"IF(AND(SUMPRODUCT(--('MARK Enrollment Template'!A248:L248<>\"\"))<>0,'MARK Enrollment Template'!A248=\"\"),\"Please fill in First Name.\",IF(LEN('MARK Enrollment Template'!A248)=1,\"Please fill in full first name.\",\"\"))","v":""},{"$f":"IF('MARK Enrollment Template'!A248=\"\",\"\",IF(AND('MARK Enrollment Template'!A248<>\"\",'MARK Enrollment Template'!B248=\"\"),\"Please fill in a Last Name.\",\"\"))","v":""},{"$f":"IF('MARK Enrollment Template'!A248=\"\",\"\",IF(AND('MARK Enrollment Template'!A248<>\"\",'MARK Enrollment Template'!C248=\"\"),\"Please fill in Date of Birth.\",IF(TRIM(O243)<>\"D4\",\"Please format DOB as a date in the form MM/DD/YYYY.\",IF('MARK Enrollment Template'!C248>TODAY(),\"Please check DOB.\",\"\"))))","v":""},{"$f":"IF('MARK Enrollment Template'!A248=\"\",\"\",IF(AND('MARK Enrollment Template'!A248<>\"\",'MARK Enrollment Template'!D248=\"\"),\"Please fill in Sex.\",IF(OR(TRIM('MARK Enrollment Template'!D248)=\"M\",TRIM('MARK Enrollment Template'!D248)=\"F\",TRIM('MARK Enrollment Template'!D248)=\"Male\",TRIM('MARK Enrollment Template'!D248)=\"Female\"),\"\",\"Sex must be M/F/Male/Female.\")))","v":""},null,null,{"$f":"IF('MARK Enrollment Template'!A248=\"\",\"\",IF(AND('MARK Enrollment Template'!A248<>\"\",'MARK Enrollment Template'!G248=\"\"),\"Please fill in Email Address.\",IF(IFERROR(FIND(\"@\",'MARK Enrollment Template'!G248),\"X\")=\"X\",\"Email Address must include an @ symbol.\",\"\")))","v":""},null,null,null,{"$f":"IF('MARK Enrollment Template'!A248=\"\",\"\",IF(AND('MARK Enrollment Template'!A248<>\"\",'MARK Enrollment Template'!K248=\"\"),\"Please fill in Zip Code.\",IF(LEN(SUBSTITUTE(TRIM('MARK Enrollment Template'!K248),CHAR(9),\"\"))<5,\"Zip <5 digits. If leading zero, add apostrophe (ex. '01234).\",\"\")))","v":""},null,null,{"$f":"CELL(\"format\",'MARK Enrollment Template'!C248)","v":"G"}]
["",{"$f":"IF(AND(SUMPRODUCT(--('MARK Enrollment Template'!A249:L249<>\"\"))<>0,'MARK Enrollment Template'!A249=\"\"),\"Please fill in First Name.\",IF(LEN('MARK Enrollment Template'!A249)=1,\"Please fill in full first name.\",\"\"))","v":""},{"$f":"IF('MARK Enrollment Template'!A249=\"\",\"\",IF(AND('MARK Enrollment Template'!A249<>\"\",'MARK Enrollment Template'!B249=\"\"),\"Please fill in a Last Name.\",\"\"))","v":""},{"$f":"IF('MARK Enrollment Template'!A249=\"\",\"\",IF(AND('MARK Enrollment Template'!A249<>\"\",'MARK Enrollment Template'!C249=\"\"),\"Please fill in Date of Birth.\",IF(TRIM(O244)<>\"D4\",\"Please format DOB as a date in the form MM/DD/YYYY.\",IF('MARK Enrollment Template'!C249>TODAY(),\"Please check DOB.\",\"\"))))","v":""},{"$f":"IF('MARK Enrollment Template'!A249=\"\",\"\",IF(AND('MARK Enrollment Template'!A249<>\"\",'MARK Enrollment Template'!D249=\"\"),\"Please fill in Sex.\",IF(OR(TRIM('MARK Enrollment Template'!D249)=\"M\",TRIM('MARK Enrollment Template'!D249)=\"F\",TRIM('MARK Enrollment Template'!D249)=\"Male\",TRIM('MARK Enrollment Template'!D249)=\"Female\"),\"\",\"Sex must be M/F/Male/Female.\")))","v":""},null,null,{"$f":"IF('MARK Enrollment Template'!A249=\"\",\"\",IF(AND('MARK Enrollment Template'!A249<>\"\",'MARK Enrollment Template'!G249=\"\"),\"Please fill in Email Address.\",IF(IFERROR(FIND(\"@\",'MARK Enrollment Template'!G249),\"X\")=\"X\",\"Email Address must include an @ symbol.\",\"\")))","v":""},null,null,null,{"$f":"IF('MARK Enrollment Template'!A249=\"\",\"\",IF(AND('MARK Enrollment Template'!A249<>\"\",'MARK Enrollment Template'!K249=\"\"),\"Please fill in Zip Code.\",IF(LEN(SUBSTITUTE(TRIM('MARK Enrollment Template'!K249),CHAR(9),\"\"))<5,\"Zip <5 digits. If leading zero, add apostrophe (ex. '01234).\",\"\")))","v":""},null,null,{"$f":"CELL(\"format\",'MARK Enrollment Template'!C249)","v":"G"}]
["",{"$f":"IF(AND(SUMPRODUCT(--('MARK Enrollment Template'!A250:L250<>\"\"))<>0,'MARK Enrollment Template'!A250=\"\"),\"Please fill in First Name.\",IF(LEN('MARK Enrollment Template'!A250)=1,\"Please fill in full first name.\",\"\"))","v":""},{"$f":"IF('MARK Enrollment Template'!A250=\"\",\"\",IF(AND('MARK Enrollment Template'!A250<>\"\",'MARK Enrollment Template'!B250=\"\"),\"Please fill in a Last Name.\",\"\"))","v":""},{"$f":"IF('MARK Enrollment Template'!A250=\"\",\"\",IF(AND('MARK Enrollment Template'!A250<>\"\",'MARK Enrollment Template'!C250=\"\"),\"Please fill in Date of Birth.\",IF(TRIM(O245)<>\"D4\",\"Please format DOB as a date in the form MM/DD/YYYY.\",IF('MARK Enrollment Template'!C250>TODAY(),\"Please check DOB.\",\"\"))))","v":""},{"$f":"IF('MARK Enrollment Template'!A250=\"\",\"\",IF(AND('MARK Enrollment Template'!A250<>\"\",'MARK Enrollment Template'!D250=\"\"),\"Please fill in Sex.\",IF(OR(TRIM('MARK Enrollment Template'!D250)=\"M\",TRIM('MARK Enrollment Template'!D250)=\"F\",TRIM('MARK Enrollment Template'!D250)=\"Male\",TRIM('MARK Enrollment Template'!D250)=\"Female\"),\"\",\"Sex must be M/F/Male/Female.\")))","v":""},null,null,{"$f":"IF('MARK Enrollment Template'!A250=\"\",\"\",IF(AND('MARK Enrollment Template'!A250<>\"\",'MARK Enrollment Template'!G250=\"\"),\"Please fill in Email Address.\",IF(IFERROR(FIND(\"@\",'MARK Enrollment Template'!G250),\"X\")=\"X\",\"Email Address must include an @ symbol.\",\"\")))","v":""},null,null,null,{"$f":"IF('MARK Enrollment Template'!A250=\"\",\"\",IF(AND('MARK Enrollment Template'!A250<>\"\",'MARK Enrollment Template'!K250=\"\"),\"Please fill in Zip Code.\",IF(LEN(SUBSTITUTE(TRIM('MARK Enrollment Template'!K250),CHAR(9),\"\"))<5,\"Zip <5 digits. If leading zero, add apostrophe (ex. '01234).\",\"\")))","v":""},null,null,{"$f":"CELL(\"format\",'MARK Enrollment Template'!C250)","v":"G"}]
["",{"$f":"IF(AND(SUMPRODUCT(--('MARK Enrollment Template'!A251:L251<>\"\"))<>0,'MARK Enrollment Template'!A251=\"\"),\"Please fill in First Name.\",IF(LEN('MARK Enrollment Template'!A251)=1,\"Please fill in full first name.\",\"\"))","v":""},{"$f":"IF('MARK Enrollment Template'!A251=\"\",\"\",IF(AND('MARK Enrollment Template'!A251<>\"\",'MARK Enrollment Template'!B251=\"\"),\"Please fill in a Last Name.\",\"\"))","v":""},{"$f":"IF('MARK Enrollment Template'!A251=\"\",\"\",IF(AND('MARK Enrollment Template'!A251<>\"\",'MARK Enrollment Template'!C251=\"\"),\"Please fill in Date of Birth.\",IF(TRIM(O246)<>\"D4\",\"Please format DOB as a date in the form MM/DD/YYYY.\",IF('MARK Enrollment Template'!C251>TODAY(),\"Please check DOB.\",\"\"))))","v":""},{"$f":"IF('MARK Enrollment Template'!A251=\"\",\"\",IF(AND('MARK Enrollment Template'!A251<>\"\",'MARK Enrollment Template'!D251=\"\"),\"Please fill in Sex.\",IF(OR(TRIM('MARK Enrollment Template'!D251)=\"M\",TRIM('MARK Enrollment Template'!D251)=\"F\",TRIM('MARK Enrollment Template'!D251)=\"Male\",TRIM('MARK Enrollment Template'!D251)=\"Female\"),\"\",\"Sex must be M/F/Male/Female.\")))","v":""},null,null,{"$f":"IF('MARK Enrollment Template'!A251=\"\",\"\",IF(AND('MARK Enrollment Template'!A251<>\"\",'MARK Enrollment Template'!G251=\"\"),\"Please fill in Email Address.\",IF(IFERROR(FIND(\"@\",'MARK Enrollment Template'!G251),\"X\")=\"X\",\"Email Address must include an @ symbol.\",\"\")))","v":""},null,null,null,{"$f":"IF('MARK Enrollment Template'!A251=\"\",\"\",IF(AND('MARK Enrollment Template'!A251<>\"\",'MARK Enrollment Template'!K251=\"\"),\"Please fill in Zip Code.\",IF(LEN(SUBSTITUTE(TRIM('MARK Enrollment Template'!K251),CHAR(9),\"\"))<5,\"Zip <5 digits. If leading zero, add apostrophe (ex. '01234).\",\"\")))","v":""},null,null,{"$f":"CELL(\"format\",'MARK Enrollment Template'!C251)","v":"G"}]
["",{"$f":"IF(AND(SUMPRODUCT(--('MARK Enrollment Template'!A252:L252<>\"\"))<>0,'MARK Enrollment Template'!A252=\"\"),\"Please fill in First Name.\",IF(LEN('MARK Enrollment Template'!A252)=1,\"Please fill in full first name.\",\"\"))","v":""},{"$f":"IF('MARK Enrollment Template'!A252=\"\",\"\",IF(AND('MARK Enrollment Template'!A252<>\"\",'MARK Enrollment Template'!B252=\"\"),\"Please fill in a Last Name.\",\"\"))","v":""},{"$f":"IF('MARK Enrollment Template'!A252=\"\",\"\",IF(AND('MARK Enrollment Template'!A252<>\"\",'MARK Enrollment Template'!C252=\"\"),\"Please fill in Date of Birth.\",IF(TRIM(O247)<>\"D4\",\"Please format DOB as a date in the form MM/DD/YYYY.\",IF('MARK Enrollment Template'!C252>TODAY(),\"Please check DOB.\",\"\"))))","v":""},{"$f":"IF('MARK Enrollment Template'!A252=\"\",\"\",IF(AND('MARK Enrollment Template'!A252<>\"\",'MARK Enrollment Template'!D252=\"\"),\"Please fill in Sex.\",IF(OR(TRIM('MARK Enrollment Template'!D252)=\"M\",TRIM('MARK Enrollment Template'!D252)=\"F\",TRIM('MARK Enrollment Template'!D252)=\"Male\",TRIM('MARK Enrollment Template'!D252)=\"Female\"),\"\",\"Sex must be M/F/Male/Female.\")))","v":""},null,null,{"$f":"IF('MARK Enrollment Template'!A252=\"\",\"\",IF(AND('MARK Enrollment Template'!A252<>\"\",'MARK Enrollment Template'!G252=\"\"),\"Please fill in Email Address.\",IF(IFERROR(FIND(\"@\",'MARK Enrollment Template'!G252),\"X\")=\"X\",\"Email Address must include an @ symbol.\",\"\")))","v":""},null,null,null,{"$f":"IF('MARK Enrollment Template'!A252=\"\",\"\",IF(AND('MARK Enrollment Template'!A252<>\"\",'MARK Enrollment Template'!K252=\"\"),\"Please fill in Zip Code.\",IF(LEN(SUBSTITUTE(TRIM('MARK Enrollment Template'!K252),CHAR(9),\"\"))<5,\"Zip <5 digits. If leading zero, add apostrophe (ex. '01234).\",\"\")))","v":""},null,null,{"$f":"CELL(\"format\",'MARK Enrollment Template'!C252)","v":"G"}]
["",{"$f":"IF(AND(SUMPRODUCT(--('MARK Enrollment Template'!A253:L253<>\"\"))<>0,'MARK Enrollment Template'!A253=\"\"),\"Please fill in First Name.\",IF(LEN('MARK Enrollment Template'!A253)=1,\"Please fill in full first name.\",\"\"))","v":""},{"$f":"IF('MARK Enrollment Template'!A253=\"\",\"\",IF(AND('MARK Enrollment Template'!A253<>\"\",'MARK Enrollment Template'!B253=\"\"),\"Please fill in a Last Name.\",\"\"))","v":""},{"$f":"IF('MARK Enrollment Template'!A253=\"\",\"\",IF(AND('MARK Enrollment Template'!A253<>\"\",'MARK Enrollment Template'!C253=\"\"),\"Please fill in Date of Birth.\",IF(TRIM(O248)<>\"D4\",\"Please format DOB as a date in the form MM/DD/YYYY.\",IF('MARK Enrollment Template'!C253>TODAY(),\"Please check DOB.\",\"\"))))","v":""},{"$f":"IF('MARK Enrollment Template'!A253=\"\",\"\",IF(AND('MARK Enrollment Template'!A253<>\"\",'MARK Enrollment Template'!D253=\"\"),\"Please fill in Sex.\",IF(OR(TRIM('MARK Enrollment Template'!D253)=\"M\",TRIM('MARK Enrollment Template'!D253)=\"F\",TRIM('MARK Enrollment Template'!D253)=\"Male\",TRIM('MARK Enrollment Template'!D253)=\"Female\"),\"\",\"Sex must be M/F/Male/Female.\")))","v":""},null,null,{"$f":"IF('MARK Enrollment Template'!A253=\"\",\"\",IF(AND('MARK Enrollment Template'!A253<>\"\",'MARK Enrollment Template'!G253=\"\"),\"Please fill in Email Address.\",IF(IFERROR(FIND(\"@\",'MARK Enrollment Template'!G253),\"X\")=\"X\",\"Email Address must include an @ symbol.\",\"\")))","v":""},null,null,null,{"$f":"IF('MARK Enrollment Template'!A253=\"\",\"\",IF(AND('MARK Enrollment Template'!A253<>\"\",'MARK Enrollment Template'!K253=\"\"),\"Please fill in Zip Code.\",IF(LEN(SUBSTITUTE(TRIM('MARK Enrollment Template'!K253),CHAR(9),\"\"))<5,\"Zip <5 digits. If leading zero, add apostrophe (ex. '01234).\",\"\")))","v":""},null,null,{"$f":"CELL(\"format\",'MARK Enrollment Template'!C253)","v":"G"}]
["",{"$f":"IF(AND(SUMPRODUCT(--('MARK Enrollment Template'!A254:L254<>\"\"))<>0,'MARK Enrollment Template'!A254=\"\"),\"Please fill in First Name.\",IF(LEN('MARK Enrollment Template'!A254)=1,\"Please fill in full first name.\",\"\"))","v":""},{"$f":"IF('MARK Enrollment Template'!A254=\"\",\"\",IF(AND('MARK Enrollment Template'!A254<>\"\",'MARK Enrollment Template'!B254=\"\"),\"Please fill in a Last Name.\",\"\"))","v":""},{"$f":"IF('MARK Enrollment Template'!A254=\"\",\"\",IF(AND('MARK Enrollment Template'!A254<>\"\",'MARK Enrollment Template'!C254=\"\"),\"Please fill in Date of Birth.\",IF(TRIM(O249)<>\"D4\",\"Please format DOB as a date in the form MM/DD/YYYY.\",IF('MARK Enrollment Template'!C254>TODAY(),\"Please check DOB.\",\"\"))))","v":""},{"$f":"IF('MARK Enrollment Template'!A254=\"\",\"\",IF(AND('MARK Enrollment Template'!A254<>\"\",'MARK Enrollment Template'!D254=\"\"),\"Please fill in Sex.\",IF(OR(TRIM('MARK Enrollment Template'!D254)=\"M\",TRIM('MARK Enrollment Template'!D254)=\"F\",TRIM('MARK Enrollment Template'!D254)=\"Male\",TRIM('MARK Enrollment Template'!D254)=\"Female\"),\"\",\"Sex must be M/F/Male/Female.\")))","v":""},null,null,{"$f":"IF('MARK Enrollment Template'!A254=\"\",\"\",IF(AND('MARK Enrollment Template'!A254<>\"\",'MARK Enrollment Template'!G254=\"\"),\"Please fill in Email Address.\",IF(IFERROR(FIND(\"@\",'MARK Enrollment Template'!G254),\"X\")=\"X\",\"Email Address must include an @ symbol.\",\"\")))","v":""},null,null,null,{"$f":"IF('MARK Enrollment Template'!A254=\"\",\"\",IF(AND('MARK Enrollment Template'!A254<>\"\",'MARK Enrollment Template'!K254=\"\"),\"Please fill in Zip Code.\",IF(LEN(SUBSTITUTE(TRIM('MARK Enrollment Template'!K254),CHAR(9),\"\"))<5,\"Zip <5 digits. If leading zero, add apostrophe (ex. '01234).\",\"\")))","v":""},null,null,{"$f":"CELL(\"format\",'MARK Enrollment Template'!C254)","v":"G"}]
["",{"$f":"IF(AND(SUMPRODUCT(--('MARK Enrollment Template'!A255:L255<>\"\"))<>0,'MARK Enrollment Template'!A255=\"\"),\"Please fill in First Name.\",IF(LEN('MARK Enrollment Template'!A255)=1,\"Please fill in full first name.\",\"\"))","v":""},{"$f":"IF('MARK Enrollment Template'!A255=\"\",\"\",IF(AND('MARK Enrollment Template'!A255<>\"\",'MARK Enrollment Template'!B255=\"\"),\"Please fill in a Last Name.\",\"\"))","v":""},{"$f":"IF('MARK Enrollment Template'!A255=\"\",\"\",IF(AND('MARK Enrollment Template'!A255<>\"\",'MARK Enrollment Template'!C255=\"\"),\"Please fill in Date of Birth.\",IF(TRIM(O250)<>\"D4\",\"Please format DOB as a date in the form MM/DD/YYYY.\",IF('MARK Enrollment Template'!C255>TODAY(),\"Please check DOB.\",\"\"))))","v":""},{"$f":"IF('MARK Enrollment Template'!A255=\"\",\"\",IF(AND('MARK Enrollment Template'!A255<>\"\",'MARK Enrollment Template'!D255=\"\"),\"Please fill in Sex.\",IF(OR(TRIM('MARK Enrollment Template'!D255)=\"M\",TRIM('MARK Enrollment Template'!D255)=\"F\",TRIM('MARK Enrollment Template'!D255)=\"Male\",TRIM('MARK Enrollment Template'!D255)=\"Female\"),\"\",\"Sex must be M/F/Male/Female.\")))","v":""},null,null,{"$f":"IF('MARK Enrollment Template'!A255=\"\",\"\",IF(AND('MARK Enrollment Template'!A255<>\"\",'MARK Enrollment Template'!G255=\"\"),\"Please fill in Email Address.\",IF(IFERROR(FIND(\"@\",'MARK Enrollment Template'!G255),\"X\")=\"X\",\"Email Address must include an @ symbol.\",\"\")))","v":""},null,null,null,{"$f":"IF('MARK Enrollment Template'!A255=\"\",\"\",IF(AND('MARK Enrollment Template'!A255<>\"\",'MARK Enrollment Template'!K255=\"\"),\"Please fill in Zip Code.\",IF(LEN(SUBSTITUTE(TRIM('MARK Enrollment Template'!K255),CHAR(9),\"\"))<5,\"Zip <5 digits. If leading zero, add apostrophe (ex. '01234).\",\"\")))","v":""},null,null,{"$f":"CELL(\"format\",'MARK Enrollment Template'!C255)","v":"G"}]
["",{"$f":"IF(AND(SUMPRODUCT(--('MARK Enrollment Template'!A256:L256<>\"\"))<>0,'MARK Enrollment Template'!A256=\"\"),\"Please fill in First Name.\",IF(LEN('MARK Enrollment Template'!A256)=1,\"Please fill in full first name.\",\"\"))","v":""},{"$f":"IF('MARK Enrollment Template'!A256=\"\",\"\",IF(AND('MARK Enrollment Template'!A256<>\"\",'MARK Enrollment Template'!B256=\"\"),\"Please fill in a Last Name.\",\"\"))","v":""},{"$f":"IF('MARK Enrollment Template'!A256=\"\",\"\",IF(AND('MARK Enrollment Template'!A256<>\"\",'MARK Enrollment Template'!C256=\"\"),\"Please fill in Date of Birth.\",IF(TRIM(O251)<>\"D4\",\"Please format DOB as a date in the form MM/DD/YYYY.\",IF('MARK Enrollment Template'!C256>TODAY(),\"Please check DOB.\",\"\"))))","v":""},{"$f":"IF('MARK Enrollment Template'!A256=\"\",\"\",IF(AND('MARK Enrollment Template'!A256<>\"\",'MARK Enrollment Template'!D256=\"\"),\"Please fill in Sex.\",IF(OR(TRIM('MARK Enrollment Template'!D256)=\"M\",TRIM('MARK Enrollment Template'!D256)=\"F\",TRIM('MARK Enrollment Template'!D256)=\"Male\",TRIM('MARK Enrollment Template'!D256)=\"Female\"),\"\",\"Sex must be M/F/Male/Female.\")))","v":""},null,null,{"$f":"IF('MARK Enrollment Template'!A256=\"\",\"\",IF(AND('MARK Enrollment Template'!A256<>\"\",'MARK Enrollment Template'!G256=\"\"),\"Please fill in Email Address.\",IF(IFERROR(FIND(\"@\",'MARK Enrollment Template'!G256),\"X\")=\"X\",\"Email Address must include an @ symbol.\",\"\")))","v":""},null,null,null,{"$f":"IF('MARK Enrollment Template'!A256=\"\",\"\",IF(AND('MARK Enrollment Template'!A256<>\"\",'MARK Enrollment Template'!K256=\"\"),\"Please fill in Zip Code.\",IF(LEN(SUBSTITUTE(TRIM('MARK Enrollment Template'!K256),CHAR(9),\"\"))<5,\"Zip <5 digits. If leading zero, add apostrophe (ex. '01234).\",\"\")))","v":""},null,null,{"$f":"CELL(\"format\",'MARK Enrollment Template'!C256)","v":"G"}]
["",{"$f":"IF(AND(SUMPRODUCT(--('MARK Enrollment Template'!A257:L257<>\"\"))<>0,'MARK Enrollment Template'!A257=\"\"),\"Please fill in First Name.\",IF(LEN('MARK Enrollment Template'!A257)=1,\"Please fill in full first name.\",\"\"))","v":""},{"$f":"IF('MARK Enrollment Template'!A257=\"\",\"\",IF(AND('MARK Enrollment Template'!A257<>\"\",'MARK Enrollment Template'!B257=\"\"),\"Please fill in a Last Name.\",\"\"))","v":""},{"$f":"IF('MARK Enrollment Template'!A257=\"\",\"\",IF(AND('MARK Enrollment Template'!A257<>\"\",'MARK Enrollment Template'!C257=\"\"),\"Please fill in Date of Birth.\",IF(TRIM(O252)<>\"D4\",\"Please format DOB as a date in the form MM/DD/YYYY.\",IF('MARK Enrollment Template'!C257>TODAY(),\"Please check DOB.\",\"\"))))","v":""},{"$f":"IF('MARK Enrollment Template'!A257=\"\",\"\",IF(AND('MARK Enrollment Template'!A257<>\"\",'MARK Enrollment Template'!D257=\"\"),\"Please fill in Sex.\",IF(OR(TRIM('MARK Enrollment Template'!D257)=\"M\",TRIM('MARK Enrollment Template'!D257)=\"F\",TRIM('MARK Enrollment Template'!D257)=\"Male\",TRIM('MARK Enrollment Template'!D257)=\"Female\"),\"\",\"Sex must be M/F/Male/Female.\")))","v":""},null,null,{"$f":"IF('MARK Enrollment Template'!A257=\"\",\"\",IF(AND('MARK Enrollment Template'!A257<>\"\",'MARK Enrollment Template'!G257=\"\"),\"Please fill in Email Address.\",IF(IFERROR(FIND(\"@\",'MARK Enrollment Template'!G257),\"X\")=\"X\",\"Email Address must include an @ symbol.\",\"\")))","v":""},null,null,null,{"$f":"IF('MARK Enrollment Template'!A257=\"\",\"\",IF(AND('MARK Enrollment Template'!A257<>\"\",'MARK Enrollment Template'!K257=\"\"),\"Please fill in Zip Code.\",IF(LEN(SUBSTITUTE(TRIM('MARK Enrollment Template'!K257),CHAR(9),\"\"))<5,\"Zip <5 digits. If leading zero, add apostrophe (ex. '01234).\",\"\")))","v":""},null,null,{"$f":"CELL(\"format\",'MARK Enrollment Template'!C257)","v":"G"}]
["",{"$f":"IF(AND(SUMPRODUCT(--('MARK Enrollment Template'!A258:L258<>\"\"))<>0,'MARK Enrollment Template'!A258=\"\"),\"Please fill in First Name.\",IF(LEN('MARK Enrollment Template'!A258)=1,\"Please fill in full first name.\",\"\"))","v":""},{"$f":"IF('MARK Enrollment Template'!A258=\"\",\"\",IF(AND('MARK Enrollment Template'!A258<>\"\",'MARK Enrollment Template'!B258=\"\"),\"Please fill in a Last Name.\",\"\"))","v":""},{"$f":"IF('MARK Enrollment Template'!A258=\"\",\"\",IF(AND('MARK Enrollment Template'!A258<>\"\",'MARK Enrollment Template'!C258=\"\"),\"Please fill in Date of Birth.\",IF(TRIM(O253)<>\"D4\",\"Please format DOB as a date in the form MM/DD/YYYY.\",IF('MARK Enrollment Template'!C258>TODAY(),\"Please check DOB.\",\"\"))))","v":""},{"$f":"IF('MARK Enrollment Template'!A258=\"\",\"\",IF(AND('MARK Enrollment Template'!A258<>\"\",'MARK Enrollment Template'!D258=\"\"),\"Please fill in Sex.\",IF(OR(TRIM('MARK Enrollment Template'!D258)=\"M\",TRIM('MARK Enrollment Template'!D258)=\"F\",TRIM('MARK Enrollment Template'!D258)=\"Male\",TRIM('MARK Enrollment Template'!D258)=\"Female\"),\"\",\"Sex must be M/F/Male/Female.\")))","v":""},null,null,{"$f":"IF('MARK Enrollment Template'!A258=\"\",\"\",IF(AND('MARK Enrollment Template'!A258<>\"\",'MARK Enrollment Template'!G258=\"\"),\"Please fill in Email Address.\",IF(IFERROR(FIND(\"@\",'MARK Enrollment Template'!G258),\"X\")=\"X\",\"Email Address must include an @ symbol.\",\"\")))","v":""},null,null,null,{"$f":"IF('MARK Enrollment Template'!A258=\"\",\"\",IF(AND('MARK Enrollment Template'!A258<>\"\",'MARK Enrollment Template'!K258=\"\"),\"Please fill in Zip Code.\",IF(LEN(SUBSTITUTE(TRIM('MARK Enrollment Template'!K258),CHAR(9),\"\"))<5,\"Zip <5 digits. If leading zero, add apostrophe (ex. '01234).\",\"\")))","v":""},null,null,{"$f":"CELL(\"format\",'MARK Enrollment Template'!C258)","v":"G"}]
["",{"$f":"IF(AND(SUMPRODUCT(--('MARK Enrollment Template'!A259:L259<>\"\"))<>0,'MARK Enrollment Template'!A259=\"\"),\"Please fill in First Name.\",IF(LEN('MARK Enrollment Template'!A259)=1,\"Please fill in full first name.\",\"\"))","v":""},{"$f":"IF('MARK Enrollment Template'!A259=\"\",\"\",IF(AND('MARK Enrollment Template'!A259<>\"\",'MARK Enrollment Template'!B259=\"\"),\"Please fill in a Last Name.\",\"\"))","v":""},{"$f":"IF('MARK Enrollment Template'!A259=\"\",\"\",IF(AND('MARK Enrollment Template'!A259<>\"\",'MARK Enrollment Template'!C259=\"\"),\"Please fill in Date of Birth.\",IF(TRIM(O254)<>\"D4\",\"Please format DOB as a date in the form MM/DD/YYYY.\",IF('MARK Enrollment Template'!C259>TODAY(),\"Please check DOB.\",\"\"))))","v":""},{"$f":"IF('MARK Enrollment Template'!A259=\"\",\"\",IF(AND('MARK Enrollment Template'!A259<>\"\",'MARK Enrollment Template'!D259=\"\"),\"Please fill in Sex.\",IF(OR(TRIM('MARK Enrollment Template'!D259)=\"M\",TRIM('MARK Enrollment Template'!D259)=\"F\",TRIM('MARK Enrollment Template'!D259)=\"Male\",TRIM('MARK Enrollment Template'!D259)=\"Female\"),\"\",\"Sex must be M/F/Male/Female.\")))","v":""},null,null,{"$f":"IF('MARK Enrollment Template'!A259=\"\",\"\",IF(AND('MARK Enrollment Template'!A259<>\"\",'MARK Enrollment Template'!G259=\"\"),\"Please fill in Email Address.\",IF(IFERROR(FIND(\"@\",'MARK Enrollment Template'!G259),\"X\")=\"X\",\"Email Address must include an @ symbol.\",\"\")))","v":""},null,null,null,{"$f":"IF('MARK Enrollment Template'!A259=\"\",\"\",IF(AND('MARK Enrollment Template'!A259<>\"\",'MARK Enrollment Template'!K259=\"\"),\"Please fill in Zip Code.\",IF(LEN(SUBSTITUTE(TRIM('MARK Enrollment Template'!K259),CHAR(9),\"\"))<5,\"Zip <5 digits. If leading zero, add apostrophe (ex. '01234).\",\"\")))","v":""},null,null,{"$f":"CELL(\"format\",'MARK Enrollment Template'!C259)","v":"G"}]
["",{"$f":"IF(AND(SUMPRODUCT(--('MARK Enrollment Template'!A260:L260<>\"\"))<>0,'MARK Enrollment Template'!A260=\"\"),\"Please fill in First Name.\",IF(LEN('MARK Enrollment Template'!A260)=1,\"Please fill in full first name.\",\"\"))","v":""},{"$f":"IF('MARK Enrollment Template'!A260=\"\",\"\",IF(AND('MARK Enrollment Template'!A260<>\"\",'MARK Enrollment Template'!B260=\"\"),\"Please fill in a Last Name.\",\"\"))","v":""},{"$f":"IF('MARK Enrollment Template'!A260=\"\",\"\",IF(AND('MARK Enrollment Template'!A260<>\"\",'MARK Enrollment Template'!C260=\"\"),\"Please fill in Date of Birth.\",IF(TRIM(O255)<>\"D4\",\"Please format DOB as a date in the form MM/DD/YYYY.\",IF('MARK Enrollment Template'!C260>TODAY(),\"Please check DOB.\",\"\"))))","v":""},{"$f":"IF('MARK Enrollment Template'!A260=\"\",\"\",IF(AND('MARK Enrollment Template'!A260<>\"\",'MARK Enrollment Template'!D260=\"\"),\"Please fill in Sex.\",IF(OR(TRIM('MARK Enrollment Template'!D260)=\"M\",TRIM('MARK Enrollment Template'!D260)=\"F\",TRIM('MARK Enrollment Template'!D260)=\"Male\",TRIM('MARK Enrollment Template'!D260)=\"Female\"),\"\",\"Sex must be M/F/Male/Female.\")))","v":""},null,null,{"$f":"IF('MARK Enrollment Template'!A260=\"\",\"\",IF(AND('MARK Enrollment Template'!A260<>\"\",'MARK Enrollment Template'!G260=\"\"),\"Please fill in Email Address.\",IF(IFERROR(FIND(\"@\",'MARK Enrollment Template'!G260),\"X\")=\"X\",\"Email Address must include an @ symbol.\",\"\")))","v":""},null,null,null,{"$f":"IF('MARK Enrollment Template'!A260=\"\",\"\",IF(AND('MARK Enrollment Template'!A260<>\"\",'MARK Enrollment Template'!K260=\"\"),\"Please fill in Zip Code.\",IF(LEN(SUBSTITUTE(TRIM('MARK Enrollment Template'!K260),CHAR(9),\"\"))<5,\"Zip <5 digits. If leading zero, add apostrophe (ex. '01234).\",\"\")))","v":""},null,null,{"$f":"CELL(\"format\",'MARK Enrollment Template'!C260)","v":"G"}]
["",{"$f":"IF(AND(SUMPRODUCT(--('MARK Enrollment Template'!A261:L261<>\"\"))<>0,'MARK Enrollment Template'!A261=\"\"),\"Please fill in First Name.\",IF(LEN('MARK Enrollment Template'!A261)=1,\"Please fill in full first name.\",\"\"))","v":""},{"$f":"IF('MARK Enrollment Template'!A261=\"\",\"\",IF(AND('MARK Enrollment Template'!A261<>\"\",'MARK Enrollment Template'!B261=\"\"),\"Please fill in a Last Name.\",\"\"))","v":""},{"$f":"IF('MARK Enrollment Template'!A261=\"\",\"\",IF(AND('MARK Enrollment Template'!A261<>\"\",'MARK Enrollment Template'!C261=\"\"),\"Please fill in Date of Birth.\",IF(TRIM(O256)<>\"D4\",\"Please format DOB as a date in the form MM/DD/YYYY.\",IF('MARK Enrollment Template'!C261>TODAY(),\"Please check DOB.\",\"\"))))","v":""},{"$f":"IF('MARK Enrollment Template'!A261=\"\",\"\",IF(AND('MARK Enrollment Template'!A261<>\"\",'MARK Enrollment Template'!D261=\"\"),\"Please fill in Sex.\",IF(OR(TRIM('MARK Enrollment Template'!D261)=\"M\",TRIM('MARK Enrollment Template'!D261)=\"F\",TRIM('MARK Enrollment Template'!D261)=\"Male\",TRIM('MARK Enrollment Template'!D261)=\"Female\"),\"\",\"Sex must be M/F/Male/Female.\")))","v":""},null,null,{"$f":"IF('MARK Enrollment Template'!A261=\"\",\"\",IF(AND('MARK Enrollment Template'!A261<>\"\",'MARK Enrollment Template'!G261=\"\"),\"Please fill in Email Address.\",IF(IFERROR(FIND(\"@\",'MARK Enrollment Template'!G261),\"X\")=\"X\",\"Email Address must include an @ symbol.\",\"\")))","v":""},null,null,null,{"$f":"IF('MARK Enrollment Template'!A261=\"\",\"\",IF(AND('MARK Enrollment Template'!A261<>\"\",'MARK Enrollment Template'!K261=\"\"),\"Please fill in Zip Code.\",IF(LEN(SUBSTITUTE(TRIM('MARK Enrollment Template'!K261),CHAR(9),\"\"))<5,\"Zip <5 digits. If leading zero, add apostrophe (ex. '01234).\",\"\")))","v":""},null,null,{"$f":"CELL(\"format\",'MARK Enrollment Template'!C261)","v":"G"}]
["",{"$f":"IF(AND(SUMPRODUCT(--('MARK Enrollment Template'!A262:L262<>\"\"))<>0,'MARK Enrollment Template'!A262=\"\"),\"Please fill in First Name.\",IF(LEN('MARK Enrollment Template'!A262)=1,\"Please fill in full first name.\",\"\"))","v":""},{"$f":"IF('MARK Enrollment Template'!A262=\"\",\"\",IF(AND('MARK Enrollment Template'!A262<>\"\",'MARK Enrollment Template'!B262=\"\"),\"Please fill in a Last Name.\",\"\"))","v":""},{"$f":"IF('MARK Enrollment Template'!A262=\"\",\"\",IF(AND('MARK Enrollment Template'!A262<>\"\",'MARK Enrollment Template'!C262=\"\"),\"Please fill in Date of Birth.\",IF(TRIM(O257)<>\"D4\",\"Please format DOB as a date in the form MM/DD/YYYY.\",IF('MARK Enrollment Template'!C262>TODAY(),\"Please check DOB.\",\"\"))))","v":""},{"$f":"IF('MARK Enrollment Template'!A262=\"\",\"\",IF(AND('MARK Enrollment Template'!A262<>\"\",'MARK Enrollment Template'!D262=\"\"),\"Please fill in Sex.\",IF(OR(TRIM('MARK Enrollment Template'!D262)=\"M\",TRIM('MARK Enrollment Template'!D262)=\"F\",TRIM('MARK Enrollment Template'!D262)=\"Male\",TRIM('MARK Enrollment Template'!D262)=\"Female\"),\"\",\"Sex must be M/F/Male/Female.\")))","v":""},null,null,{"$f":"IF('MARK Enrollment Template'!A262=\"\",\"\",IF(AND('MARK Enrollment Template'!A262<>\"\",'MARK Enrollment Template'!G262=\"\"),\"Please fill in Email Address.\",IF(IFERROR(FIND(\"@\",'MARK Enrollment Template'!G262),\"X\")=\"X\",\"Email Address must include an @ symbol.\",\"\")))","v":""},null,null,null,{"$f":"IF('MARK Enrollment Template'!A262=\"\",\"\",IF(AND('MARK Enrollment Template'!A262<>\"\",'MARK Enrollment Template'!K262=\"\"),\"Please fill in Zip Code.\",IF(LEN(SUBSTITUTE(TRIM('MARK Enrollment Template'!K262),CHAR(9),\"\"))<5,\"Zip <5 digits. If leading zero, add apostrophe (ex. '01234).\",\"\")))","v":""},null,null,{"$f":"CELL(\"format\",'MARK Enrollment Template'!C262)","v":"G"}]
["",{"$f":"IF(AND(SUMPRODUCT(--('MARK Enrollment Template'!A263:L263<>\"\"))<>0,'MARK Enrollment Template'!A263=\"\"),\"Please fill in First Name.\",IF(LEN('MARK Enrollment Template'!A263)=1,\"Please fill in full first name.\",\"\"))","v":""},{"$f":"IF('MARK Enrollment Template'!A263=\"\",\"\",IF(AND('MARK Enrollment Template'!A263<>\"\",'MARK Enrollment Template'!B263=\"\"),\"Please fill in a Last Name.\",\"\"))","v":""},{"$f":"IF('MARK Enrollment Template'!A263=\"\",\"\",IF(AND('MARK Enrollment Template'!A263<>\"\",'MARK Enrollment Template'!C263=\"\"),\"Please fill in Date of Birth.\",IF(TRIM(O258)<>\"D4\",\"Please format DOB as a date in the form MM/DD/YYYY.\",IF('MARK Enrollment Template'!C263>TODAY(),\"Please check DOB.\",\"\"))))","v":""},{"$f":"IF('MARK Enrollment Template'!A263=\"\",\"\",IF(AND('MARK Enrollment Template'!A263<>\"\",'MARK Enrollment Template'!D263=\"\"),\"Please fill in Sex.\",IF(OR(TRIM('MARK Enrollment Template'!D263)=\"M\",TRIM('MARK Enrollment Template'!D263)=\"F\",TRIM('MARK Enrollment Template'!D263)=\"Male\",TRIM('MARK Enrollment Template'!D263)=\"Female\"),\"\",\"Sex must be M/F/Male/Female.\")))","v":""},null,null,{"$f":"IF('MARK Enrollment Template'!A263=\"\",\"\",IF(AND('MARK Enrollment Template'!A263<>\"\",'MARK Enrollment Template'!G263=\"\"),\"Please fill in Email Address.\",IF(IFERROR(FIND(\"@\",'MARK Enrollment Template'!G263),\"X\")=\"X\",\"Email Address must include an @ symbol.\",\"\")))","v":""},null,null,null,{"$f":"IF('MARK Enrollment Template'!A263=\"\",\"\",IF(AND('MARK Enrollment Template'!A263<>\"\",'MARK Enrollment Template'!K263=\"\"),\"Please fill in Zip Code.\",IF(LEN(SUBSTITUTE(TRIM('MARK Enrollment Template'!K263),CHAR(9),\"\"))<5,\"Zip <5 digits. If leading zero, add apostrophe (ex. '01234).\",\"\")))","v":""},null,null,{"$f":"CELL(\"format\",'MARK Enrollment Template'!C263)","v":"G"}]
["",{"$f":"IF(AND(SUMPRODUCT(--('MARK Enrollment Template'!A264:L264<>\"\"))<>0,'MARK Enrollment Template'!A264=\"\"),\"Please fill in First Name.\",IF(LEN('MARK Enrollment Template'!A264)=1,\"Please fill in full first name.\",\"\"))","v":""},{"$f":"IF('MARK Enrollment Template'!A264=\"\",\"\",IF(AND('MARK Enrollment Template'!A264<>\"\",'MARK Enrollment Template'!B264=\"\"),\"Please fill in a Last Name.\",\"\"))","v":""},{"$f":"IF('MARK Enrollment Template'!A264=\"\",\"\",IF(AND('MARK Enrollment Template'!A264<>\"\",'MARK Enrollment Template'!C264=\"\"),\"Please fill in Date of Birth.\",IF(TRIM(O259)<>\"D4\",\"Please format DOB as a date in the form MM/DD/YYYY.\",IF('MARK Enrollment Template'!C264>TODAY(),\"Please check DOB.\",\"\"))))","v":""},{"$f":"IF('MARK Enrollment Template'!A264=\"\",\"\",IF(AND('MARK Enrollment Template'!A264<>\"\",'MARK Enrollment Template'!D264=\"\"),\"Please fill in Sex.\",IF(OR(TRIM('MARK Enrollment Template'!D264)=\"M\",TRIM('MARK Enrollment Template'!D264)=\"F\",TRIM('MARK Enrollment Template'!D264)=\"Male\",TRIM('MARK Enrollment Template'!D264)=\"Female\"),\"\",\"Sex must be M/F/Male/Female.\")))","v":""},null,null,{"$f":"IF('MARK Enrollment Template'!A264=\"\",\"\",IF(AND('MARK Enrollment Template'!A264<>\"\",'MARK Enrollment Template'!G264=\"\"),\"Please fill in Email Address.\",IF(IFERROR(FIND(\"@\",'MARK Enrollment Template'!G264),\"X\")=\"X\",\"Email Address must include an @ symbol.\",\"\")))","v":""},null,null,null,{"$f":"IF('MARK Enrollment Template'!A264=\"\",\"\",IF(AND('MARK Enrollment Template'!A264<>\"\",'MARK Enrollment Template'!K264=\"\"),\"Please fill in Zip Code.\",IF(LEN(SUBSTITUTE(TRIM('MARK Enrollment Template'!K264),CHAR(9),\"\"))<5,\"Zip <5 digits. If leading zero, add apostrophe (ex. '01234).\",\"\")))","v":""},null,null,{"$f":"CELL(\"format\",'MARK Enrollment Template'!C264)","v":"G"}]
["",{"$f":"IF(AND(SUMPRODUCT(--('MARK Enrollment Template'!A265:L265<>\"\"))<>0,'MARK Enrollment Template'!A265=\"\"),\"Please fill in First Name.\",IF(LEN('MARK Enrollment Template'!A265)=1,\"Please fill in full first name.\",\"\"))","v":""},{"$f":"IF('MARK Enrollment Template'!A265=\"\",\"\",IF(AND('MARK Enrollment Template'!A265<>\"\",'MARK Enrollment Template'!B265=\"\"),\"Please fill in a Last Name.\",\"\"))","v":""},{"$f":"IF('MARK Enrollment Template'!A265=\"\",\"\",IF(AND('MARK Enrollment Template'!A265<>\"\",'MARK Enrollment Template'!C265=\"\"),\"Please fill in Date of Birth.\",IF(TRIM(O260)<>\"D4\",\"Please format DOB as a date in the form MM/DD/YYYY.\",IF('MARK Enrollment Template'!C265>TODAY(),\"Please check DOB.\",\"\"))))","v":""},{"$f":"IF('MARK Enrollment Template'!A265=\"\",\"\",IF(AND('MARK Enrollment Template'!A265<>\"\",'MARK Enrollment Template'!D265=\"\"),\"Please fill in Sex.\",IF(OR(TRIM('MARK Enrollment Template'!D265)=\"M\",TRIM('MARK Enrollment Template'!D265)=\"F\",TRIM('MARK Enrollment Template'!D265)=\"Male\",TRIM('MARK Enrollment Template'!D265)=\"Female\"),\"\",\"Sex must be M/F/Male/Female.\")))","v":""},null,null,{"$f":"IF('MARK Enrollment Template'!A265=\"\",\"\",IF(AND('MARK Enrollment Template'!A265<>\"\",'MARK Enrollment Template'!G265=\"\"),\"Please fill in Email Address.\",IF(IFERROR(FIND(\"@\",'MARK Enrollment Template'!G265),\"X\")=\"X\",\"Email Address must include an @ symbol.\",\"\")))","v":""},null,null,null,{"$f":"IF('MARK Enrollment Template'!A265=\"\",\"\",IF(AND('MARK Enrollment Template'!A265<>\"\",'MARK Enrollment Template'!K265=\"\"),\"Please fill in Zip Code.\",IF(LEN(SUBSTITUTE(TRIM('MARK Enrollment Template'!K265),CHAR(9),\"\"))<5,\"Zip <5 digits. If leading zero, add apostrophe (ex. '01234).\",\"\")))","v":""},null,null,{"$f":"CELL(\"format\",'MARK Enrollment Template'!C265)","v":"G"}]
["",{"$f":"IF(AND(SUMPRODUCT(--('MARK Enrollment Template'!A266:L266<>\"\"))<>0,'MARK Enrollment Template'!A266=\"\"),\"Please fill in First Name.\",IF(LEN('MARK Enrollment Template'!A266)=1,\"Please fill in full first name.\",\"\"))","v":""},{"$f":"IF('MARK Enrollment Template'!A266=\"\",\"\",IF(AND('MARK Enrollment Template'!A266<>\"\",'MARK Enrollment Template'!B266=\"\"),\"Please fill in a Last Name.\",\"\"))","v":""},{"$f":"IF('MARK Enrollment Template'!A266=\"\",\"\",IF(AND('MARK Enrollment Template'!A266<>\"\",'MARK Enrollment Template'!C266=\"\"),\"Please fill in Date of Birth.\",IF(TRIM(O261)<>\"D4\",\"Please format DOB as a date in the form MM/DD/YYYY.\",IF('MARK Enrollment Template'!C266>TODAY(),\"Please check DOB.\",\"\"))))","v":""},{"$f":"IF('MARK Enrollment Template'!A266=\"\",\"\",IF(AND('MARK Enrollment Template'!A266<>\"\",'MARK Enrollment Template'!D266=\"\"),\"Please fill in Sex.\",IF(OR(TRIM('MARK Enrollment Template'!D266)=\"M\",TRIM('MARK Enrollment Template'!D266)=\"F\",TRIM('MARK Enrollment Template'!D266)=\"Male\",TRIM('MARK Enrollment Template'!D266)=\"Female\"),\"\",\"Sex must be M/F/Male/Female.\")))","v":""},null,null,{"$f":"IF('MARK Enrollment Template'!A266=\"\",\"\",IF(AND('MARK Enrollment Template'!A266<>\"\",'MARK Enrollment Template'!G266=\"\"),\"Please fill in Email Address.\",IF(IFERROR(FIND(\"@\",'MARK Enrollment Template'!G266),\"X\")=\"X\",\"Email Address must include an @ symbol.\",\"\")))","v":""},null,null,null,{"$f":"IF('MARK Enrollment Template'!A266=\"\",\"\",IF(AND('MARK Enrollment Template'!A266<>\"\",'MARK Enrollment Template'!K266=\"\"),\"Please fill in Zip Code.\",IF(LEN(SUBSTITUTE(TRIM('MARK Enrollment Template'!K266),CHAR(9),\"\"))<5,\"Zip <5 digits. If leading zero, add apostrophe (ex. '01234).\",\"\")))","v":""},null,null,{"$f":"CELL(\"format\",'MARK Enrollment Template'!C266)","v":"G"}]
["",{"$f":"IF(AND(SUMPRODUCT(--('MARK Enrollment Template'!A267:L267<>\"\"))<>0,'MARK Enrollment Template'!A267=\"\"),\"Please fill in First Name.\",IF(LEN('MARK Enrollment Template'!A267)=1,\"Please fill in full first name.\",\"\"))","v":""},{"$f":"IF('MARK Enrollment Template'!A267=\"\",\"\",IF(AND('MARK Enrollment Template'!A267<>\"\",'MARK Enrollment Template'!B267=\"\"),\"Please fill in a Last Name.\",\"\"))","v":""},{"$f":"IF('MARK Enrollment Template'!A267=\"\",\"\",IF(AND('MARK Enrollment Template'!A267<>\"\",'MARK Enrollment Template'!C267=\"\"),\"Please fill in Date of Birth.\",IF(TRIM(O262)<>\"D4\",\"Please format DOB as a date in the form MM/DD/YYYY.\",IF('MARK Enrollment Template'!C267>TODAY(),\"Please check DOB.\",\"\"))))","v":""},{"$f":"IF('MARK Enrollment Template'!A267=\"\",\"\",IF(AND('MARK Enrollment Template'!A267<>\"\",'MARK Enrollment Template'!D267=\"\"),\"Please fill in Sex.\",IF(OR(TRIM('MARK Enrollment Template'!D267)=\"M\",TRIM('MARK Enrollment Template'!D267)=\"F\",TRIM('MARK Enrollment Template'!D267)=\"Male\",TRIM('MARK Enrollment Template'!D267)=\"Female\"),\"\",\"Sex must be M/F/Male/Female.\")))","v":""},null,null,{"$f":"IF('MARK Enrollment Template'!A267=\"\",\"\",IF(AND('MARK Enrollment Template'!A267<>\"\",'MARK Enrollment Template'!G267=\"\"),\"Please fill in Email Address.\",IF(IFERROR(FIND(\"@\",'MARK Enrollment Template'!G267),\"X\")=\"X\",\"Email Address must include an @ symbol.\",\"\")))","v":""},null,null,null,{"$f":"IF('MARK Enrollment Template'!A267=\"\",\"\",IF(AND('MARK Enrollment Template'!A267<>\"\",'MARK Enrollment Template'!K267=\"\"),\"Please fill in Zip Code.\",IF(LEN(SUBSTITUTE(TRIM('MARK Enrollment Template'!K267),CHAR(9),\"\"))<5,\"Zip <5 digits. If leading zero, add apostrophe (ex. '01234).\",\"\")))","v":""},null,null,{"$f":"CELL(\"format\",'MARK Enrollment Template'!C267)","v":"G"}]
["",{"$f":"IF(AND(SUMPRODUCT(--('MARK Enrollment Template'!A268:L268<>\"\"))<>0,'MARK Enrollment Template'!A268=\"\"),\"Please fill in First Name.\",IF(LEN('MARK Enrollment Template'!A268)=1,\"Please fill in full first name.\",\"\"))","v":""},{"$f":"IF('MARK Enrollment Template'!A268=\"\",\"\",IF(AND('MARK Enrollment Template'!A268<>\"\",'MARK Enrollment Template'!B268=\"\"),\"Please fill in a Last Name.\",\"\"))","v":""},{"$f":"IF('MARK Enrollment Template'!A268=\"\",\"\",IF(AND('MARK Enrollment Template'!A268<>\"\",'MARK Enrollment Template'!C268=\"\"),\"Please fill in Date of Birth.\",IF(TRIM(O263)<>\"D4\",\"Please format DOB as a date in the form MM/DD/YYYY.\",IF('MARK Enrollment Template'!C268>TODAY(),\"Please check DOB.\",\"\"))))","v":""},{"$f":"IF('MARK Enrollment Template'!A268=\"\",\"\",IF(AND('MARK Enrollment Template'!A268<>\"\",'MARK Enrollment Template'!D268=\"\"),\"Please fill in Sex.\",IF(OR(TRIM('MARK Enrollment Template'!D268)=\"M\",TRIM('MARK Enrollment Template'!D268)=\"F\",TRIM('MARK Enrollment Template'!D268)=\"Male\",TRIM('MARK Enrollment Template'!D268)=\"Female\"),\"\",\"Sex must be M/F/Male/Female.\")))","v":""},null,null,{"$f":"IF('MARK Enrollment Template'!A268=\"\",\"\",IF(AND('MARK Enrollment Template'!A268<>\"\",'MARK Enrollment Template'!G268=\"\"),\"Please fill in Email Address.\",IF(IFERROR(FIND(\"@\",'MARK Enrollment Template'!G268),\"X\")=\"X\",\"Email Address must include an @ symbol.\",\"\")))","v":""},null,null,null,{"$f":"IF('MARK Enrollment Template'!A268=\"\",\"\",IF(AND('MARK Enrollment Template'!A268<>\"\",'MARK Enrollment Template'!K268=\"\"),\"Please fill in Zip Code.\",IF(LEN(SUBSTITUTE(TRIM('MARK Enrollment Template'!K268),CHAR(9),\"\"))<5,\"Zip <5 digits. If leading zero, add apostrophe (ex. '01234).\",\"\")))","v":""},null,null,{"$f":"CELL(\"format\",'MARK Enrollment Template'!C268)","v":"G"}]
["",{"$f":"IF(AND(SUMPRODUCT(--('MARK Enrollment Template'!A269:L269<>\"\"))<>0,'MARK Enrollment Template'!A269=\"\"),\"Please fill in First Name.\",IF(LEN('MARK Enrollment Template'!A269)=1,\"Please fill in full first name.\",\"\"))","v":""},{"$f":"IF('MARK Enrollment Template'!A269=\"\",\"\",IF(AND('MARK Enrollment Template'!A269<>\"\",'MARK Enrollment Template'!B269=\"\"),\"Please fill in a Last Name.\",\"\"))","v":""},{"$f":"IF('MARK Enrollment Template'!A269=\"\",\"\",IF(AND('MARK Enrollment Template'!A269<>\"\",'MARK Enrollment Template'!C269=\"\"),\"Please fill in Date of Birth.\",IF(TRIM(O264)<>\"D4\",\"Please format DOB as a date in the form MM/DD/YYYY.\",IF('MARK Enrollment Template'!C269>TODAY(),\"Please check DOB.\",\"\"))))","v":""},{"$f":"IF('MARK Enrollment Template'!A269=\"\",\"\",IF(AND('MARK Enrollment Template'!A269<>\"\",'MARK Enrollment Template'!D269=\"\"),\"Please fill in Sex.\",IF(OR(TRIM('MARK Enrollment Template'!D269)=\"M\",TRIM('MARK Enrollment Template'!D269)=\"F\",TRIM('MARK Enrollment Template'!D269)=\"Male\",TRIM('MARK Enrollment Template'!D269)=\"Female\"),\"\",\"Sex must be M/F/Male/Female.\")))","v":""},null,null,{"$f":"IF('MARK Enrollment Template'!A269=\"\",\"\",IF(AND('MARK Enrollment Template'!A269<>\"\",'MARK Enrollment Template'!G269=\"\"),\"Please fill in Email Address.\",IF(IFERROR(FIND(\"@\",'MARK Enrollment Template'!G269),\"X\")=\"X\",\"Email Address must include an @ symbol.\",\"\")))","v":""},null,null,null,{"$f":"IF('MARK Enrollment Template'!A269=\"\",\"\",IF(AND('MARK Enrollment Template'!A269<>\"\",'MARK Enrollment Template'!K269=\"\"),\"Please fill in Zip Code.\",IF(LEN(SUBSTITUTE(TRIM('MARK Enrollment Template'!K269),CHAR(9),\"\"))<5,\"Zip <5 digits. If leading zero, add apostrophe (ex. '01234).\",\"\")))","v":""},null,null,{"$f":"CELL(\"format\",'MARK Enrollment Template'!C269)","v":"G"}]
[{"$f":"IF(B265<>\"\",B265,IF(C265<>\"\",C265,IF(D265<>\"\",D265,IF(E265<>\"\",E265,IF(F265<>\"\",F265,IF(G265<>\"\",G265,IF(H265<>\"\",H265,IF(I265<>\"\",I265,IF(J265<>\"\",J265,IF(K265<>\"\",K265,L265))))))))))","v":""},{"$f":"IF(AND(SUMPRODUCT(--('MARK Enrollment Template'!A270:L270<>\"\"))<>0,'MARK Enrollment Template'!A270=\"\"),\"Please fill in First Name.\",IF(LEN('MARK Enrollment Template'!A270)=1,\"Please fill in full first name.\",\"\"))","v":""},{"$f":"IF('MARK Enrollment Template'!A270=\"\",\"\",IF(AND('MARK Enrollment Template'!A270<>\"\",'MARK Enrollment Template'!B270=\"\"),\"Please fill in a Last Name.\",\"\"))","v":""},{"$f":"IF('MARK Enrollment Template'!A270=\"\",\"\",IF(AND('MARK Enrollment Template'!A270<>\"\",'MARK Enrollment Template'!C270=\"\"),\"Please fill in Date of Birth.\",IF(TRIM(O265)<>\"D4\",\"Please format DOB as a date in the form MM/DD/YYYY.\",IF('MARK Enrollment Template'!C270>TODAY(),\"Please check DOB.\",\"\"))))","v":""},{"$f":"IF('MARK Enrollment Template'!A270=\"\",\"\",IF(AND('MARK Enrollment Template'!A270<>\"\",'MARK Enrollment Template'!D270=\"\"),\"Please fill in Sex.\",IF(OR(TRIM('MARK Enrollment Template'!D270)=\"M\",TRIM('MARK Enrollment Template'!D270)=\"F\",TRIM('MARK Enrollment Template'!D270)=\"Male\",TRIM('MARK Enrollment Template'!D270)=\"Female\"),\"\",\"Sex must be M/F/Male/Female.\")))","v":""},null,null,{"$f":"IF('MARK Enrollment Template'!A270=\"\",\"\",IF(AND('MARK Enrollment Template'!A270<>\"\",'MARK Enrollment Template'!G270=\"\"),\"Please fill in Email Address.\",IF(IFERROR(FIND(\"@\",'MARK Enrollment Template'!G270),\"X\")=\"X\",\"Email Address must include an @ symbol.\",\"\")))","v":""},null,null,null,{"$f":"IF('MARK Enrollment Template'!A270=\"\",\"\",IF(AND('MARK Enrollment Template'!A270<>\"\",'MARK Enrollment Template'!K270=\"\"),\"Please fill in Zip Code.\",IF(LEN(SUBSTITUTE(TRIM('MARK Enrollment Template'!K270),CHAR(9),\"\"))<5,\"Zip <5 digits. If leading zero, add apostrophe (ex. '01234).\",\"\")))","v":""},null,null,{"$f":"CELL(\"format\",'MARK Enrollment Template'!C270)","v":"G"}]
["",{"$f":"IF(AND(SUMPRODUCT(--('MARK Enrollment Template'!A271:L271<>\"\"))<>0,'MARK Enrollment Template'!A271=\"\"),\"Please fill in First Name.\",IF(LEN('MARK Enrollment Template'!A271)=1,\"Please fill in full first name.\",\"\"))","v":""},{"$f":"IF('MARK Enrollment Template'!A271=\"\",\"\",IF(AND('MARK Enrollment Template'!A271<>\"\",'MARK Enrollment Template'!B271=\"\"),\"Please fill in a Last Name.\",\"\"))","v":""},{"$f":"IF('MARK Enrollment Template'!A271=\"\",\"\",IF(AND('MARK Enrollment Template'!A271<>\"\",'MARK Enrollment Template'!C271=\"\"),\"Please fill in Date of Birth.\",IF(TRIM(O266)<>\"D4\",\"Please format DOB as a date in the form MM/DD/YYYY.\",IF('MARK Enrollment Template'!C271>TODAY(),\"Please check DOB.\",\"\"))))","v":""},{"$f":"IF('MARK Enrollment Template'!A271=\"\",\"\",IF(AND('MARK Enrollment Template'!A271<>\"\",'MARK Enrollment Template'!D271=\"\"),\"Please fill in Sex.\",IF(OR(TRIM('MARK Enrollment Template'!D271)=\"M\",TRIM('MARK Enrollment Template'!D271)=\"F\",TRIM('MARK Enrollment Template'!D271)=\"Male\",TRIM('MARK Enrollment Template'!D271)=\"Female\"),\"\",\"Sex must be M/F/Male/Female.\")))","v":""},null,null,{"$f":"IF('MARK Enrollment Template'!A271=\"\",\"\",IF(AND('MARK Enrollment Template'!A271<>\"\",'MARK Enrollment Template'!G271=\"\"),\"Please fill in Email Address.\",IF(IFERROR(FIND(\"@\",'MARK Enrollment Template'!G271),\"X\")=\"X\",\"Email Address must include an @ symbol.\",\"\")))","v":""},null,null,null,{"$f":"IF('MARK Enrollment Template'!A271=\"\",\"\",IF(AND('MARK Enrollment Template'!A271<>\"\",'MARK Enrollment Template'!K271=\"\"),\"Please fill in Zip Code.\",IF(LEN(SUBSTITUTE(TRIM('MARK Enrollment Template'!K271),CHAR(9),\"\"))<5,\"Zip <5 digits. If leading zero, add apostrophe (ex. '01234).\",\"\")))","v":""},null,null,{"$f":"CELL(\"format\",'MARK Enrollment Template'!C271)","v":"G"}]
["",{"$f":"IF(AND(SUMPRODUCT(--('MARK Enrollment Template'!A272:L272<>\"\"))<>0,'MARK Enrollment Template'!A272=\"\"),\"Please fill in First Name.\",IF(LEN('MARK Enrollment Template'!A272)=1,\"Please fill in full first name.\",\"\"))","v":""},{"$f":"IF('MARK Enrollment Template'!A272=\"\",\"\",IF(AND('MARK Enrollment Template'!A272<>\"\",'MARK Enrollment Template'!B272=\"\"),\"Please fill in a Last Name.\",\"\"))","v":""},{"$f":"IF('MARK Enrollment Template'!A272=\"\",\"\",IF(AND('MARK Enrollment Template'!A272<>\"\",'MARK Enrollment Template'!C272=\"\"),\"Please fill in Date of Birth.\",IF(TRIM(O267)<>\"D4\",\"Please format DOB as a date in the form MM/DD/YYYY.\",IF('MARK Enrollment Template'!C272>TODAY(),\"Please check DOB.\",\"\"))))","v":""},{"$f":"IF('MARK Enrollment Template'!A272=\"\",\"\",IF(AND('MARK Enrollment Template'!A272<>\"\",'MARK Enrollment Template'!D272=\"\"),\"Please fill in Sex.\",IF(OR(TRIM('MARK Enrollment Template'!D272)=\"M\",TRIM('MARK Enrollment Template'!D272)=\"F\",TRIM('MARK Enrollment Template'!D272)=\"Male\",TRIM('MARK Enrollment Template'!D272)=\"Female\"),\"\",\"Sex must be M/F/Male/Female.\")))","v":""},null,null,{"$f":"IF('MARK Enrollment Template'!A272=\"\",\"\",IF(AND('MARK Enrollment Template'!A272<>\"\",'MARK Enrollment Template'!G272=\"\"),\"Please fill in Email Address.\",IF(IFERROR(FIND(\"@\",'MARK Enrollment Template'!G272),\"X\")=\"X\",\"Email Address must include an @ symbol.\",\"\")))","v":""},null,null,null,{"$f":"IF('MARK Enrollment Template'!A272=\"\",\"\",IF(AND('MARK Enrollment Template'!A272<>\"\",'MARK Enrollment Template'!K272=\"\"),\"Please fill in Zip Code.\",IF(LEN(SUBSTITUTE(TRIM('MARK Enrollment Template'!K272),CHAR(9),\"\"))<5,\"Zip <5 digits. If leading zero, add apostrophe (ex. '01234).\",\"\")))","v":""},null,null,{"$f":"CELL(\"format\",'MARK Enrollment Template'!C272)","v":"G"}]
["",{"$f":"IF(AND(SUMPRODUCT(--('MARK Enrollment Template'!A273:L273<>\"\"))<>0,'MARK Enrollment Template'!A273=\"\"),\"Please fill in First Name.\",IF(LEN('MARK Enrollment Template'!A273)=1,\"Please fill in full first name.\",\"\"))","v":""},{"$f":"IF('MARK Enrollment Template'!A273=\"\",\"\",IF(AND('MARK Enrollment Template'!A273<>\"\",'MARK Enrollment Template'!B273=\"\"),\"Please fill in a Last Name.\",\"\"))","v":""},{"$f":"IF('MARK Enrollment Template'!A273=\"\",\"\",IF(AND('MARK Enrollment Template'!A273<>\"\",'MARK Enrollment Template'!C273=\"\"),\"Please fill in Date of Birth.\",IF(TRIM(O268)<>\"D4\",\"Please format DOB as a date in the form MM/DD/YYYY.\",IF('MARK Enrollment Template'!C273>TODAY(),\"Please check DOB.\",\"\"))))","v":""},{"$f":"IF('MARK Enrollment Template'!A273=\"\",\"\",IF(AND('MARK Enrollment Template'!A273<>\"\",'MARK Enrollment Template'!D273=\"\"),\"Please fill in Sex.\",IF(OR(TRIM('MARK Enrollment Template'!D273)=\"M\",TRIM('MARK Enrollment Template'!D273)=\"F\",TRIM('MARK Enrollment Template'!D273)=\"Male\",TRIM('MARK Enrollment Template'!D273)=\"Female\"),\"\",\"Sex must be M/F/Male/Female.\")))","v":""},null,null,{"$f":"IF('MARK Enrollment Template'!A273=\"\",\"\",IF(AND('MARK Enrollment Template'!A273<>\"\",'MARK Enrollment Template'!G273=\"\"),\"Please fill in Email Address.\",IF(IFERROR(FIND(\"@\",'MARK Enrollment Template'!G273),\"X\")=\"X\",\"Email Address must include an @ symbol.\",\"\")))","v":""},null,null,null,{"$f":"IF('MARK Enrollment Template'!A273=\"\",\"\",IF(AND('MARK Enrollment Template'!A273<>\"\",'MARK Enrollment Template'!K273=\"\"),\"Please fill in Zip Code.\",IF(LEN(SUBSTITUTE(TRIM('MARK Enrollment Template'!K273),CHAR(9),\"\"))<5,\"Zip <5 digits. If leading zero, add apostrophe (ex. '01234).\",\"\")))","v":""},null,null,{"$f":"CELL(\"format\",'MARK Enrollment Template'!C273)","v":"G"}]
["",{"$f":"IF(AND(SUMPRODUCT(--('MARK Enrollment Template'!A274:L274<>\"\"))<>0,'MARK Enrollment Template'!A274=\"\"),\"Please fill in First Name.\",IF(LEN('MARK Enrollment Template'!A274)=1,\"Please fill in full first name.\",\"\"))","v":""},{"$f":"IF('MARK Enrollment Template'!A274=\"\",\"\",IF(AND('MARK Enrollment Template'!A274<>\"\",'MARK Enrollment Template'!B274=\"\"),\"Please fill in a Last Name.\",\"\"))","v":""},{"$f":"IF('MARK Enrollment Template'!A274=\"\",\"\",IF(AND('MARK Enrollment Template'!A274<>\"\",'MARK Enrollment Template'!C274=\"\"),\"Please fill in Date of Birth.\",IF(TRIM(O269)<>\"D4\",\"Please format DOB as a date in the form MM/DD/YYYY.\",IF('MARK Enrollment Template'!C274>TODAY(),\"Please check DOB.\",\"\"))))","v":""},{"$f":"IF('MARK Enrollment Template'!A274=\"\",\"\",IF(AND('MARK Enrollment Template'!A274<>\"\",'MARK Enrollment Template'!D274=\"\"),\"Please fill in Sex.\",IF(OR(TRIM('MARK Enrollment Template'!D274)=\"M\",TRIM('MARK Enrollment Template'!D274)=\"F\",TRIM('MARK Enrollment Template'!D274)=\"Male\",TRIM('MARK Enrollment Template'!D274)=\"Female\"),\"\",\"Sex must be M/F/Male/Female.\")))","v":""},null,null,{"$f":"IF('MARK Enrollment Template'!A274=\"\",\"\",IF(AND('MARK Enrollment Template'!A274<>\"\",'MARK Enrollment Template'!G274=\"\"),\"Please fill in Email Address.\",IF(IFERROR(FIND(\"@\",'MARK Enrollment Template'!G274),\"X\")=\"X\",\"Email Address must include an @ symbol.\",\"\")))","v":""},null,null,null,{"$f":"IF('MARK Enrollment Template'!A274=\"\",\"\",IF(AND('MARK Enrollment Template'!A274<>\"\",'MARK Enrollment Template'!K274=\"\"),\"Please fill in Zip Code.\",IF(LEN(SUBSTITUTE(TRIM('MARK Enrollment Template'!K274),CHAR(9),\"\"))<5,\"Zip <5 digits. If leading zero, add apostrophe (ex. '01234).\",\"\")))","v":""},null,null,{"$f":"CELL(\"format\",'MARK Enrollment Template'!C274)","v":"G"}]
["",{"$f":"IF(AND(SUMPRODUCT(--('MARK Enrollment Template'!A275:L275<>\"\"))<>0,'MARK Enrollment Template'!A275=\"\"),\"Please fill in First Name.\",IF(LEN('MARK Enrollment Template'!A275)=1,\"Please fill in full first name.\",\"\"))","v":""},{"$f":"IF('MARK Enrollment Template'!A275=\"\",\"\",IF(AND('MARK Enrollment Template'!A275<>\"\",'MARK Enrollment Template'!B275=\"\"),\"Please fill in a Last Name.\",\"\"))","v":""},{"$f":"IF('MARK Enrollment Template'!A275=\"\",\"\",IF(AND('MARK Enrollment Template'!A275<>\"\",'MARK Enrollment Template'!C275=\"\"),\"Please fill in Date of Birth.\",IF(TRIM(O270)<>\"D4\",\"Please format DOB as a date in the form MM/DD/YYYY.\",IF('MARK Enrollment Template'!C275>TODAY(),\"Please check DOB.\",\"\"))))","v":""},{"$f":"IF('MARK Enrollment Template'!A275=\"\",\"\",IF(AND('MARK Enrollment Template'!A275<>\"\",'MARK Enrollment Template'!D275=\"\"),\"Please fill in Sex.\",IF(OR(TRIM('MARK Enrollment Template'!D275)=\"M\",TRIM('MARK Enrollment Template'!D275)=\"F\",TRIM('MARK Enrollment Template'!D275)=\"Male\",TRIM('MARK Enrollment Template'!D275)=\"Female\"),\"\",\"Sex must be M/F/Male/Female.\")))","v":""},null,null,{"$f":"IF('MARK Enrollment Template'!A275=\"\",\"\",IF(AND('MARK Enrollment Template'!A275<>\"\",'MARK Enrollment Template'!G275=\"\"),\"Please fill in Email Address.\",IF(IFERROR(FIND(\"@\",'MARK Enrollment Template'!G275),\"X\")=\"X\",\"Email Address must include an @ symbol.\",\"\")))","v":""},null,null,null,{"$f":"IF('MARK Enrollment Template'!A275=\"\",\"\",IF(AND('MARK Enrollment Template'!A275<>\"\",'MARK Enrollment Template'!K275=\"\"),\"Please fill in Zip Code.\",IF(LEN(SUBSTITUTE(TRIM('MARK Enrollment Template'!K275),CHAR(9),\"\"))<5,\"Zip <5 digits. If leading zero, add apostrophe (ex. '01234).\",\"\")))","v":""},null,null,{"$f":"CELL(\"format\",'MARK Enrollment Template'!C275)","v":"G"}]
["",{"$f":"IF(AND(SUMPRODUCT(--('MARK Enrollment Template'!A276:L276<>\"\"))<>0,'MARK Enrollment Template'!A276=\"\"),\"Please fill in First Name.\",IF(LEN('MARK Enrollment Template'!A276)=1,\"Please fill in full first name.\",\"\"))","v":""},{"$f":"IF('MARK Enrollment Template'!A276=\"\",\"\",IF(AND('MARK Enrollment Template'!A276<>\"\",'MARK Enrollment Template'!B276=\"\"),\"Please fill in a Last Name.\",\"\"))","v":""},{"$f":"IF('MARK Enrollment Template'!A276=\"\",\"\",IF(AND('MARK Enrollment Template'!A276<>\"\",'MARK Enrollment Template'!C276=\"\"),\"Please fill in Date of Birth.\",IF(TRIM(O271)<>\"D4\",\"Please format DOB as a date in the form MM/DD/YYYY.\",IF('MARK Enrollment Template'!C276>TODAY(),\"Please check DOB.\",\"\"))))","v":""},{"$f":"IF('MARK Enrollment Template'!A276=\"\",\"\",IF(AND('MARK Enrollment Template'!A276<>\"\",'MARK Enrollment Template'!D276=\"\"),\"Please fill in Sex.\",IF(OR(TRIM('MARK Enrollment Template'!D276)=\"M\",TRIM('MARK Enrollment Template'!D276)=\"F\",TRIM('MARK Enrollment Template'!D276)=\"Male\",TRIM('MARK Enrollment Template'!D276)=\"Female\"),\"\",\"Sex must be M/F/Male/Female.\")))","v":""},null,null,{"$f":"IF('MARK Enrollment Template'!A276=\"\",\"\",IF(AND('MARK Enrollment Template'!A276<>\"\",'MARK Enrollment Template'!G276=\"\"),\"Please fill in Email Address.\",IF(IFERROR(FIND(\"@\",'MARK Enrollment Template'!G276),\"X\")=\"X\",\"Email Address must include an @ symbol.\",\"\")))","v":""},null,null,null,{"$f":"IF('MARK Enrollment Template'!A276=\"\",\"\",IF(AND('MARK Enrollment Template'!A276<>\"\",'MARK Enrollment Template'!K276=\"\"),\"Please fill in Zip Code.\",IF(LEN(SUBSTITUTE(TRIM('MARK Enrollment Template'!K276),CHAR(9),\"\"))<5,\"Zip <5 digits. If leading zero, add apostrophe (ex. '01234).\",\"\")))","v":""},null,null,{"$f":"CELL(\"format\",'MARK Enrollment Template'!C276)","v":"G"}]
["",{"$f":"IF(AND(SUMPRODUCT(--('MARK Enrollment Template'!A277:L277<>\"\"))<>0,'MARK Enrollment Template'!A277=\"\"),\"Please fill in First Name.\",IF(LEN('MARK Enrollment Template'!A277)=1,\"Please fill in full first name.\",\"\"))","v":""},{"$f":"IF('MARK Enrollment Template'!A277=\"\",\"\",IF(AND('MARK Enrollment Template'!A277<>\"\",'MARK Enrollment Template'!B277=\"\"),\"Please fill in a Last Name.\",\"\"))","v":""},{"$f":"IF('MARK Enrollment Template'!A277=\"\",\"\",IF(AND('MARK Enrollment Template'!A277<>\"\",'MARK Enrollment Template'!C277=\"\"),\"Please fill in Date of Birth.\",IF(TRIM(O272)<>\"D4\",\"Please format DOB as a date in the form MM/DD/YYYY.\",IF('MARK Enrollment Template'!C277>TODAY(),\"Please check DOB.\",\"\"))))","v":""},{"$f":"IF('MARK Enrollment Template'!A277=\"\",\"\",IF(AND('MARK Enrollment Template'!A277<>\"\",'MARK Enrollment Template'!D277=\"\"),\"Please fill in Sex.\",IF(OR(TRIM('MARK Enrollment Template'!D277)=\"M\",TRIM('MARK Enrollment Template'!D277)=\"F\",TRIM('MARK Enrollment Template'!D277)=\"Male\",TRIM('MARK Enrollment Template'!D277)=\"Female\"),\"\",\"Sex must be M/F/Male/Female.\")))","v":""},null,null,{"$f":"IF('MARK Enrollment Template'!A277=\"\",\"\",IF(AND('MARK Enrollment Template'!A277<>\"\",'MARK Enrollment Template'!G277=\"\"),\"Please fill in Email Address.\",IF(IFERROR(FIND(\"@\",'MARK Enrollment Template'!G277),\"X\")=\"X\",\"Email Address must include an @ symbol.\",\"\")))","v":""},null,null,null,{"$f":"IF('MARK Enrollment Template'!A277=\"\",\"\",IF(AND('MARK Enrollment Template'!A277<>\"\",'MARK Enrollment Template'!K277=\"\"),\"Please fill in Zip Code.\",IF(LEN(SUBSTITUTE(TRIM('MARK Enrollment Template'!K277),CHAR(9),\"\"))<5,\"Zip <5 digits. If leading zero, add apostrophe (ex. '01234).\",\"\")))","v":""},null,null,{"$f":"CELL(\"format\",'MARK Enrollment Template'!C277)","v":"G"}]
["",{"$f":"IF(AND(SUMPRODUCT(--('MARK Enrollment Template'!A278:L278<>\"\"))<>0,'MARK Enrollment Template'!A278=\"\"),\"Please fill in First Name.\",IF(LEN('MARK Enrollment Template'!A278)=1,\"Please fill in full first name.\",\"\"))","v":""},{"$f":"IF('MARK Enrollment Template'!A278=\"\",\"\",IF(AND('MARK Enrollment Template'!A278<>\"\",'MARK Enrollment Template'!B278=\"\"),\"Please fill in a Last Name.\",\"\"))","v":""},{"$f":"IF('MARK Enrollment Template'!A278=\"\",\"\",IF(AND('MARK Enrollment Template'!A278<>\"\",'MARK Enrollment Template'!C278=\"\"),\"Please fill in Date of Birth.\",IF(TRIM(O273)<>\"D4\",\"Please format DOB as a date in the form MM/DD/YYYY.\",IF('MARK Enrollment Template'!C278>TODAY(),\"Please check DOB.\",\"\"))))","v":""},{"$f":"IF('MARK Enrollment Template'!A278=\"\",\"\",IF(AND('MARK Enrollment Template'!A278<>\"\",'MARK Enrollment Template'!D278=\"\"),\"Please fill in Sex.\",IF(OR(TRIM('MARK Enrollment Template'!D278)=\"M\",TRIM('MARK Enrollment Template'!D278)=\"F\",TRIM('MARK Enrollment Template'!D278)=\"Male\",TRIM('MARK Enrollment Template'!D278)=\"Female\"),\"\",\"Sex must be M/F/Male/Female.\")))","v":""},null,null,{"$f":"IF('MARK Enrollment Template'!A278=\"\",\"\",IF(AND('MARK Enrollment Template'!A278<>\"\",'MARK Enrollment Template'!G278=\"\"),\"Please fill in Email Address.\",IF(IFERROR(FIND(\"@\",'MARK Enrollment Template'!G278),\"X\")=\"X\",\"Email Address must include an @ symbol.\",\"\")))","v":""},null,null,null,{"$f":"IF('MARK Enrollment Template'!A278=\"\",\"\",IF(AND('MARK Enrollment Template'!A278<>\"\",'MARK Enrollment Template'!K278=\"\"),\"Please fill in Zip Code.\",IF(LEN(SUBSTITUTE(TRIM('MARK Enrollment Template'!K278),CHAR(9),\"\"))<5,\"Zip <5 digits. If leading zero, add apostrophe (ex. '01234).\",\"\")))","v":""},null,null,{"$f":"CELL(\"format\",'MARK Enrollment Template'!C278)","v":"G"}]
["",{"$f":"IF(AND(SUMPRODUCT(--('MARK Enrollment Template'!A279:L279<>\"\"))<>0,'MARK Enrollment Template'!A279=\"\"),\"Please fill in First Name.\",IF(LEN('MARK Enrollment Template'!A279)=1,\"Please fill in full first name.\",\"\"))","v":""},{"$f":"IF('MARK Enrollment Template'!A279=\"\",\"\",IF(AND('MARK Enrollment Template'!A279<>\"\",'MARK Enrollment Template'!B279=\"\"),\"Please fill in a Last Name.\",\"\"))","v":""},{"$f":"IF('MARK Enrollment Template'!A279=\"\",\"\",IF(AND('MARK Enrollment Template'!A279<>\"\",'MARK Enrollment Template'!C279=\"\"),\"Please fill in Date of Birth.\",IF(TRIM(O274)<>\"D4\",\"Please format DOB as a date in the form MM/DD/YYYY.\",IF('MARK Enrollment Template'!C279>TODAY(),\"Please check DOB.\",\"\"))))","v":""},{"$f":"IF('MARK Enrollment Template'!A279=\"\",\"\",IF(AND('MARK Enrollment Template'!A279<>\"\",'MARK Enrollment Template'!D279=\"\"),\"Please fill in Sex.\",IF(OR(TRIM('MARK Enrollment Template'!D279)=\"M\",TRIM('MARK Enrollment Template'!D279)=\"F\",TRIM('MARK Enrollment Template'!D279)=\"Male\",TRIM('MARK Enrollment Template'!D279)=\"Female\"),\"\",\"Sex must be M/F/Male/Female.\")))","v":""},null,null,{"$f":"IF('MARK Enrollment Template'!A279=\"\",\"\",IF(AND('MARK Enrollment Template'!A279<>\"\",'MARK Enrollment Template'!G279=\"\"),\"Please fill in Email Address.\",IF(IFERROR(FIND(\"@\",'MARK Enrollment Template'!G279),\"X\")=\"X\",\"Email Address must include an @ symbol.\",\"\")))","v":""},null,null,null,{"$f":"IF('MARK Enrollment Template'!A279=\"\",\"\",IF(AND('MARK Enrollment Template'!A279<>\"\",'MARK Enrollment Template'!K279=\"\"),\"Please fill in Zip Code.\",IF(LEN(SUBSTITUTE(TRIM('MARK Enrollment Template'!K279),CHAR(9),\"\"))<5,\"Zip <5 digits. If leading zero, add apostrophe (ex. '01234).\",\"\")))","v":""},null,null,{"$f":"CELL(\"format\",'MARK Enrollment Template'!C279)","v":"G"}]
["",{"$f":"IF(AND(SUMPRODUCT(--('MARK Enrollment Template'!A280:L280<>\"\"))<>0,'MARK Enrollment Template'!A280=\"\"),\"Please fill in First Name.\",IF(LEN('MARK Enrollment Template'!A280)=1,\"Please fill in full first name.\",\"\"))","v":""},{"$f":"IF('MARK Enrollment Template'!A280=\"\",\"\",IF(AND('MARK Enrollment Template'!A280<>\"\",'MARK Enrollment Template'!B280=\"\"),\"Please fill in a Last Name.\",\"\"))","v":""},{"$f":"IF('MARK Enrollment Template'!A280=\"\",\"\",IF(AND('MARK Enrollment Template'!A280<>\"\",'MARK Enrollment Template'!C280=\"\"),\"Please fill in Date of Birth.\",IF(TRIM(O275)<>\"D4\",\"Please format DOB as a date in the form MM/DD/YYYY.\",IF('MARK Enrollment Template'!C280>TODAY(),\"Please check DOB.\",\"\"))))","v":""},{"$f":"IF('MARK Enrollment Template'!A280=\"\",\"\",IF(AND('MARK Enrollment Template'!A280<>\"\",'MARK Enrollment Template'!D280=\"\"),\"Please fill in Sex.\",IF(OR(TRIM('MARK Enrollment Template'!D280)=\"M\",TRIM('MARK Enrollment Template'!D280)=\"F\",TRIM('MARK Enrollment Template'!D280)=\"Male\",TRIM('MARK Enrollment Template'!D280)=\"Female\"),\"\",\"Sex must be M/F/Male/Female.\")))","v":""},null,null,{"$f":"IF('MARK Enrollment Template'!A280=\"\",\"\",IF(AND('MARK Enrollment Template'!A280<>\"\",'MARK Enrollment Template'!G280=\"\"),\"Please fill in Email Address.\",IF(IFERROR(FIND(\"@\",'MARK Enrollment Template'!G280),\"X\")=\"X\",\"Email Address must include an @ symbol.\",\"\")))","v":""},null,null,null,{"$f":"IF('MARK Enrollment Template'!A280=\"\",\"\",IF(AND('MARK Enrollment Template'!A280<>\"\",'MARK Enrollment Template'!K280=\"\"),\"Please fill in Zip Code.\",IF(LEN(SUBSTITUTE(TRIM('MARK Enrollment Template'!K280),CHAR(9),\"\"))<5,\"Zip <5 digits. If leading zero, add apostrophe (ex. '01234).\",\"\")))","v":""},null,null,{"$f":"CELL(\"format\",'MARK Enrollment Template'!C280)","v":"G"}]
["",{"$f":"IF(AND(SUMPRODUCT(--('MARK Enrollment Template'!A281:L281<>\"\"))<>0,'MARK Enrollment Template'!A281=\"\"),\"Please fill in First Name.\",IF(LEN('MARK Enrollment Template'!A281)=1,\"Please fill in full first name.\",\"\"))","v":""},{"$f":"IF('MARK Enrollment Template'!A281=\"\",\"\",IF(AND('MARK Enrollment Template'!A281<>\"\",'MARK Enrollment Template'!B281=\"\"),\"Please fill in a Last Name.\",\"\"))","v":""},{"$f":"IF('MARK Enrollment Template'!A281=\"\",\"\",IF(AND('MARK Enrollment Template'!A281<>\"\",'MARK Enrollment Template'!C281=\"\"),\"Please fill in Date of Birth.\",IF(TRIM(O276)<>\"D4\",\"Please format DOB as a date in the form MM/DD/YYYY.\",IF('MARK Enrollment Template'!C281>TODAY(),\"Please check DOB.\",\"\"))))","v":""},{"$f":"IF('MARK Enrollment Template'!A281=\"\",\"\",IF(AND('MARK Enrollment Template'!A281<>\"\",'MARK Enrollment Template'!D281=\"\"),\"Please fill in Sex.\",IF(OR(TRIM('MARK Enrollment Template'!D281)=\"M\",TRIM('MARK Enrollment Template'!D281)=\"F\",TRIM('MARK Enrollment Template'!D281)=\"Male\",TRIM('MARK Enrollment Template'!D281)=\"Female\"),\"\",\"Sex must be M/F/Male/Female.\")))","v":""},null,null,{"$f":"IF('MARK Enrollment Template'!A281=\"\",\"\",IF(AND('MARK Enrollment Template'!A281<>\"\",'MARK Enrollment Template'!G281=\"\"),\"Please fill in Email Address.\",IF(IFERROR(FIND(\"@\",'MARK Enrollment Template'!G281),\"X\")=\"X\",\"Email Address must include an @ symbol.\",\"\")))","v":""},null,null,null,{"$f":"IF('MARK Enrollment Template'!A281=\"\",\"\",IF(AND('MARK Enrollment Template'!A281<>\"\",'MARK Enrollment Template'!K281=\"\"),\"Please fill in Zip Code.\",IF(LEN(SUBSTITUTE(TRIM('MARK Enrollment Template'!K281),CHAR(9),\"\"))<5,\"Zip <5 digits. If leading zero, add apostrophe (ex. '01234).\",\"\")))","v":""},null,null,{"$f":"CELL(\"format\",'MARK Enrollment Template'!C281)","v":"G"}]
["",{"$f":"IF(AND(SUMPRODUCT(--('MARK Enrollment Template'!A282:L282<>\"\"))<>0,'MARK Enrollment Template'!A282=\"\"),\"Please fill in First Name.\",IF(LEN('MARK Enrollment Template'!A282)=1,\"Please fill in full first name.\",\"\"))","v":""},{"$f":"IF('MARK Enrollment Template'!A282=\"\",\"\",IF(AND('MARK Enrollment Template'!A282<>\"\",'MARK Enrollment Template'!B282=\"\"),\"Please fill in a Last Name.\",\"\"))","v":""},{"$f":"IF('MARK Enrollment Template'!A282=\"\",\"\",IF(AND('MARK Enrollment Template'!A282<>\"\",'MARK Enrollment Template'!C282=\"\"),\"Please fill in Date of Birth.\",IF(TRIM(O277)<>\"D4\",\"Please format DOB as a date in the form MM/DD/YYYY.\",IF('MARK Enrollment Template'!C282>TODAY(),\"Please check DOB.\",\"\"))))","v":""},{"$f":"IF('MARK Enrollment Template'!A282=\"\",\"\",IF(AND('MARK Enrollment Template'!A282<>\"\",'MARK Enrollment Template'!D282=\"\"),\"Please fill in Sex.\",IF(OR(TRIM('MARK Enrollment Template'!D282)=\"M\",TRIM('MARK Enrollment Template'!D282)=\"F\",TRIM('MARK Enrollment Template'!D282)=\"Male\",TRIM('MARK Enrollment Template'!D282)=\"Female\"),\"\",\"Sex must be M/F/Male/Female.\")))","v":""},null,null,{"$f":"IF('MARK Enrollment Template'!A282=\"\",\"\",IF(AND('MARK Enrollment Template'!A282<>\"\",'MARK Enrollment Template'!G282=\"\"),\"Please fill in Email Address.\",IF(IFERROR(FIND(\"@\",'MARK Enrollment Template'!G282),\"X\")=\"X\",\"Email Address must include an @ symbol.\",\"\")))","v":""},null,null,null,{"$f":"IF('MARK Enrollment Template'!A282=\"\",\"\",IF(AND('MARK Enrollment Template'!A282<>\"\",'MARK Enrollment Template'!K282=\"\"),\"Please fill in Zip Code.\",IF(LEN(SUBSTITUTE(TRIM('MARK Enrollment Template'!K282),CHAR(9),\"\"))<5,\"Zip <5 digits. If leading zero, add apostrophe (ex. '01234).\",\"\")))","v":""},null,null,{"$f":"CELL(\"format\",'MARK Enrollment Template'!C282)","v":"G"}]
["",{"$f":"IF(AND(SUMPRODUCT(--('MARK Enrollment Template'!A283:L283<>\"\"))<>0,'MARK Enrollment Template'!A283=\"\"),\"Please fill in First Name.\",IF(LEN('MARK Enrollment Template'!A283)=1,\"Please fill in full first name.\",\"\"))","v":""},{"$f":"IF('MARK Enrollment Template'!A283=\"\",\"\",IF(AND('MARK Enrollment Template'!A283<>\"\",'MARK Enrollment Template'!B283=\"\"),\"Please fill in a Last Name.\",\"\"))","v":""},{"$f":"IF('MARK Enrollment Template'!A283=\"\",\"\",IF(AND('MARK Enrollment Template'!A283<>\"\",'MARK Enrollment Template'!C283=\"\"),\"Please fill in Date of Birth.\",IF(TRIM(O278)<>\"D4\",\"Please format DOB as a date in the form MM/DD/YYYY.\",IF('MARK Enrollment Template'!C283>TODAY(),\"Please check DOB.\",\"\"))))","v":""},{"$f":"IF('MARK Enrollment Template'!A283=\"\",\"\",IF(AND('MARK Enrollment Template'!A283<>\"\",'MARK Enrollment Template'!D283=\"\"),\"Please fill in Sex.\",IF(OR(TRIM('MARK Enrollment Template'!D283)=\"M\",TRIM('MARK Enrollment Template'!D283)=\"F\",TRIM('MARK Enrollment Template'!D283)=\"Male\",TRIM('MARK Enrollment Template'!D283)=\"Female\"),\"\",\"Sex must be M/F/Male/Female.\")))","v":""},null,null,{"$f":"IF('MARK Enrollment Template'!A283=\"\",\"\",IF(AND('MARK Enrollment Template'!A283<>\"\",'MARK Enrollment Template'!G283=\"\"),\"Please fill in Email Address.\",IF(IFERROR(FIND(\"@\",'MARK Enrollment Template'!G283),\"X\")=\"X\",\"Email Address must include an @ symbol.\",\"\")))","v":""},null,null,null,{"$f":"IF('MARK Enrollment Template'!A283=\"\",\"\",IF(AND('MARK Enrollment Template'!A283<>\"\",'MARK Enrollment Template'!K283=\"\"),\"Please fill in Zip Code.\",IF(LEN(SUBSTITUTE(TRIM('MARK Enrollment Template'!K283),CHAR(9),\"\"))<5,\"Zip <5 digits. If leading zero, add apostrophe (ex. '01234).\",\"\")))","v":""},null,null,{"$f":"CELL(\"format\",'MARK Enrollment Template'!C283)","v":"G"}]
["",{"$f":"IF(AND(SUMPRODUCT(--('MARK Enrollment Template'!A284:L284<>\"\"))<>0,'MARK Enrollment Template'!A284=\"\"),\"Please fill in First Name.\",IF(LEN('MARK Enrollment Template'!A284)=1,\"Please fill in full first name.\",\"\"))","v":""},{"$f":"IF('MARK Enrollment Template'!A284=\"\",\"\",IF(AND('MARK Enrollment Template'!A284<>\"\",'MARK Enrollment Template'!B284=\"\"),\"Please fill in a Last Name.\",\"\"))","v":""},{"$f":"IF('MARK Enrollment Template'!A284=\"\",\"\",IF(AND('MARK Enrollment Template'!A284<>\"\",'MARK Enrollment Template'!C284=\"\"),\"Please fill in Date of Birth.\",IF(TRIM(O279)<>\"D4\",\"Please format DOB as a date in the form MM/DD/YYYY.\",IF('MARK Enrollment Template'!C284>TODAY(),\"Please check DOB.\",\"\"))))","v":""},{"$f":"IF('MARK Enrollment Template'!A284=\"\",\"\",IF(AND('MARK Enrollment Template'!A284<>\"\",'MARK Enrollment Template'!D284=\"\"),\"Please fill in Sex.\",IF(OR(TRIM('MARK Enrollment Template'!D284)=\"M\",TRIM('MARK Enrollment Template'!D284)=\"F\",TRIM('MARK Enrollment Template'!D284)=\"Male\",TRIM('MARK Enrollment Template'!D284)=\"Female\"),\"\",\"Sex must be M/F/Male/Female.\")))","v":""},null,null,{"$f":"IF('MARK Enrollment Template'!A284=\"\",\"\",IF(AND('MARK Enrollment Template'!A284<>\"\",'MARK Enrollment Template'!G284=\"\"),\"Please fill in Email Address.\",IF(IFERROR(FIND(\"@\",'MARK Enrollment Template'!G284),\"X\")=\"X\",\"Email Address must include an @ symbol.\",\"\")))","v":""},null,null,null,{"$f":"IF('MARK Enrollment Template'!A284=\"\",\"\",IF(AND('MARK Enrollment Template'!A284<>\"\",'MARK Enrollment Template'!K284=\"\"),\"Please fill in Zip Code.\",IF(LEN(SUBSTITUTE(TRIM('MARK Enrollment Template'!K284),CHAR(9),\"\"))<5,\"Zip <5 digits. If leading zero, add apostrophe (ex. '01234).\",\"\")))","v":""},null,null,{"$f":"CELL(\"format\",'MARK Enrollment Template'!C284)","v":"G"}]
["",{"$f":"IF(AND(SUMPRODUCT(--('MARK Enrollment Template'!A285:L285<>\"\"))<>0,'MARK Enrollment Template'!A285=\"\"),\"Please fill in First Name.\",IF(LEN('MARK Enrollment Template'!A285)=1,\"Please fill in full first name.\",\"\"))","v":""},{"$f":"IF('MARK Enrollment Template'!A285=\"\",\"\",IF(AND('MARK Enrollment Template'!A285<>\"\",'MARK Enrollment Template'!B285=\"\"),\"Please fill in a Last Name.\",\"\"))","v":""},{"$f":"IF('MARK Enrollment Template'!A285=\"\",\"\",IF(AND('MARK Enrollment Template'!A285<>\"\",'MARK Enrollment Template'!C285=\"\"),\"Please fill in Date of Birth.\",IF(TRIM(O280)<>\"D4\",\"Please format DOB as a date in the form MM/DD/YYYY.\",IF('MARK Enrollment Template'!C285>TODAY(),\"Please check DOB.\",\"\"))))","v":""},{"$f":"IF('MARK Enrollment Template'!A285=\"\",\"\",IF(AND('MARK Enrollment Template'!A285<>\"\",'MARK Enrollment Template'!D285=\"\"),\"Please fill in Sex.\",IF(OR(TRIM('MARK Enrollment Template'!D285)=\"M\",TRIM('MARK Enrollment Template'!D285)=\"F\",TRIM('MARK Enrollment Template'!D285)=\"Male\",TRIM('MARK Enrollment Template'!D285)=\"Female\"),\"\",\"Sex must be M/F/Male/Female.\")))","v":""},null,null,{"$f":"IF('MARK Enrollment Template'!A285=\"\",\"\",IF(AND('MARK Enrollment Template'!A285<>\"\",'MARK Enrollment Template'!G285=\"\"),\"Please fill in Email Address.\",IF(IFERROR(FIND(\"@\",'MARK Enrollment Template'!G285),\"X\")=\"X\",\"Email Address must include an @ symbol.\",\"\")))","v":""},null,null,null,{"$f":"IF('MARK Enrollment Template'!A285=\"\",\"\",IF(AND('MARK Enrollment Template'!A285<>\"\",'MARK Enrollment Template'!K285=\"\"),\"Please fill in Zip Code.\",IF(LEN(SUBSTITUTE(TRIM('MARK Enrollment Template'!K285),CHAR(9),\"\"))<5,\"Zip <5 digits. If leading zero, add apostrophe (ex. '01234).\",\"\")))","v":""},null,null,{"$f":"CELL(\"format\",'MARK Enrollment Template'!C285)","v":"G"}]
["",{"$f":"IF(AND(SUMPRODUCT(--('MARK Enrollment Template'!A286:L286<>\"\"))<>0,'MARK Enrollment Template'!A286=\"\"),\"Please fill in First Name.\",IF(LEN('MARK Enrollment Template'!A286)=1,\"Please fill in full first name.\",\"\"))","v":""},{"$f":"IF('MARK Enrollment Template'!A286=\"\",\"\",IF(AND('MARK Enrollment Template'!A286<>\"\",'MARK Enrollment Template'!B286=\"\"),\"Please fill in a Last Name.\",\"\"))","v":""},{"$f":"IF('MARK Enrollment Template'!A286=\"\",\"\",IF(AND('MARK Enrollment Template'!A286<>\"\",'MARK Enrollment Template'!C286=\"\"),\"Please fill in Date of Birth.\",IF(TRIM(O281)<>\"D4\",\"Please format DOB as a date in the form MM/DD/YYYY.\",IF('MARK Enrollment Template'!C286>TODAY(),\"Please check DOB.\",\"\"))))","v":""},{"$f":"IF('MARK Enrollment Template'!A286=\"\",\"\",IF(AND('MARK Enrollment Template'!A286<>\"\",'MARK Enrollment Template'!D286=\"\"),\"Please fill in Sex.\",IF(OR(TRIM('MARK Enrollment Template'!D286)=\"M\",TRIM('MARK Enrollment Template'!D286)=\"F\",TRIM('MARK Enrollment Template'!D286)=\"Male\",TRIM('MARK Enrollment Template'!D286)=\"Female\"),\"\",\"Sex must be M/F/Male/Female.\")))","v":""},null,null,{"$f":"IF('MARK Enrollment Template'!A286=\"\",\"\",IF(AND('MARK Enrollment Template'!A286<>\"\",'MARK Enrollment Template'!G286=\"\"),\"Please fill in Email Address.\",IF(IFERROR(FIND(\"@\",'MARK Enrollment Template'!G286),\"X\")=\"X\",\"Email Address must include an @ symbol.\",\"\")))","v":""},null,null,null,{"$f":"IF('MARK Enrollment Template'!A286=\"\",\"\",IF(AND('MARK Enrollment Template'!A286<>\"\",'MARK Enrollment Template'!K286=\"\"),\"Please fill in Zip Code.\",IF(LEN(SUBSTITUTE(TRIM('MARK Enrollment Template'!K286),CHAR(9),\"\"))<5,\"Zip <5 digits. If leading zero, add apostrophe (ex. '01234).\",\"\")))","v":""},null,null,{"$f":"CELL(\"format\",'MARK Enrollment Template'!C286)","v":"G"}]
["",{"$f":"IF(AND(SUMPRODUCT(--('MARK Enrollment Template'!A287:L287<>\"\"))<>0,'MARK Enrollment Template'!A287=\"\"),\"Please fill in First Name.\",IF(LEN('MARK Enrollment Template'!A287)=1,\"Please fill in full first name.\",\"\"))","v":""},{"$f":"IF('MARK Enrollment Template'!A287=\"\",\"\",IF(AND('MARK Enrollment Template'!A287<>\"\",'MARK Enrollment Template'!B287=\"\"),\"Please fill in a Last Name.\",\"\"))","v":""},{"$f":"IF('MARK Enrollment Template'!A287=\"\",\"\",IF(AND('MARK Enrollment Template'!A287<>\"\",'MARK Enrollment Template'!C287=\"\"),\"Please fill in Date of Birth.\",IF(TRIM(O282)<>\"D4\",\"Please format DOB as a date in the form MM/DD/YYYY.\",IF('MARK Enrollment Template'!C287>TODAY(),\"Please check DOB.\",\"\"))))","v":""},{"$f":"IF('MARK Enrollment Template'!A287=\"\",\"\",IF(AND('MARK Enrollment Template'!A287<>\"\",'MARK Enrollment Template'!D287=\"\"),\"Please fill in Sex.\",IF(OR(TRIM('MARK Enrollment Template'!D287)=\"M\",TRIM('MARK Enrollment Template'!D287)=\"F\",TRIM('MARK Enrollment Template'!D287)=\"Male\",TRIM('MARK Enrollment Template'!D287)=\"Female\"),\"\",\"Sex must be M/F/Male/Female.\")))","v":""},null,null,{"$f":"IF('MARK Enrollment Template'!A287=\"\",\"\",IF(AND('MARK Enrollment Template'!A287<>\"\",'MARK Enrollment Template'!G287=\"\"),\"Please fill in Email Address.\",IF(IFERROR(FIND(\"@\",'MARK Enrollment Template'!G287),\"X\")=\"X\",\"Email Address must include an @ symbol.\",\"\")))","v":""},null,null,null,{"$f":"IF('MARK Enrollment Template'!A287=\"\",\"\",IF(AND('MARK Enrollment Template'!A287<>\"\",'MARK Enrollment Template'!K287=\"\"),\"Please fill in Zip Code.\",IF(LEN(SUBSTITUTE(TRIM('MARK Enrollment Template'!K287),CHAR(9),\"\"))<5,\"Zip <5 digits. If leading zero, add apostrophe (ex. '01234).\",\"\")))","v":""},null,null,{"$f":"CELL(\"format\",'MARK Enrollment Template'!C287)","v":"G"}]
["",{"$f":"IF(AND(SUMPRODUCT(--('MARK Enrollment Template'!A288:L288<>\"\"))<>0,'MARK Enrollment Template'!A288=\"\"),\"Please fill in First Name.\",IF(LEN('MARK Enrollment Template'!A288)=1,\"Please fill in full first name.\",\"\"))","v":""},{"$f":"IF('MARK Enrollment Template'!A288=\"\",\"\",IF(AND('MARK Enrollment Template'!A288<>\"\",'MARK Enrollment Template'!B288=\"\"),\"Please fill in a Last Name.\",\"\"))","v":""},{"$f":"IF('MARK Enrollment Template'!A288=\"\",\"\",IF(AND('MARK Enrollment Template'!A288<>\"\",'MARK Enrollment Template'!C288=\"\"),\"Please fill in Date of Birth.\",IF(TRIM(O283)<>\"D4\",\"Please format DOB as a date in the form MM/DD/YYYY.\",IF('MARK Enrollment Template'!C288>TODAY(),\"Please check DOB.\",\"\"))))","v":""},{"$f":"IF('MARK Enrollment Template'!A288=\"\",\"\",IF(AND('MARK Enrollment Template'!A288<>\"\",'MARK Enrollment Template'!D288=\"\"),\"Please fill in Sex.\",IF(OR(TRIM('MARK Enrollment Template'!D288)=\"M\",TRIM('MARK Enrollment Template'!D288)=\"F\",TRIM('MARK Enrollment Template'!D288)=\"Male\",TRIM('MARK Enrollment Template'!D288)=\"Female\"),\"\",\"Sex must be M/F/Male/Female.\")))","v":""},null,null,{"$f":"IF('MARK Enrollment Template'!A288=\"\",\"\",IF(AND('MARK Enrollment Template'!A288<>\"\",'MARK Enrollment Template'!G288=\"\"),\"Please fill in Email Address.\",IF(IFERROR(FIND(\"@\",'MARK Enrollment Template'!G288),\"X\")=\"X\",\"Email Address must include an @ symbol.\",\"\")))","v":""},null,null,null,{"$f":"IF('MARK Enrollment Template'!A288=\"\",\"\",IF(AND('MARK Enrollment Template'!A288<>\"\",'MARK Enrollment Template'!K288=\"\"),\"Please fill in Zip Code.\",IF(LEN(SUBSTITUTE(TRIM('MARK Enrollment Template'!K288),CHAR(9),\"\"))<5,\"Zip <5 digits. If leading zero, add apostrophe (ex. '01234).\",\"\")))","v":""},null,null,{"$f":"CELL(\"format\",'MARK Enrollment Template'!C288)","v":"G"}]
["",{"$f":"IF(AND(SUMPRODUCT(--('MARK Enrollment Template'!A289:L289<>\"\"))<>0,'MARK Enrollment Template'!A289=\"\"),\"Please fill in First Name.\",IF(LEN('MARK Enrollment Template'!A289)=1,\"Please fill in full first name.\",\"\"))","v":""},{"$f":"IF('MARK Enrollment Template'!A289=\"\",\"\",IF(AND('MARK Enrollment Template'!A289<>\"\",'MARK Enrollment Template'!B289=\"\"),\"Please fill in a Last Name.\",\"\"))","v":""},{"$f":"IF('MARK Enrollment Template'!A289=\"\",\"\",IF(AND('MARK Enrollment Template'!A289<>\"\",'MARK Enrollment Template'!C289=\"\"),\"Please fill in Date of Birth.\",IF(TRIM(O284)<>\"D4\",\"Please format DOB as a date in the form MM/DD/YYYY.\",IF('MARK Enrollment Template'!C289>TODAY(),\"Please check DOB.\",\"\"))))","v":""},{"$f":"IF('MARK Enrollment Template'!A289=\"\",\"\",IF(AND('MARK Enrollment Template'!A289<>\"\",'MARK Enrollment Template'!D289=\"\"),\"Please fill in Sex.\",IF(OR(TRIM('MARK Enrollment Template'!D289)=\"M\",TRIM('MARK Enrollment Template'!D289)=\"F\",TRIM('MARK Enrollment Template'!D289)=\"Male\",TRIM('MARK Enrollment Template'!D289)=\"Female\"),\"\",\"Sex must be M/F/Male/Female.\")))","v":""},null,null,{"$f":"IF('MARK Enrollment Template'!A289=\"\",\"\",IF(AND('MARK Enrollment Template'!A289<>\"\",'MARK Enrollment Template'!G289=\"\"),\"Please fill in Email Address.\",IF(IFERROR(FIND(\"@\",'MARK Enrollment Template'!G289),\"X\")=\"X\",\"Email Address must include an @ symbol.\",\"\")))","v":""},null,null,null,{"$f":"IF('MARK Enrollment Template'!A289=\"\",\"\",IF(AND('MARK Enrollment Template'!A289<>\"\",'MARK Enrollment Template'!K289=\"\"),\"Please fill in Zip Code.\",IF(LEN(SUBSTITUTE(TRIM('MARK Enrollment Template'!K289),CHAR(9),\"\"))<5,\"Zip <5 digits. If leading zero, add apostrophe (ex. '01234).\",\"\")))","v":""},null,null,{"$f":"CELL(\"format\",'MARK Enrollment Template'!C289)","v":"G"}]
["",{"$f":"IF(AND(SUMPRODUCT(--('MARK Enrollment Template'!A290:L290<>\"\"))<>0,'MARK Enrollment Template'!A290=\"\"),\"Please fill in First Name.\",IF(LEN('MARK Enrollment Template'!A290)=1,\"Please fill in full first name.\",\"\"))","v":""},{"$f":"IF('MARK Enrollment Template'!A290=\"\",\"\",IF(AND('MARK Enrollment Template'!A290<>\"\",'MARK Enrollment Template'!B290=\"\"),\"Please fill in a Last Name.\",\"\"))","v":""},{"$f":"IF('MARK Enrollment Template'!A290=\"\",\"\",IF(AND('MARK Enrollment Template'!A290<>\"\",'MARK Enrollment Template'!C290=\"\"),\"Please fill in Date of Birth.\",IF(TRIM(O285)<>\"D4\",\"Please format DOB as a date in the form MM/DD/YYYY.\",IF('MARK Enrollment Template'!C290>TODAY(),\"Please check DOB.\",\"\"))))","v":""},{"$f":"IF('MARK Enrollment Template'!A290=\"\",\"\",IF(AND('MARK Enrollment Template'!A290<>\"\",'MARK Enrollment Template'!D290=\"\"),\"Please fill in Sex.\",IF(OR(TRIM('MARK Enrollment Template'!D290)=\"M\",TRIM('MARK Enrollment Template'!D290)=\"F\",TRIM('MARK Enrollment Template'!D290)=\"Male\",TRIM('MARK Enrollment Template'!D290)=\"Female\"),\"\",\"Sex must be M/F/Male/Female.\")))","v":""},null,null,{"$f":"IF('MARK Enrollment Template'!A290=\"\",\"\",IF(AND('MARK Enrollment Template'!A290<>\"\",'MARK Enrollment Template'!G290=\"\"),\"Please fill in Email Address.\",IF(IFERROR(FIND(\"@\",'MARK Enrollment Template'!G290),\"X\")=\"X\",\"Email Address must include an @ symbol.\",\"\")))","v":""},null,null,null,{"$f":"IF('MARK Enrollment Template'!A290=\"\",\"\",IF(AND('MARK Enrollment Template'!A290<>\"\",'MARK Enrollment Template'!K290=\"\"),\"Please fill in Zip Code.\",IF(LEN(SUBSTITUTE(TRIM('MARK Enrollment Template'!K290),CHAR(9),\"\"))<5,\"Zip <5 digits. If leading zero, add apostrophe (ex. '01234).\",\"\")))","v":""},null,null,{"$f":"CELL(\"format\",'MARK Enrollment Template'!C290)","v":"G"}]
["",{"$f":"IF(AND(SUMPRODUCT(--('MARK Enrollment Template'!A291:L291<>\"\"))<>0,'MARK Enrollment Template'!A291=\"\"),\"Please fill in First Name.\",IF(LEN('MARK Enrollment Template'!A291)=1,\"Please fill in full first name.\",\"\"))","v":""},{"$f":"IF('MARK Enrollment Template'!A291=\"\",\"\",IF(AND('MARK Enrollment Template'!A291<>\"\",'MARK Enrollment Template'!B291=\"\"),\"Please fill in a Last Name.\",\"\"))","v":""},{"$f":"IF('MARK Enrollment Template'!A291=\"\",\"\",IF(AND('MARK Enrollment Template'!A291<>\"\",'MARK Enrollment Template'!C291=\"\"),\"Please fill in Date of Birth.\",IF(TRIM(O286)<>\"D4\",\"Please format DOB as a date in the form MM/DD/YYYY.\",IF('MARK Enrollment Template'!C291>TODAY(),\"Please check DOB.\",\"\"))))","v":""},{"$f":"IF('MARK Enrollment Template'!A291=\"\",\"\",IF(AND('MARK Enrollment Template'!A291<>\"\",'MARK Enrollment Template'!D291=\"\"),\"Please fill in Sex.\",IF(OR(TRIM('MARK Enrollment Template'!D291)=\"M\",TRIM('MARK Enrollment Template'!D291)=\"F\",TRIM('MARK Enrollment Template'!D291)=\"Male\",TRIM('MARK Enrollment Template'!D291)=\"Female\"),\"\",\"Sex must be M/F/Male/Female.\")))","v":""},null,null,{"$f":"IF('MARK Enrollment Template'!A291=\"\",\"\",IF(AND('MARK Enrollment Template'!A291<>\"\",'MARK Enrollment Template'!G291=\"\"),\"Please fill in Email Address.\",IF(IFERROR(FIND(\"@\",'MARK Enrollment Template'!G291),\"X\")=\"X\",\"Email Address must include an @ symbol.\",\"\")))","v":""},null,null,null,{"$f":"IF('MARK Enrollment Template'!A291=\"\",\"\",IF(AND('MARK Enrollment Template'!A291<>\"\",'MARK Enrollment Template'!K291=\"\"),\"Please fill in Zip Code.\",IF(LEN(SUBSTITUTE(TRIM('MARK Enrollment Template'!K291),CHAR(9),\"\"))<5,\"Zip <5 digits. If leading zero, add apostrophe (ex. '01234).\",\"\")))","v":""},null,null,{"$f":"CELL(\"format\",'MARK Enrollment Template'!C291)","v":"G"}]
["",{"$f":"IF(AND(SUMPRODUCT(--('MARK Enrollment Template'!A292:L292<>\"\"))<>0,'MARK Enrollment Template'!A292=\"\"),\"Please fill in First Name.\",IF(LEN('MARK Enrollment Template'!A292)=1,\"Please fill in full first name.\",\"\"))","v":""},{"$f":"IF('MARK Enrollment Template'!A292=\"\",\"\",IF(AND('MARK Enrollment Template'!A292<>\"\",'MARK Enrollment Template'!B292=\"\"),\"Please fill in a Last Name.\",\"\"))","v":""},{"$f":"IF('MARK Enrollment Template'!A292=\"\",\"\",IF(AND('MARK Enrollment Template'!A292<>\"\",'MARK Enrollment Template'!C292=\"\"),\"Please fill in Date of Birth.\",IF(TRIM(O287)<>\"D4\",\"Please format DOB as a date in the form MM/DD/YYYY.\",IF('MARK Enrollment Template'!C292>TODAY(),\"Please check DOB.\",\"\"))))","v":""},{"$f":"IF('MARK Enrollment Template'!A292=\"\",\"\",IF(AND('MARK Enrollment Template'!A292<>\"\",'MARK Enrollment Template'!D292=\"\"),\"Please fill in Sex.\",IF(OR(TRIM('MARK Enrollment Template'!D292)=\"M\",TRIM('MARK Enrollment Template'!D292)=\"F\",TRIM('MARK Enrollment Template'!D292)=\"Male\",TRIM('MARK Enrollment Template'!D292)=\"Female\"),\"\",\"Sex must be M/F/Male/Female.\")))","v":""},null,null,{"$f":"IF('MARK Enrollment Template'!A292=\"\",\"\",IF(AND('MARK Enrollment Template'!A292<>\"\",'MARK Enrollment Template'!G292=\"\"),\"Please fill in Email Address.\",IF(IFERROR(FIND(\"@\",'MARK Enrollment Template'!G292),\"X\")=\"X\",\"Email Address must include an @ symbol.\",\"\")))","v":""},null,null,null,{"$f":"IF('MARK Enrollment Template'!A292=\"\",\"\",IF(AND('MARK Enrollment Template'!A292<>\"\",'MARK Enrollment Template'!K292=\"\"),\"Please fill in Zip Code.\",IF(LEN(SUBSTITUTE(TRIM('MARK Enrollment Template'!K292),CHAR(9),\"\"))<5,\"Zip <5 digits. If leading zero, add apostrophe (ex. '01234).\",\"\")))","v":""},null,null,{"$f":"CELL(\"format\",'MARK Enrollment Template'!C292)","v":"G"}]
["",{"$f":"IF(AND(SUMPRODUCT(--('MARK Enrollment Template'!A293:L293<>\"\"))<>0,'MARK Enrollment Template'!A293=\"\"),\"Please fill in First Name.\",IF(LEN('MARK Enrollment Template'!A293)=1,\"Please fill in full first name.\",\"\"))","v":""},{"$f":"IF('MARK Enrollment Template'!A293=\"\",\"\",IF(AND('MARK Enrollment Template'!A293<>\"\",'MARK Enrollment Template'!B293=\"\"),\"Please fill in a Last Name.\",\"\"))","v":""},{"$f":"IF('MARK Enrollment Template'!A293=\"\",\"\",IF(AND('MARK Enrollment Template'!A293<>\"\",'MARK Enrollment Template'!C293=\"\"),\"Please fill in Date of Birth.\",IF(TRIM(O288)<>\"D4\",\"Please format DOB as a date in the form MM/DD/YYYY.\",IF('MARK Enrollment Template'!C293>TODAY(),\"Please check DOB.\",\"\"))))","v":""},{"$f":"IF('MARK Enrollment Template'!A293=\"\",\"\",IF(AND('MARK Enrollment Template'!A293<>\"\",'MARK Enrollment Template'!D293=\"\"),\"Please fill in Sex.\",IF(OR(TRIM('MARK Enrollment Template'!D293)=\"M\",TRIM('MARK Enrollment Template'!D293)=\"F\",TRIM('MARK Enrollment Template'!D293)=\"Male\",TRIM('MARK Enrollment Template'!D293)=\"Female\"),\"\",\"Sex must be M/F/Male/Female.\")))","v":""},null,null,{"$f":"IF('MARK Enrollment Template'!A293=\"\",\"\",IF(AND('MARK Enrollment Template'!A293<>\"\",'MARK Enrollment Template'!G293=\"\"),\"Please fill in Email Address.\",IF(IFERROR(FIND(\"@\",'MARK Enrollment Template'!G293),\"X\")=\"X\",\"Email Address must include an @ symbol.\",\"\")))","v":""},null,null,null,{"$f":"IF('MARK Enrollment Template'!A293=\"\",\"\",IF(AND('MARK Enrollment Template'!A293<>\"\",'MARK Enrollment Template'!K293=\"\"),\"Please fill in Zip Code.\",IF(LEN(SUBSTITUTE(TRIM('MARK Enrollment Template'!K293),CHAR(9),\"\"))<5,\"Zip <5 digits. If leading zero, add apostrophe (ex. '01234).\",\"\")))","v":""},null,null,{"$f":"CELL(\"format\",'MARK Enrollment Template'!C293)","v":"G"}]
["",{"$f":"IF(AND(SUMPRODUCT(--('MARK Enrollment Template'!A294:L294<>\"\"))<>0,'MARK Enrollment Template'!A294=\"\"),\"Please fill in First Name.\",IF(LEN('MARK Enrollment Template'!A294)=1,\"Please fill in full first name.\",\"\"))","v":""},{"$f":"IF('MARK Enrollment Template'!A294=\"\",\"\",IF(AND('MARK Enrollment Template'!A294<>\"\",'MARK Enrollment Template'!B294=\"\"),\"Please fill in a Last Name.\",\"\"))","v":""},{"$f":"IF('MARK Enrollment Template'!A294=\"\",\"\",IF(AND('MARK Enrollment Template'!A294<>\"\",'MARK Enrollment Template'!C294=\"\"),\"Please fill in Date of Birth.\",IF(TRIM(O289)<>\"D4\",\"Please format DOB as a date in the form MM/DD/YYYY.\",IF('MARK Enrollment Template'!C294>TODAY(),\"Please check DOB.\",\"\"))))","v":""},{"$f":"IF('MARK Enrollment Template'!A294=\"\",\"\",IF(AND('MARK Enrollment Template'!A294<>\"\",'MARK Enrollment Template'!D294=\"\"),\"Please fill in Sex.\",IF(OR(TRIM('MARK Enrollment Template'!D294)=\"M\",TRIM('MARK Enrollment Template'!D294)=\"F\",TRIM('MARK Enrollment Template'!D294)=\"Male\",TRIM('MARK Enrollment Template'!D294)=\"Female\"),\"\",\"Sex must be M/F/Male/Female.\")))","v":""},null,null,{"$f":"IF('MARK Enrollment Template'!A294=\"\",\"\",IF(AND('MARK Enrollment Template'!A294<>\"\",'MARK Enrollment Template'!G294=\"\"),\"Please fill in Email Address.\",IF(IFERROR(FIND(\"@\",'MARK Enrollment Template'!G294),\"X\")=\"X\",\"Email Address must include an @ symbol.\",\"\")))","v":""},null,null,null,{"$f":"IF('MARK Enrollment Template'!A294=\"\",\"\",IF(AND('MARK Enrollment Template'!A294<>\"\",'MARK Enrollment Template'!K294=\"\"),\"Please fill in Zip Code.\",IF(LEN(SUBSTITUTE(TRIM('MARK Enrollment Template'!K294),CHAR(9),\"\"))<5,\"Zip <5 digits. If leading zero, add apostrophe (ex. '01234).\",\"\")))","v":""},null,null,{"$f":"CELL(\"format\",'MARK Enrollment Template'!C294)","v":"G"}]
["",{"$f":"IF(AND(SUMPRODUCT(--('MARK Enrollment Template'!A295:L295<>\"\"))<>0,'MARK Enrollment Template'!A295=\"\"),\"Please fill in First Name.\",IF(LEN('MARK Enrollment Template'!A295)=1,\"Please fill in full first name.\",\"\"))","v":""},{"$f":"IF('MARK Enrollment Template'!A295=\"\",\"\",IF(AND('MARK Enrollment Template'!A295<>\"\",'MARK Enrollment Template'!B295=\"\"),\"Please fill in a Last Name.\",\"\"))","v":""},{"$f":"IF('MARK Enrollment Template'!A295=\"\",\"\",IF(AND('MARK Enrollment Template'!A295<>\"\",'MARK Enrollment Template'!C295=\"\"),\"Please fill in Date of Birth.\",IF(TRIM(O290)<>\"D4\",\"Please format DOB as a date in the form MM/DD/YYYY.\",IF('MARK Enrollment Template'!C295>TODAY(),\"Please check DOB.\",\"\"))))","v":""},{"$f":"IF('MARK Enrollment Template'!A295=\"\",\"\",IF(AND('MARK Enrollment Template'!A295<>\"\",'MARK Enrollment Template'!D295=\"\"),\"Please fill in Sex.\",IF(OR(TRIM('MARK Enrollment Template'!D295)=\"M\",TRIM('MARK Enrollment Template'!D295)=\"F\",TRIM('MARK Enrollment Template'!D295)=\"Male\",TRIM('MARK Enrollment Template'!D295)=\"Female\"),\"\",\"Sex must be M/F/Male/Female.\")))","v":""},null,null,{"$f":"IF('MARK Enrollment Template'!A295=\"\",\"\",IF(AND('MARK Enrollment Template'!A295<>\"\",'MARK Enrollment Template'!G295=\"\"),\"Please fill in Email Address.\",IF(IFERROR(FIND(\"@\",'MARK Enrollment Template'!G295),\"X\")=\"X\",\"Email Address must include an @ symbol.\",\"\")))","v":""},null,null,null,{"$f":"IF('MARK Enrollment Template'!A295=\"\",\"\",IF(AND('MARK Enrollment Template'!A295<>\"\",'MARK Enrollment Template'!K295=\"\"),\"Please fill in Zip Code.\",IF(LEN(SUBSTITUTE(TRIM('MARK Enrollment Template'!K295),CHAR(9),\"\"))<5,\"Zip <5 digits. If leading zero, add apostrophe (ex. '01234).\",\"\")))","v":""},null,null,{"$f":"CELL(\"format\",'MARK Enrollment Template'!C295)","v":"G"}]
["",{"$f":"IF(AND(SUMPRODUCT(--('MARK Enrollment Template'!A296:L296<>\"\"))<>0,'MARK Enrollment Template'!A296=\"\"),\"Please fill in First Name.\",IF(LEN('MARK Enrollment Template'!A296)=1,\"Please fill in full first name.\",\"\"))","v":""},{"$f":"IF('MARK Enrollment Template'!A296=\"\",\"\",IF(AND('MARK Enrollment Template'!A296<>\"\",'MARK Enrollment Template'!B296=\"\"),\"Please fill in a Last Name.\",\"\"))","v":""},{"$f":"IF('MARK Enrollment Template'!A296=\"\",\"\",IF(AND('MARK Enrollment Template'!A296<>\"\",'MARK Enrollment Template'!C296=\"\"),\"Please fill in Date of Birth.\",IF(TRIM(O291)<>\"D4\",\"Please format DOB as a date in the form MM/DD/YYYY.\",IF('MARK Enrollment Template'!C296>TODAY(),\"Please check DOB.\",\"\"))))","v":""},{"$f":"IF('MARK Enrollment Template'!A296=\"\",\"\",IF(AND('MARK Enrollment Template'!A296<>\"\",'MARK Enrollment Template'!D296=\"\"),\"Please fill in Sex.\",IF(OR(TRIM('MARK Enrollment Template'!D296)=\"M\",TRIM('MARK Enrollment Template'!D296)=\"F\",TRIM('MARK Enrollment Template'!D296)=\"Male\",TRIM('MARK Enrollment Template'!D296)=\"Female\"),\"\",\"Sex must be M/F/Male/Female.\")))","v":""},null,null,{"$f":"IF('MARK Enrollment Template'!A296=\"\",\"\",IF(AND('MARK Enrollment Template'!A296<>\"\",'MARK Enrollment Template'!G296=\"\"),\"Please fill in Email Address.\",IF(IFERROR(FIND(\"@\",'MARK Enrollment Template'!G296),\"X\")=\"X\",\"Email Address must include an @ symbol.\",\"\")))","v":""},null,null,null,{"$f":"IF('MARK Enrollment Template'!A296=\"\",\"\",IF(AND('MARK Enrollment Template'!A296<>\"\",'MARK Enrollment Template'!K296=\"\"),\"Please fill in Zip Code.\",IF(LEN(SUBSTITUTE(TRIM('MARK Enrollment Template'!K296),CHAR(9),\"\"))<5,\"Zip <5 digits. If leading zero, add apostrophe (ex. '01234).\",\"\")))","v":""},null,null,{"$f":"CELL(\"format\",'MARK Enrollment Template'!C296)","v":"G"}]
["",{"$f":"IF(AND(SUMPRODUCT(--('MARK Enrollment Template'!A297:L297<>\"\"))<>0,'MARK Enrollment Template'!A297=\"\"),\"Please fill in First Name.\",IF(LEN('MARK Enrollment Template'!A297)=1,\"Please fill in full first name.\",\"\"))","v":""},{"$f":"IF('MARK Enrollment Template'!A297=\"\",\"\",IF(AND('MARK Enrollment Template'!A297<>\"\",'MARK Enrollment Template'!B297=\"\"),\"Please fill in a Last Name.\",\"\"))","v":""},{"$f":"IF('MARK Enrollment Template'!A297=\"\",\"\",IF(AND('MARK Enrollment Template'!A297<>\"\",'MARK Enrollment Template'!C297=\"\"),\"Please fill in Date of Birth.\",IF(TRIM(O292)<>\"D4\",\"Please format DOB as a date in the form MM/DD/YYYY.\",IF('MARK Enrollment Template'!C297>TODAY(),\"Please check DOB.\",\"\"))))","v":""},{"$f":"IF('MARK Enrollment Template'!A297=\"\",\"\",IF(AND('MARK Enrollment Template'!A297<>\"\",'MARK Enrollment Template'!D297=\"\"),\"Please fill in Sex.\",IF(OR(TRIM('MARK Enrollment Template'!D297)=\"M\",TRIM('MARK Enrollment Template'!D297)=\"F\",TRIM('MARK Enrollment Template'!D297)=\"Male\",TRIM('MARK Enrollment Template'!D297)=\"Female\"),\"\",\"Sex must be M/F/Male/Female.\")))","v":""},null,null,{"$f":"IF('MARK Enrollment Template'!A297=\"\",\"\",IF(AND('MARK Enrollment Template'!A297<>\"\",'MARK Enrollment Template'!G297=\"\"),\"Please fill in Email Address.\",IF(IFERROR(FIND(\"@\",'MARK Enrollment Template'!G297),\"X\")=\"X\",\"Email Address must include an @ symbol.\",\"\")))","v":""},null,null,null,{"$f":"IF('MARK Enrollment Template'!A297=\"\",\"\",IF(AND('MARK Enrollment Template'!A297<>\"\",'MARK Enrollment Template'!K297=\"\"),\"Please fill in Zip Code.\",IF(LEN(SUBSTITUTE(TRIM('MARK Enrollment Template'!K297),CHAR(9),\"\"))<5,\"Zip <5 digits. If leading zero, add apostrophe (ex. '01234).\",\"\")))","v":""},null,null,{"$f":"CELL(\"format\",'MARK Enrollment Template'!C297)","v":"G"}]
["",{"$f":"IF(AND(SUMPRODUCT(--('MARK Enrollment Template'!A298:L298<>\"\"))<>0,'MARK Enrollment Template'!A298=\"\"),\"Please fill in First Name.\",IF(LEN('MARK Enrollment Template'!A298)=1,\"Please fill in full first name.\",\"\"))","v":""},{"$f":"IF('MARK Enrollment Template'!A298=\"\",\"\",IF(AND('MARK Enrollment Template'!A298<>\"\",'MARK Enrollment Template'!B298=\"\"),\"Please fill in a Last Name.\",\"\"))","v":""},{"$f":"IF('MARK Enrollment Template'!A298=\"\",\"\",IF(AND('MARK Enrollment Template'!A298<>\"\",'MARK Enrollment Template'!C298=\"\"),\"Please fill in Date of Birth.\",IF(TRIM(O293)<>\"D4\",\"Please format DOB as a date in the form MM/DD/YYYY.\",IF('MARK Enrollment Template'!C298>TODAY(),\"Please check DOB.\",\"\"))))","v":""},{"$f":"IF('MARK Enrollment Template'!A298=\"\",\"\",IF(AND('MARK Enrollment Template'!A298<>\"\",'MARK Enrollment Template'!D298=\"\"),\"Please fill in Sex.\",IF(OR(TRIM('MARK Enrollment Template'!D298)=\"M\",TRIM('MARK Enrollment Template'!D298)=\"F\",TRIM('MARK Enrollment Template'!D298)=\"Male\",TRIM('MARK Enrollment Template'!D298)=\"Female\"),\"\",\"Sex must be M/F/Male/Female.\")))","v":""},null,null,{"$f":"IF('MARK Enrollment Template'!A298=\"\",\"\",IF(AND('MARK Enrollment Template'!A298<>\"\",'MARK Enrollment Template'!G298=\"\"),\"Please fill in Email Address.\",IF(IFERROR(FIND(\"@\",'MARK Enrollment Template'!G298),\"X\")=\"X\",\"Email Address must include an @ symbol.\",\"\")))","v":""},null,null,null,{"$f":"IF('MARK Enrollment Template'!A298=\"\",\"\",IF(AND('MARK Enrollment Template'!A298<>\"\",'MARK Enrollment Template'!K298=\"\"),\"Please fill in Zip Code.\",IF(LEN(SUBSTITUTE(TRIM('MARK Enrollment Template'!K298),CHAR(9),\"\"))<5,\"Zip <5 digits. If leading zero, add apostrophe (ex. '01234).\",\"\")))","v":""},null,null,{"$f":"CELL(\"format\",'MARK Enrollment Template'!C298)","v":"G"}]
["",{"$f":"IF(AND(SUMPRODUCT(--('MARK Enrollment Template'!A299:L299<>\"\"))<>0,'MARK Enrollment Template'!A299=\"\"),\"Please fill in First Name.\",IF(LEN('MARK Enrollment Template'!A299)=1,\"Please fill in full first name.\",\"\"))","v":""},{"$f":"IF('MARK Enrollment Template'!A299=\"\",\"\",IF(AND('MARK Enrollment Template'!A299<>\"\",'MARK Enrollment Template'!B299=\"\"),\"Please fill in a Last Name.\",\"\"))","v":""},{"$f":"IF('MARK Enrollment Template'!A299=\"\",\"\",IF(AND('MARK Enrollment Template'!A299<>\"\",'MARK Enrollment Template'!C299=\"\"),\"Please fill in Date of Birth.\",IF(TRIM(O294)<>\"D4\",\"Please format DOB as a date in the form MM/DD/YYYY.\",IF('MARK Enrollment Template'!C299>TODAY(),\"Please check DOB.\",\"\"))))","v":""},{"$f":"IF('MARK Enrollment Template'!A299=\"\",\"\",IF(AND('MARK Enrollment Template'!A299<>\"\",'MARK Enrollment Template'!D299=\"\"),\"Please fill in Sex.\",IF(OR(TRIM('MARK Enrollment Template'!D299)=\"M\",TRIM('MARK Enrollment Template'!D299)=\"F\",TRIM('MARK Enrollment Template'!D299)=\"Male\",TRIM('MARK Enrollment Template'!D299)=\"Female\"),\"\",\"Sex must be M/F/Male/Female.\")))","v":""},null,null,{"$f":"IF('MARK Enrollment Template'!A299=\"\",\"\",IF(AND('MARK Enrollment Template'!A299<>\"\",'MARK Enrollment Template'!G299=\"\"),\"Please fill in Email Address.\",IF(IFERROR(FIND(\"@\",'MARK Enrollment Template'!G299),\"X\")=\"X\",\"Email Address must include an @ symbol.\",\"\")))","v":""},null,null,null,{"$f":"IF('MARK Enrollment Template'!A299=\"\",\"\",IF(AND('MARK Enrollment Template'!A299<>\"\",'MARK Enrollment Template'!K299=\"\"),\"Please fill in Zip Code.\",IF(LEN(SUBSTITUTE(TRIM('MARK Enrollment Template'!K299),CHAR(9),\"\"))<5,\"Zip <5 digits. If leading zero, add apostrophe (ex. '01234).\",\"\")))","v":""},null,null,{"$f":"CELL(\"format\",'MARK Enrollment Template'!C299)","v":"G"}]
["",{"$f":"IF(AND(SUMPRODUCT(--('MARK Enrollment Template'!A300:L300<>\"\"))<>0,'MARK Enrollment Template'!A300=\"\"),\"Please fill in First Name.\",IF(LEN('MARK Enrollment Template'!A300)=1,\"Please fill in full first name.\",\"\"))","v":""},{"$f":"IF('MARK Enrollment Template'!A300=\"\",\"\",IF(AND('MARK Enrollment Template'!A300<>\"\",'MARK Enrollment Template'!B300=\"\"),\"Please fill in a Last Name.\",\"\"))","v":""},{"$f":"IF('MARK Enrollment Template'!A300=\"\",\"\",IF(AND('MARK Enrollment Template'!A300<>\"\",'MARK Enrollment Template'!C300=\"\"),\"Please fill in Date of Birth.\",IF(TRIM(O295)<>\"D4\",\"Please format DOB as a date in the form MM/DD/YYYY.\",IF('MARK Enrollment Template'!C300>TODAY(),\"Please check DOB.\",\"\"))))","v":""},{"$f":"IF('MARK Enrollment Template'!A300=\"\",\"\",IF(AND('MARK Enrollment Template'!A300<>\"\",'MARK Enrollment Template'!D300=\"\"),\"Please fill in Sex.\",IF(OR(TRIM('MARK Enrollment Template'!D300)=\"M\",TRIM('MARK Enrollment Template'!D300)=\"F\",TRIM('MARK Enrollment Template'!D300)=\"Male\",TRIM('MARK Enrollment Template'!D300)=\"Female\"),\"\",\"Sex must be M/F/Male/Female.\")))","v":""},null,null,{"$f":"IF('MARK Enrollment Template'!A300=\"\",\"\",IF(AND('MARK Enrollment Template'!A300<>\"\",'MARK Enrollment Template'!G300=\"\"),\"Please fill in Email Address.\",IF(IFERROR(FIND(\"@\",'MARK Enrollment Template'!G300),\"X\")=\"X\",\"Email Address must include an @ symbol.\",\"\")))","v":""},null,null,null,{"$f":"IF('MARK Enrollment Template'!A300=\"\",\"\",IF(AND('MARK Enrollment Template'!A300<>\"\",'MARK Enrollment Template'!K300=\"\"),\"Please fill in Zip Code.\",IF(LEN(SUBSTITUTE(TRIM('MARK Enrollment Template'!K300),CHAR(9),\"\"))<5,\"Zip <5 digits. If leading zero, add apostrophe (ex. '01234).\",\"\")))","v":""},null,null,{"$f":"CELL(\"format\",'MARK Enrollment Template'!C300)","v":"G"}]
["",{"$f":"IF(AND(SUMPRODUCT(--('MARK Enrollment Template'!A301:L301<>\"\"))<>0,'MARK Enrollment Template'!A301=\"\"),\"Please fill in First Name.\",IF(LEN('MARK Enrollment Template'!A301)=1,\"Please fill in full first name.\",\"\"))","v":""},{"$f":"IF('MARK Enrollment Template'!A301=\"\",\"\",IF(AND('MARK Enrollment Template'!A301<>\"\",'MARK Enrollment Template'!B301=\"\"),\"Please fill in a Last Name.\",\"\"))","v":""},{"$f":"IF('MARK Enrollment Template'!A301=\"\",\"\",IF(AND('MARK Enrollment Template'!A301<>\"\",'MARK Enrollment Template'!C301=\"\"),\"Please fill in Date of Birth.\",IF(TRIM(O296)<>\"D4\",\"Please format DOB as a date in the form MM/DD/YYYY.\",IF('MARK Enrollment Template'!C301>TODAY(),\"Please check DOB.\",\"\"))))","v":""},{"$f":"IF('MARK Enrollment Template'!A301=\"\",\"\",IF(AND('MARK Enrollment Template'!A301<>\"\",'MARK Enrollment Template'!D301=\"\"),\"Please fill in Sex.\",IF(OR(TRIM('MARK Enrollment Template'!D301)=\"M\",TRIM('MARK Enrollment Template'!D301)=\"F\",TRIM('MARK Enrollment Template'!D301)=\"Male\",TRIM('MARK Enrollment Template'!D301)=\"Female\"),\"\",\"Sex must be M/F/Male/Female.\")))","v":""},null,null,{"$f":"IF('MARK Enrollment Template'!A301=\"\",\"\",IF(AND('MARK Enrollment Template'!A301<>\"\",'MARK Enrollment Template'!G301=\"\"),\"Please fill in Email Address.\",IF(IFERROR(FIND(\"@\",'MARK Enrollment Template'!G301),\"X\")=\"X\",\"Email Address must include an @ symbol.\",\"\")))","v":""},null,null,null,{"$f":"IF('MARK Enrollment Template'!A301=\"\",\"\",IF(AND('MARK Enrollment Template'!A301<>\"\",'MARK Enrollment Template'!K301=\"\"),\"Please fill in Zip Code.\",IF(LEN(SUBSTITUTE(TRIM('MARK Enrollment Template'!K301),CHAR(9),\"\"))<5,\"Zip <5 digits. If leading zero, add apostrophe (ex. '01234).\",\"\")))","v":""},null,null,{"$f":"CELL(\"format\",'MARK Enrollment Template'!C301)","v":"G"}]
["",{"$f":"IF(AND(SUMPRODUCT(--('MARK Enrollment Template'!A302:L302<>\"\"))<>0,'MARK Enrollment Template'!A302=\"\"),\"Please fill in First Name.\",IF(LEN('MARK Enrollment Template'!A302)=1,\"Please fill in full first name.\",\"\"))","v":""},{"$f":"IF('MARK Enrollment Template'!A302=\"\",\"\",IF(AND('MARK Enrollment Template'!A302<>\"\",'MARK Enrollment Template'!B302=\"\"),\"Please fill in a Last Name.\",\"\"))","v":""},{"$f":"IF('MARK Enrollment Template'!A302=\"\",\"\",IF(AND('MARK Enrollment Template'!A302<>\"\",'MARK Enrollment Template'!C302=\"\"),\"Please fill in Date of Birth.\",IF(TRIM(O297)<>\"D4\",\"Please format DOB as a date in the form MM/DD/YYYY.\",IF('MARK Enrollment Template'!C302>TODAY(),\"Please check DOB.\",\"\"))))","v":""},{"$f":"IF('MARK Enrollment Template'!A302=\"\",\"\",IF(AND('MARK Enrollment Template'!A302<>\"\",'MARK Enrollment Template'!D302=\"\"),\"Please fill in Sex.\",IF(OR(TRIM('MARK Enrollment Template'!D302)=\"M\",TRIM('MARK Enrollment Template'!D302)=\"F\",TRIM('MARK Enrollment Template'!D302)=\"Male\",TRIM('MARK Enrollment Template'!D302)=\"Female\"),\"\",\"Sex must be M/F/Male/Female.\")))","v":""},null,null,{"$f":"IF('MARK Enrollment Template'!A302=\"\",\"\",IF(AND('MARK Enrollment Template'!A302<>\"\",'MARK Enrollment Template'!G302=\"\"),\"Please fill in Email Address.\",IF(IFERROR(FIND(\"@\",'MARK Enrollment Template'!G302),\"X\")=\"X\",\"Email Address must include an @ symbol.\",\"\")))","v":""},null,null,null,{"$f":"IF('MARK Enrollment Template'!A302=\"\",\"\",IF(AND('MARK Enrollment Template'!A302<>\"\",'MARK Enrollment Template'!K302=\"\"),\"Please fill in Zip Code.\",IF(LEN(SUBSTITUTE(TRIM('MARK Enrollment Template'!K302),CHAR(9),\"\"))<5,\"Zip <5 digits. If leading zero, add apostrophe (ex. '01234).\",\"\")))","v":""},null,null,{"$f":"CELL(\"format\",'MARK Enrollment Template'!C302)","v":"G"}]
["",{"$f":"IF(AND(SUMPRODUCT(--('MARK Enrollment Template'!A303:L303<>\"\"))<>0,'MARK Enrollment Template'!A303=\"\"),\"Please fill in First Name.\",IF(LEN('MARK Enrollment Template'!A303)=1,\"Please fill in full first name.\",\"\"))","v":""},{"$f":"IF('MARK Enrollment Template'!A303=\"\",\"\",IF(AND('MARK Enrollment Template'!A303<>\"\",'MARK Enrollment Template'!B303=\"\"),\"Please fill in a Last Name.\",\"\"))","v":""},{"$f":"IF('MARK Enrollment Template'!A303=\"\",\"\",IF(AND('MARK Enrollment Template'!A303<>\"\",'MARK Enrollment Template'!C303=\"\"),\"Please fill in Date of Birth.\",IF(TRIM(O298)<>\"D4\",\"Please format DOB as a date in the form MM/DD/YYYY.\",IF('MARK Enrollment Template'!C303>TODAY(),\"Please check DOB.\",\"\"))))","v":""},{"$f":"IF('MARK Enrollment Template'!A303=\"\",\"\",IF(AND('MARK Enrollment Template'!A303<>\"\",'MARK Enrollment Template'!D303=\"\"),\"Please fill in Sex.\",IF(OR(TRIM('MARK Enrollment Template'!D303)=\"M\",TRIM('MARK Enrollment Template'!D303)=\"F\",TRIM('MARK Enrollment Template'!D303)=\"Male\",TRIM('MARK Enrollment Template'!D303)=\"Female\"),\"\",\"Sex must be M/F/Male/Female.\")))","v":""},null,null,{"$f":"IF('MARK Enrollment Template'!A303=\"\",\"\",IF(AND('MARK Enrollment Template'!A303<>\"\",'MARK Enrollment Template'!G303=\"\"),\"Please fill in Email Address.\",IF(IFERROR(FIND(\"@\",'MARK Enrollment Template'!G303),\"X\")=\"X\",\"Email Address must include an @ symbol.\",\"\")))","v":""},null,null,null,{"$f":"IF('MARK Enrollment Template'!A303=\"\",\"\",IF(AND('MARK Enrollment Template'!A303<>\"\",'MARK Enrollment Template'!K303=\"\"),\"Please fill in Zip Code.\",IF(LEN(SUBSTITUTE(TRIM('MARK Enrollment Template'!K303),CHAR(9),\"\"))<5,\"Zip <5 digits. If leading zero, add apostrophe (ex. '01234).\",\"\")))","v":""},null,null,{"$f":"CELL(\"format\",'MARK Enrollment Template'!C303)","v":"G"}]
["",{"$f":"IF(AND(SUMPRODUCT(--('MARK Enrollment Template'!A304:L304<>\"\"))<>0,'MARK Enrollment Template'!A304=\"\"),\"Please fill in First Name.\",IF(LEN('MARK Enrollment Template'!A304)=1,\"Please fill in full first name.\",\"\"))","v":""},{"$f":"IF('MARK Enrollment Template'!A304=\"\",\"\",IF(AND('MARK Enrollment Template'!A304<>\"\",'MARK Enrollment Template'!B304=\"\"),\"Please fill in a Last Name.\",\"\"))","v":""},{"$f":"IF('MARK Enrollment Template'!A304=\"\",\"\",IF(AND('MARK Enrollment Template'!A304<>\"\",'MARK Enrollment Template'!C304=\"\"),\"Please fill in Date of Birth.\",IF(TRIM(O299)<>\"D4\",\"Please format DOB as a date in the form MM/DD/YYYY.\",IF('MARK Enrollment Template'!C304>TODAY(),\"Please check DOB.\",\"\"))))","v":""},{"$f":"IF('MARK Enrollment Template'!A304=\"\",\"\",IF(AND('MARK Enrollment Template'!A304<>\"\",'MARK Enrollment Template'!D304=\"\"),\"Please fill in Sex.\",IF(OR(TRIM('MARK Enrollment Template'!D304)=\"M\",TRIM('MARK Enrollment Template'!D304)=\"F\",TRIM('MARK Enrollment Template'!D304)=\"Male\",TRIM('MARK Enrollment Template'!D304)=\"Female\"),\"\",\"Sex must be M/F/Male/Female.\")))","v":""},null,null,{"$f":"IF('MARK Enrollment Template'!A304=\"\",\"\",IF(AND('MARK Enrollment Template'!A304<>\"\",'MARK Enrollment Template'!G304=\"\"),\"Please fill in Email Address.\",IF(IFERROR(FIND(\"@\",'MARK Enrollment Template'!G304),\"X\")=\"X\",\"Email Address must include an @ symbol.\",\"\")))","v":""},null,null,null,{"$f":"IF('MARK Enrollment Template'!A304=\"\",\"\",IF(AND('MARK Enrollment Template'!A304<>\"\",'MARK Enrollment Template'!K304=\"\"),\"Please fill in Zip Code.\",IF(LEN(SUBSTITUTE(TRIM('MARK Enrollment Template'!K304),CHAR(9),\"\"))<5,\"Zip <5 digits. If leading zero, add apostrophe (ex. '01234).\",\"\")))","v":""},null,null,{"$f":"CELL(\"format\",'MARK Enrollment Template'!C304)","v":"G"}]
["",{"$f":"IF(AND(SUMPRODUCT(--('MARK Enrollment Template'!A305:L305<>\"\"))<>0,'MARK Enrollment Template'!A305=\"\"),\"Please fill in First Name.\",IF(LEN('MARK Enrollment Template'!A305)=1,\"Please fill in full first name.\",\"\"))","v":""},{"$f":"IF('MARK Enrollment Template'!A305=\"\",\"\",IF(AND('MARK Enrollment Template'!A305<>\"\",'MARK Enrollment Template'!B305=\"\"),\"Please fill in a Last Name.\",\"\"))","v":""},{"$f":"IF('MARK Enrollment Template'!A305=\"\",\"\",IF(AND('MARK Enrollment Template'!A305<>\"\",'MARK Enrollment Template'!C305=\"\"),\"Please fill in Date of Birth.\",IF(TRIM(O300)<>\"D4\",\"Please format DOB as a date in the form MM/DD/YYYY.\",IF('MARK Enrollment Template'!C305>TODAY(),\"Please check DOB.\",\"\"))))","v":""},{"$f":"IF('MARK Enrollment Template'!A305=\"\",\"\",IF(AND('MARK Enrollment Template'!A305<>\"\",'MARK Enrollment Template'!D305=\"\"),\"Please fill in Sex.\",IF(OR(TRIM('MARK Enrollment Template'!D305)=\"M\",TRIM('MARK Enrollment Template'!D305)=\"F\",TRIM('MARK Enrollment Template'!D305)=\"Male\",TRIM('MARK Enrollment Template'!D305)=\"Female\"),\"\",\"Sex must be M/F/Male/Female.\")))","v":""},null,null,{"$f":"IF('MARK Enrollment Template'!A305=\"\",\"\",IF(AND('MARK Enrollment Template'!A305<>\"\",'MARK Enrollment Template'!G305=\"\"),\"Please fill in Email Address.\",IF(IFERROR(FIND(\"@\",'MARK Enrollment Template'!G305),\"X\")=\"X\",\"Email Address must include an @ symbol.\",\"\")))","v":""},null,null,null,{"$f":"IF('MARK Enrollment Template'!A305=\"\",\"\",IF(AND('MARK Enrollment Template'!A305<>\"\",'MARK Enrollment Template'!K305=\"\"),\"Please fill in Zip Code.\",IF(LEN(SUBSTITUTE(TRIM('MARK Enrollment Template'!K305),CHAR(9),\"\"))<5,\"Zip <5 digits. If leading zero, add apostrophe (ex. '01234).\",\"\")))","v":""},null,null,{"$f":"CELL(\"format\",'MARK Enrollment Template'!C305)","v":"G"}]
["",{"$f":"IF(AND(SUMPRODUCT(--('MARK Enrollment Template'!A306:L306<>\"\"))<>0,'MARK Enrollment Template'!A306=\"\"),\"Please fill in First Name.\",IF(LEN('MARK Enrollment Template'!A306)=1,\"Please fill in full first name.\",\"\"))","v":""},{"$f":"IF('MARK Enrollment Template'!A306=\"\",\"\",IF(AND('MARK Enrollment Template'!A306<>\"\",'MARK Enrollment Template'!B306=\"\"),\"Please fill in a Last Name.\",\"\"))","v":""},{"$f":"IF('MARK Enrollment Template'!A306=\"\",\"\",IF(AND('MARK Enrollment Template'!A306<>\"\",'MARK Enrollment Template'!C306=\"\"),\"Please fill in Date of Birth.\",IF(TRIM(O301)<>\"D4\",\"Please format DOB as a date in the form MM/DD/YYYY.\",IF('MARK Enrollment Template'!C306>TODAY(),\"Please check DOB.\",\"\"))))","v":""},{"$f":"IF('MARK Enrollment Template'!A306=\"\",\"\",IF(AND('MARK Enrollment Template'!A306<>\"\",'MARK Enrollment Template'!D306=\"\"),\"Please fill in Sex.\",IF(OR(TRIM('MARK Enrollment Template'!D306)=\"M\",TRIM('MARK Enrollment Template'!D306)=\"F\",TRIM('MARK Enrollment Template'!D306)=\"Male\",TRIM('MARK Enrollment Template'!D306)=\"Female\"),\"\",\"Sex must be M/F/Male/Female.\")))","v":""},null,null,{"$f":"IF('MARK Enrollment Template'!A306=\"\",\"\",IF(AND('MARK Enrollment Template'!A306<>\"\",'MARK Enrollment Template'!G306=\"\"),\"Please fill in Email Address.\",IF(IFERROR(FIND(\"@\",'MARK Enrollment Template'!G306),\"X\")=\"X\",\"Email Address must include an @ symbol.\",\"\")))","v":""},null,null,null,{"$f":"IF('MARK Enrollment Template'!A306=\"\",\"\",IF(AND('MARK Enrollment Template'!A306<>\"\",'MARK Enrollment Template'!K306=\"\"),\"Please fill in Zip Code.\",IF(LEN(SUBSTITUTE(TRIM('MARK Enrollment Template'!K306),CHAR(9),\"\"))<5,\"Zip <5 digits. If leading zero, add apostrophe (ex. '01234).\",\"\")))","v":""},null,null,{"$f":"CELL(\"format\",'MARK Enrollment Template'!C306)","v":"G"}]
["",{"$f":"IF(AND(SUMPRODUCT(--('MARK Enrollment Template'!A307:L307<>\"\"))<>0,'MARK Enrollment Template'!A307=\"\"),\"Please fill in First Name.\",IF(LEN('MARK Enrollment Template'!A307)=1,\"Please fill in full first name.\",\"\"))","v":""},{"$f":"IF('MARK Enrollment Template'!A307=\"\",\"\",IF(AND('MARK Enrollment Template'!A307<>\"\",'MARK Enrollment Template'!B307=\"\"),\"Please fill in a Last Name.\",\"\"))","v":""},{"$f":"IF('MARK Enrollment Template'!A307=\"\",\"\",IF(AND('MARK Enrollment Template'!A307<>\"\",'MARK Enrollment Template'!C307=\"\"),\"Please fill in Date of Birth.\",IF(TRIM(O302)<>\"D4\",\"Please format DOB as a date in the form MM/DD/YYYY.\",IF('MARK Enrollment Template'!C307>TODAY(),\"Please check DOB.\",\"\"))))","v":""},{"$f":"IF('MARK Enrollment Template'!A307=\"\",\"\",IF(AND('MARK Enrollment Template'!A307<>\"\",'MARK Enrollment Template'!D307=\"\"),\"Please fill in Sex.\",IF(OR(TRIM('MARK Enrollment Template'!D307)=\"M\",TRIM('MARK Enrollment Template'!D307)=\"F\",TRIM('MARK Enrollment Template'!D307)=\"Male\",TRIM('MARK Enrollment Template'!D307)=\"Female\"),\"\",\"Sex must be M/F/Male/Female.\")))","v":""},null,null,{"$f":"IF('MARK Enrollment Template'!A307=\"\",\"\",IF(AND('MARK Enrollment Template'!A307<>\"\",'MARK Enrollment Template'!G307=\"\"),\"Please fill in Email Address.\",IF(IFERROR(FIND(\"@\",'MARK Enrollment Template'!G307),\"X\")=\"X\",\"Email Address must include an @ symbol.\",\"\")))","v":""},null,null,null,{"$f":"IF('MARK Enrollment Template'!A307=\"\",\"\",IF(AND('MARK Enrollment Template'!A307<>\"\",'MARK Enrollment Template'!K307=\"\"),\"Please fill in Zip Code.\",IF(LEN(SUBSTITUTE(TRIM('MARK Enrollment Template'!K307),CHAR(9),\"\"))<5,\"Zip <5 digits. If leading zero, add apostrophe (ex. '01234).\",\"\")))","v":""},null,null,{"$f":"CELL(\"format\",'MARK Enrollment Template'!C307)","v":"G"}]
["",{"$f":"IF(AND(SUMPRODUCT(--('MARK Enrollment Template'!A308:L308<>\"\"))<>0,'MARK Enrollment Template'!A308=\"\"),\"Please fill in First Name.\",IF(LEN('MARK Enrollment Template'!A308)=1,\"Please fill in full first name.\",\"\"))","v":""},{"$f":"IF('MARK Enrollment Template'!A308=\"\",\"\",IF(AND('MARK Enrollment Template'!A308<>\"\",'MARK Enrollment Template'!B308=\"\"),\"Please fill in a Last Name.\",\"\"))","v":""},{"$f":"IF('MARK Enrollment Template'!A308=\"\",\"\",IF(AND('MARK Enrollment Template'!A308<>\"\",'MARK Enrollment Template'!C308=\"\"),\"Please fill in Date of Birth.\",IF(TRIM(O303)<>\"D4\",\"Please format DOB as a date in the form MM/DD/YYYY.\",IF('MARK Enrollment Template'!C308>TODAY(),\"Please check DOB.\",\"\"))))","v":""},{"$f":"IF('MARK Enrollment Template'!A308=\"\",\"\",IF(AND('MARK Enrollment Template'!A308<>\"\",'MARK Enrollment Template'!D308=\"\"),\"Please fill in Sex.\",IF(OR(TRIM('MARK Enrollment Template'!D308)=\"M\",TRIM('MARK Enrollment Template'!D308)=\"F\",TRIM('MARK Enrollment Template'!D308)=\"Male\",TRIM('MARK Enrollment Template'!D308)=\"Female\"),\"\",\"Sex must be M/F/Male/Female.\")))","v":""},null,null,{"$f":"IF('MARK Enrollment Template'!A308=\"\",\"\",IF(AND('MARK Enrollment Template'!A308<>\"\",'MARK Enrollment Template'!G308=\"\"),\"Please fill in Email Address.\",IF(IFERROR(FIND(\"@\",'MARK Enrollment Template'!G308),\"X\")=\"X\",\"Email Address must include an @ symbol.\",\"\")))","v":""},null,null,null,{"$f":"IF('MARK Enrollment Template'!A308=\"\",\"\",IF(AND('MARK Enrollment Template'!A308<>\"\",'MARK Enrollment Template'!K308=\"\"),\"Please fill in Zip Code.\",IF(LEN(SUBSTITUTE(TRIM('MARK Enrollment Template'!K308),CHAR(9),\"\"))<5,\"Zip <5 digits. If leading zero, add apostrophe (ex. '01234).\",\"\")))","v":""},null,null,{"$f":"CELL(\"format\",'MARK Enrollment Template'!C308)","v":"G"}]
["",{"$f":"IF(AND(SUMPRODUCT(--('MARK Enrollment Template'!A309:L309<>\"\"))<>0,'MARK Enrollment Template'!A309=\"\"),\"Please fill in First Name.\",IF(LEN('MARK Enrollment Template'!A309)=1,\"Please fill in full first name.\",\"\"))","v":""},{"$f":"IF('MARK Enrollment Template'!A309=\"\",\"\",IF(AND('MARK Enrollment Template'!A309<>\"\",'MARK Enrollment Template'!B309=\"\"),\"Please fill in a Last Name.\",\"\"))","v":""},{"$f":"IF('MARK Enrollment Template'!A309=\"\",\"\",IF(AND('MARK Enrollment Template'!A309<>\"\",'MARK Enrollment Template'!C309=\"\"),\"Please fill in Date of Birth.\",IF(TRIM(O304)<>\"D4\",\"Please format DOB as a date in the form MM/DD/YYYY.\",IF('MARK Enrollment Template'!C309>TODAY(),\"Please check DOB.\",\"\"))))","v":""},{"$f":"IF('MARK Enrollment Template'!A309=\"\",\"\",IF(AND('MARK Enrollment Template'!A309<>\"\",'MARK Enrollment Template'!D309=\"\"),\"Please fill in Sex.\",IF(OR(TRIM('MARK Enrollment Template'!D309)=\"M\",TRIM('MARK Enrollment Template'!D309)=\"F\",TRIM('MARK Enrollment Template'!D309)=\"Male\",TRIM('MARK Enrollment Template'!D309)=\"Female\"),\"\",\"Sex must be M/F/Male/Female.\")))","v":""},null,null,{"$f":"IF('MARK Enrollment Template'!A309=\"\",\"\",IF(AND('MARK Enrollment Template'!A309<>\"\",'MARK Enrollment Template'!G309=\"\"),\"Please fill in Email Address.\",IF(IFERROR(FIND(\"@\",'MARK Enrollment Template'!G309),\"X\")=\"X\",\"Email Address must include an @ symbol.\",\"\")))","v":""},null,null,null,{"$f":"IF('MARK Enrollment Template'!A309=\"\",\"\",IF(AND('MARK Enrollment Template'!A309<>\"\",'MARK Enrollment Template'!K309=\"\"),\"Please fill in Zip Code.\",IF(LEN(SUBSTITUTE(TRIM('MARK Enrollment Template'!K309),CHAR(9),\"\"))<5,\"Zip <5 digits. If leading zero, add apostrophe (ex. '01234).\",\"\")))","v":""},null,null,{"$f":"CELL(\"format\",'MARK Enrollment Template'!C309)","v":"G"}]
["",{"$f":"IF(AND(SUMPRODUCT(--('MARK Enrollment Template'!A310:L310<>\"\"))<>0,'MARK Enrollment Template'!A310=\"\"),\"Please fill in First Name.\",IF(LEN('MARK Enrollment Template'!A310)=1,\"Please fill in full first name.\",\"\"))","v":""},{"$f":"IF('MARK Enrollment Template'!A310=\"\",\"\",IF(AND('MARK Enrollment Template'!A310<>\"\",'MARK Enrollment Template'!B310=\"\"),\"Please fill in a Last Name.\",\"\"))","v":""},{"$f":"IF('MARK Enrollment Template'!A310=\"\",\"\",IF(AND('MARK Enrollment Template'!A310<>\"\",'MARK Enrollment Template'!C310=\"\"),\"Please fill in Date of Birth.\",IF(TRIM(O305)<>\"D4\",\"Please format DOB as a date in the form MM/DD/YYYY.\",IF('MARK Enrollment Template'!C310>TODAY(),\"Please check DOB.\",\"\"))))","v":""},{"$f":"IF('MARK Enrollment Template'!A310=\"\",\"\",IF(AND('MARK Enrollment Template'!A310<>\"\",'MARK Enrollment Template'!D310=\"\"),\"Please fill in Sex.\",IF(OR(TRIM('MARK Enrollment Template'!D310)=\"M\",TRIM('MARK Enrollment Template'!D310)=\"F\",TRIM('MARK Enrollment Template'!D310)=\"Male\",TRIM('MARK Enrollment Template'!D310)=\"Female\"),\"\",\"Sex must be M/F/Male/Female.\")))","v":""},null,null,{"$f":"IF('MARK Enrollment Template'!A310=\"\",\"\",IF(AND('MARK Enrollment Template'!A310<>\"\",'MARK Enrollment Template'!G310=\"\"),\"Please fill in Email Address.\",IF(IFERROR(FIND(\"@\",'MARK Enrollment Template'!G310),\"X\")=\"X\",\"Email Address must include an @ symbol.\",\"\")))","v":""},null,null,null,{"$f":"IF('MARK Enrollment Template'!A310=\"\",\"\",IF(AND('MARK Enrollment Template'!A310<>\"\",'MARK Enrollment Template'!K310=\"\"),\"Please fill in Zip Code.\",IF(LEN(SUBSTITUTE(TRIM('MARK Enrollment Template'!K310),CHAR(9),\"\"))<5,\"Zip <5 digits. If leading zero, add apostrophe (ex. '01234).\",\"\")))","v":""},null,null,{"$f":"CELL(\"format\",'MARK Enrollment Template'!C310)","v":"G"}]
["",{"$f":"IF(AND(SUMPRODUCT(--('MARK Enrollment Template'!A311:L311<>\"\"))<>0,'MARK Enrollment Template'!A311=\"\"),\"Please fill in First Name.\",IF(LEN('MARK Enrollment Template'!A311)=1,\"Please fill in full first name.\",\"\"))","v":""},{"$f":"IF('MARK Enrollment Template'!A311=\"\",\"\",IF(AND('MARK Enrollment Template'!A311<>\"\",'MARK Enrollment Template'!B311=\"\"),\"Please fill in a Last Name.\",\"\"))","v":""},{"$f":"IF('MARK Enrollment Template'!A311=\"\",\"\",IF(AND('MARK Enrollment Template'!A311<>\"\",'MARK Enrollment Template'!C311=\"\"),\"Please fill in Date of Birth.\",IF(TRIM(O306)<>\"D4\",\"Please format DOB as a date in the form MM/DD/YYYY.\",IF('MARK Enrollment Template'!C311>TODAY(),\"Please check DOB.\",\"\"))))","v":""},{"$f":"IF('MARK Enrollment Template'!A311=\"\",\"\",IF(AND('MARK Enrollment Template'!A311<>\"\",'MARK Enrollment Template'!D311=\"\"),\"Please fill in Sex.\",IF(OR(TRIM('MARK Enrollment Template'!D311)=\"M\",TRIM('MARK Enrollment Template'!D311)=\"F\",TRIM('MARK Enrollment Template'!D311)=\"Male\",TRIM('MARK Enrollment Template'!D311)=\"Female\"),\"\",\"Sex must be M/F/Male/Female.\")))","v":""},null,null,{"$f":"IF('MARK Enrollment Template'!A311=\"\",\"\",IF(AND('MARK Enrollment Template'!A311<>\"\",'MARK Enrollment Template'!G311=\"\"),\"Please fill in Email Address.\",IF(IFERROR(FIND(\"@\",'MARK Enrollment Template'!G311),\"X\")=\"X\",\"Email Address must include an @ symbol.\",\"\")))","v":""},null,null,null,{"$f":"IF('MARK Enrollment Template'!A311=\"\",\"\",IF(AND('MARK Enrollment Template'!A311<>\"\",'MARK Enrollment Template'!K311=\"\"),\"Please fill in Zip Code.\",IF(LEN(SUBSTITUTE(TRIM('MARK Enrollment Template'!K311),CHAR(9),\"\"))<5,\"Zip <5 digits. If leading zero, add apostrophe (ex. '01234).\",\"\")))","v":""},null,null,{"$f":"CELL(\"format\",'MARK Enrollment Template'!C311)","v":"G"}]
["",{"$f":"IF(AND(SUMPRODUCT(--('MARK Enrollment Template'!A312:L312<>\"\"))<>0,'MARK Enrollment Template'!A312=\"\"),\"Please fill in First Name.\",IF(LEN('MARK Enrollment Template'!A312)=1,\"Please fill in full first name.\",\"\"))","v":""},{"$f":"IF('MARK Enrollment Template'!A312=\"\",\"\",IF(AND('MARK Enrollment Template'!A312<>\"\",'MARK Enrollment Template'!B312=\"\"),\"Please fill in a Last Name.\",\"\"))","v":""},{"$f":"IF('MARK Enrollment Template'!A312=\"\",\"\",IF(AND('MARK Enrollment Template'!A312<>\"\",'MARK Enrollment Template'!C312=\"\"),\"Please fill in Date of Birth.\",IF(TRIM(O307)<>\"D4\",\"Please format DOB as a date in the form MM/DD/YYYY.\",IF('MARK Enrollment Template'!C312>TODAY(),\"Please check DOB.\",\"\"))))","v":""},{"$f":"IF('MARK Enrollment Template'!A312=\"\",\"\",IF(AND('MARK Enrollment Template'!A312<>\"\",'MARK Enrollment Template'!D312=\"\"),\"Please fill in Sex.\",IF(OR(TRIM('MARK Enrollment Template'!D312)=\"M\",TRIM('MARK Enrollment Template'!D312)=\"F\",TRIM('MARK Enrollment Template'!D312)=\"Male\",TRIM('MARK Enrollment Template'!D312)=\"Female\"),\"\",\"Sex must be M/F/Male/Female.\")))","v":""},null,null,{"$f":"IF('MARK Enrollment Template'!A312=\"\",\"\",IF(AND('MARK Enrollment Template'!A312<>\"\",'MARK Enrollment Template'!G312=\"\"),\"Please fill in Email Address.\",IF(IFERROR(FIND(\"@\",'MARK Enrollment Template'!G312),\"X\")=\"X\",\"Email Address must include an @ symbol.\",\"\")))","v":""},null,null,null,{"$f":"IF('MARK Enrollment Template'!A312=\"\",\"\",IF(AND('MARK Enrollment Template'!A312<>\"\",'MARK Enrollment Template'!K312=\"\"),\"Please fill in Zip Code.\",IF(LEN(SUBSTITUTE(TRIM('MARK Enrollment Template'!K312),CHAR(9),\"\"))<5,\"Zip <5 digits. If leading zero, add apostrophe (ex. '01234).\",\"\")))","v":""},null,null,{"$f":"CELL(\"format\",'MARK Enrollment Template'!C312)","v":"G"}]
["",{"$f":"IF(AND(SUMPRODUCT(--('MARK Enrollment Template'!A313:L313<>\"\"))<>0,'MARK Enrollment Template'!A313=\"\"),\"Please fill in First Name.\",IF(LEN('MARK Enrollment Template'!A313)=1,\"Please fill in full first name.\",\"\"))","v":""},{"$f":"IF('MARK Enrollment Template'!A313=\"\",\"\",IF(AND('MARK Enrollment Template'!A313<>\"\",'MARK Enrollment Template'!B313=\"\"),\"Please fill in a Last Name.\",\"\"))","v":""},{"$f":"IF('MARK Enrollment Template'!A313=\"\",\"\",IF(AND('MARK Enrollment Template'!A313<>\"\",'MARK Enrollment Template'!C313=\"\"),\"Please fill in Date of Birth.\",IF(TRIM(O308)<>\"D4\",\"Please format DOB as a date in the form MM/DD/YYYY.\",IF('MARK Enrollment Template'!C313>TODAY(),\"Please check DOB.\",\"\"))))","v":""},{"$f":"IF('MARK Enrollment Template'!A313=\"\",\"\",IF(AND('MARK Enrollment Template'!A313<>\"\",'MARK Enrollment Template'!D313=\"\"),\"Please fill in Sex.\",IF(OR(TRIM('MARK Enrollment Template'!D313)=\"M\",TRIM('MARK Enrollment Template'!D313)=\"F\",TRIM('MARK Enrollment Template'!D313)=\"Male\",TRIM('MARK Enrollment Template'!D313)=\"Female\"),\"\",\"Sex must be M/F/Male/Female.\")))","v":""},null,null,{"$f":"IF('MARK Enrollment Template'!A313=\"\",\"\",IF(AND('MARK Enrollment Template'!A313<>\"\",'MARK Enrollment Template'!G313=\"\"),\"Please fill in Email Address.\",IF(IFERROR(FIND(\"@\",'MARK Enrollment Template'!G313),\"X\")=\"X\",\"Email Address must include an @ symbol.\",\"\")))","v":""},null,null,null,{"$f":"IF('MARK Enrollment Template'!A313=\"\",\"\",IF(AND('MARK Enrollment Template'!A313<>\"\",'MARK Enrollment Template'!K313=\"\"),\"Please fill in Zip Code.\",IF(LEN(SUBSTITUTE(TRIM('MARK Enrollment Template'!K313),CHAR(9),\"\"))<5,\"Zip <5 digits. If leading zero, add apostrophe (ex. '01234).\",\"\")))","v":""},null,null,{"$f":"CELL(\"format\",'MARK Enrollment Template'!C313)","v":"G"}]
["",{"$f":"IF(AND(SUMPRODUCT(--('MARK Enrollment Template'!A314:L314<>\"\"))<>0,'MARK Enrollment Template'!A314=\"\"),\"Please fill in First Name.\",IF(LEN('MARK Enrollment Template'!A314)=1,\"Please fill in full first name.\",\"\"))","v":""},{"$f":"IF('MARK Enrollment Template'!A314=\"\",\"\",IF(AND('MARK Enrollment Template'!A314<>\"\",'MARK Enrollment Template'!B314=\"\"),\"Please fill in a Last Name.\",\"\"))","v":""},{"$f":"IF('MARK Enrollment Template'!A314=\"\",\"\",IF(AND('MARK Enrollment Template'!A314<>\"\",'MARK Enrollment Template'!C314=\"\"),\"Please fill in Date of Birth.\",IF(TRIM(O309)<>\"D4\",\"Please format DOB as a date in the form MM/DD/YYYY.\",IF('MARK Enrollment Template'!C314>TODAY(),\"Please check DOB.\",\"\"))))","v":""},{"$f":"IF('MARK Enrollment Template'!A314=\"\",\"\",IF(AND('MARK Enrollment Template'!A314<>\"\",'MARK Enrollment Template'!D314=\"\"),\"Please fill in Sex.\",IF(OR(TRIM('MARK Enrollment Template'!D314)=\"M\",TRIM('MARK Enrollment Template'!D314)=\"F\",TRIM('MARK Enrollment Template'!D314)=\"Male\",TRIM('MARK Enrollment Template'!D314)=\"Female\"),\"\",\"Sex must be M/F/Male/Female.\")))","v":""},null,null,{"$f":"IF('MARK Enrollment Template'!A314=\"\",\"\",IF(AND('MARK Enrollment Template'!A314<>\"\",'MARK Enrollment Template'!G314=\"\"),\"Please fill in Email Address.\",IF(IFERROR(FIND(\"@\",'MARK Enrollment Template'!G314),\"X\")=\"X\",\"Email Address must include an @ symbol.\",\"\")))","v":""},null,null,null,{"$f":"IF('MARK Enrollment Template'!A314=\"\",\"\",IF(AND('MARK Enrollment Template'!A314<>\"\",'MARK Enrollment Template'!K314=\"\"),\"Please fill in Zip Code.\",IF(LEN(SUBSTITUTE(TRIM('MARK Enrollment Template'!K314),CHAR(9),\"\"))<5,\"Zip <5 digits. If leading zero, add apostrophe (ex. '01234).\",\"\")))","v":""},null,null,{"$f":"CELL(\"format\",'MARK Enrollment Template'!C314)","v":"G"}]
["",{"$f":"IF(AND(SUMPRODUCT(--('MARK Enrollment Template'!A315:L315<>\"\"))<>0,'MARK Enrollment Template'!A315=\"\"),\"Please fill in First Name.\",IF(LEN('MARK Enrollment Template'!A315)=1,\"Please fill in full first name.\",\"\"))","v":""},{"$f":"IF('MARK Enrollment Template'!A315=\"\",\"\",IF(AND('MARK Enrollment Template'!A315<>\"\",'MARK Enrollment Template'!B315=\"\"),\"Please fill in a Last Name.\",\"\"))","v":""},{"$f":"IF('MARK Enrollment Template'!A315=\"\",\"\",IF(AND('MARK Enrollment Template'!A315<>\"\",'MARK Enrollment Template'!C315=\"\"),\"Please fill in Date of Birth.\",IF(TRIM(O310)<>\"D4\",\"Please format DOB as a date in the form MM/DD/YYYY.\",IF('MARK Enrollment Template'!C315>TODAY(),\"Please check DOB.\",\"\"))))","v":""},{"$f":"IF('MARK Enrollment Template'!A315=\"\",\"\",IF(AND('MARK Enrollment Template'!A315<>\"\",'MARK Enrollment Template'!D315=\"\"),\"Please fill in Sex.\",IF(OR(TRIM('MARK Enrollment Template'!D315)=\"M\",TRIM('MARK Enrollment Template'!D315)=\"F\",TRIM('MARK Enrollment Template'!D315)=\"Male\",TRIM('MARK Enrollment Template'!D315)=\"Female\"),\"\",\"Sex must be M/F/Male/Female.\")))","v":""},null,null,{"$f":"IF('MARK Enrollment Template'!A315=\"\",\"\",IF(AND('MARK Enrollment Template'!A315<>\"\",'MARK Enrollment Template'!G315=\"\"),\"Please fill in Email Address.\",IF(IFERROR(FIND(\"@\",'MARK Enrollment Template'!G315),\"X\")=\"X\",\"Email Address must include an @ symbol.\",\"\")))","v":""},null,null,null,{"$f":"IF('MARK Enrollment Template'!A315=\"\",\"\",IF(AND('MARK Enrollment Template'!A315<>\"\",'MARK Enrollment Template'!K315=\"\"),\"Please fill in Zip Code.\",IF(LEN(SUBSTITUTE(TRIM('MARK Enrollment Template'!K315),CHAR(9),\"\"))<5,\"Zip <5 digits. If leading zero, add apostrophe (ex. '01234).\",\"\")))","v":""},null,null,{"$f":"CELL(\"format\",'MARK Enrollment Template'!C315)","v":"G"}]
["",{"$f":"IF(AND(SUMPRODUCT(--('MARK Enrollment Template'!A316:L316<>\"\"))<>0,'MARK Enrollment Template'!A316=\"\"),\"Please fill in First Name.\",IF(LEN('MARK Enrollment Template'!A316)=1,\"Please fill in full first name.\",\"\"))","v":""},{"$f":"IF('MARK Enrollment Template'!A316=\"\",\"\",IF(AND('MARK Enrollment Template'!A316<>\"\",'MARK Enrollment Template'!B316=\"\"),\"Please fill in a Last Name.\",\"\"))","v":""},{"$f":"IF('MARK Enrollment Template'!A316=\"\",\"\",IF(AND('MARK Enrollment Template'!A316<>\"\",'MARK Enrollment Template'!C316=\"\"),\"Please fill in Date of Birth.\",IF(TRIM(O311)<>\"D4\",\"Please format DOB as a date in the form MM/DD/YYYY.\",IF('MARK Enrollment Template'!C316>TODAY(),\"Please check DOB.\",\"\"))))","v":""},{"$f":"IF('MARK Enrollment Template'!A316=\"\",\"\",IF(AND('MARK Enrollment Template'!A316<>\"\",'MARK Enrollment Template'!D316=\"\"),\"Please fill in Sex.\",IF(OR(TRIM('MARK Enrollment Template'!D316)=\"M\",TRIM('MARK Enrollment Template'!D316)=\"F\",TRIM('MARK Enrollment Template'!D316)=\"Male\",TRIM('MARK Enrollment Template'!D316)=\"Female\"),\"\",\"Sex must be M/F/Male/Female.\")))","v":""},null,null,{"$f":"IF('MARK Enrollment Template'!A316=\"\",\"\",IF(AND('MARK Enrollment Template'!A316<>\"\",'MARK Enrollment Template'!G316=\"\"),\"Please fill in Email Address.\",IF(IFERROR(FIND(\"@\",'MARK Enrollment Template'!G316),\"X\")=\"X\",\"Email Address must include an @ symbol.\",\"\")))","v":""},null,null,null,{"$f":"IF('MARK Enrollment Template'!A316=\"\",\"\",IF(AND('MARK Enrollment Template'!A316<>\"\",'MARK Enrollment Template'!K316=\"\"),\"Please fill in Zip Code.\",IF(LEN(SUBSTITUTE(TRIM('MARK Enrollment Template'!K316),CHAR(9),\"\"))<5,\"Zip <5 digits. If leading zero, add apostrophe (ex. '01234).\",\"\")))","v":""},null,null,{"$f":"CELL(\"format\",'MARK Enrollment Template'!C316)","v":"G"}]
["",{"$f":"IF(AND(SUMPRODUCT(--('MARK Enrollment Template'!A317:L317<>\"\"))<>0,'MARK Enrollment Template'!A317=\"\"),\"Please fill in First Name.\",IF(LEN('MARK Enrollment Template'!A317)=1,\"Please fill in full first name.\",\"\"))","v":""},{"$f":"IF('MARK Enrollment Template'!A317=\"\",\"\",IF(AND('MARK Enrollment Template'!A317<>\"\",'MARK Enrollment Template'!B317=\"\"),\"Please fill in a Last Name.\",\"\"))","v":""},{"$f":"IF('MARK Enrollment Template'!A317=\"\",\"\",IF(AND('MARK Enrollment Template'!A317<>\"\",'MARK Enrollment Template'!C317=\"\"),\"Please fill in Date of Birth.\",IF(TRIM(O312)<>\"D4\",\"Please format DOB as a date in the form MM/DD/YYYY.\",IF('MARK Enrollment Template'!C317>TODAY(),\"Please check DOB.\",\"\"))))","v":""},{"$f":"IF('MARK Enrollment Template'!A317=\"\",\"\",IF(AND('MARK Enrollment Template'!A317<>\"\",'MARK Enrollment Template'!D317=\"\"),\"Please fill in Sex.\",IF(OR(TRIM('MARK Enrollment Template'!D317)=\"M\",TRIM('MARK Enrollment Template'!D317)=\"F\",TRIM('MARK Enrollment Template'!D317)=\"Male\",TRIM('MARK Enrollment Template'!D317)=\"Female\"),\"\",\"Sex must be M/F/Male/Female.\")))","v":""},null,null,{"$f":"IF('MARK Enrollment Template'!A317=\"\",\"\",IF(AND('MARK Enrollment Template'!A317<>\"\",'MARK Enrollment Template'!G317=\"\"),\"Please fill in Email Address.\",IF(IFERROR(FIND(\"@\",'MARK Enrollment Template'!G317),\"X\")=\"X\",\"Email Address must include an @ symbol.\",\"\")))","v":""},null,null,null,{"$f":"IF('MARK Enrollment Template'!A317=\"\",\"\",IF(AND('MARK Enrollment Template'!A317<>\"\",'MARK Enrollment Template'!K317=\"\"),\"Please fill in Zip Code.\",IF(LEN(SUBSTITUTE(TRIM('MARK Enrollment Template'!K317),CHAR(9),\"\"))<5,\"Zip <5 digits. If leading zero, add apostrophe (ex. '01234).\",\"\")))","v":""},null,null,{"$f":"CELL(\"format\",'MARK Enrollment Template'!C317)","v":"G"}]
["",{"$f":"IF(AND(SUMPRODUCT(--('MARK Enrollment Template'!A318:L318<>\"\"))<>0,'MARK Enrollment Template'!A318=\"\"),\"Please fill in First Name.\",IF(LEN('MARK Enrollment Template'!A318)=1,\"Please fill in full first name.\",\"\"))","v":""},{"$f":"IF('MARK Enrollment Template'!A318=\"\",\"\",IF(AND('MARK Enrollment Template'!A318<>\"\",'MARK Enrollment Template'!B318=\"\"),\"Please fill in a Last Name.\",\"\"))","v":""},{"$f":"IF('MARK Enrollment Template'!A318=\"\",\"\",IF(AND('MARK Enrollment Template'!A318<>\"\",'MARK Enrollment Template'!C318=\"\"),\"Please fill in Date of Birth.\",IF(TRIM(O313)<>\"D4\",\"Please format DOB as a date in the form MM/DD/YYYY.\",IF('MARK Enrollment Template'!C318>TODAY(),\"Please check DOB.\",\"\"))))","v":""},{"$f":"IF('MARK Enrollment Template'!A318=\"\",\"\",IF(AND('MARK Enrollment Template'!A318<>\"\",'MARK Enrollment Template'!D318=\"\"),\"Please fill in Sex.\",IF(OR(TRIM('MARK Enrollment Template'!D318)=\"M\",TRIM('MARK Enrollment Template'!D318)=\"F\",TRIM('MARK Enrollment Template'!D318)=\"Male\",TRIM('MARK Enrollment Template'!D318)=\"Female\"),\"\",\"Sex must be M/F/Male/Female.\")))","v":""},null,null,{"$f":"IF('MARK Enrollment Template'!A318=\"\",\"\",IF(AND('MARK Enrollment Template'!A318<>\"\",'MARK Enrollment Template'!G318=\"\"),\"Please fill in Email Address.\",IF(IFERROR(FIND(\"@\",'MARK Enrollment Template'!G318),\"X\")=\"X\",\"Email Address must include an @ symbol.\",\"\")))","v":""},null,null,null,{"$f":"IF('MARK Enrollment Template'!A318=\"\",\"\",IF(AND('MARK Enrollment Template'!A318<>\"\",'MARK Enrollment Template'!K318=\"\"),\"Please fill in Zip Code.\",IF(LEN(SUBSTITUTE(TRIM('MARK Enrollment Template'!K318),CHAR(9),\"\"))<5,\"Zip <5 digits. If leading zero, add apostrophe (ex. '01234).\",\"\")))","v":""},null,null,{"$f":"CELL(\"format\",'MARK Enrollment Template'!C318)","v":"G"}]
["",{"$f":"IF(AND(SUMPRODUCT(--('MARK Enrollment Template'!A319:L319<>\"\"))<>0,'MARK Enrollment Template'!A319=\"\"),\"Please fill in First Name.\",IF(LEN('MARK Enrollment Template'!A319)=1,\"Please fill in full first name.\",\"\"))","v":""},{"$f":"IF('MARK Enrollment Template'!A319=\"\",\"\",IF(AND('MARK Enrollment Template'!A319<>\"\",'MARK Enrollment Template'!B319=\"\"),\"Please fill in a Last Name.\",\"\"))","v":""},{"$f":"IF('MARK Enrollment Template'!A319=\"\",\"\",IF(AND('MARK Enrollment Template'!A319<>\"\",'MARK Enrollment Template'!C319=\"\"),\"Please fill in Date of Birth.\",IF(TRIM(O314)<>\"D4\",\"Please format DOB as a date in the form MM/DD/YYYY.\",IF('MARK Enrollment Template'!C319>TODAY(),\"Please check DOB.\",\"\"))))","v":""},{"$f":"IF('MARK Enrollment Template'!A319=\"\",\"\",IF(AND('MARK Enrollment Template'!A319<>\"\",'MARK Enrollment Template'!D319=\"\"),\"Please fill in Sex.\",IF(OR(TRIM('MARK Enrollment Template'!D319)=\"M\",TRIM('MARK Enrollment Template'!D319)=\"F\",TRIM('MARK Enrollment Template'!D319)=\"Male\",TRIM('MARK Enrollment Template'!D319)=\"Female\"),\"\",\"Sex must be M/F/Male/Female.\")))","v":""},null,null,{"$f":"IF('MARK Enrollment Template'!A319=\"\",\"\",IF(AND('MARK Enrollment Template'!A319<>\"\",'MARK Enrollment Template'!G319=\"\"),\"Please fill in Email Address.\",IF(IFERROR(FIND(\"@\",'MARK Enrollment Template'!G319),\"X\")=\"X\",\"Email Address must include an @ symbol.\",\"\")))","v":""},null,null,null,{"$f":"IF('MARK Enrollment Template'!A319=\"\",\"\",IF(AND('MARK Enrollment Template'!A319<>\"\",'MARK Enrollment Template'!K319=\"\"),\"Please fill in Zip Code.\",IF(LEN(SUBSTITUTE(TRIM('MARK Enrollment Template'!K319),CHAR(9),\"\"))<5,\"Zip <5 digits. If leading zero, add apostrophe (ex. '01234).\",\"\")))","v":""},null,null,{"$f":"CELL(\"format\",'MARK Enrollment Template'!C319)","v":"G"}]
["",{"$f":"IF(AND(SUMPRODUCT(--('MARK Enrollment Template'!A320:L320<>\"\"))<>0,'MARK Enrollment Template'!A320=\"\"),\"Please fill in First Name.\",IF(LEN('MARK Enrollment Template'!A320)=1,\"Please fill in full first name.\",\"\"))","v":""},{"$f":"IF('MARK Enrollment Template'!A320=\"\",\"\",IF(AND('MARK Enrollment Template'!A320<>\"\",'MARK Enrollment Template'!B320=\"\"),\"Please fill in a Last Name.\",\"\"))","v":""},{"$f":"IF('MARK Enrollment Template'!A320=\"\",\"\",IF(AND('MARK Enrollment Template'!A320<>\"\",'MARK Enrollment Template'!C320=\"\"),\"Please fill in Date of Birth.\",IF(TRIM(O315)<>\"D4\",\"Please format DOB as a date in the form MM/DD/YYYY.\",IF('MARK Enrollment Template'!C320>TODAY(),\"Please check DOB.\",\"\"))))","v":""},{"$f":"IF('MARK Enrollment Template'!A320=\"\",\"\",IF(AND('MARK Enrollment Template'!A320<>\"\",'MARK Enrollment Template'!D320=\"\"),\"Please fill in Sex.\",IF(OR(TRIM('MARK Enrollment Template'!D320)=\"M\",TRIM('MARK Enrollment Template'!D320)=\"F\",TRIM('MARK Enrollment Template'!D320)=\"Male\",TRIM('MARK Enrollment Template'!D320)=\"Female\"),\"\",\"Sex must be M/F/Male/Female.\")))","v":""},null,null,{"$f":"IF('MARK Enrollment Template'!A320=\"\",\"\",IF(AND('MARK Enrollment Template'!A320<>\"\",'MARK Enrollment Template'!G320=\"\"),\"Please fill in Email Address.\",IF(IFERROR(FIND(\"@\",'MARK Enrollment Template'!G320),\"X\")=\"X\",\"Email Address must include an @ symbol.\",\"\")))","v":""},null,null,null,{"$f":"IF('MARK Enrollment Template'!A320=\"\",\"\",IF(AND('MARK Enrollment Template'!A320<>\"\",'MARK Enrollment Template'!K320=\"\"),\"Please fill in Zip Code.\",IF(LEN(SUBSTITUTE(TRIM('MARK Enrollment Template'!K320),CHAR(9),\"\"))<5,\"Zip <5 digits. If leading zero, add apostrophe (ex. '01234).\",\"\")))","v":""},null,null,{"$f":"CELL(\"format\",'MARK Enrollment Template'!C320)","v":"G"}]
["",{"$f":"IF(AND(SUMPRODUCT(--('MARK Enrollment Template'!A321:L321<>\"\"))<>0,'MARK Enrollment Template'!A321=\"\"),\"Please fill in First Name.\",IF(LEN('MARK Enrollment Template'!A321)=1,\"Please fill in full first name.\",\"\"))","v":""},{"$f":"IF('MARK Enrollment Template'!A321=\"\",\"\",IF(AND('MARK Enrollment Template'!A321<>\"\",'MARK Enrollment Template'!B321=\"\"),\"Please fill in a Last Name.\",\"\"))","v":""},{"$f":"IF('MARK Enrollment Template'!A321=\"\",\"\",IF(AND('MARK Enrollment Template'!A321<>\"\",'MARK Enrollment Template'!C321=\"\"),\"Please fill in Date of Birth.\",IF(TRIM(O316)<>\"D4\",\"Please format DOB as a date in the form MM/DD/YYYY.\",IF('MARK Enrollment Template'!C321>TODAY(),\"Please check DOB.\",\"\"))))","v":""},{"$f":"IF('MARK Enrollment Template'!A321=\"\",\"\",IF(AND('MARK Enrollment Template'!A321<>\"\",'MARK Enrollment Template'!D321=\"\"),\"Please fill in Sex.\",IF(OR(TRIM('MARK Enrollment Template'!D321)=\"M\",TRIM('MARK Enrollment Template'!D321)=\"F\",TRIM('MARK Enrollment Template'!D321)=\"Male\",TRIM('MARK Enrollment Template'!D321)=\"Female\"),\"\",\"Sex must be M/F/Male/Female.\")))","v":""},null,null,{"$f":"IF('MARK Enrollment Template'!A321=\"\",\"\",IF(AND('MARK Enrollment Template'!A321<>\"\",'MARK Enrollment Template'!G321=\"\"),\"Please fill in Email Address.\",IF(IFERROR(FIND(\"@\",'MARK Enrollment Template'!G321),\"X\")=\"X\",\"Email Address must include an @ symbol.\",\"\")))","v":""},null,null,null,{"$f":"IF('MARK Enrollment Template'!A321=\"\",\"\",IF(AND('MARK Enrollment Template'!A321<>\"\",'MARK Enrollment Template'!K321=\"\"),\"Please fill in Zip Code.\",IF(LEN(SUBSTITUTE(TRIM('MARK Enrollment Template'!K321),CHAR(9),\"\"))<5,\"Zip <5 digits. If leading zero, add apostrophe (ex. '01234).\",\"\")))","v":""},null,null,{"$f":"CELL(\"format\",'MARK Enrollment Template'!C321)","v":"G"}]
["",{"$f":"IF(AND(SUMPRODUCT(--('MARK Enrollment Template'!A322:L322<>\"\"))<>0,'MARK Enrollment Template'!A322=\"\"),\"Please fill in First Name.\",IF(LEN('MARK Enrollment Template'!A322)=1,\"Please fill in full first name.\",\"\"))","v":""},{"$f":"IF('MARK Enrollment Template'!A322=\"\",\"\",IF(AND('MARK Enrollment Template'!A322<>\"\",'MARK Enrollment Template'!B322=\"\"),\"Please fill in a Last Name.\",\"\"))","v":""},{"$f":"IF('MARK Enrollment Template'!A322=\"\",\"\",IF(AND('MARK Enrollment Template'!A322<>\"\",'MARK Enrollment Template'!C322=\"\"),\"Please fill in Date of Birth.\",IF(TRIM(O317)<>\"D4\",\"Please format DOB as a date in the form MM/DD/YYYY.\",IF('MARK Enrollment Template'!C322>TODAY(),\"Please check DOB.\",\"\"))))","v":""},{"$f":"IF('MARK Enrollment Template'!A322=\"\",\"\",IF(AND('MARK Enrollment Template'!A322<>\"\",'MARK Enrollment Template'!D322=\"\"),\"Please fill in Sex.\",IF(OR(TRIM('MARK Enrollment Template'!D322)=\"M\",TRIM('MARK Enrollment Template'!D322)=\"F\",TRIM('MARK Enrollment Template'!D322)=\"Male\",TRIM('MARK Enrollment Template'!D322)=\"Female\"),\"\",\"Sex must be M/F/Male/Female.\")))","v":""},null,null,{"$f":"IF('MARK Enrollment Template'!A322=\"\",\"\",IF(AND('MARK Enrollment Template'!A322<>\"\",'MARK Enrollment Template'!G322=\"\"),\"Please fill in Email Address.\",IF(IFERROR(FIND(\"@\",'MARK Enrollment Template'!G322),\"X\")=\"X\",\"Email Address must include an @ symbol.\",\"\")))","v":""},null,null,null,{"$f":"IF('MARK Enrollment Template'!A322=\"\",\"\",IF(AND('MARK Enrollment Template'!A322<>\"\",'MARK Enrollment Template'!K322=\"\"),\"Please fill in Zip Code.\",IF(LEN(SUBSTITUTE(TRIM('MARK Enrollment Template'!K322),CHAR(9),\"\"))<5,\"Zip <5 digits. If leading zero, add apostrophe (ex. '01234).\",\"\")))","v":""},null,null,{"$f":"CELL(\"format\",'MARK Enrollment Template'!C322)","v":"G"}]
["",{"$f":"IF(AND(SUMPRODUCT(--('MARK Enrollment Template'!A323:L323<>\"\"))<>0,'MARK Enrollment Template'!A323=\"\"),\"Please fill in First Name.\",IF(LEN('MARK Enrollment Template'!A323)=1,\"Please fill in full first name.\",\"\"))","v":""},{"$f":"IF('MARK Enrollment Template'!A323=\"\",\"\",IF(AND('MARK Enrollment Template'!A323<>\"\",'MARK Enrollment Template'!B323=\"\"),\"Please fill in a Last Name.\",\"\"))","v":""},{"$f":"IF('MARK Enrollment Template'!A323=\"\",\"\",IF(AND('MARK Enrollment Template'!A323<>\"\",'MARK Enrollment Template'!C323=\"\"),\"Please fill in Date of Birth.\",IF(TRIM(O318)<>\"D4\",\"Please format DOB as a date in the form MM/DD/YYYY.\",IF('MARK Enrollment Template'!C323>TODAY(),\"Please check DOB.\",\"\"))))","v":""},{"$f":"IF('MARK Enrollment Template'!A323=\"\",\"\",IF(AND('MARK Enrollment Template'!A323<>\"\",'MARK Enrollment Template'!D323=\"\"),\"Please fill in Sex.\",IF(OR(TRIM('MARK Enrollment Template'!D323)=\"M\",TRIM('MARK Enrollment Template'!D323)=\"F\",TRIM('MARK Enrollment Template'!D323)=\"Male\",TRIM('MARK Enrollment Template'!D323)=\"Female\"),\"\",\"Sex must be M/F/Male/Female.\")))","v":""},null,null,{"$f":"IF('MARK Enrollment Template'!A323=\"\",\"\",IF(AND('MARK Enrollment Template'!A323<>\"\",'MARK Enrollment Template'!G323=\"\"),\"Please fill in Email Address.\",IF(IFERROR(FIND(\"@\",'MARK Enrollment Template'!G323),\"X\")=\"X\",\"Email Address must include an @ symbol.\",\"\")))","v":""},null,null,null,{"$f":"IF('MARK Enrollment Template'!A323=\"\",\"\",IF(AND('MARK Enrollment Template'!A323<>\"\",'MARK Enrollment Template'!K323=\"\"),\"Please fill in Zip Code.\",IF(LEN(SUBSTITUTE(TRIM('MARK Enrollment Template'!K323),CHAR(9),\"\"))<5,\"Zip <5 digits. If leading zero, add apostrophe (ex. '01234).\",\"\")))","v":""},null,null,{"$f":"CELL(\"format\",'MARK Enrollment Template'!C323)","v":"G"}]
["",{"$f":"IF(AND(SUMPRODUCT(--('MARK Enrollment Template'!A324:L324<>\"\"))<>0,'MARK Enrollment Template'!A324=\"\"),\"Please fill in First Name.\",IF(LEN('MARK Enrollment Template'!A324)=1,\"Please fill in full first name.\",\"\"))","v":""},{"$f":"IF('MARK Enrollment Template'!A324=\"\",\"\",IF(AND('MARK Enrollment Template'!A324<>\"\",'MARK Enrollment Template'!B324=\"\"),\"Please fill in a Last Name.\",\"\"))","v":""},{"$f":"IF('MARK Enrollment Template'!A324=\"\",\"\",IF(AND('MARK Enrollment Template'!A324<>\"\",'MARK Enrollment Template'!C324=\"\"),\"Please fill in Date of Birth.\",IF(TRIM(O319)<>\"D4\",\"Please format DOB as a date in the form MM/DD/YYYY.\",IF('MARK Enrollment Template'!C324>TODAY(),\"Please check DOB.\",\"\"))))","v":""},{"$f":"IF('MARK Enrollment Template'!A324=\"\",\"\",IF(AND('MARK Enrollment Template'!A324<>\"\",'MARK Enrollment Template'!D324=\"\"),\"Please fill in Sex.\",IF(OR(TRIM('MARK Enrollment Template'!D324)=\"M\",TRIM('MARK Enrollment Template'!D324)=\"F\",TRIM('MARK Enrollment Template'!D324)=\"Male\",TRIM('MARK Enrollment Template'!D324)=\"Female\"),\"\",\"Sex must be M/F/Male/Female.\")))","v":""},null,null,{"$f":"IF('MARK Enrollment Template'!A324=\"\",\"\",IF(AND('MARK Enrollment Template'!A324<>\"\",'MARK Enrollment Template'!G324=\"\"),\"Please fill in Email Address.\",IF(IFERROR(FIND(\"@\",'MARK Enrollment Template'!G324),\"X\")=\"X\",\"Email Address must include an @ symbol.\",\"\")))","v":""},null,null,null,{"$f":"IF('MARK Enrollment Template'!A324=\"\",\"\",IF(AND('MARK Enrollment Template'!A324<>\"\",'MARK Enrollment Template'!K324=\"\"),\"Please fill in Zip Code.\",IF(LEN(SUBSTITUTE(TRIM('MARK Enrollment Template'!K324),CHAR(9),\"\"))<5,\"Zip <5 digits. If leading zero, add apostrophe (ex. '01234).\",\"\")))","v":""},null,null,{"$f":"CELL(\"format\",'MARK Enrollment Template'!C324)","v":"G"}]
["",{"$f":"IF(AND(SUMPRODUCT(--('MARK Enrollment Template'!A325:L325<>\"\"))<>0,'MARK Enrollment Template'!A325=\"\"),\"Please fill in First Name.\",IF(LEN('MARK Enrollment Template'!A325)=1,\"Please fill in full first name.\",\"\"))","v":""},{"$f":"IF('MARK Enrollment Template'!A325=\"\",\"\",IF(AND('MARK Enrollment Template'!A325<>\"\",'MARK Enrollment Template'!B325=\"\"),\"Please fill in a Last Name.\",\"\"))","v":""},{"$f":"IF('MARK Enrollment Template'!A325=\"\",\"\",IF(AND('MARK Enrollment Template'!A325<>\"\",'MARK Enrollment Template'!C325=\"\"),\"Please fill in Date of Birth.\",IF(TRIM(O320)<>\"D4\",\"Please format DOB as a date in the form MM/DD/YYYY.\",IF('MARK Enrollment Template'!C325>TODAY(),\"Please check DOB.\",\"\"))))","v":""},{"$f":"IF('MARK Enrollment Template'!A325=\"\",\"\",IF(AND('MARK Enrollment Template'!A325<>\"\",'MARK Enrollment Template'!D325=\"\"),\"Please fill in Sex.\",IF(OR(TRIM('MARK Enrollment Template'!D325)=\"M\",TRIM('MARK Enrollment Template'!D325)=\"F\",TRIM('MARK Enrollment Template'!D325)=\"Male\",TRIM('MARK Enrollment Template'!D325)=\"Female\"),\"\",\"Sex must be M/F/Male/Female.\")))","v":""},null,null,{"$f":"IF('MARK Enrollment Template'!A325=\"\",\"\",IF(AND('MARK Enrollment Template'!A325<>\"\",'MARK Enrollment Template'!G325=\"\"),\"Please fill in Email Address.\",IF(IFERROR(FIND(\"@\",'MARK Enrollment Template'!G325),\"X\")=\"X\",\"Email Address must include an @ symbol.\",\"\")))","v":""},null,null,null,{"$f":"IF('MARK Enrollment Template'!A325=\"\",\"\",IF(AND('MARK Enrollment Template'!A325<>\"\",'MARK Enrollment Template'!K325=\"\"),\"Please fill in Zip Code.\",IF(LEN(SUBSTITUTE(TRIM('MARK Enrollment Template'!K325),CHAR(9),\"\"))<5,\"Zip <5 digits. If leading zero, add apostrophe (ex. '01234).\",\"\")))","v":""},null,null,{"$f":"CELL(\"format\",'MARK Enrollment Template'!C325)","v":"G"}]
["",{"$f":"IF(AND(SUMPRODUCT(--('MARK Enrollment Template'!A326:L326<>\"\"))<>0,'MARK Enrollment Template'!A326=\"\"),\"Please fill in First Name.\",IF(LEN('MARK Enrollment Template'!A326)=1,\"Please fill in full first name.\",\"\"))","v":""},{"$f":"IF('MARK Enrollment Template'!A326=\"\",\"\",IF(AND('MARK Enrollment Template'!A326<>\"\",'MARK Enrollment Template'!B326=\"\"),\"Please fill in a Last Name.\",\"\"))","v":""},{"$f":"IF('MARK Enrollment Template'!A326=\"\",\"\",IF(AND('MARK Enrollment Template'!A326<>\"\",'MARK Enrollment Template'!C326=\"\"),\"Please fill in Date of Birth.\",IF(TRIM(O321)<>\"D4\",\"Please format DOB as a date in the form MM/DD/YYYY.\",IF('MARK Enrollment Template'!C326>TODAY(),\"Please check DOB.\",\"\"))))","v":""},{"$f":"IF('MARK Enrollment Template'!A326=\"\",\"\",IF(AND('MARK Enrollment Template'!A326<>\"\",'MARK Enrollment Template'!D326=\"\"),\"Please fill in Sex.\",IF(OR(TRIM('MARK Enrollment Template'!D326)=\"M\",TRIM('MARK Enrollment Template'!D326)=\"F\",TRIM('MARK Enrollment Template'!D326)=\"Male\",TRIM('MARK Enrollment Template'!D326)=\"Female\"),\"\",\"Sex must be M/F/Male/Female.\")))","v":""},null,null,{"$f":"IF('MARK Enrollment Template'!A326=\"\",\"\",IF(AND('MARK Enrollment Template'!A326<>\"\",'MARK Enrollment Template'!G326=\"\"),\"Please fill in Email Address.\",IF(IFERROR(FIND(\"@\",'MARK Enrollment Template'!G326),\"X\")=\"X\",\"Email Address must include an @ symbol.\",\"\")))","v":""},null,null,null,{"$f":"IF('MARK Enrollment Template'!A326=\"\",\"\",IF(AND('MARK Enrollment Template'!A326<>\"\",'MARK Enrollment Template'!K326=\"\"),\"Please fill in Zip Code.\",IF(LEN(SUBSTITUTE(TRIM('MARK Enrollment Template'!K326),CHAR(9),\"\"))<5,\"Zip <5 digits. If leading zero, add apostrophe (ex. '01234).\",\"\")))","v":""},null,null,{"$f":"CELL(\"format\",'MARK Enrollment Template'!C326)","v":"G"}]
["",{"$f":"IF(AND(SUMPRODUCT(--('MARK Enrollment Template'!A327:L327<>\"\"))<>0,'MARK Enrollment Template'!A327=\"\"),\"Please fill in First Name.\",IF(LEN('MARK Enrollment Template'!A327)=1,\"Please fill in full first name.\",\"\"))","v":""},{"$f":"IF('MARK Enrollment Template'!A327=\"\",\"\",IF(AND('MARK Enrollment Template'!A327<>\"\",'MARK Enrollment Template'!B327=\"\"),\"Please fill in a Last Name.\",\"\"))","v":""},{"$f":"IF('MARK Enrollment Template'!A327=\"\",\"\",IF(AND('MARK Enrollment Template'!A327<>\"\",'MARK Enrollment Template'!C327=\"\"),\"Please fill in Date of Birth.\",IF(TRIM(O322)<>\"D4\",\"Please format DOB as a date in the form MM/DD/YYYY.\",IF('MARK Enrollment Template'!C327>TODAY(),\"Please check DOB.\",\"\"))))","v":""},{"$f":"IF('MARK Enrollment Template'!A327=\"\",\"\",IF(AND('MARK Enrollment Template'!A327<>\"\",'MARK Enrollment Template'!D327=\"\"),\"Please fill in Sex.\",IF(OR(TRIM('MARK Enrollment Template'!D327)=\"M\",TRIM('MARK Enrollment Template'!D327)=\"F\",TRIM('MARK Enrollment Template'!D327)=\"Male\",TRIM('MARK Enrollment Template'!D327)=\"Female\"),\"\",\"Sex must be M/F/Male/Female.\")))","v":""},null,null,{"$f":"IF('MARK Enrollment Template'!A327=\"\",\"\",IF(AND('MARK Enrollment Template'!A327<>\"\",'MARK Enrollment Template'!G327=\"\"),\"Please fill in Email Address.\",IF(IFERROR(FIND(\"@\",'MARK Enrollment Template'!G327),\"X\")=\"X\",\"Email Address must include an @ symbol.\",\"\")))","v":""},null,null,null,{"$f":"IF('MARK Enrollment Template'!A327=\"\",\"\",IF(AND('MARK Enrollment Template'!A327<>\"\",'MARK Enrollment Template'!K327=\"\"),\"Please fill in Zip Code.\",IF(LEN(SUBSTITUTE(TRIM('MARK Enrollment Template'!K327),CHAR(9),\"\"))<5,\"Zip <5 digits. If leading zero, add apostrophe (ex. '01234).\",\"\")))","v":""},null,null,{"$f":"CELL(\"format\",'MARK Enrollment Template'!C327)","v":"G"}]
["",{"$f":"IF(AND(SUMPRODUCT(--('MARK Enrollment Template'!A328:L328<>\"\"))<>0,'MARK Enrollment Template'!A328=\"\"),\"Please fill in First Name.\",IF(LEN('MARK Enrollment Template'!A328)=1,\"Please fill in full first name.\",\"\"))","v":""},{"$f":"IF('MARK Enrollment Template'!A328=\"\",\"\",IF(AND('MARK Enrollment Template'!A328<>\"\",'MARK Enrollment Template'!B328=\"\"),\"Please fill in a Last Name.\",\"\"))","v":""},{"$f":"IF('MARK Enrollment Template'!A328=\"\",\"\",IF(AND('MARK Enrollment Template'!A328<>\"\",'MARK Enrollment Template'!C328=\"\"),\"Please fill in Date of Birth.\",IF(TRIM(O323)<>\"D4\",\"Please format DOB as a date in the form MM/DD/YYYY.\",IF('MARK Enrollment Template'!C328>TODAY(),\"Please check DOB.\",\"\"))))","v":""},{"$f":"IF('MARK Enrollment Template'!A328=\"\",\"\",IF(AND('MARK Enrollment Template'!A328<>\"\",'MARK Enrollment Template'!D328=\"\"),\"Please fill in Sex.\",IF(OR(TRIM('MARK Enrollment Template'!D328)=\"M\",TRIM('MARK Enrollment Template'!D328)=\"F\",TRIM('MARK Enrollment Template'!D328)=\"Male\",TRIM('MARK Enrollment Template'!D328)=\"Female\"),\"\",\"Sex must be M/F/Male/Female.\")))","v":""},null,null,{"$f":"IF('MARK Enrollment Template'!A328=\"\",\"\",IF(AND('MARK Enrollment Template'!A328<>\"\",'MARK Enrollment Template'!G328=\"\"),\"Please fill in Email Address.\",IF(IFERROR(FIND(\"@\",'MARK Enrollment Template'!G328),\"X\")=\"X\",\"Email Address must include an @ symbol.\",\"\")))","v":""},null,null,null,{"$f":"IF('MARK Enrollment Template'!A328=\"\",\"\",IF(AND('MARK Enrollment Template'!A328<>\"\",'MARK Enrollment Template'!K328=\"\"),\"Please fill in Zip Code.\",IF(LEN(SUBSTITUTE(TRIM('MARK Enrollment Template'!K328),CHAR(9),\"\"))<5,\"Zip <5 digits. If leading zero, add apostrophe (ex. '01234).\",\"\")))","v":""},null,null,{"$f":"CELL(\"format\",'MARK Enrollment Template'!C328)","v":"G"}]
["",{"$f":"IF(AND(SUMPRODUCT(--('MARK Enrollment Template'!A329:L329<>\"\"))<>0,'MARK Enrollment Template'!A329=\"\"),\"Please fill in First Name.\",IF(LEN('MARK Enrollment Template'!A329)=1,\"Please fill in full first name.\",\"\"))","v":""},{"$f":"IF('MARK Enrollment Template'!A329=\"\",\"\",IF(AND('MARK Enrollment Template'!A329<>\"\",'MARK Enrollment Template'!B329=\"\"),\"Please fill in a Last Name.\",\"\"))","v":""},{"$f":"IF('MARK Enrollment Template'!A329=\"\",\"\",IF(AND('MARK Enrollment Template'!A329<>\"\",'MARK Enrollment Template'!C329=\"\"),\"Please fill in Date of Birth.\",IF(TRIM(O324)<>\"D4\",\"Please format DOB as a date in the form MM/DD/YYYY.\",IF('MARK Enrollment Template'!C329>TODAY(),\"Please check DOB.\",\"\"))))","v":""},{"$f":"IF('MARK Enrollment Template'!A329=\"\",\"\",IF(AND('MARK Enrollment Template'!A329<>\"\",'MARK Enrollment Template'!D329=\"\"),\"Please fill in Sex.\",IF(OR(TRIM('MARK Enrollment Template'!D329)=\"M\",TRIM('MARK Enrollment Template'!D329)=\"F\",TRIM('MARK Enrollment Template'!D329)=\"Male\",TRIM('MARK Enrollment Template'!D329)=\"Female\"),\"\",\"Sex must be M/F/Male/Female.\")))","v":""},null,null,{"$f":"IF('MARK Enrollment Template'!A329=\"\",\"\",IF(AND('MARK Enrollment Template'!A329<>\"\",'MARK Enrollment Template'!G329=\"\"),\"Please fill in Email Address.\",IF(IFERROR(FIND(\"@\",'MARK Enrollment Template'!G329),\"X\")=\"X\",\"Email Address must include an @ symbol.\",\"\")))","v":""},null,null,null,{"$f":"IF('MARK Enrollment Template'!A329=\"\",\"\",IF(AND('MARK Enrollment Template'!A329<>\"\",'MARK Enrollment Template'!K329=\"\"),\"Please fill in Zip Code.\",IF(LEN(SUBSTITUTE(TRIM('MARK Enrollment Template'!K329),CHAR(9),\"\"))<5,\"Zip <5 digits. If leading zero, add apostrophe (ex. '01234).\",\"\")))","v":""},null,null,{"$f":"CELL(\"format\",'MARK Enrollment Template'!C329)","v":"G"}]
["",{"$f":"IF(AND(SUMPRODUCT(--('MARK Enrollment Template'!A330:L330<>\"\"))<>0,'MARK Enrollment Template'!A330=\"\"),\"Please fill in First Name.\",IF(LEN('MARK Enrollment Template'!A330)=1,\"Please fill in full first name.\",\"\"))","v":""},{"$f":"IF('MARK Enrollment Template'!A330=\"\",\"\",IF(AND('MARK Enrollment Template'!A330<>\"\",'MARK Enrollment Template'!B330=\"\"),\"Please fill in a Last Name.\",\"\"))","v":""},{"$f":"IF('MARK Enrollment Template'!A330=\"\",\"\",IF(AND('MARK Enrollment Template'!A330<>\"\",'MARK Enrollment Template'!C330=\"\"),\"Please fill in Date of Birth.\",IF(TRIM(O325)<>\"D4\",\"Please format DOB as a date in the form MM/DD/YYYY.\",IF('MARK Enrollment Template'!C330>TODAY(),\"Please check DOB.\",\"\"))))","v":""},{"$f":"IF('MARK Enrollment Template'!A330=\"\",\"\",IF(AND('MARK Enrollment Template'!A330<>\"\",'MARK Enrollment Template'!D330=\"\"),\"Please fill in Sex.\",IF(OR(TRIM('MARK Enrollment Template'!D330)=\"M\",TRIM('MARK Enrollment Template'!D330)=\"F\",TRIM('MARK Enrollment Template'!D330)=\"Male\",TRIM('MARK Enrollment Template'!D330)=\"Female\"),\"\",\"Sex must be M/F/Male/Female.\")))","v":""},null,null,{"$f":"IF('MARK Enrollment Template'!A330=\"\",\"\",IF(AND('MARK Enrollment Template'!A330<>\"\",'MARK Enrollment Template'!G330=\"\"),\"Please fill in Email Address.\",IF(IFERROR(FIND(\"@\",'MARK Enrollment Template'!G330),\"X\")=\"X\",\"Email Address must include an @ symbol.\",\"\")))","v":""},null,null,null,{"$f":"IF('MARK Enrollment Template'!A330=\"\",\"\",IF(AND('MARK Enrollment Template'!A330<>\"\",'MARK Enrollment Template'!K330=\"\"),\"Please fill in Zip Code.\",IF(LEN(SUBSTITUTE(TRIM('MARK Enrollment Template'!K330),CHAR(9),\"\"))<5,\"Zip <5 digits. If leading zero, add apostrophe (ex. '01234).\",\"\")))","v":""},null,null,{"$f":"CELL(\"format\",'MARK Enrollment Template'!C330)","v":"G"}]
["",{"$f":"IF(AND(SUMPRODUCT(--('MARK Enrollment Template'!A331:L331<>\"\"))<>0,'MARK Enrollment Template'!A331=\"\"),\"Please fill in First Name.\",IF(LEN('MARK Enrollment Template'!A331)=1,\"Please fill in full first name.\",\"\"))","v":""},{"$f":"IF('MARK Enrollment Template'!A331=\"\",\"\",IF(AND('MARK Enrollment Template'!A331<>\"\",'MARK Enrollment Template'!B331=\"\"),\"Please fill in a Last Name.\",\"\"))","v":""},{"$f":"IF('MARK Enrollment Template'!A331=\"\",\"\",IF(AND('MARK Enrollment Template'!A331<>\"\",'MARK Enrollment Template'!C331=\"\"),\"Please fill in Date of Birth.\",IF(TRIM(O326)<>\"D4\",\"Please format DOB as a date in the form MM/DD/YYYY.\",IF('MARK Enrollment Template'!C331>TODAY(),\"Please check DOB.\",\"\"))))","v":""},{"$f":"IF('MARK Enrollment Template'!A331=\"\",\"\",IF(AND('MARK Enrollment Template'!A331<>\"\",'MARK Enrollment Template'!D331=\"\"),\"Please fill in Sex.\",IF(OR(TRIM('MARK Enrollment Template'!D331)=\"M\",TRIM('MARK Enrollment Template'!D331)=\"F\",TRIM('MARK Enrollment Template'!D331)=\"Male\",TRIM('MARK Enrollment Template'!D331)=\"Female\"),\"\",\"Sex must be M/F/Male/Female.\")))","v":""},null,null,{"$f":"IF('MARK Enrollment Template'!A331=\"\",\"\",IF(AND('MARK Enrollment Template'!A331<>\"\",'MARK Enrollment Template'!G331=\"\"),\"Please fill in Email Address.\",IF(IFERROR(FIND(\"@\",'MARK Enrollment Template'!G331),\"X\")=\"X\",\"Email Address must include an @ symbol.\",\"\")))","v":""},null,null,null,{"$f":"IF('MARK Enrollment Template'!A331=\"\",\"\",IF(AND('MARK Enrollment Template'!A331<>\"\",'MARK Enrollment Template'!K331=\"\"),\"Please fill in Zip Code.\",IF(LEN(SUBSTITUTE(TRIM('MARK Enrollment Template'!K331),CHAR(9),\"\"))<5,\"Zip <5 digits. If leading zero, add apostrophe (ex. '01234).\",\"\")))","v":""},null,null,{"$f":"CELL(\"format\",'MARK Enrollment Template'!C331)","v":"G"}]
["",{"$f":"IF(AND(SUMPRODUCT(--('MARK Enrollment Template'!A332:L332<>\"\"))<>0,'MARK Enrollment Template'!A332=\"\"),\"Please fill in First Name.\",IF(LEN('MARK Enrollment Template'!A332)=1,\"Please fill in full first name.\",\"\"))","v":""},{"$f":"IF('MARK Enrollment Template'!A332=\"\",\"\",IF(AND('MARK Enrollment Template'!A332<>\"\",'MARK Enrollment Template'!B332=\"\"),\"Please fill in a Last Name.\",\"\"))","v":""},{"$f":"IF('MARK Enrollment Template'!A332=\"\",\"\",IF(AND('MARK Enrollment Template'!A332<>\"\",'MARK Enrollment Template'!C332=\"\"),\"Please fill in Date of Birth.\",IF(TRIM(O327)<>\"D4\",\"Please format DOB as a date in the form MM/DD/YYYY.\",IF('MARK Enrollment Template'!C332>TODAY(),\"Please check DOB.\",\"\"))))","v":""},{"$f":"IF('MARK Enrollment Template'!A332=\"\",\"\",IF(AND('MARK Enrollment Template'!A332<>\"\",'MARK Enrollment Template'!D332=\"\"),\"Please fill in Sex.\",IF(OR(TRIM('MARK Enrollment Template'!D332)=\"M\",TRIM('MARK Enrollment Template'!D332)=\"F\",TRIM('MARK Enrollment Template'!D332)=\"Male\",TRIM('MARK Enrollment Template'!D332)=\"Female\"),\"\",\"Sex must be M/F/Male/Female.\")))","v":""},null,null,{"$f":"IF('MARK Enrollment Template'!A332=\"\",\"\",IF(AND('MARK Enrollment Template'!A332<>\"\",'MARK Enrollment Template'!G332=\"\"),\"Please fill in Email Address.\",IF(IFERROR(FIND(\"@\",'MARK Enrollment Template'!G332),\"X\")=\"X\",\"Email Address must include an @ symbol.\",\"\")))","v":""},null,null,null,{"$f":"IF('MARK Enrollment Template'!A332=\"\",\"\",IF(AND('MARK Enrollment Template'!A332<>\"\",'MARK Enrollment Template'!K332=\"\"),\"Please fill in Zip Code.\",IF(LEN(SUBSTITUTE(TRIM('MARK Enrollment Template'!K332),CHAR(9),\"\"))<5,\"Zip <5 digits. If leading zero, add apostrophe (ex. '01234).\",\"\")))","v":""},null,null,{"$f":"CELL(\"format\",'MARK Enrollment Template'!C332)","v":"G"}]
["",{"$f":"IF(AND(SUMPRODUCT(--('MARK Enrollment Template'!A333:L333<>\"\"))<>0,'MARK Enrollment Template'!A333=\"\"),\"Please fill in First Name.\",IF(LEN('MARK Enrollment Template'!A333)=1,\"Please fill in full first name.\",\"\"))","v":""},{"$f":"IF('MARK Enrollment Template'!A333=\"\",\"\",IF(AND('MARK Enrollment Template'!A333<>\"\",'MARK Enrollment Template'!B333=\"\"),\"Please fill in a Last Name.\",\"\"))","v":""},{"$f":"IF('MARK Enrollment Template'!A333=\"\",\"\",IF(AND('MARK Enrollment Template'!A333<>\"\",'MARK Enrollment Template'!C333=\"\"),\"Please fill in Date of Birth.\",IF(TRIM(O328)<>\"D4\",\"Please format DOB as a date in the form MM/DD/YYYY.\",IF('MARK Enrollment Template'!C333>TODAY(),\"Please check DOB.\",\"\"))))","v":""},{"$f":"IF('MARK Enrollment Template'!A333=\"\",\"\",IF(AND('MARK Enrollment Template'!A333<>\"\",'MARK Enrollment Template'!D333=\"\"),\"Please fill in Sex.\",IF(OR(TRIM('MARK Enrollment Template'!D333)=\"M\",TRIM('MARK Enrollment Template'!D333)=\"F\",TRIM('MARK Enrollment Template'!D333)=\"Male\",TRIM('MARK Enrollment Template'!D333)=\"Female\"),\"\",\"Sex must be M/F/Male/Female.\")))","v":""},null,null,{"$f":"IF('MARK Enrollment Template'!A333=\"\",\"\",IF(AND('MARK Enrollment Template'!A333<>\"\",'MARK Enrollment Template'!G333=\"\"),\"Please fill in Email Address.\",IF(IFERROR(FIND(\"@\",'MARK Enrollment Template'!G333),\"X\")=\"X\",\"Email Address must include an @ symbol.\",\"\")))","v":""},null,null,null,{"$f":"IF('MARK Enrollment Template'!A333=\"\",\"\",IF(AND('MARK Enrollment Template'!A333<>\"\",'MARK Enrollment Template'!K333=\"\"),\"Please fill in Zip Code.\",IF(LEN(SUBSTITUTE(TRIM('MARK Enrollment Template'!K333),CHAR(9),\"\"))<5,\"Zip <5 digits. If leading zero, add apostrophe (ex. '01234).\",\"\")))","v":""},null,null,{"$f":"CELL(\"format\",'MARK Enrollment Template'!C333)","v":"G"}]
[{"$f":"IF(B329<>\"\",B329,IF(C329<>\"\",C329,IF(D329<>\"\",D329,IF(E329<>\"\",E329,IF(F329<>\"\",F329,IF(G329<>\"\",G329,IF(H329<>\"\",H329,IF(I329<>\"\",I329,IF(J329<>\"\",J329,IF(K329<>\"\",K329,L329))))))))))","v":""},{"$f":"IF(AND(SUMPRODUCT(--('MARK Enrollment Template'!A334:L334<>\"\"))<>0,'MARK Enrollment Template'!A334=\"\"),\"Please fill in First Name.\",IF(LEN('MARK Enrollment Template'!A334)=1,\"Please fill in full first name.\",\"\"))","v":""},{"$f":"IF('MARK Enrollment Template'!A334=\"\",\"\",IF(AND('MARK Enrollment Template'!A334<>\"\",'MARK Enrollment Template'!B334=\"\"),\"Please fill in a Last Name.\",\"\"))","v":""},{"$f":"IF('MARK Enrollment Template'!A334=\"\",\"\",IF(AND('MARK Enrollment Template'!A334<>\"\",'MARK Enrollment Template'!C334=\"\"),\"Please fill in Date of Birth.\",IF(TRIM(O329)<>\"D4\",\"Please format DOB as a date in the form MM/DD/YYYY.\",IF('MARK Enrollment Template'!C334>TODAY(),\"Please check DOB.\",\"\"))))","v":""},{"$f":"IF('MARK Enrollment Template'!A334=\"\",\"\",IF(AND('MARK Enrollment Template'!A334<>\"\",'MARK Enrollment Template'!D334=\"\"),\"Please fill in Sex.\",IF(OR(TRIM('MARK Enrollment Template'!D334)=\"M\",TRIM('MARK Enrollment Template'!D334)=\"F\",TRIM('MARK Enrollment Template'!D334)=\"Male\",TRIM('MARK Enrollment Template'!D334)=\"Female\"),\"\",\"Sex must be M/F/Male/Female.\")))","v":""},null,null,{"$f":"IF('MARK Enrollment Template'!A334=\"\",\"\",IF(AND('MARK Enrollment Template'!A334<>\"\",'MARK Enrollment Template'!G334=\"\"),\"Please fill in Email Address.\",IF(IFERROR(FIND(\"@\",'MARK Enrollment Template'!G334),\"X\")=\"X\",\"Email Address must include an @ symbol.\",\"\")))","v":""},null,null,null,{"$f":"IF('MARK Enrollment Template'!A334=\"\",\"\",IF(AND('MARK Enrollment Template'!A334<>\"\",'MARK Enrollment Template'!K334=\"\"),\"Please fill in Zip Code.\",IF(LEN(SUBSTITUTE(TRIM('MARK Enrollment Template'!K334),CHAR(9),\"\"))<5,\"Zip <5 digits. If leading zero, add apostrophe (ex. '01234).\",\"\")))","v":""},null,null,{"$f":"CELL(\"format\",'MARK Enrollment Template'!C334)","v":"G"}]
["",{"$f":"IF(AND(SUMPRODUCT(--('MARK Enrollment Template'!A335:L335<>\"\"))<>0,'MARK Enrollment Template'!A335=\"\"),\"Please fill in First Name.\",IF(LEN('MARK Enrollment Template'!A335)=1,\"Please fill in full first name.\",\"\"))","v":""},{"$f":"IF('MARK Enrollment Template'!A335=\"\",\"\",IF(AND('MARK Enrollment Template'!A335<>\"\",'MARK Enrollment Template'!B335=\"\"),\"Please fill in a Last Name.\",\"\"))","v":""},{"$f":"IF('MARK Enrollment Template'!A335=\"\",\"\",IF(AND('MARK Enrollment Template'!A335<>\"\",'MARK Enrollment Template'!C335=\"\"),\"Please fill in Date of Birth.\",IF(TRIM(O330)<>\"D4\",\"Please format DOB as a date in the form MM/DD/YYYY.\",IF('MARK Enrollment Template'!C335>TODAY(),\"Please check DOB.\",\"\"))))","v":""},{"$f":"IF('MARK Enrollment Template'!A335=\"\",\"\",IF(AND('MARK Enrollment Template'!A335<>\"\",'MARK Enrollment Template'!D335=\"\"),\"Please fill in Sex.\",IF(OR(TRIM('MARK Enrollment Template'!D335)=\"M\",TRIM('MARK Enrollment Template'!D335)=\"F\",TRIM('MARK Enrollment Template'!D335)=\"Male\",TRIM('MARK Enrollment Template'!D335)=\"Female\"),\"\",\"Sex must be M/F/Male/Female.\")))","v":""},null,null,{"$f":"IF('MARK Enrollment Template'!A335=\"\",\"\",IF(AND('MARK Enrollment Template'!A335<>\"\",'MARK Enrollment Template'!G335=\"\"),\"Please fill in Email Address.\",IF(IFERROR(FIND(\"@\",'MARK Enrollment Template'!G335),\"X\")=\"X\",\"Email Address must include an @ symbol.\",\"\")))","v":""},null,null,null,{"$f":"IF('MARK Enrollment Template'!A335=\"\",\"\",IF(AND('MARK Enrollment Template'!A335<>\"\",'MARK Enrollment Template'!K335=\"\"),\"Please fill in Zip Code.\",IF(LEN(SUBSTITUTE(TRIM('MARK Enrollment Template'!K335),CHAR(9),\"\"))<5,\"Zip <5 digits. If leading zero, add apostrophe (ex. '01234).\",\"\")))","v":""},null,null,{"$f":"CELL(\"format\",'MARK Enrollment Template'!C335)","v":"G"}]
["",{"$f":"IF(AND(SUMPRODUCT(--('MARK Enrollment Template'!A336:L336<>\"\"))<>0,'MARK Enrollment Template'!A336=\"\"),\"Please fill in First Name.\",IF(LEN('MARK Enrollment Template'!A336)=1,\"Please fill in full first name.\",\"\"))","v":""},{"$f":"IF('MARK Enrollment Template'!A336=\"\",\"\",IF(AND('MARK Enrollment Template'!A336<>\"\",'MARK Enrollment Template'!B336=\"\"),\"Please fill in a Last Name.\",\"\"))","v":""},{"$f":"IF('MARK Enrollment Template'!A336=\"\",\"\",IF(AND('MARK Enrollment Template'!A336<>\"\",'MARK Enrollment Template'!C336=\"\"),\"Please fill in Date of Birth.\",IF(TRIM(O331)<>\"D4\",\"Please format DOB as a date in the form MM/DD/YYYY.\",IF('MARK Enrollment Template'!C336>TODAY(),\"Please check DOB.\",\"\"))))","v":""},{"$f":"IF('MARK Enrollment Template'!A336=\"\",\"\",IF(AND('MARK Enrollment Template'!A336<>\"\",'MARK Enrollment Template'!D336=\"\"),\"Please fill in Sex.\",IF(OR(TRIM('MARK Enrollment Template'!D336)=\"M\",TRIM('MARK Enrollment Template'!D336)=\"F\",TRIM('MARK Enrollment Template'!D336)=\"Male\",TRIM('MARK Enrollment Template'!D336)=\"Female\"),\"\",\"Sex must be M/F/Male/Female.\")))","v":""},null,null,{"$f":"IF('MARK Enrollment Template'!A336=\"\",\"\",IF(AND('MARK Enrollment Template'!A336<>\"\",'MARK Enrollment Template'!G336=\"\"),\"Please fill in Email Address.\",IF(IFERROR(FIND(\"@\",'MARK Enrollment Template'!G336),\"X\")=\"X\",\"Email Address must include an @ symbol.\",\"\")))","v":""},null,null,null,{"$f":"IF('MARK Enrollment Template'!A336=\"\",\"\",IF(AND('MARK Enrollment Template'!A336<>\"\",'MARK Enrollment Template'!K336=\"\"),\"Please fill in Zip Code.\",IF(LEN(SUBSTITUTE(TRIM('MARK Enrollment Template'!K336),CHAR(9),\"\"))<5,\"Zip <5 digits. If leading zero, add apostrophe (ex. '01234).\",\"\")))","v":""},null,null,{"$f":"CELL(\"format\",'MARK Enrollment Template'!C336)","v":"G"}]
["",{"$f":"IF(AND(SUMPRODUCT(--('MARK Enrollment Template'!A337:L337<>\"\"))<>0,'MARK Enrollment Template'!A337=\"\"),\"Please fill in First Name.\",IF(LEN('MARK Enrollment Template'!A337)=1,\"Please fill in full first name.\",\"\"))","v":""},{"$f":"IF('MARK Enrollment Template'!A337=\"\",\"\",IF(AND('MARK Enrollment Template'!A337<>\"\",'MARK Enrollment Template'!B337=\"\"),\"Please fill in a Last Name.\",\"\"))","v":""},{"$f":"IF('MARK Enrollment Template'!A337=\"\",\"\",IF(AND('MARK Enrollment Template'!A337<>\"\",'MARK Enrollment Template'!C337=\"\"),\"Please fill in Date of Birth.\",IF(TRIM(O332)<>\"D4\",\"Please format DOB as a date in the form MM/DD/YYYY.\",IF('MARK Enrollment Template'!C337>TODAY(),\"Please check DOB.\",\"\"))))","v":""},{"$f":"IF('MARK Enrollment Template'!A337=\"\",\"\",IF(AND('MARK Enrollment Template'!A337<>\"\",'MARK Enrollment Template'!D337=\"\"),\"Please fill in Sex.\",IF(OR(TRIM('MARK Enrollment Template'!D337)=\"M\",TRIM('MARK Enrollment Template'!D337)=\"F\",TRIM('MARK Enrollment Template'!D337)=\"Male\",TRIM('MARK Enrollment Template'!D337)=\"Female\"),\"\",\"Sex must be M/F/Male/Female.\")))","v":""},null,null,{"$f":"IF('MARK Enrollment Template'!A337=\"\",\"\",IF(AND('MARK Enrollment Template'!A337<>\"\",'MARK Enrollment Template'!G337=\"\"),\"Please fill in Email Address.\",IF(IFERROR(FIND(\"@\",'MARK Enrollment Template'!G337),\"X\")=\"X\",\"Email Address must include an @ symbol.\",\"\")))","v":""},null,null,null,{"$f":"IF('MARK Enrollment Template'!A337=\"\",\"\",IF(AND('MARK Enrollment Template'!A337<>\"\",'MARK Enrollment Template'!K337=\"\"),\"Please fill in Zip Code.\",IF(LEN(SUBSTITUTE(TRIM('MARK Enrollment Template'!K337),CHAR(9),\"\"))<5,\"Zip <5 digits. If leading zero, add apostrophe (ex. '01234).\",\"\")))","v":""},null,null,{"$f":"CELL(\"format\",'MARK Enrollment Template'!C337)","v":"G"}]
["",{"$f":"IF(AND(SUMPRODUCT(--('MARK Enrollment Template'!A338:L338<>\"\"))<>0,'MARK Enrollment Template'!A338=\"\"),\"Please fill in First Name.\",IF(LEN('MARK Enrollment Template'!A338)=1,\"Please fill in full first name.\",\"\"))","v":""},{"$f":"IF('MARK Enrollment Template'!A338=\"\",\"\",IF(AND('MARK Enrollment Template'!A338<>\"\",'MARK Enrollment Template'!B338=\"\"),\"Please fill in a Last Name.\",\"\"))","v":""},{"$f":"IF('MARK Enrollment Template'!A338=\"\",\"\",IF(AND('MARK Enrollment Template'!A338<>\"\",'MARK Enrollment Template'!C338=\"\"),\"Please fill in Date of Birth.\",IF(TRIM(O333)<>\"D4\",\"Please format DOB as a date in the form MM/DD/YYYY.\",IF('MARK Enrollment Template'!C338>TODAY(),\"Please check DOB.\",\"\"))))","v":""},{"$f":"IF('MARK Enrollment Template'!A338=\"\",\"\",IF(AND('MARK Enrollment Template'!A338<>\"\",'MARK Enrollment Template'!D338=\"\"),\"Please fill in Sex.\",IF(OR(TRIM('MARK Enrollment Template'!D338)=\"M\",TRIM('MARK Enrollment Template'!D338)=\"F\",TRIM('MARK Enrollment Template'!D338)=\"Male\",TRIM('MARK Enrollment Template'!D338)=\"Female\"),\"\",\"Sex must be M/F/Male/Female.\")))","v":""},null,null,{"$f":"IF('MARK Enrollment Template'!A338=\"\",\"\",IF(AND('MARK Enrollment Template'!A338<>\"\",'MARK Enrollment Template'!G338=\"\"),\"Please fill in Email Address.\",IF(IFERROR(FIND(\"@\",'MARK Enrollment Template'!G338),\"X\")=\"X\",\"Email Address must include an @ symbol.\",\"\")))","v":""},null,null,null,{"$f":"IF('MARK Enrollment Template'!A338=\"\",\"\",IF(AND('MARK Enrollment Template'!A338<>\"\",'MARK Enrollment Template'!K338=\"\"),\"Please fill in Zip Code.\",IF(LEN(SUBSTITUTE(TRIM('MARK Enrollment Template'!K338),CHAR(9),\"\"))<5,\"Zip <5 digits. If leading zero, add apostrophe (ex. '01234).\",\"\")))","v":""},null,null,{"$f":"CELL(\"format\",'MARK Enrollment Template'!C338)","v":"G"}]
["",{"$f":"IF(AND(SUMPRODUCT(--('MARK Enrollment Template'!A339:L339<>\"\"))<>0,'MARK Enrollment Template'!A339=\"\"),\"Please fill in First Name.\",IF(LEN('MARK Enrollment Template'!A339)=1,\"Please fill in full first name.\",\"\"))","v":""},{"$f":"IF('MARK Enrollment Template'!A339=\"\",\"\",IF(AND('MARK Enrollment Template'!A339<>\"\",'MARK Enrollment Template'!B339=\"\"),\"Please fill in a Last Name.\",\"\"))","v":""},{"$f":"IF('MARK Enrollment Template'!A339=\"\",\"\",IF(AND('MARK Enrollment Template'!A339<>\"\",'MARK Enrollment Template'!C339=\"\"),\"Please fill in Date of Birth.\",IF(TRIM(O334)<>\"D4\",\"Please format DOB as a date in the form MM/DD/YYYY.\",IF('MARK Enrollment Template'!C339>TODAY(),\"Please check DOB.\",\"\"))))","v":""},{"$f":"IF('MARK Enrollment Template'!A339=\"\",\"\",IF(AND('MARK Enrollment Template'!A339<>\"\",'MARK Enrollment Template'!D339=\"\"),\"Please fill in Sex.\",IF(OR(TRIM('MARK Enrollment Template'!D339)=\"M\",TRIM('MARK Enrollment Template'!D339)=\"F\",TRIM('MARK Enrollment Template'!D339)=\"Male\",TRIM('MARK Enrollment Template'!D339)=\"Female\"),\"\",\"Sex must be M/F/Male/Female.\")))","v":""},null,null,{"$f":"IF('MARK Enrollment Template'!A339=\"\",\"\",IF(AND('MARK Enrollment Template'!A339<>\"\",'MARK Enrollment Template'!G339=\"\"),\"Please fill in Email Address.\",IF(IFERROR(FIND(\"@\",'MARK Enrollment Template'!G339),\"X\")=\"X\",\"Email Address must include an @ symbol.\",\"\")))","v":""},null,null,null,{"$f":"IF('MARK Enrollment Template'!A339=\"\",\"\",IF(AND('MARK Enrollment Template'!A339<>\"\",'MARK Enrollment Template'!K339=\"\"),\"Please fill in Zip Code.\",IF(LEN(SUBSTITUTE(TRIM('MARK Enrollment Template'!K339),CHAR(9),\"\"))<5,\"Zip <5 digits. If leading zero, add apostrophe (ex. '01234).\",\"\")))","v":""},null,null,{"$f":"CELL(\"format\",'MARK Enrollment Template'!C339)","v":"G"}]
["",{"$f":"IF(AND(SUMPRODUCT(--('MARK Enrollment Template'!A340:L340<>\"\"))<>0,'MARK Enrollment Template'!A340=\"\"),\"Please fill in First Name.\",IF(LEN('MARK Enrollment Template'!A340)=1,\"Please fill in full first name.\",\"\"))","v":""},{"$f":"IF('MARK Enrollment Template'!A340=\"\",\"\",IF(AND('MARK Enrollment Template'!A340<>\"\",'MARK Enrollment Template'!B340=\"\"),\"Please fill in a Last Name.\",\"\"))","v":""},{"$f":"IF('MARK Enrollment Template'!A340=\"\",\"\",IF(AND('MARK Enrollment Template'!A340<>\"\",'MARK Enrollment Template'!C340=\"\"),\"Please fill in Date of Birth.\",IF(TRIM(O335)<>\"D4\",\"Please format DOB as a date in the form MM/DD/YYYY.\",IF('MARK Enrollment Template'!C340>TODAY(),\"Please check DOB.\",\"\"))))","v":""},{"$f":"IF('MARK Enrollment Template'!A340=\"\",\"\",IF(AND('MARK Enrollment Template'!A340<>\"\",'MARK Enrollment Template'!D340=\"\"),\"Please fill in Sex.\",IF(OR(TRIM('MARK Enrollment Template'!D340)=\"M\",TRIM('MARK Enrollment Template'!D340)=\"F\",TRIM('MARK Enrollment Template'!D340)=\"Male\",TRIM('MARK Enrollment Template'!D340)=\"Female\"),\"\",\"Sex must be M/F/Male/Female.\")))","v":""},null,null,{"$f":"IF('MARK Enrollment Template'!A340=\"\",\"\",IF(AND('MARK Enrollment Template'!A340<>\"\",'MARK Enrollment Template'!G340=\"\"),\"Please fill in Email Address.\",IF(IFERROR(FIND(\"@\",'MARK Enrollment Template'!G340),\"X\")=\"X\",\"Email Address must include an @ symbol.\",\"\")))","v":""},null,null,null,{"$f":"IF('MARK Enrollment Template'!A340=\"\",\"\",IF(AND('MARK Enrollment Template'!A340<>\"\",'MARK Enrollment Template'!K340=\"\"),\"Please fill in Zip Code.\",IF(LEN(SUBSTITUTE(TRIM('MARK Enrollment Template'!K340),CHAR(9),\"\"))<5,\"Zip <5 digits. If leading zero, add apostrophe (ex. '01234).\",\"\")))","v":""},null,null,{"$f":"CELL(\"format\",'MARK Enrollment Template'!C340)","v":"G"}]
["",{"$f":"IF(AND(SUMPRODUCT(--('MARK Enrollment Template'!A341:L341<>\"\"))<>0,'MARK Enrollment Template'!A341=\"\"),\"Please fill in First Name.\",IF(LEN('MARK Enrollment Template'!A341)=1,\"Please fill in full first name.\",\"\"))","v":""},{"$f":"IF('MARK Enrollment Template'!A341=\"\",\"\",IF(AND('MARK Enrollment Template'!A341<>\"\",'MARK Enrollment Template'!B341=\"\"),\"Please fill in a Last Name.\",\"\"))","v":""},{"$f":"IF('MARK Enrollment Template'!A341=\"\",\"\",IF(AND('MARK Enrollment Template'!A341<>\"\",'MARK Enrollment Template'!C341=\"\"),\"Please fill in Date of Birth.\",IF(TRIM(O336)<>\"D4\",\"Please format DOB as a date in the form MM/DD/YYYY.\",IF('MARK Enrollment Template'!C341>TODAY(),\"Please check DOB.\",\"\"))))","v":""},{"$f":"IF('MARK Enrollment Template'!A341=\"\",\"\",IF(AND('MARK Enrollment Template'!A341<>\"\",'MARK Enrollment Template'!D341=\"\"),\"Please fill in Sex.\",IF(OR(TRIM('MARK Enrollment Template'!D341)=\"M\",TRIM('MARK Enrollment Template'!D341)=\"F\",TRIM('MARK Enrollment Template'!D341)=\"Male\",TRIM('MARK Enrollment Template'!D341)=\"Female\"),\"\",\"Sex must be M/F/Male/Female.\")))","v":""},null,null,{"$f":"IF('MARK Enrollment Template'!A341=\"\",\"\",IF(AND('MARK Enrollment Template'!A341<>\"\",'MARK Enrollment Template'!G341=\"\"),\"Please fill in Email Address.\",IF(IFERROR(FIND(\"@\",'MARK Enrollment Template'!G341),\"X\")=\"X\",\"Email Address must include an @ symbol.\",\"\")))","v":""},null,null,null,{"$f":"IF('MARK Enrollment Template'!A341=\"\",\"\",IF(AND('MARK Enrollment Template'!A341<>\"\",'MARK Enrollment Template'!K341=\"\"),\"Please fill in Zip Code.\",IF(LEN(SUBSTITUTE(TRIM('MARK Enrollment Template'!K341),CHAR(9),\"\"))<5,\"Zip <5 digits. If leading zero, add apostrophe (ex. '01234).\",\"\")))","v":""},null,null,{"$f":"CELL(\"format\",'MARK Enrollment Template'!C341)","v":"G"}]
["",{"$f":"IF(AND(SUMPRODUCT(--('MARK Enrollment Template'!A342:L342<>\"\"))<>0,'MARK Enrollment Template'!A342=\"\"),\"Please fill in First Name.\",IF(LEN('MARK Enrollment Template'!A342)=1,\"Please fill in full first name.\",\"\"))","v":""},{"$f":"IF('MARK Enrollment Template'!A342=\"\",\"\",IF(AND('MARK Enrollment Template'!A342<>\"\",'MARK Enrollment Template'!B342=\"\"),\"Please fill in a Last Name.\",\"\"))","v":""},{"$f":"IF('MARK Enrollment Template'!A342=\"\",\"\",IF(AND('MARK Enrollment Template'!A342<>\"\",'MARK Enrollment Template'!C342=\"\"),\"Please fill in Date of Birth.\",IF(TRIM(O337)<>\"D4\",\"Please format DOB as a date in the form MM/DD/YYYY.\",IF('MARK Enrollment Template'!C342>TODAY(),\"Please check DOB.\",\"\"))))","v":""},{"$f":"IF('MARK Enrollment Template'!A342=\"\",\"\",IF(AND('MARK Enrollment Template'!A342<>\"\",'MARK Enrollment Template'!D342=\"\"),\"Please fill in Sex.\",IF(OR(TRIM('MARK Enrollment Template'!D342)=\"M\",TRIM('MARK Enrollment Template'!D342)=\"F\",TRIM('MARK Enrollment Template'!D342)=\"Male\",TRIM('MARK Enrollment Template'!D342)=\"Female\"),\"\",\"Sex must be M/F/Male/Female.\")))","v":""},null,null,{"$f":"IF('MARK Enrollment Template'!A342=\"\",\"\",IF(AND('MARK Enrollment Template'!A342<>\"\",'MARK Enrollment Template'!G342=\"\"),\"Please fill in Email Address.\",IF(IFERROR(FIND(\"@\",'MARK Enrollment Template'!G342),\"X\")=\"X\",\"Email Address must include an @ symbol.\",\"\")))","v":""},null,null,null,{"$f":"IF('MARK Enrollment Template'!A342=\"\",\"\",IF(AND('MARK Enrollment Template'!A342<>\"\",'MARK Enrollment Template'!K342=\"\"),\"Please fill in Zip Code.\",IF(LEN(SUBSTITUTE(TRIM('MARK Enrollment Template'!K342),CHAR(9),\"\"))<5,\"Zip <5 digits. If leading zero, add apostrophe (ex. '01234).\",\"\")))","v":""},null,null,{"$f":"CELL(\"format\",'MARK Enrollment Template'!C342)","v":"G"}]
["",{"$f":"IF(AND(SUMPRODUCT(--('MARK Enrollment Template'!A343:L343<>\"\"))<>0,'MARK Enrollment Template'!A343=\"\"),\"Please fill in First Name.\",IF(LEN('MARK Enrollment Template'!A343)=1,\"Please fill in full first name.\",\"\"))","v":""},{"$f":"IF('MARK Enrollment Template'!A343=\"\",\"\",IF(AND('MARK Enrollment Template'!A343<>\"\",'MARK Enrollment Template'!B343=\"\"),\"Please fill in a Last Name.\",\"\"))","v":""},{"$f":"IF('MARK Enrollment Template'!A343=\"\",\"\",IF(AND('MARK Enrollment Template'!A343<>\"\",'MARK Enrollment Template'!C343=\"\"),\"Please fill in Date of Birth.\",IF(TRIM(O338)<>\"D4\",\"Please format DOB as a date in the form MM/DD/YYYY.\",IF('MARK Enrollment Template'!C343>TODAY(),\"Please check DOB.\",\"\"))))","v":""},{"$f":"IF('MARK Enrollment Template'!A343=\"\",\"\",IF(AND('MARK Enrollment Template'!A343<>\"\",'MARK Enrollment Template'!D343=\"\"),\"Please fill in Sex.\",IF(OR(TRIM('MARK Enrollment Template'!D343)=\"M\",TRIM('MARK Enrollment Template'!D343)=\"F\",TRIM('MARK Enrollment Template'!D343)=\"Male\",TRIM('MARK Enrollment Template'!D343)=\"Female\"),\"\",\"Sex must be M/F/Male/Female.\")))","v":""},null,null,{"$f":"IF('MARK Enrollment Template'!A343=\"\",\"\",IF(AND('MARK Enrollment Template'!A343<>\"\",'MARK Enrollment Template'!G343=\"\"),\"Please fill in Email Address.\",IF(IFERROR(FIND(\"@\",'MARK Enrollment Template'!G343),\"X\")=\"X\",\"Email Address must include an @ symbol.\",\"\")))","v":""},null,null,null,{"$f":"IF('MARK Enrollment Template'!A343=\"\",\"\",IF(AND('MARK Enrollment Template'!A343<>\"\",'MARK Enrollment Template'!K343=\"\"),\"Please fill in Zip Code.\",IF(LEN(SUBSTITUTE(TRIM('MARK Enrollment Template'!K343),CHAR(9),\"\"))<5,\"Zip <5 digits. If leading zero, add apostrophe (ex. '01234).\",\"\")))","v":""},null,null,{"$f":"CELL(\"format\",'MARK Enrollment Template'!C343)","v":"G"}]
["",{"$f":"IF(AND(SUMPRODUCT(--('MARK Enrollment Template'!A344:L344<>\"\"))<>0,'MARK Enrollment Template'!A344=\"\"),\"Please fill in First Name.\",IF(LEN('MARK Enrollment Template'!A344)=1,\"Please fill in full first name.\",\"\"))","v":""},{"$f":"IF('MARK Enrollment Template'!A344=\"\",\"\",IF(AND('MARK Enrollment Template'!A344<>\"\",'MARK Enrollment Template'!B344=\"\"),\"Please fill in a Last Name.\",\"\"))","v":""},{"$f":"IF('MARK Enrollment Template'!A344=\"\",\"\",IF(AND('MARK Enrollment Template'!A344<>\"\",'MARK Enrollment Template'!C344=\"\"),\"Please fill in Date of Birth.\",IF(TRIM(O339)<>\"D4\",\"Please format DOB as a date in the form MM/DD/YYYY.\",IF('MARK Enrollment Template'!C344>TODAY(),\"Please check DOB.\",\"\"))))","v":""},{"$f":"IF('MARK Enrollment Template'!A344=\"\",\"\",IF(AND('MARK Enrollment Template'!A344<>\"\",'MARK Enrollment Template'!D344=\"\"),\"Please fill in Sex.\",IF(OR(TRIM('MARK Enrollment Template'!D344)=\"M\",TRIM('MARK Enrollment Template'!D344)=\"F\",TRIM('MARK Enrollment Template'!D344)=\"Male\",TRIM('MARK Enrollment Template'!D344)=\"Female\"),\"\",\"Sex must be M/F/Male/Female.\")))","v":""},null,null,{"$f":"IF('MARK Enrollment Template'!A344=\"\",\"\",IF(AND('MARK Enrollment Template'!A344<>\"\",'MARK Enrollment Template'!G344=\"\"),\"Please fill in Email Address.\",IF(IFERROR(FIND(\"@\",'MARK Enrollment Template'!G344),\"X\")=\"X\",\"Email Address must include an @ symbol.\",\"\")))","v":""},null,null,null,{"$f":"IF('MARK Enrollment Template'!A344=\"\",\"\",IF(AND('MARK Enrollment Template'!A344<>\"\",'MARK Enrollment Template'!K344=\"\"),\"Please fill in Zip Code.\",IF(LEN(SUBSTITUTE(TRIM('MARK Enrollment Template'!K344),CHAR(9),\"\"))<5,\"Zip <5 digits. If leading zero, add apostrophe (ex. '01234).\",\"\")))","v":""},null,null,{"$f":"CELL(\"format\",'MARK Enrollment Template'!C344)","v":"G"}]
["",{"$f":"IF(AND(SUMPRODUCT(--('MARK Enrollment Template'!A345:L345<>\"\"))<>0,'MARK Enrollment Template'!A345=\"\"),\"Please fill in First Name.\",IF(LEN('MARK Enrollment Template'!A345)=1,\"Please fill in full first name.\",\"\"))","v":""},{"$f":"IF('MARK Enrollment Template'!A345=\"\",\"\",IF(AND('MARK Enrollment Template'!A345<>\"\",'MARK Enrollment Template'!B345=\"\"),\"Please fill in a Last Name.\",\"\"))","v":""},{"$f":"IF('MARK Enrollment Template'!A345=\"\",\"\",IF(AND('MARK Enrollment Template'!A345<>\"\",'MARK Enrollment Template'!C345=\"\"),\"Please fill in Date of Birth.\",IF(TRIM(O340)<>\"D4\",\"Please format DOB as a date in the form MM/DD/YYYY.\",IF('MARK Enrollment Template'!C345>TODAY(),\"Please check DOB.\",\"\"))))","v":""},{"$f":"IF('MARK Enrollment Template'!A345=\"\",\"\",IF(AND('MARK Enrollment Template'!A345<>\"\",'MARK Enrollment Template'!D345=\"\"),\"Please fill in Sex.\",IF(OR(TRIM('MARK Enrollment Template'!D345)=\"M\",TRIM('MARK Enrollment Template'!D345)=\"F\",TRIM('MARK Enrollment Template'!D345)=\"Male\",TRIM('MARK Enrollment Template'!D345)=\"Female\"),\"\",\"Sex must be M/F/Male/Female.\")))","v":""},null,null,{"$f":"IF('MARK Enrollment Template'!A345=\"\",\"\",IF(AND('MARK Enrollment Template'!A345<>\"\",'MARK Enrollment Template'!G345=\"\"),\"Please fill in Email Address.\",IF(IFERROR(FIND(\"@\",'MARK Enrollment Template'!G345),\"X\")=\"X\",\"Email Address must include an @ symbol.\",\"\")))","v":""},null,null,null,{"$f":"IF('MARK Enrollment Template'!A345=\"\",\"\",IF(AND('MARK Enrollment Template'!A345<>\"\",'MARK Enrollment Template'!K345=\"\"),\"Please fill in Zip Code.\",IF(LEN(SUBSTITUTE(TRIM('MARK Enrollment Template'!K345),CHAR(9),\"\"))<5,\"Zip <5 digits. If leading zero, add apostrophe (ex. '01234).\",\"\")))","v":""},null,null,{"$f":"CELL(\"format\",'MARK Enrollment Template'!C345)","v":"G"}]
["",{"$f":"IF(AND(SUMPRODUCT(--('MARK Enrollment Template'!A346:L346<>\"\"))<>0,'MARK Enrollment Template'!A346=\"\"),\"Please fill in First Name.\",IF(LEN('MARK Enrollment Template'!A346)=1,\"Please fill in full first name.\",\"\"))","v":""},{"$f":"IF('MARK Enrollment Template'!A346=\"\",\"\",IF(AND('MARK Enrollment Template'!A346<>\"\",'MARK Enrollment Template'!B346=\"\"),\"Please fill in a Last Name.\",\"\"))","v":""},{"$f":"IF('MARK Enrollment Template'!A346=\"\",\"\",IF(AND('MARK Enrollment Template'!A346<>\"\",'MARK Enrollment Template'!C346=\"\"),\"Please fill in Date of Birth.\",IF(TRIM(O341)<>\"D4\",\"Please format DOB as a date in the form MM/DD/YYYY.\",IF('MARK Enrollment Template'!C346>TODAY(),\"Please check DOB.\",\"\"))))","v":""},{"$f":"IF('MARK Enrollment Template'!A346=\"\",\"\",IF(AND('MARK Enrollment Template'!A346<>\"\",'MARK Enrollment Template'!D346=\"\"),\"Please fill in Sex.\",IF(OR(TRIM('MARK Enrollment Template'!D346)=\"M\",TRIM('MARK Enrollment Template'!D346)=\"F\",TRIM('MARK Enrollment Template'!D346)=\"Male\",TRIM('MARK Enrollment Template'!D346)=\"Female\"),\"\",\"Sex must be M/F/Male/Female.\")))","v":""},null,null,{"$f":"IF('MARK Enrollment Template'!A346=\"\",\"\",IF(AND('MARK Enrollment Template'!A346<>\"\",'MARK Enrollment Template'!G346=\"\"),\"Please fill in Email Address.\",IF(IFERROR(FIND(\"@\",'MARK Enrollment Template'!G346),\"X\")=\"X\",\"Email Address must include an @ symbol.\",\"\")))","v":""},null,null,null,{"$f":"IF('MARK Enrollment Template'!A346=\"\",\"\",IF(AND('MARK Enrollment Template'!A346<>\"\",'MARK Enrollment Template'!K346=\"\"),\"Please fill in Zip Code.\",IF(LEN(SUBSTITUTE(TRIM('MARK Enrollment Template'!K346),CHAR(9),\"\"))<5,\"Zip <5 digits. If leading zero, add apostrophe (ex. '01234).\",\"\")))","v":""},null,null,{"$f":"CELL(\"format\",'MARK Enrollment Template'!C346)","v":"G"}]
["",{"$f":"IF(AND(SUMPRODUCT(--('MARK Enrollment Template'!A347:L347<>\"\"))<>0,'MARK Enrollment Template'!A347=\"\"),\"Please fill in First Name.\",IF(LEN('MARK Enrollment Template'!A347)=1,\"Please fill in full first name.\",\"\"))","v":""},{"$f":"IF('MARK Enrollment Template'!A347=\"\",\"\",IF(AND('MARK Enrollment Template'!A347<>\"\",'MARK Enrollment Template'!B347=\"\"),\"Please fill in a Last Name.\",\"\"))","v":""},{"$f":"IF('MARK Enrollment Template'!A347=\"\",\"\",IF(AND('MARK Enrollment Template'!A347<>\"\",'MARK Enrollment Template'!C347=\"\"),\"Please fill in Date of Birth.\",IF(TRIM(O342)<>\"D4\",\"Please format DOB as a date in the form MM/DD/YYYY.\",IF('MARK Enrollment Template'!C347>TODAY(),\"Please check DOB.\",\"\"))))","v":""},{"$f":"IF('MARK Enrollment Template'!A347=\"\",\"\",IF(AND('MARK Enrollment Template'!A347<>\"\",'MARK Enrollment Template'!D347=\"\"),\"Please fill in Sex.\",IF(OR(TRIM('MARK Enrollment Template'!D347)=\"M\",TRIM('MARK Enrollment Template'!D347)=\"F\",TRIM('MARK Enrollment Template'!D347)=\"Male\",TRIM('MARK Enrollment Template'!D347)=\"Female\"),\"\",\"Sex must be M/F/Male/Female.\")))","v":""},null,null,{"$f":"IF('MARK Enrollment Template'!A347=\"\",\"\",IF(AND('MARK Enrollment Template'!A347<>\"\",'MARK Enrollment Template'!G347=\"\"),\"Please fill in Email Address.\",IF(IFERROR(FIND(\"@\",'MARK Enrollment Template'!G347),\"X\")=\"X\",\"Email Address must include an @ symbol.\",\"\")))","v":""},null,null,null,{"$f":"IF('MARK Enrollment Template'!A347=\"\",\"\",IF(AND('MARK Enrollment Template'!A347<>\"\",'MARK Enrollment Template'!K347=\"\"),\"Please fill in Zip Code.\",IF(LEN(SUBSTITUTE(TRIM('MARK Enrollment Template'!K347),CHAR(9),\"\"))<5,\"Zip <5 digits. If leading zero, add apostrophe (ex. '01234).\",\"\")))","v":""},null,null,{"$f":"CELL(\"format\",'MARK Enrollment Template'!C347)","v":"G"}]
["",{"$f":"IF(AND(SUMPRODUCT(--('MARK Enrollment Template'!A348:L348<>\"\"))<>0,'MARK Enrollment Template'!A348=\"\"),\"Please fill in First Name.\",IF(LEN('MARK Enrollment Template'!A348)=1,\"Please fill in full first name.\",\"\"))","v":""},{"$f":"IF('MARK Enrollment Template'!A348=\"\",\"\",IF(AND('MARK Enrollment Template'!A348<>\"\",'MARK Enrollment Template'!B348=\"\"),\"Please fill in a Last Name.\",\"\"))","v":""},{"$f":"IF('MARK Enrollment Template'!A348=\"\",\"\",IF(AND('MARK Enrollment Template'!A348<>\"\",'MARK Enrollment Template'!C348=\"\"),\"Please fill in Date of Birth.\",IF(TRIM(O343)<>\"D4\",\"Please format DOB as a date in the form MM/DD/YYYY.\",IF('MARK Enrollment Template'!C348>TODAY(),\"Please check DOB.\",\"\"))))","v":""},{"$f":"IF('MARK Enrollment Template'!A348=\"\",\"\",IF(AND('MARK Enrollment Template'!A348<>\"\",'MARK Enrollment Template'!D348=\"\"),\"Please fill in Sex.\",IF(OR(TRIM('MARK Enrollment Template'!D348)=\"M\",TRIM('MARK Enrollment Template'!D348)=\"F\",TRIM('MARK Enrollment Template'!D348)=\"Male\",TRIM('MARK Enrollment Template'!D348)=\"Female\"),\"\",\"Sex must be M/F/Male/Female.\")))","v":""},null,null,{"$f":"IF('MARK Enrollment Template'!A348=\"\",\"\",IF(AND('MARK Enrollment Template'!A348<>\"\",'MARK Enrollment Template'!G348=\"\"),\"Please fill in Email Address.\",IF(IFERROR(FIND(\"@\",'MARK Enrollment Template'!G348),\"X\")=\"X\",\"Email Address must include an @ symbol.\",\"\")))","v":""},null,null,null,{"$f":"IF('MARK Enrollment Template'!A348=\"\",\"\",IF(AND('MARK Enrollment Template'!A348<>\"\",'MARK Enrollment Template'!K348=\"\"),\"Please fill in Zip Code.\",IF(LEN(SUBSTITUTE(TRIM('MARK Enrollment Template'!K348),CHAR(9),\"\"))<5,\"Zip <5 digits. If leading zero, add apostrophe (ex. '01234).\",\"\")))","v":""},null,null,{"$f":"CELL(\"format\",'MARK Enrollment Template'!C348)","v":"G"}]
["",{"$f":"IF(AND(SUMPRODUCT(--('MARK Enrollment Template'!A349:L349<>\"\"))<>0,'MARK Enrollment Template'!A349=\"\"),\"Please fill in First Name.\",IF(LEN('MARK Enrollment Template'!A349)=1,\"Please fill in full first name.\",\"\"))","v":""},{"$f":"IF('MARK Enrollment Template'!A349=\"\",\"\",IF(AND('MARK Enrollment Template'!A349<>\"\",'MARK Enrollment Template'!B349=\"\"),\"Please fill in a Last Name.\",\"\"))","v":""},{"$f":"IF('MARK Enrollment Template'!A349=\"\",\"\",IF(AND('MARK Enrollment Template'!A349<>\"\",'MARK Enrollment Template'!C349=\"\"),\"Please fill in Date of Birth.\",IF(TRIM(O344)<>\"D4\",\"Please format DOB as a date in the form MM/DD/YYYY.\",IF('MARK Enrollment Template'!C349>TODAY(),\"Please check DOB.\",\"\"))))","v":""},{"$f":"IF('MARK Enrollment Template'!A349=\"\",\"\",IF(AND('MARK Enrollment Template'!A349<>\"\",'MARK Enrollment Template'!D349=\"\"),\"Please fill in Sex.\",IF(OR(TRIM('MARK Enrollment Template'!D349)=\"M\",TRIM('MARK Enrollment Template'!D349)=\"F\",TRIM('MARK Enrollment Template'!D349)=\"Male\",TRIM('MARK Enrollment Template'!D349)=\"Female\"),\"\",\"Sex must be M/F/Male/Female.\")))","v":""},null,null,{"$f":"IF('MARK Enrollment Template'!A349=\"\",\"\",IF(AND('MARK Enrollment Template'!A349<>\"\",'MARK Enrollment Template'!G349=\"\"),\"Please fill in Email Address.\",IF(IFERROR(FIND(\"@\",'MARK Enrollment Template'!G349),\"X\")=\"X\",\"Email Address must include an @ symbol.\",\"\")))","v":""},null,null,null,{"$f":"IF('MARK Enrollment Template'!A349=\"\",\"\",IF(AND('MARK Enrollment Template'!A349<>\"\",'MARK Enrollment Template'!K349=\"\"),\"Please fill in Zip Code.\",IF(LEN(SUBSTITUTE(TRIM('MARK Enrollment Template'!K349),CHAR(9),\"\"))<5,\"Zip <5 digits. If leading zero, add apostrophe (ex. '01234).\",\"\")))","v":""},null,null,{"$f":"CELL(\"format\",'MARK Enrollment Template'!C349)","v":"G"}]
["",{"$f":"IF(AND(SUMPRODUCT(--('MARK Enrollment Template'!A350:L350<>\"\"))<>0,'MARK Enrollment Template'!A350=\"\"),\"Please fill in First Name.\",IF(LEN('MARK Enrollment Template'!A350)=1,\"Please fill in full first name.\",\"\"))","v":""},{"$f":"IF('MARK Enrollment Template'!A350=\"\",\"\",IF(AND('MARK Enrollment Template'!A350<>\"\",'MARK Enrollment Template'!B350=\"\"),\"Please fill in a Last Name.\",\"\"))","v":""},{"$f":"IF('MARK Enrollment Template'!A350=\"\",\"\",IF(AND('MARK Enrollment Template'!A350<>\"\",'MARK Enrollment Template'!C350=\"\"),\"Please fill in Date of Birth.\",IF(TRIM(O345)<>\"D4\",\"Please format DOB as a date in the form MM/DD/YYYY.\",IF('MARK Enrollment Template'!C350>TODAY(),\"Please check DOB.\",\"\"))))","v":""},{"$f":"IF('MARK Enrollment Template'!A350=\"\",\"\",IF(AND('MARK Enrollment Template'!A350<>\"\",'MARK Enrollment Template'!D350=\"\"),\"Please fill in Sex.\",IF(OR(TRIM('MARK Enrollment Template'!D350)=\"M\",TRIM('MARK Enrollment Template'!D350)=\"F\",TRIM('MARK Enrollment Template'!D350)=\"Male\",TRIM('MARK Enrollment Template'!D350)=\"Female\"),\"\",\"Sex must be M/F/Male/Female.\")))","v":""},null,null,{"$f":"IF('MARK Enrollment Template'!A350=\"\",\"\",IF(AND('MARK Enrollment Template'!A350<>\"\",'MARK Enrollment Template'!G350=\"\"),\"Please fill in Email Address.\",IF(IFERROR(FIND(\"@\",'MARK Enrollment Template'!G350),\"X\")=\"X\",\"Email Address must include an @ symbol.\",\"\")))","v":""},null,null,null,{"$f":"IF('MARK Enrollment Template'!A350=\"\",\"\",IF(AND('MARK Enrollment Template'!A350<>\"\",'MARK Enrollment Template'!K350=\"\"),\"Please fill in Zip Code.\",IF(LEN(SUBSTITUTE(TRIM('MARK Enrollment Template'!K350),CHAR(9),\"\"))<5,\"Zip <5 digits. If leading zero, add apostrophe (ex. '01234).\",\"\")))","v":""},null,null,{"$f":"CELL(\"format\",'MARK Enrollment Template'!C350)","v":"G"}]
["",{"$f":"IF(AND(SUMPRODUCT(--('MARK Enrollment Template'!A351:L351<>\"\"))<>0,'MARK Enrollment Template'!A351=\"\"),\"Please fill in First Name.\",IF(LEN('MARK Enrollment Template'!A351)=1,\"Please fill in full first name.\",\"\"))","v":""},{"$f":"IF('MARK Enrollment Template'!A351=\"\",\"\",IF(AND('MARK Enrollment Template'!A351<>\"\",'MARK Enrollment Template'!B351=\"\"),\"Please fill in a Last Name.\",\"\"))","v":""},{"$f":"IF('MARK Enrollment Template'!A351=\"\",\"\",IF(AND('MARK Enrollment Template'!A351<>\"\",'MARK Enrollment Template'!C351=\"\"),\"Please fill in Date of Birth.\",IF(TRIM(O346)<>\"D4\",\"Please format DOB as a date in the form MM/DD/YYYY.\",IF('MARK Enrollment Template'!C351>TODAY(),\"Please check DOB.\",\"\"))))","v":""},{"$f":"IF('MARK Enrollment Template'!A351=\"\",\"\",IF(AND('MARK Enrollment Template'!A351<>\"\",'MARK Enrollment Template'!D351=\"\"),\"Please fill in Sex.\",IF(OR(TRIM('MARK Enrollment Template'!D351)=\"M\",TRIM('MARK Enrollment Template'!D351)=\"F\",TRIM('MARK Enrollment Template'!D351)=\"Male\",TRIM('MARK Enrollment Template'!D351)=\"Female\"),\"\",\"Sex must be M/F/Male/Female.\")))","v":""},null,null,{"$f":"IF('MARK Enrollment Template'!A351=\"\",\"\",IF(AND('MARK Enrollment Template'!A351<>\"\",'MARK Enrollment Template'!G351=\"\"),\"Please fill in Email Address.\",IF(IFERROR(FIND(\"@\",'MARK Enrollment Template'!G351),\"X\")=\"X\",\"Email Address must include an @ symbol.\",\"\")))","v":""},null,null,null,{"$f":"IF('MARK Enrollment Template'!A351=\"\",\"\",IF(AND('MARK Enrollment Template'!A351<>\"\",'MARK Enrollment Template'!K351=\"\"),\"Please fill in Zip Code.\",IF(LEN(SUBSTITUTE(TRIM('MARK Enrollment Template'!K351),CHAR(9),\"\"))<5,\"Zip <5 digits. If leading zero, add apostrophe (ex. '01234).\",\"\")))","v":""},null,null,{"$f":"CELL(\"format\",'MARK Enrollment Template'!C351)","v":"G"}]
["",{"$f":"IF(AND(SUMPRODUCT(--('MARK Enrollment Template'!A352:L352<>\"\"))<>0,'MARK Enrollment Template'!A352=\"\"),\"Please fill in First Name.\",IF(LEN('MARK Enrollment Template'!A352)=1,\"Please fill in full first name.\",\"\"))","v":""},{"$f":"IF('MARK Enrollment Template'!A352=\"\",\"\",IF(AND('MARK Enrollment Template'!A352<>\"\",'MARK Enrollment Template'!B352=\"\"),\"Please fill in a Last Name.\",\"\"))","v":""},{"$f":"IF('MARK Enrollment Template'!A352=\"\",\"\",IF(AND('MARK Enrollment Template'!A352<>\"\",'MARK Enrollment Template'!C352=\"\"),\"Please fill in Date of Birth.\",IF(TRIM(O347)<>\"D4\",\"Please format DOB as a date in the form MM/DD/YYYY.\",IF('MARK Enrollment Template'!C352>TODAY(),\"Please check DOB.\",\"\"))))","v":""},{"$f":"IF('MARK Enrollment Template'!A352=\"\",\"\",IF(AND('MARK Enrollment Template'!A352<>\"\",'MARK Enrollment Template'!D352=\"\"),\"Please fill in Sex.\",IF(OR(TRIM('MARK Enrollment Template'!D352)=\"M\",TRIM('MARK Enrollment Template'!D352)=\"F\",TRIM('MARK Enrollment Template'!D352)=\"Male\",TRIM('MARK Enrollment Template'!D352)=\"Female\"),\"\",\"Sex must be M/F/Male/Female.\")))","v":""},null,null,{"$f":"IF('MARK Enrollment Template'!A352=\"\",\"\",IF(AND('MARK Enrollment Template'!A352<>\"\",'MARK Enrollment Template'!G352=\"\"),\"Please fill in Email Address.\",IF(IFERROR(FIND(\"@\",'MARK Enrollment Template'!G352),\"X\")=\"X\",\"Email Address must include an @ symbol.\",\"\")))","v":""},null,null,null,{"$f":"IF('MARK Enrollment Template'!A352=\"\",\"\",IF(AND('MARK Enrollment Template'!A352<>\"\",'MARK Enrollment Template'!K352=\"\"),\"Please fill in Zip Code.\",IF(LEN(SUBSTITUTE(TRIM('MARK Enrollment Template'!K352),CHAR(9),\"\"))<5,\"Zip <5 digits. If leading zero, add apostrophe (ex. '01234).\",\"\")))","v":""},null,null,{"$f":"CELL(\"format\",'MARK Enrollment Template'!C352)","v":"G"}]
["",{"$f":"IF(AND(SUMPRODUCT(--('MARK Enrollment Template'!A353:L353<>\"\"))<>0,'MARK Enrollment Template'!A353=\"\"),\"Please fill in First Name.\",IF(LEN('MARK Enrollment Template'!A353)=1,\"Please fill in full first name.\",\"\"))","v":""},{"$f":"IF('MARK Enrollment Template'!A353=\"\",\"\",IF(AND('MARK Enrollment Template'!A353<>\"\",'MARK Enrollment Template'!B353=\"\"),\"Please fill in a Last Name.\",\"\"))","v":""},{"$f":"IF('MARK Enrollment Template'!A353=\"\",\"\",IF(AND('MARK Enrollment Template'!A353<>\"\",'MARK Enrollment Template'!C353=\"\"),\"Please fill in Date of Birth.\",IF(TRIM(O348)<>\"D4\",\"Please format DOB as a date in the form MM/DD/YYYY.\",IF('MARK Enrollment Template'!C353>TODAY(),\"Please check DOB.\",\"\"))))","v":""},{"$f":"IF('MARK Enrollment Template'!A353=\"\",\"\",IF(AND('MARK Enrollment Template'!A353<>\"\",'MARK Enrollment Template'!D353=\"\"),\"Please fill in Sex.\",IF(OR(TRIM('MARK Enrollment Template'!D353)=\"M\",TRIM('MARK Enrollment Template'!D353)=\"F\",TRIM('MARK Enrollment Template'!D353)=\"Male\",TRIM('MARK Enrollment Template'!D353)=\"Female\"),\"\",\"Sex must be M/F/Male/Female.\")))","v":""},null,null,{"$f":"IF('MARK Enrollment Template'!A353=\"\",\"\",IF(AND('MARK Enrollment Template'!A353<>\"\",'MARK Enrollment Template'!G353=\"\"),\"Please fill in Email Address.\",IF(IFERROR(FIND(\"@\",'MARK Enrollment Template'!G353),\"X\")=\"X\",\"Email Address must include an @ symbol.\",\"\")))","v":""},null,null,null,{"$f":"IF('MARK Enrollment Template'!A353=\"\",\"\",IF(AND('MARK Enrollment Template'!A353<>\"\",'MARK Enrollment Template'!K353=\"\"),\"Please fill in Zip Code.\",IF(LEN(SUBSTITUTE(TRIM('MARK Enrollment Template'!K353),CHAR(9),\"\"))<5,\"Zip <5 digits. If leading zero, add apostrophe (ex. '01234).\",\"\")))","v":""},null,null,{"$f":"CELL(\"format\",'MARK Enrollment Template'!C353)","v":"G"}]
["",{"$f":"IF(AND(SUMPRODUCT(--('MARK Enrollment Template'!A354:L354<>\"\"))<>0,'MARK Enrollment Template'!A354=\"\"),\"Please fill in First Name.\",IF(LEN('MARK Enrollment Template'!A354)=1,\"Please fill in full first name.\",\"\"))","v":""},{"$f":"IF('MARK Enrollment Template'!A354=\"\",\"\",IF(AND('MARK Enrollment Template'!A354<>\"\",'MARK Enrollment Template'!B354=\"\"),\"Please fill in a Last Name.\",\"\"))","v":""},{"$f":"IF('MARK Enrollment Template'!A354=\"\",\"\",IF(AND('MARK Enrollment Template'!A354<>\"\",'MARK Enrollment Template'!C354=\"\"),\"Please fill in Date of Birth.\",IF(TRIM(O349)<>\"D4\",\"Please format DOB as a date in the form MM/DD/YYYY.\",IF('MARK Enrollment Template'!C354>TODAY(),\"Please check DOB.\",\"\"))))","v":""},{"$f":"IF('MARK Enrollment Template'!A354=\"\",\"\",IF(AND('MARK Enrollment Template'!A354<>\"\",'MARK Enrollment Template'!D354=\"\"),\"Please fill in Sex.\",IF(OR(TRIM('MARK Enrollment Template'!D354)=\"M\",TRIM('MARK Enrollment Template'!D354)=\"F\",TRIM('MARK Enrollment Template'!D354)=\"Male\",TRIM('MARK Enrollment Template'!D354)=\"Female\"),\"\",\"Sex must be M/F/Male/Female.\")))","v":""},null,null,{"$f":"IF('MARK Enrollment Template'!A354=\"\",\"\",IF(AND('MARK Enrollment Template'!A354<>\"\",'MARK Enrollment Template'!G354=\"\"),\"Please fill in Email Address.\",IF(IFERROR(FIND(\"@\",'MARK Enrollment Template'!G354),\"X\")=\"X\",\"Email Address must include an @ symbol.\",\"\")))","v":""},null,null,null,{"$f":"IF('MARK Enrollment Template'!A354=\"\",\"\",IF(AND('MARK Enrollment Template'!A354<>\"\",'MARK Enrollment Template'!K354=\"\"),\"Please fill in Zip Code.\",IF(LEN(SUBSTITUTE(TRIM('MARK Enrollment Template'!K354),CHAR(9),\"\"))<5,\"Zip <5 digits. If leading zero, add apostrophe (ex. '01234).\",\"\")))","v":""},null,null,{"$f":"CELL(\"format\",'MARK Enrollment Template'!C354)","v":"G"}]
["",{"$f":"IF(AND(SUMPRODUCT(--('MARK Enrollment Template'!A355:L355<>\"\"))<>0,'MARK Enrollment Template'!A355=\"\"),\"Please fill in First Name.\",IF(LEN('MARK Enrollment Template'!A355)=1,\"Please fill in full first name.\",\"\"))","v":""},{"$f":"IF('MARK Enrollment Template'!A355=\"\",\"\",IF(AND('MARK Enrollment Template'!A355<>\"\",'MARK Enrollment Template'!B355=\"\"),\"Please fill in a Last Name.\",\"\"))","v":""},{"$f":"IF('MARK Enrollment Template'!A355=\"\",\"\",IF(AND('MARK Enrollment Template'!A355<>\"\",'MARK Enrollment Template'!C355=\"\"),\"Please fill in Date of Birth.\",IF(TRIM(O350)<>\"D4\",\"Please format DOB as a date in the form MM/DD/YYYY.\",IF('MARK Enrollment Template'!C355>TODAY(),\"Please check DOB.\",\"\"))))","v":""},{"$f":"IF('MARK Enrollment Template'!A355=\"\",\"\",IF(AND('MARK Enrollment Template'!A355<>\"\",'MARK Enrollment Template'!D355=\"\"),\"Please fill in Sex.\",IF(OR(TRIM('MARK Enrollment Template'!D355)=\"M\",TRIM('MARK Enrollment Template'!D355)=\"F\",TRIM('MARK Enrollment Template'!D355)=\"Male\",TRIM('MARK Enrollment Template'!D355)=\"Female\"),\"\",\"Sex must be M/F/Male/Female.\")))","v":""},null,null,{"$f":"IF('MARK Enrollment Template'!A355=\"\",\"\",IF(AND('MARK Enrollment Template'!A355<>\"\",'MARK Enrollment Template'!G355=\"\"),\"Please fill in Email Address.\",IF(IFERROR(FIND(\"@\",'MARK Enrollment Template'!G355),\"X\")=\"X\",\"Email Address must include an @ symbol.\",\"\")))","v":""},null,null,null,{"$f":"IF('MARK Enrollment Template'!A355=\"\",\"\",IF(AND('MARK Enrollment Template'!A355<>\"\",'MARK Enrollment Template'!K355=\"\"),\"Please fill in Zip Code.\",IF(LEN(SUBSTITUTE(TRIM('MARK Enrollment Template'!K355),CHAR(9),\"\"))<5,\"Zip <5 digits. If leading zero, add apostrophe (ex. '01234).\",\"\")))","v":""},null,null,{"$f":"CELL(\"format\",'MARK Enrollment Template'!C355)","v":"G"}]
["",{"$f":"IF(AND(SUMPRODUCT(--('MARK Enrollment Template'!A356:L356<>\"\"))<>0,'MARK Enrollment Template'!A356=\"\"),\"Please fill in First Name.\",IF(LEN('MARK Enrollment Template'!A356)=1,\"Please fill in full first name.\",\"\"))","v":""},{"$f":"IF('MARK Enrollment Template'!A356=\"\",\"\",IF(AND('MARK Enrollment Template'!A356<>\"\",'MARK Enrollment Template'!B356=\"\"),\"Please fill in a Last Name.\",\"\"))","v":""},{"$f":"IF('MARK Enrollment Template'!A356=\"\",\"\",IF(AND('MARK Enrollment Template'!A356<>\"\",'MARK Enrollment Template'!C356=\"\"),\"Please fill in Date of Birth.\",IF(TRIM(O351)<>\"D4\",\"Please format DOB as a date in the form MM/DD/YYYY.\",IF('MARK Enrollment Template'!C356>TODAY(),\"Please check DOB.\",\"\"))))","v":""},{"$f":"IF('MARK Enrollment Template'!A356=\"\",\"\",IF(AND('MARK Enrollment Template'!A356<>\"\",'MARK Enrollment Template'!D356=\"\"),\"Please fill in Sex.\",IF(OR(TRIM('MARK Enrollment Template'!D356)=\"M\",TRIM('MARK Enrollment Template'!D356)=\"F\",TRIM('MARK Enrollment Template'!D356)=\"Male\",TRIM('MARK Enrollment Template'!D356)=\"Female\"),\"\",\"Sex must be M/F/Male/Female.\")))","v":""},null,null,{"$f":"IF('MARK Enrollment Template'!A356=\"\",\"\",IF(AND('MARK Enrollment Template'!A356<>\"\",'MARK Enrollment Template'!G356=\"\"),\"Please fill in Email Address.\",IF(IFERROR(FIND(\"@\",'MARK Enrollment Template'!G356),\"X\")=\"X\",\"Email Address must include an @ symbol.\",\"\")))","v":""},null,null,null,{"$f":"IF('MARK Enrollment Template'!A356=\"\",\"\",IF(AND('MARK Enrollment Template'!A356<>\"\",'MARK Enrollment Template'!K356=\"\"),\"Please fill in Zip Code.\",IF(LEN(SUBSTITUTE(TRIM('MARK Enrollment Template'!K356),CHAR(9),\"\"))<5,\"Zip <5 digits. If leading zero, add apostrophe (ex. '01234).\",\"\")))","v":""},null,null,{"$f":"CELL(\"format\",'MARK Enrollment Template'!C356)","v":"G"}]
["",{"$f":"IF(AND(SUMPRODUCT(--('MARK Enrollment Template'!A357:L357<>\"\"))<>0,'MARK Enrollment Template'!A357=\"\"),\"Please fill in First Name.\",IF(LEN('MARK Enrollment Template'!A357)=1,\"Please fill in full first name.\",\"\"))","v":""},{"$f":"IF('MARK Enrollment Template'!A357=\"\",\"\",IF(AND('MARK Enrollment Template'!A357<>\"\",'MARK Enrollment Template'!B357=\"\"),\"Please fill in a Last Name.\",\"\"))","v":""},{"$f":"IF('MARK Enrollment Template'!A357=\"\",\"\",IF(AND('MARK Enrollment Template'!A357<>\"\",'MARK Enrollment Template'!C357=\"\"),\"Please fill in Date of Birth.\",IF(TRIM(O352)<>\"D4\",\"Please format DOB as a date in the form MM/DD/YYYY.\",IF('MARK Enrollment Template'!C357>TODAY(),\"Please check DOB.\",\"\"))))","v":""},{"$f":"IF('MARK Enrollment Template'!A357=\"\",\"\",IF(AND('MARK Enrollment Template'!A357<>\"\",'MARK Enrollment Template'!D357=\"\"),\"Please fill in Sex.\",IF(OR(TRIM('MARK Enrollment Template'!D357)=\"M\",TRIM('MARK Enrollment Template'!D357)=\"F\",TRIM('MARK Enrollment Template'!D357)=\"Male\",TRIM('MARK Enrollment Template'!D357)=\"Female\"),\"\",\"Sex must be M/F/Male/Female.\")))","v":""},null,null,{"$f":"IF('MARK Enrollment Template'!A357=\"\",\"\",IF(AND('MARK Enrollment Template'!A357<>\"\",'MARK Enrollment Template'!G357=\"\"),\"Please fill in Email Address.\",IF(IFERROR(FIND(\"@\",'MARK Enrollment Template'!G357),\"X\")=\"X\",\"Email Address must include an @ symbol.\",\"\")))","v":""},null,null,null,{"$f":"IF('MARK Enrollment Template'!A357=\"\",\"\",IF(AND('MARK Enrollment Template'!A357<>\"\",'MARK Enrollment Template'!K357=\"\"),\"Please fill in Zip Code.\",IF(LEN(SUBSTITUTE(TRIM('MARK Enrollment Template'!K357),CHAR(9),\"\"))<5,\"Zip <5 digits. If leading zero, add apostrophe (ex. '01234).\",\"\")))","v":""},null,null,{"$f":"CELL(\"format\",'MARK Enrollment Template'!C357)","v":"G"}]
["",{"$f":"IF(AND(SUMPRODUCT(--('MARK Enrollment Template'!A358:L358<>\"\"))<>0,'MARK Enrollment Template'!A358=\"\"),\"Please fill in First Name.\",IF(LEN('MARK Enrollment Template'!A358)=1,\"Please fill in full first name.\",\"\"))","v":""},{"$f":"IF('MARK Enrollment Template'!A358=\"\",\"\",IF(AND('MARK Enrollment Template'!A358<>\"\",'MARK Enrollment Template'!B358=\"\"),\"Please fill in a Last Name.\",\"\"))","v":""},{"$f":"IF('MARK Enrollment Template'!A358=\"\",\"\",IF(AND('MARK Enrollment Template'!A358<>\"\",'MARK Enrollment Template'!C358=\"\"),\"Please fill in Date of Birth.\",IF(TRIM(O353)<>\"D4\",\"Please format DOB as a date in the form MM/DD/YYYY.\",IF('MARK Enrollment Template'!C358>TODAY(),\"Please check DOB.\",\"\"))))","v":""},{"$f":"IF('MARK Enrollment Template'!A358=\"\",\"\",IF(AND('MARK Enrollment Template'!A358<>\"\",'MARK Enrollment Template'!D358=\"\"),\"Please fill in Sex.\",IF(OR(TRIM('MARK Enrollment Template'!D358)=\"M\",TRIM('MARK Enrollment Template'!D358)=\"F\",TRIM('MARK Enrollment Template'!D358)=\"Male\",TRIM('MARK Enrollment Template'!D358)=\"Female\"),\"\",\"Sex must be M/F/Male/Female.\")))","v":""},null,null,{"$f":"IF('MARK Enrollment Template'!A358=\"\",\"\",IF(AND('MARK Enrollment Template'!A358<>\"\",'MARK Enrollment Template'!G358=\"\"),\"Please fill in Email Address.\",IF(IFERROR(FIND(\"@\",'MARK Enrollment Template'!G358),\"X\")=\"X\",\"Email Address must include an @ symbol.\",\"\")))","v":""},null,null,null,{"$f":"IF('MARK Enrollment Template'!A358=\"\",\"\",IF(AND('MARK Enrollment Template'!A358<>\"\",'MARK Enrollment Template'!K358=\"\"),\"Please fill in Zip Code.\",IF(LEN(SUBSTITUTE(TRIM('MARK Enrollment Template'!K358),CHAR(9),\"\"))<5,\"Zip <5 digits. If leading zero, add apostrophe (ex. '01234).\",\"\")))","v":""},null,null,{"$f":"CELL(\"format\",'MARK Enrollment Template'!C358)","v":"G"}]
["",{"$f":"IF(AND(SUMPRODUCT(--('MARK Enrollment Template'!A359:L359<>\"\"))<>0,'MARK Enrollment Template'!A359=\"\"),\"Please fill in First Name.\",IF(LEN('MARK Enrollment Template'!A359)=1,\"Please fill in full first name.\",\"\"))","v":""},{"$f":"IF('MARK Enrollment Template'!A359=\"\",\"\",IF(AND('MARK Enrollment Template'!A359<>\"\",'MARK Enrollment Template'!B359=\"\"),\"Please fill in a Last Name.\",\"\"))","v":""},{"$f":"IF('MARK Enrollment Template'!A359=\"\",\"\",IF(AND('MARK Enrollment Template'!A359<>\"\",'MARK Enrollment Template'!C359=\"\"),\"Please fill in Date of Birth.\",IF(TRIM(O354)<>\"D4\",\"Please format DOB as a date in the form MM/DD/YYYY.\",IF('MARK Enrollment Template'!C359>TODAY(),\"Please check DOB.\",\"\"))))","v":""},{"$f":"IF('MARK Enrollment Template'!A359=\"\",\"\",IF(AND('MARK Enrollment Template'!A359<>\"\",'MARK Enrollment Template'!D359=\"\"),\"Please fill in Sex.\",IF(OR(TRIM('MARK Enrollment Template'!D359)=\"M\",TRIM('MARK Enrollment Template'!D359)=\"F\",TRIM('MARK Enrollment Template'!D359)=\"Male\",TRIM('MARK Enrollment Template'!D359)=\"Female\"),\"\",\"Sex must be M/F/Male/Female.\")))","v":""},null,null,{"$f":"IF('MARK Enrollment Template'!A359=\"\",\"\",IF(AND('MARK Enrollment Template'!A359<>\"\",'MARK Enrollment Template'!G359=\"\"),\"Please fill in Email Address.\",IF(IFERROR(FIND(\"@\",'MARK Enrollment Template'!G359),\"X\")=\"X\",\"Email Address must include an @ symbol.\",\"\")))","v":""},null,null,null,{"$f":"IF('MARK Enrollment Template'!A359=\"\",\"\",IF(AND('MARK Enrollment Template'!A359<>\"\",'MARK Enrollment Template'!K359=\"\"),\"Please fill in Zip Code.\",IF(LEN(SUBSTITUTE(TRIM('MARK Enrollment Template'!K359),CHAR(9),\"\"))<5,\"Zip <5 digits. If leading zero, add apostrophe (ex. '01234).\",\"\")))","v":""},null,null,{"$f":"CELL(\"format\",'MARK Enrollment Template'!C359)","v":"G"}]
["",{"$f":"IF(AND(SUMPRODUCT(--('MARK Enrollment Template'!A360:L360<>\"\"))<>0,'MARK Enrollment Template'!A360=\"\"),\"Please fill in First Name.\",IF(LEN('MARK Enrollment Template'!A360)=1,\"Please fill in full first name.\",\"\"))","v":""},{"$f":"IF('MARK Enrollment Template'!A360=\"\",\"\",IF(AND('MARK Enrollment Template'!A360<>\"\",'MARK Enrollment Template'!B360=\"\"),\"Please fill in a Last Name.\",\"\"))","v":""},{"$f":"IF('MARK Enrollment Template'!A360=\"\",\"\",IF(AND('MARK Enrollment Template'!A360<>\"\",'MARK Enrollment Template'!C360=\"\"),\"Please fill in Date of Birth.\",IF(TRIM(O355)<>\"D4\",\"Please format DOB as a date in the form MM/DD/YYYY.\",IF('MARK Enrollment Template'!C360>TODAY(),\"Please check DOB.\",\"\"))))","v":""},{"$f":"IF('MARK Enrollment Template'!A360=\"\",\"\",IF(AND('MARK Enrollment Template'!A360<>\"\",'MARK Enrollment Template'!D360=\"\"),\"Please fill in Sex.\",IF(OR(TRIM('MARK Enrollment Template'!D360)=\"M\",TRIM('MARK Enrollment Template'!D360)=\"F\",TRIM('MARK Enrollment Template'!D360)=\"Male\",TRIM('MARK Enrollment Template'!D360)=\"Female\"),\"\",\"Sex must be M/F/Male/Female.\")))","v":""},null,null,{"$f":"IF('MARK Enrollment Template'!A360=\"\",\"\",IF(AND('MARK Enrollment Template'!A360<>\"\",'MARK Enrollment Template'!G360=\"\"),\"Please fill in Email Address.\",IF(IFERROR(FIND(\"@\",'MARK Enrollment Template'!G360),\"X\")=\"X\",\"Email Address must include an @ symbol.\",\"\")))","v":""},null,null,null,{"$f":"IF('MARK Enrollment Template'!A360=\"\",\"\",IF(AND('MARK Enrollment Template'!A360<>\"\",'MARK Enrollment Template'!K360=\"\"),\"Please fill in Zip Code.\",IF(LEN(SUBSTITUTE(TRIM('MARK Enrollment Template'!K360),CHAR(9),\"\"))<5,\"Zip <5 digits. If leading zero, add apostrophe (ex. '01234).\",\"\")))","v":""},null,null,{"$f":"CELL(\"format\",'MARK Enrollment Template'!C360)","v":"G"}]
["",{"$f":"IF(AND(SUMPRODUCT(--('MARK Enrollment Template'!A361:L361<>\"\"))<>0,'MARK Enrollment Template'!A361=\"\"),\"Please fill in First Name.\",IF(LEN('MARK Enrollment Template'!A361)=1,\"Please fill in full first name.\",\"\"))","v":""},{"$f":"IF('MARK Enrollment Template'!A361=\"\",\"\",IF(AND('MARK Enrollment Template'!A361<>\"\",'MARK Enrollment Template'!B361=\"\"),\"Please fill in a Last Name.\",\"\"))","v":""},{"$f":"IF('MARK Enrollment Template'!A361=\"\",\"\",IF(AND('MARK Enrollment Template'!A361<>\"\",'MARK Enrollment Template'!C361=\"\"),\"Please fill in Date of Birth.\",IF(TRIM(O356)<>\"D4\",\"Please format DOB as a date in the form MM/DD/YYYY.\",IF('MARK Enrollment Template'!C361>TODAY(),\"Please check DOB.\",\"\"))))","v":""},{"$f":"IF('MARK Enrollment Template'!A361=\"\",\"\",IF(AND('MARK Enrollment Template'!A361<>\"\",'MARK Enrollment Template'!D361=\"\"),\"Please fill in Sex.\",IF(OR(TRIM('MARK Enrollment Template'!D361)=\"M\",TRIM('MARK Enrollment Template'!D361)=\"F\",TRIM('MARK Enrollment Template'!D361)=\"Male\",TRIM('MARK Enrollment Template'!D361)=\"Female\"),\"\",\"Sex must be M/F/Male/Female.\")))","v":""},null,null,{"$f":"IF('MARK Enrollment Template'!A361=\"\",\"\",IF(AND('MARK Enrollment Template'!A361<>\"\",'MARK Enrollment Template'!G361=\"\"),\"Please fill in Email Address.\",IF(IFERROR(FIND(\"@\",'MARK Enrollment Template'!G361),\"X\")=\"X\",\"Email Address must include an @ symbol.\",\"\")))","v":""},null,null,null,{"$f":"IF('MARK Enrollment Template'!A361=\"\",\"\",IF(AND('MARK Enrollment Template'!A361<>\"\",'MARK Enrollment Template'!K361=\"\"),\"Please fill in Zip Code.\",IF(LEN(SUBSTITUTE(TRIM('MARK Enrollment Template'!K361),CHAR(9),\"\"))<5,\"Zip <5 digits. If leading zero, add apostrophe (ex. '01234).\",\"\")))","v":""},null,null,{"$f":"CELL(\"format\",'MARK Enrollment Template'!C361)","v":"G"}]
["",{"$f":"IF(AND(SUMPRODUCT(--('MARK Enrollment Template'!A362:L362<>\"\"))<>0,'MARK Enrollment Template'!A362=\"\"),\"Please fill in First Name.\",IF(LEN('MARK Enrollment Template'!A362)=1,\"Please fill in full first name.\",\"\"))","v":""},{"$f":"IF('MARK Enrollment Template'!A362=\"\",\"\",IF(AND('MARK Enrollment Template'!A362<>\"\",'MARK Enrollment Template'!B362=\"\"),\"Please fill in a Last Name.\",\"\"))","v":""},{"$f":"IF('MARK Enrollment Template'!A362=\"\",\"\",IF(AND('MARK Enrollment Template'!A362<>\"\",'MARK Enrollment Template'!C362=\"\"),\"Please fill in Date of Birth.\",IF(TRIM(O357)<>\"D4\",\"Please format DOB as a date in the form MM/DD/YYYY.\",IF('MARK Enrollment Template'!C362>TODAY(),\"Please check DOB.\",\"\"))))","v":""},{"$f":"IF('MARK Enrollment Template'!A362=\"\",\"\",IF(AND('MARK Enrollment Template'!A362<>\"\",'MARK Enrollment Template'!D362=\"\"),\"Please fill in Sex.\",IF(OR(TRIM('MARK Enrollment Template'!D362)=\"M\",TRIM('MARK Enrollment Template'!D362)=\"F\",TRIM('MARK Enrollment Template'!D362)=\"Male\",TRIM('MARK Enrollment Template'!D362)=\"Female\"),\"\",\"Sex must be M/F/Male/Female.\")))","v":""},null,null,{"$f":"IF('MARK Enrollment Template'!A362=\"\",\"\",IF(AND('MARK Enrollment Template'!A362<>\"\",'MARK Enrollment Template'!G362=\"\"),\"Please fill in Email Address.\",IF(IFERROR(FIND(\"@\",'MARK Enrollment Template'!G362),\"X\")=\"X\",\"Email Address must include an @ symbol.\",\"\")))","v":""},null,null,null,{"$f":"IF('MARK Enrollment Template'!A362=\"\",\"\",IF(AND('MARK Enrollment Template'!A362<>\"\",'MARK Enrollment Template'!K362=\"\"),\"Please fill in Zip Code.\",IF(LEN(SUBSTITUTE(TRIM('MARK Enrollment Template'!K362),CHAR(9),\"\"))<5,\"Zip <5 digits. If leading zero, add apostrophe (ex. '01234).\",\"\")))","v":""},null,null,{"$f":"CELL(\"format\",'MARK Enrollment Template'!C362)","v":"G"}]
["",{"$f":"IF(AND(SUMPRODUCT(--('MARK Enrollment Template'!A363:L363<>\"\"))<>0,'MARK Enrollment Template'!A363=\"\"),\"Please fill in First Name.\",IF(LEN('MARK Enrollment Template'!A363)=1,\"Please fill in full first name.\",\"\"))","v":""},{"$f":"IF('MARK Enrollment Template'!A363=\"\",\"\",IF(AND('MARK Enrollment Template'!A363<>\"\",'MARK Enrollment Template'!B363=\"\"),\"Please fill in a Last Name.\",\"\"))","v":""},{"$f":"IF('MARK Enrollment Template'!A363=\"\",\"\",IF(AND('MARK Enrollment Template'!A363<>\"\",'MARK Enrollment Template'!C363=\"\"),\"Please fill in Date of Birth.\",IF(TRIM(O358)<>\"D4\",\"Please format DOB as a date in the form MM/DD/YYYY.\",IF('MARK Enrollment Template'!C363>TODAY(),\"Please check DOB.\",\"\"))))","v":""},{"$f":"IF('MARK Enrollment Template'!A363=\"\",\"\",IF(AND('MARK Enrollment Template'!A363<>\"\",'MARK Enrollment Template'!D363=\"\"),\"Please fill in Sex.\",IF(OR(TRIM('MARK Enrollment Template'!D363)=\"M\",TRIM('MARK Enrollment Template'!D363)=\"F\",TRIM('MARK Enrollment Template'!D363)=\"Male\",TRIM('MARK Enrollment Template'!D363)=\"Female\"),\"\",\"Sex must be M/F/Male/Female.\")))","v":""},null,null,{"$f":"IF('MARK Enrollment Template'!A363=\"\",\"\",IF(AND('MARK Enrollment Template'!A363<>\"\",'MARK Enrollment Template'!G363=\"\"),\"Please fill in Email Address.\",IF(IFERROR(FIND(\"@\",'MARK Enrollment Template'!G363),\"X\")=\"X\",\"Email Address must include an @ symbol.\",\"\")))","v":""},null,null,null,{"$f":"IF('MARK Enrollment Template'!A363=\"\",\"\",IF(AND('MARK Enrollment Template'!A363<>\"\",'MARK Enrollment Template'!K363=\"\"),\"Please fill in Zip Code.\",IF(LEN(SUBSTITUTE(TRIM('MARK Enrollment Template'!K363),CHAR(9),\"\"))<5,\"Zip <5 digits. If leading zero, add apostrophe (ex. '01234).\",\"\")))","v":""},null,null,{"$f":"CELL(\"format\",'MARK Enrollment Template'!C363)","v":"G"}]
["",{"$f":"IF(AND(SUMPRODUCT(--('MARK Enrollment Template'!A364:L364<>\"\"))<>0,'MARK Enrollment Template'!A364=\"\"),\"Please fill in First Name.\",IF(LEN('MARK Enrollment Template'!A364)=1,\"Please fill in full first name.\",\"\"))","v":""},{"$f":"IF('MARK Enrollment Template'!A364=\"\",\"\",IF(AND('MARK Enrollment Template'!A364<>\"\",'MARK Enrollment Template'!B364=\"\"),\"Please fill in a Last Name.\",\"\"))","v":""},{"$f":"IF('MARK Enrollment Template'!A364=\"\",\"\",IF(AND('MARK Enrollment Template'!A364<>\"\",'MARK Enrollment Template'!C364=\"\"),\"Please fill in Date of Birth.\",IF(TRIM(O359)<>\"D4\",\"Please format DOB as a date in the form MM/DD/YYYY.\",IF('MARK Enrollment Template'!C364>TODAY(),\"Please check DOB.\",\"\"))))","v":""},{"$f":"IF('MARK Enrollment Template'!A364=\"\",\"\",IF(AND('MARK Enrollment Template'!A364<>\"\",'MARK Enrollment Template'!D364=\"\"),\"Please fill in Sex.\",IF(OR(TRIM('MARK Enrollment Template'!D364)=\"M\",TRIM('MARK Enrollment Template'!D364)=\"F\",TRIM('MARK Enrollment Template'!D364)=\"Male\",TRIM('MARK Enrollment Template'!D364)=\"Female\"),\"\",\"Sex must be M/F/Male/Female.\")))","v":""},null,null,{"$f":"IF('MARK Enrollment Template'!A364=\"\",\"\",IF(AND('MARK Enrollment Template'!A364<>\"\",'MARK Enrollment Template'!G364=\"\"),\"Please fill in Email Address.\",IF(IFERROR(FIND(\"@\",'MARK Enrollment Template'!G364),\"X\")=\"X\",\"Email Address must include an @ symbol.\",\"\")))","v":""},null,null,null,{"$f":"IF('MARK Enrollment Template'!A364=\"\",\"\",IF(AND('MARK Enrollment Template'!A364<>\"\",'MARK Enrollment Template'!K364=\"\"),\"Please fill in Zip Code.\",IF(LEN(SUBSTITUTE(TRIM('MARK Enrollment Template'!K364),CHAR(9),\"\"))<5,\"Zip <5 digits. If leading zero, add apostrophe (ex. '01234).\",\"\")))","v":""},null,null,{"$f":"CELL(\"format\",'MARK Enrollment Template'!C364)","v":"G"}]
["",{"$f":"IF(AND(SUMPRODUCT(--('MARK Enrollment Template'!A365:L365<>\"\"))<>0,'MARK Enrollment Template'!A365=\"\"),\"Please fill in First Name.\",IF(LEN('MARK Enrollment Template'!A365)=1,\"Please fill in full first name.\",\"\"))","v":""},{"$f":"IF('MARK Enrollment Template'!A365=\"\",\"\",IF(AND('MARK Enrollment Template'!A365<>\"\",'MARK Enrollment Template'!B365=\"\"),\"Please fill in a Last Name.\",\"\"))","v":""},{"$f":"IF('MARK Enrollment Template'!A365=\"\",\"\",IF(AND('MARK Enrollment Template'!A365<>\"\",'MARK Enrollment Template'!C365=\"\"),\"Please fill in Date of Birth.\",IF(TRIM(O360)<>\"D4\",\"Please format DOB as a date in the form MM/DD/YYYY.\",IF('MARK Enrollment Template'!C365>TODAY(),\"Please check DOB.\",\"\"))))","v":""},{"$f":"IF('MARK Enrollment Template'!A365=\"\",\"\",IF(AND('MARK Enrollment Template'!A365<>\"\",'MARK Enrollment Template'!D365=\"\"),\"Please fill in Sex.\",IF(OR(TRIM('MARK Enrollment Template'!D365)=\"M\",TRIM('MARK Enrollment Template'!D365)=\"F\",TRIM('MARK Enrollment Template'!D365)=\"Male\",TRIM('MARK Enrollment Template'!D365)=\"Female\"),\"\",\"Sex must be M/F/Male/Female.\")))","v":""},null,null,{"$f":"IF('MARK Enrollment Template'!A365=\"\",\"\",IF(AND('MARK Enrollment Template'!A365<>\"\",'MARK Enrollment Template'!G365=\"\"),\"Please fill in Email Address.\",IF(IFERROR(FIND(\"@\",'MARK Enrollment Template'!G365),\"X\")=\"X\",\"Email Address must include an @ symbol.\",\"\")))","v":""},null,null,null,{"$f":"IF('MARK Enrollment Template'!A365=\"\",\"\",IF(AND('MARK Enrollment Template'!A365<>\"\",'MARK Enrollment Template'!K365=\"\"),\"Please fill in Zip Code.\",IF(LEN(SUBSTITUTE(TRIM('MARK Enrollment Template'!K365),CHAR(9),\"\"))<5,\"Zip <5 digits. If leading zero, add apostrophe (ex. '01234).\",\"\")))","v":""},null,null,{"$f":"CELL(\"format\",'MARK Enrollment Template'!C365)","v":"G"}]
["",{"$f":"IF(AND(SUMPRODUCT(--('MARK Enrollment Template'!A366:L366<>\"\"))<>0,'MARK Enrollment Template'!A366=\"\"),\"Please fill in First Name.\",IF(LEN('MARK Enrollment Template'!A366)=1,\"Please fill in full first name.\",\"\"))","v":""},{"$f":"IF('MARK Enrollment Template'!A366=\"\",\"\",IF(AND('MARK Enrollment Template'!A366<>\"\",'MARK Enrollment Template'!B366=\"\"),\"Please fill in a Last Name.\",\"\"))","v":""},{"$f":"IF('MARK Enrollment Template'!A366=\"\",\"\",IF(AND('MARK Enrollment Template'!A366<>\"\",'MARK Enrollment Template'!C366=\"\"),\"Please fill in Date of Birth.\",IF(TRIM(O361)<>\"D4\",\"Please format DOB as a date in the form MM/DD/YYYY.\",IF('MARK Enrollment Template'!C366>TODAY(),\"Please check DOB.\",\"\"))))","v":""},{"$f":"IF('MARK Enrollment Template'!A366=\"\",\"\",IF(AND('MARK Enrollment Template'!A366<>\"\",'MARK Enrollment Template'!D366=\"\"),\"Please fill in Sex.\",IF(OR(TRIM('MARK Enrollment Template'!D366)=\"M\",TRIM('MARK Enrollment Template'!D366)=\"F\",TRIM('MARK Enrollment Template'!D366)=\"Male\",TRIM('MARK Enrollment Template'!D366)=\"Female\"),\"\",\"Sex must be M/F/Male/Female.\")))","v":""},null,null,{"$f":"IF('MARK Enrollment Template'!A366=\"\",\"\",IF(AND('MARK Enrollment Template'!A366<>\"\",'MARK Enrollment Template'!G366=\"\"),\"Please fill in Email Address.\",IF(IFERROR(FIND(\"@\",'MARK Enrollment Template'!G366),\"X\")=\"X\",\"Email Address must include an @ symbol.\",\"\")))","v":""},null,null,null,{"$f":"IF('MARK Enrollment Template'!A366=\"\",\"\",IF(AND('MARK Enrollment Template'!A366<>\"\",'MARK Enrollment Template'!K366=\"\"),\"Please fill in Zip Code.\",IF(LEN(SUBSTITUTE(TRIM('MARK Enrollment Template'!K366),CHAR(9),\"\"))<5,\"Zip <5 digits. If leading zero, add apostrophe (ex. '01234).\",\"\")))","v":""},null,null,{"$f":"CELL(\"format\",'MARK Enrollment Template'!C366)","v":"G"}]
["",{"$f":"IF(AND(SUMPRODUCT(--('MARK Enrollment Template'!A367:L367<>\"\"))<>0,'MARK Enrollment Template'!A367=\"\"),\"Please fill in First Name.\",IF(LEN('MARK Enrollment Template'!A367)=1,\"Please fill in full first name.\",\"\"))","v":""},{"$f":"IF('MARK Enrollment Template'!A367=\"\",\"\",IF(AND('MARK Enrollment Template'!A367<>\"\",'MARK Enrollment Template'!B367=\"\"),\"Please fill in a Last Name.\",\"\"))","v":""},{"$f":"IF('MARK Enrollment Template'!A367=\"\",\"\",IF(AND('MARK Enrollment Template'!A367<>\"\",'MARK Enrollment Template'!C367=\"\"),\"Please fill in Date of Birth.\",IF(TRIM(O362)<>\"D4\",\"Please format DOB as a date in the form MM/DD/YYYY.\",IF('MARK Enrollment Template'!C367>TODAY(),\"Please check DOB.\",\"\"))))","v":""},{"$f":"IF('MARK Enrollment Template'!A367=\"\",\"\",IF(AND('MARK Enrollment Template'!A367<>\"\",'MARK Enrollment Template'!D367=\"\"),\"Please fill in Sex.\",IF(OR(TRIM('MARK Enrollment Template'!D367)=\"M\",TRIM('MARK Enrollment Template'!D367)=\"F\",TRIM('MARK Enrollment Template'!D367)=\"Male\",TRIM('MARK Enrollment Template'!D367)=\"Female\"),\"\",\"Sex must be M/F/Male/Female.\")))","v":""},null,null,{"$f":"IF('MARK Enrollment Template'!A367=\"\",\"\",IF(AND('MARK Enrollment Template'!A367<>\"\",'MARK Enrollment Template'!G367=\"\"),\"Please fill in Email Address.\",IF(IFERROR(FIND(\"@\",'MARK Enrollment Template'!G367),\"X\")=\"X\",\"Email Address must include an @ symbol.\",\"\")))","v":""},null,null,null,{"$f":"IF('MARK Enrollment Template'!A367=\"\",\"\",IF(AND('MARK Enrollment Template'!A367<>\"\",'MARK Enrollment Template'!K367=\"\"),\"Please fill in Zip Code.\",IF(LEN(SUBSTITUTE(TRIM('MARK Enrollment Template'!K367),CHAR(9),\"\"))<5,\"Zip <5 digits. If leading zero, add apostrophe (ex. '01234).\",\"\")))","v":""},null,null,{"$f":"CELL(\"format\",'MARK Enrollment Template'!C367)","v":"G"}]
["",{"$f":"IF(AND(SUMPRODUCT(--('MARK Enrollment Template'!A368:L368<>\"\"))<>0,'MARK Enrollment Template'!A368=\"\"),\"Please fill in First Name.\",IF(LEN('MARK Enrollment Template'!A368)=1,\"Please fill in full first name.\",\"\"))","v":""},{"$f":"IF('MARK Enrollment Template'!A368=\"\",\"\",IF(AND('MARK Enrollment Template'!A368<>\"\",'MARK Enrollment Template'!B368=\"\"),\"Please fill in a Last Name.\",\"\"))","v":""},{"$f":"IF('MARK Enrollment Template'!A368=\"\",\"\",IF(AND('MARK Enrollment Template'!A368<>\"\",'MARK Enrollment Template'!C368=\"\"),\"Please fill in Date of Birth.\",IF(TRIM(O363)<>\"D4\",\"Please format DOB as a date in the form MM/DD/YYYY.\",IF('MARK Enrollment Template'!C368>TODAY(),\"Please check DOB.\",\"\"))))","v":""},{"$f":"IF('MARK Enrollment Template'!A368=\"\",\"\",IF(AND('MARK Enrollment Template'!A368<>\"\",'MARK Enrollment Template'!D368=\"\"),\"Please fill in Sex.\",IF(OR(TRIM('MARK Enrollment Template'!D368)=\"M\",TRIM('MARK Enrollment Template'!D368)=\"F\",TRIM('MARK Enrollment Template'!D368)=\"Male\",TRIM('MARK Enrollment Template'!D368)=\"Female\"),\"\",\"Sex must be M/F/Male/Female.\")))","v":""},null,null,{"$f":"IF('MARK Enrollment Template'!A368=\"\",\"\",IF(AND('MARK Enrollment Template'!A368<>\"\",'MARK Enrollment Template'!G368=\"\"),\"Please fill in Email Address.\",IF(IFERROR(FIND(\"@\",'MARK Enrollment Template'!G368),\"X\")=\"X\",\"Email Address must include an @ symbol.\",\"\")))","v":""},null,null,null,{"$f":"IF('MARK Enrollment Template'!A368=\"\",\"\",IF(AND('MARK Enrollment Template'!A368<>\"\",'MARK Enrollment Template'!K368=\"\"),\"Please fill in Zip Code.\",IF(LEN(SUBSTITUTE(TRIM('MARK Enrollment Template'!K368),CHAR(9),\"\"))<5,\"Zip <5 digits. If leading zero, add apostrophe (ex. '01234).\",\"\")))","v":""},null,null,{"$f":"CELL(\"format\",'MARK Enrollment Template'!C368)","v":"G"}]
["",{"$f":"IF(AND(SUMPRODUCT(--('MARK Enrollment Template'!A369:L369<>\"\"))<>0,'MARK Enrollment Template'!A369=\"\"),\"Please fill in First Name.\",IF(LEN('MARK Enrollment Template'!A369)=1,\"Please fill in full first name.\",\"\"))","v":""},{"$f":"IF('MARK Enrollment Template'!A369=\"\",\"\",IF(AND('MARK Enrollment Template'!A369<>\"\",'MARK Enrollment Template'!B369=\"\"),\"Please fill in a Last Name.\",\"\"))","v":""},{"$f":"IF('MARK Enrollment Template'!A369=\"\",\"\",IF(AND('MARK Enrollment Template'!A369<>\"\",'MARK Enrollment Template'!C369=\"\"),\"Please fill in Date of Birth.\",IF(TRIM(O364)<>\"D4\",\"Please format DOB as a date in the form MM/DD/YYYY.\",IF('MARK Enrollment Template'!C369>TODAY(),\"Please check DOB.\",\"\"))))","v":""},{"$f":"IF('MARK Enrollment Template'!A369=\"\",\"\",IF(AND('MARK Enrollment Template'!A369<>\"\",'MARK Enrollment Template'!D369=\"\"),\"Please fill in Sex.\",IF(OR(TRIM('MARK Enrollment Template'!D369)=\"M\",TRIM('MARK Enrollment Template'!D369)=\"F\",TRIM('MARK Enrollment Template'!D369)=\"Male\",TRIM('MARK Enrollment Template'!D369)=\"Female\"),\"\",\"Sex must be M/F/Male/Female.\")))","v":""},null,null,{"$f":"IF('MARK Enrollment Template'!A369=\"\",\"\",IF(AND('MARK Enrollment Template'!A369<>\"\",'MARK Enrollment Template'!G369=\"\"),\"Please fill in Email Address.\",IF(IFERROR(FIND(\"@\",'MARK Enrollment Template'!G369),\"X\")=\"X\",\"Email Address must include an @ symbol.\",\"\")))","v":""},null,null,null,{"$f":"IF('MARK Enrollment Template'!A369=\"\",\"\",IF(AND('MARK Enrollment Template'!A369<>\"\",'MARK Enrollment Template'!K369=\"\"),\"Please fill in Zip Code.\",IF(LEN(SUBSTITUTE(TRIM('MARK Enrollment Template'!K369),CHAR(9),\"\"))<5,\"Zip <5 digits. If leading zero, add apostrophe (ex. '01234).\",\"\")))","v":""},null,null,{"$f":"CELL(\"format\",'MARK Enrollment Template'!C369)","v":"G"}]
["",{"$f":"IF(AND(SUMPRODUCT(--('MARK Enrollment Template'!A370:L370<>\"\"))<>0,'MARK Enrollment Template'!A370=\"\"),\"Please fill in First Name.\",IF(LEN('MARK Enrollment Template'!A370)=1,\"Please fill in full first name.\",\"\"))","v":""},{"$f":"IF('MARK Enrollment Template'!A370=\"\",\"\",IF(AND('MARK Enrollment Template'!A370<>\"\",'MARK Enrollment Template'!B370=\"\"),\"Please fill in a Last Name.\",\"\"))","v":""},{"$f":"IF('MARK Enrollment Template'!A370=\"\",\"\",IF(AND('MARK Enrollment Template'!A370<>\"\",'MARK Enrollment Template'!C370=\"\"),\"Please fill in Date of Birth.\",IF(TRIM(O365)<>\"D4\",\"Please format DOB as a date in the form MM/DD/YYYY.\",IF('MARK Enrollment Template'!C370>TODAY(),\"Please check DOB.\",\"\"))))","v":""},{"$f":"IF('MARK Enrollment Template'!A370=\"\",\"\",IF(AND('MARK Enrollment Template'!A370<>\"\",'MARK Enrollment Template'!D370=\"\"),\"Please fill in Sex.\",IF(OR(TRIM('MARK Enrollment Template'!D370)=\"M\",TRIM('MARK Enrollment Template'!D370)=\"F\",TRIM('MARK Enrollment Template'!D370)=\"Male\",TRIM('MARK Enrollment Template'!D370)=\"Female\"),\"\",\"Sex must be M/F/Male/Female.\")))","v":""},null,null,{"$f":"IF('MARK Enrollment Template'!A370=\"\",\"\",IF(AND('MARK Enrollment Template'!A370<>\"\",'MARK Enrollment Template'!G370=\"\"),\"Please fill in Email Address.\",IF(IFERROR(FIND(\"@\",'MARK Enrollment Template'!G370),\"X\")=\"X\",\"Email Address must include an @ symbol.\",\"\")))","v":""},null,null,null,{"$f":"IF('MARK Enrollment Template'!A370=\"\",\"\",IF(AND('MARK Enrollment Template'!A370<>\"\",'MARK Enrollment Template'!K370=\"\"),\"Please fill in Zip Code.\",IF(LEN(SUBSTITUTE(TRIM('MARK Enrollment Template'!K370),CHAR(9),\"\"))<5,\"Zip <5 digits. If leading zero, add apostrophe (ex. '01234).\",\"\")))","v":""},null,null,{"$f":"CELL(\"format\",'MARK Enrollment Template'!C370)","v":"G"}]
["",{"$f":"IF(AND(SUMPRODUCT(--('MARK Enrollment Template'!A371:L371<>\"\"))<>0,'MARK Enrollment Template'!A371=\"\"),\"Please fill in First Name.\",IF(LEN('MARK Enrollment Template'!A371)=1,\"Please fill in full first name.\",\"\"))","v":""},{"$f":"IF('MARK Enrollment Template'!A371=\"\",\"\",IF(AND('MARK Enrollment Template'!A371<>\"\",'MARK Enrollment Template'!B371=\"\"),\"Please fill in a Last Name.\",\"\"))","v":""},{"$f":"IF('MARK Enrollment Template'!A371=\"\",\"\",IF(AND('MARK Enrollment Template'!A371<>\"\",'MARK Enrollment Template'!C371=\"\"),\"Please fill in Date of Birth.\",IF(TRIM(O366)<>\"D4\",\"Please format DOB as a date in the form MM/DD/YYYY.\",IF('MARK Enrollment Template'!C371>TODAY(),\"Please check DOB.\",\"\"))))","v":""},{"$f":"IF('MARK Enrollment Template'!A371=\"\",\"\",IF(AND('MARK Enrollment Template'!A371<>\"\",'MARK Enrollment Template'!D371=\"\"),\"Please fill in Sex.\",IF(OR(TRIM('MARK Enrollment Template'!D371)=\"M\",TRIM('MARK Enrollment Template'!D371)=\"F\",TRIM('MARK Enrollment Template'!D371)=\"Male\",TRIM('MARK Enrollment Template'!D371)=\"Female\"),\"\",\"Sex must be M/F/Male/Female.\")))","v":""},null,null,{"$f":"IF('MARK Enrollment Template'!A371=\"\",\"\",IF(AND('MARK Enrollment Template'!A371<>\"\",'MARK Enrollment Template'!G371=\"\"),\"Please fill in Email Address.\",IF(IFERROR(FIND(\"@\",'MARK Enrollment Template'!G371),\"X\")=\"X\",\"Email Address must include an @ symbol.\",\"\")))","v":""},null,null,null,{"$f":"IF('MARK Enrollment Template'!A371=\"\",\"\",IF(AND('MARK Enrollment Template'!A371<>\"\",'MARK Enrollment Template'!K371=\"\"),\"Please fill in Zip Code.\",IF(LEN(SUBSTITUTE(TRIM('MARK Enrollment Template'!K371),CHAR(9),\"\"))<5,\"Zip <5 digits. If leading zero, add apostrophe (ex. '01234).\",\"\")))","v":""},null,null,{"$f":"CELL(\"format\",'MARK Enrollment Template'!C371)","v":"G"}]
["",{"$f":"IF(AND(SUMPRODUCT(--('MARK Enrollment Template'!A372:L372<>\"\"))<>0,'MARK Enrollment Template'!A372=\"\"),\"Please fill in First Name.\",IF(LEN('MARK Enrollment Template'!A372)=1,\"Please fill in full first name.\",\"\"))","v":""},{"$f":"IF('MARK Enrollment Template'!A372=\"\",\"\",IF(AND('MARK Enrollment Template'!A372<>\"\",'MARK Enrollment Template'!B372=\"\"),\"Please fill in a Last Name.\",\"\"))","v":""},{"$f":"IF('MARK Enrollment Template'!A372=\"\",\"\",IF(AND('MARK Enrollment Template'!A372<>\"\",'MARK Enrollment Template'!C372=\"\"),\"Please fill in Date of Birth.\",IF(TRIM(O367)<>\"D4\",\"Please format DOB as a date in the form MM/DD/YYYY.\",IF('MARK Enrollment Template'!C372>TODAY(),\"Please check DOB.\",\"\"))))","v":""},{"$f":"IF('MARK Enrollment Template'!A372=\"\",\"\",IF(AND('MARK Enrollment Template'!A372<>\"\",'MARK Enrollment Template'!D372=\"\"),\"Please fill in Sex.\",IF(OR(TRIM('MARK Enrollment Template'!D372)=\"M\",TRIM('MARK Enrollment Template'!D372)=\"F\",TRIM('MARK Enrollment Template'!D372)=\"Male\",TRIM('MARK Enrollment Template'!D372)=\"Female\"),\"\",\"Sex must be M/F/Male/Female.\")))","v":""},null,null,{"$f":"IF('MARK Enrollment Template'!A372=\"\",\"\",IF(AND('MARK Enrollment Template'!A372<>\"\",'MARK Enrollment Template'!G372=\"\"),\"Please fill in Email Address.\",IF(IFERROR(FIND(\"@\",'MARK Enrollment Template'!G372),\"X\")=\"X\",\"Email Address must include an @ symbol.\",\"\")))","v":""},null,null,null,{"$f":"IF('MARK Enrollment Template'!A372=\"\",\"\",IF(AND('MARK Enrollment Template'!A372<>\"\",'MARK Enrollment Template'!K372=\"\"),\"Please fill in Zip Code.\",IF(LEN(SUBSTITUTE(TRIM('MARK Enrollment Template'!K372),CHAR(9),\"\"))<5,\"Zip <5 digits. If leading zero, add apostrophe (ex. '01234).\",\"\")))","v":""},null,null,{"$f":"CELL(\"format\",'MARK Enrollment Template'!C372)","v":"G"}]
["",{"$f":"IF(AND(SUMPRODUCT(--('MARK Enrollment Template'!A373:L373<>\"\"))<>0,'MARK Enrollment Template'!A373=\"\"),\"Please fill in First Name.\",IF(LEN('MARK Enrollment Template'!A373)=1,\"Please fill in full first name.\",\"\"))","v":""},{"$f":"IF('MARK Enrollment Template'!A373=\"\",\"\",IF(AND('MARK Enrollment Template'!A373<>\"\",'MARK Enrollment Template'!B373=\"\"),\"Please fill in a Last Name.\",\"\"))","v":""},{"$f":"IF('MARK Enrollment Template'!A373=\"\",\"\",IF(AND('MARK Enrollment Template'!A373<>\"\",'MARK Enrollment Template'!C373=\"\"),\"Please fill in Date of Birth.\",IF(TRIM(O368)<>\"D4\",\"Please format DOB as a date in the form MM/DD/YYYY.\",IF('MARK Enrollment Template'!C373>TODAY(),\"Please check DOB.\",\"\"))))","v":""},{"$f":"IF('MARK Enrollment Template'!A373=\"\",\"\",IF(AND('MARK Enrollment Template'!A373<>\"\",'MARK Enrollment Template'!D373=\"\"),\"Please fill in Sex.\",IF(OR(TRIM('MARK Enrollment Template'!D373)=\"M\",TRIM('MARK Enrollment Template'!D373)=\"F\",TRIM('MARK Enrollment Template'!D373)=\"Male\",TRIM('MARK Enrollment Template'!D373)=\"Female\"),\"\",\"Sex must be M/F/Male/Female.\")))","v":""},null,null,{"$f":"IF('MARK Enrollment Template'!A373=\"\",\"\",IF(AND('MARK Enrollment Template'!A373<>\"\",'MARK Enrollment Template'!G373=\"\"),\"Please fill in Email Address.\",IF(IFERROR(FIND(\"@\",'MARK Enrollment Template'!G373),\"X\")=\"X\",\"Email Address must include an @ symbol.\",\"\")))","v":""},null,null,null,{"$f":"IF('MARK Enrollment Template'!A373=\"\",\"\",IF(AND('MARK Enrollment Template'!A373<>\"\",'MARK Enrollment Template'!K373=\"\"),\"Please fill in Zip Code.\",IF(LEN(SUBSTITUTE(TRIM('MARK Enrollment Template'!K373),CHAR(9),\"\"))<5,\"Zip <5 digits. If leading zero, add apostrophe (ex. '01234).\",\"\")))","v":""},null,null,{"$f":"CELL(\"format\",'MARK Enrollment Template'!C373)","v":"G"}]
["",{"$f":"IF(AND(SUMPRODUCT(--('MARK Enrollment Template'!A374:L374<>\"\"))<>0,'MARK Enrollment Template'!A374=\"\"),\"Please fill in First Name.\",IF(LEN('MARK Enrollment Template'!A374)=1,\"Please fill in full first name.\",\"\"))","v":""},{"$f":"IF('MARK Enrollment Template'!A374=\"\",\"\",IF(AND('MARK Enrollment Template'!A374<>\"\",'MARK Enrollment Template'!B374=\"\"),\"Please fill in a Last Name.\",\"\"))","v":""},{"$f":"IF('MARK Enrollment Template'!A374=\"\",\"\",IF(AND('MARK Enrollment Template'!A374<>\"\",'MARK Enrollment Template'!C374=\"\"),\"Please fill in Date of Birth.\",IF(TRIM(O369)<>\"D4\",\"Please format DOB as a date in the form MM/DD/YYYY.\",IF('MARK Enrollment Template'!C374>TODAY(),\"Please check DOB.\",\"\"))))","v":""},{"$f":"IF('MARK Enrollment Template'!A374=\"\",\"\",IF(AND('MARK Enrollment Template'!A374<>\"\",'MARK Enrollment Template'!D374=\"\"),\"Please fill in Sex.\",IF(OR(TRIM('MARK Enrollment Template'!D374)=\"M\",TRIM('MARK Enrollment Template'!D374)=\"F\",TRIM('MARK Enrollment Template'!D374)=\"Male\",TRIM('MARK Enrollment Template'!D374)=\"Female\"),\"\",\"Sex must be M/F/Male/Female.\")))","v":""},null,null,{"$f":"IF('MARK Enrollment Template'!A374=\"\",\"\",IF(AND('MARK Enrollment Template'!A374<>\"\",'MARK Enrollment Template'!G374=\"\"),\"Please fill in Email Address.\",IF(IFERROR(FIND(\"@\",'MARK Enrollment Template'!G374),\"X\")=\"X\",\"Email Address must include an @ symbol.\",\"\")))","v":""},null,null,null,{"$f":"IF('MARK Enrollment Template'!A374=\"\",\"\",IF(AND('MARK Enrollment Template'!A374<>\"\",'MARK Enrollment Template'!K374=\"\"),\"Please fill in Zip Code.\",IF(LEN(SUBSTITUTE(TRIM('MARK Enrollment Template'!K374),CHAR(9),\"\"))<5,\"Zip <5 digits. If leading zero, add apostrophe (ex. '01234).\",\"\")))","v":""},null,null,{"$f":"CELL(\"format\",'MARK Enrollment Template'!C374)","v":"G"}]
["",{"$f":"IF(AND(SUMPRODUCT(--('MARK Enrollment Template'!A375:L375<>\"\"))<>0,'MARK Enrollment Template'!A375=\"\"),\"Please fill in First Name.\",IF(LEN('MARK Enrollment Template'!A375)=1,\"Please fill in full first name.\",\"\"))","v":""},{"$f":"IF('MARK Enrollment Template'!A375=\"\",\"\",IF(AND('MARK Enrollment Template'!A375<>\"\",'MARK Enrollment Template'!B375=\"\"),\"Please fill in a Last Name.\",\"\"))","v":""},{"$f":"IF('MARK Enrollment Template'!A375=\"\",\"\",IF(AND('MARK Enrollment Template'!A375<>\"\",'MARK Enrollment Template'!C375=\"\"),\"Please fill in Date of Birth.\",IF(TRIM(O370)<>\"D4\",\"Please format DOB as a date in the form MM/DD/YYYY.\",IF('MARK Enrollment Template'!C375>TODAY(),\"Please check DOB.\",\"\"))))","v":""},{"$f":"IF('MARK Enrollment Template'!A375=\"\",\"\",IF(AND('MARK Enrollment Template'!A375<>\"\",'MARK Enrollment Template'!D375=\"\"),\"Please fill in Sex.\",IF(OR(TRIM('MARK Enrollment Template'!D375)=\"M\",TRIM('MARK Enrollment Template'!D375)=\"F\",TRIM('MARK Enrollment Template'!D375)=\"Male\",TRIM('MARK Enrollment Template'!D375)=\"Female\"),\"\",\"Sex must be M/F/Male/Female.\")))","v":""},null,null,{"$f":"IF('MARK Enrollment Template'!A375=\"\",\"\",IF(AND('MARK Enrollment Template'!A375<>\"\",'MARK Enrollment Template'!G375=\"\"),\"Please fill in Email Address.\",IF(IFERROR(FIND(\"@\",'MARK Enrollment Template'!G375),\"X\")=\"X\",\"Email Address must include an @ symbol.\",\"\")))","v":""},null,null,null,{"$f":"IF('MARK Enrollment Template'!A375=\"\",\"\",IF(AND('MARK Enrollment Template'!A375<>\"\",'MARK Enrollment Template'!K375=\"\"),\"Please fill in Zip Code.\",IF(LEN(SUBSTITUTE(TRIM('MARK Enrollment Template'!K375),CHAR(9),\"\"))<5,\"Zip <5 digits. If leading zero, add apostrophe (ex. '01234).\",\"\")))","v":""},null,null,{"$f":"CELL(\"format\",'MARK Enrollment Template'!C375)","v":"G"}]
["",{"$f":"IF(AND(SUMPRODUCT(--('MARK Enrollment Template'!A376:L376<>\"\"))<>0,'MARK Enrollment Template'!A376=\"\"),\"Please fill in First Name.\",IF(LEN('MARK Enrollment Template'!A376)=1,\"Please fill in full first name.\",\"\"))","v":""},{"$f":"IF('MARK Enrollment Template'!A376=\"\",\"\",IF(AND('MARK Enrollment Template'!A376<>\"\",'MARK Enrollment Template'!B376=\"\"),\"Please fill in a Last Name.\",\"\"))","v":""},{"$f":"IF('MARK Enrollment Template'!A376=\"\",\"\",IF(AND('MARK Enrollment Template'!A376<>\"\",'MARK Enrollment Template'!C376=\"\"),\"Please fill in Date of Birth.\",IF(TRIM(O371)<>\"D4\",\"Please format DOB as a date in the form MM/DD/YYYY.\",IF('MARK Enrollment Template'!C376>TODAY(),\"Please check DOB.\",\"\"))))","v":""},{"$f":"IF('MARK Enrollment Template'!A376=\"\",\"\",IF(AND('MARK Enrollment Template'!A376<>\"\",'MARK Enrollment Template'!D376=\"\"),\"Please fill in Sex.\",IF(OR(TRIM('MARK Enrollment Template'!D376)=\"M\",TRIM('MARK Enrollment Template'!D376)=\"F\",TRIM('MARK Enrollment Template'!D376)=\"Male\",TRIM('MARK Enrollment Template'!D376)=\"Female\"),\"\",\"Sex must be M/F/Male/Female.\")))","v":""},null,null,{"$f":"IF('MARK Enrollment Template'!A376=\"\",\"\",IF(AND('MARK Enrollment Template'!A376<>\"\",'MARK Enrollment Template'!G376=\"\"),\"Please fill in Email Address.\",IF(IFERROR(FIND(\"@\",'MARK Enrollment Template'!G376),\"X\")=\"X\",\"Email Address must include an @ symbol.\",\"\")))","v":""},null,null,null,{"$f":"IF('MARK Enrollment Template'!A376=\"\",\"\",IF(AND('MARK Enrollment Template'!A376<>\"\",'MARK Enrollment Template'!K376=\"\"),\"Please fill in Zip Code.\",IF(LEN(SUBSTITUTE(TRIM('MARK Enrollment Template'!K376),CHAR(9),\"\"))<5,\"Zip <5 digits. If leading zero, add apostrophe (ex. '01234).\",\"\")))","v":""},null,null,{"$f":"CELL(\"format\",'MARK Enrollment Template'!C376)","v":"G"}]
["",{"$f":"IF(AND(SUMPRODUCT(--('MARK Enrollment Template'!A377:L377<>\"\"))<>0,'MARK Enrollment Template'!A377=\"\"),\"Please fill in First Name.\",IF(LEN('MARK Enrollment Template'!A377)=1,\"Please fill in full first name.\",\"\"))","v":""},{"$f":"IF('MARK Enrollment Template'!A377=\"\",\"\",IF(AND('MARK Enrollment Template'!A377<>\"\",'MARK Enrollment Template'!B377=\"\"),\"Please fill in a Last Name.\",\"\"))","v":""},{"$f":"IF('MARK Enrollment Template'!A377=\"\",\"\",IF(AND('MARK Enrollment Template'!A377<>\"\",'MARK Enrollment Template'!C377=\"\"),\"Please fill in Date of Birth.\",IF(TRIM(O372)<>\"D4\",\"Please format DOB as a date in the form MM/DD/YYYY.\",IF('MARK Enrollment Template'!C377>TODAY(),\"Please check DOB.\",\"\"))))","v":""},{"$f":"IF('MARK Enrollment Template'!A377=\"\",\"\",IF(AND('MARK Enrollment Template'!A377<>\"\",'MARK Enrollment Template'!D377=\"\"),\"Please fill in Sex.\",IF(OR(TRIM('MARK Enrollment Template'!D377)=\"M\",TRIM('MARK Enrollment Template'!D377)=\"F\",TRIM('MARK Enrollment Template'!D377)=\"Male\",TRIM('MARK Enrollment Template'!D377)=\"Female\"),\"\",\"Sex must be M/F/Male/Female.\")))","v":""},null,null,{"$f":"IF('MARK Enrollment Template'!A377=\"\",\"\",IF(AND('MARK Enrollment Template'!A377<>\"\",'MARK Enrollment Template'!G377=\"\"),\"Please fill in Email Address.\",IF(IFERROR(FIND(\"@\",'MARK Enrollment Template'!G377),\"X\")=\"X\",\"Email Address must include an @ symbol.\",\"\")))","v":""},null,null,null,{"$f":"IF('MARK Enrollment Template'!A377=\"\",\"\",IF(AND('MARK Enrollment Template'!A377<>\"\",'MARK Enrollment Template'!K377=\"\"),\"Please fill in Zip Code.\",IF(LEN(SUBSTITUTE(TRIM('MARK Enrollment Template'!K377),CHAR(9),\"\"))<5,\"Zip <5 digits. If leading zero, add apostrophe (ex. '01234).\",\"\")))","v":""},null,null,{"$f":"CELL(\"format\",'MARK Enrollment Template'!C377)","v":"G"}]
["",{"$f":"IF(AND(SUMPRODUCT(--('MARK Enrollment Template'!A378:L378<>\"\"))<>0,'MARK Enrollment Template'!A378=\"\"),\"Please fill in First Name.\",IF(LEN('MARK Enrollment Template'!A378)=1,\"Please fill in full first name.\",\"\"))","v":""},{"$f":"IF('MARK Enrollment Template'!A378=\"\",\"\",IF(AND('MARK Enrollment Template'!A378<>\"\",'MARK Enrollment Template'!B378=\"\"),\"Please fill in a Last Name.\",\"\"))","v":""},{"$f":"IF('MARK Enrollment Template'!A378=\"\",\"\",IF(AND('MARK Enrollment Template'!A378<>\"\",'MARK Enrollment Template'!C378=\"\"),\"Please fill in Date of Birth.\",IF(TRIM(O373)<>\"D4\",\"Please format DOB as a date in the form MM/DD/YYYY.\",IF('MARK Enrollment Template'!C378>TODAY(),\"Please check DOB.\",\"\"))))","v":""},{"$f":"IF('MARK Enrollment Template'!A378=\"\",\"\",IF(AND('MARK Enrollment Template'!A378<>\"\",'MARK Enrollment Template'!D378=\"\"),\"Please fill in Sex.\",IF(OR(TRIM('MARK Enrollment Template'!D378)=\"M\",TRIM('MARK Enrollment Template'!D378)=\"F\",TRIM('MARK Enrollment Template'!D378)=\"Male\",TRIM('MARK Enrollment Template'!D378)=\"Female\"),\"\",\"Sex must be M/F/Male/Female.\")))","v":""},null,null,{"$f":"IF('MARK Enrollment Template'!A378=\"\",\"\",IF(AND('MARK Enrollment Template'!A378<>\"\",'MARK Enrollment Template'!G378=\"\"),\"Please fill in Email Address.\",IF(IFERROR(FIND(\"@\",'MARK Enrollment Template'!G378),\"X\")=\"X\",\"Email Address must include an @ symbol.\",\"\")))","v":""},null,null,null,{"$f":"IF('MARK Enrollment Template'!A378=\"\",\"\",IF(AND('MARK Enrollment Template'!A378<>\"\",'MARK Enrollment Template'!K378=\"\"),\"Please fill in Zip Code.\",IF(LEN(SUBSTITUTE(TRIM('MARK Enrollment Template'!K378),CHAR(9),\"\"))<5,\"Zip <5 digits. If leading zero, add apostrophe (ex. '01234).\",\"\")))","v":""},null,null,{"$f":"CELL(\"format\",'MARK Enrollment Template'!C378)","v":"G"}]
["",{"$f":"IF(AND(SUMPRODUCT(--('MARK Enrollment Template'!A379:L379<>\"\"))<>0,'MARK Enrollment Template'!A379=\"\"),\"Please fill in First Name.\",IF(LEN('MARK Enrollment Template'!A379)=1,\"Please fill in full first name.\",\"\"))","v":""},{"$f":"IF('MARK Enrollment Template'!A379=\"\",\"\",IF(AND('MARK Enrollment Template'!A379<>\"\",'MARK Enrollment Template'!B379=\"\"),\"Please fill in a Last Name.\",\"\"))","v":""},{"$f":"IF('MARK Enrollment Template'!A379=\"\",\"\",IF(AND('MARK Enrollment Template'!A379<>\"\",'MARK Enrollment Template'!C379=\"\"),\"Please fill in Date of Birth.\",IF(TRIM(O374)<>\"D4\",\"Please format DOB as a date in the form MM/DD/YYYY.\",IF('MARK Enrollment Template'!C379>TODAY(),\"Please check DOB.\",\"\"))))","v":""},{"$f":"IF('MARK Enrollment Template'!A379=\"\",\"\",IF(AND('MARK Enrollment Template'!A379<>\"\",'MARK Enrollment Template'!D379=\"\"),\"Please fill in Sex.\",IF(OR(TRIM('MARK Enrollment Template'!D379)=\"M\",TRIM('MARK Enrollment Template'!D379)=\"F\",TRIM('MARK Enrollment Template'!D379)=\"Male\",TRIM('MARK Enrollment Template'!D379)=\"Female\"),\"\",\"Sex must be M/F/Male/Female.\")))","v":""},null,null,{"$f":"IF('MARK Enrollment Template'!A379=\"\",\"\",IF(AND('MARK Enrollment Template'!A379<>\"\",'MARK Enrollment Template'!G379=\"\"),\"Please fill in Email Address.\",IF(IFERROR(FIND(\"@\",'MARK Enrollment Template'!G379),\"X\")=\"X\",\"Email Address must include an @ symbol.\",\"\")))","v":""},null,null,null,{"$f":"IF('MARK Enrollment Template'!A379=\"\",\"\",IF(AND('MARK Enrollment Template'!A379<>\"\",'MARK Enrollment Template'!K379=\"\"),\"Please fill in Zip Code.\",IF(LEN(SUBSTITUTE(TRIM('MARK Enrollment Template'!K379),CHAR(9),\"\"))<5,\"Zip <5 digits. If leading zero, add apostrophe (ex. '01234).\",\"\")))","v":""},null,null,{"$f":"CELL(\"format\",'MARK Enrollment Template'!C379)","v":"G"}]
["",{"$f":"IF(AND(SUMPRODUCT(--('MARK Enrollment Template'!A380:L380<>\"\"))<>0,'MARK Enrollment Template'!A380=\"\"),\"Please fill in First Name.\",IF(LEN('MARK Enrollment Template'!A380)=1,\"Please fill in full first name.\",\"\"))","v":""},{"$f":"IF('MARK Enrollment Template'!A380=\"\",\"\",IF(AND('MARK Enrollment Template'!A380<>\"\",'MARK Enrollment Template'!B380=\"\"),\"Please fill in a Last Name.\",\"\"))","v":""},{"$f":"IF('MARK Enrollment Template'!A380=\"\",\"\",IF(AND('MARK Enrollment Template'!A380<>\"\",'MARK Enrollment Template'!C380=\"\"),\"Please fill in Date of Birth.\",IF(TRIM(O375)<>\"D4\",\"Please format DOB as a date in the form MM/DD/YYYY.\",IF('MARK Enrollment Template'!C380>TODAY(),\"Please check DOB.\",\"\"))))","v":""},{"$f":"IF('MARK Enrollment Template'!A380=\"\",\"\",IF(AND('MARK Enrollment Template'!A380<>\"\",'MARK Enrollment Template'!D380=\"\"),\"Please fill in Sex.\",IF(OR(TRIM('MARK Enrollment Template'!D380)=\"M\",TRIM('MARK Enrollment Template'!D380)=\"F\",TRIM('MARK Enrollment Template'!D380)=\"Male\",TRIM('MARK Enrollment Template'!D380)=\"Female\"),\"\",\"Sex must be M/F/Male/Female.\")))","v":""},null,null,{"$f":"IF('MARK Enrollment Template'!A380=\"\",\"\",IF(AND('MARK Enrollment Template'!A380<>\"\",'MARK Enrollment Template'!G380=\"\"),\"Please fill in Email Address.\",IF(IFERROR(FIND(\"@\",'MARK Enrollment Template'!G380),\"X\")=\"X\",\"Email Address must include an @ symbol.\",\"\")))","v":""},null,null,null,{"$f":"IF('MARK Enrollment Template'!A380=\"\",\"\",IF(AND('MARK Enrollment Template'!A380<>\"\",'MARK Enrollment Template'!K380=\"\"),\"Please fill in Zip Code.\",IF(LEN(SUBSTITUTE(TRIM('MARK Enrollment Template'!K380),CHAR(9),\"\"))<5,\"Zip <5 digits. If leading zero, add apostrophe (ex. '01234).\",\"\")))","v":""},null,null,{"$f":"CELL(\"format\",'MARK Enrollment Template'!C380)","v":"G"}]
["",{"$f":"IF(AND(SUMPRODUCT(--('MARK Enrollment Template'!A381:L381<>\"\"))<>0,'MARK Enrollment Template'!A381=\"\"),\"Please fill in First Name.\",IF(LEN('MARK Enrollment Template'!A381)=1,\"Please fill in full first name.\",\"\"))","v":""},{"$f":"IF('MARK Enrollment Template'!A381=\"\",\"\",IF(AND('MARK Enrollment Template'!A381<>\"\",'MARK Enrollment Template'!B381=\"\"),\"Please fill in a Last Name.\",\"\"))","v":""},{"$f":"IF('MARK Enrollment Template'!A381=\"\",\"\",IF(AND('MARK Enrollment Template'!A381<>\"\",'MARK Enrollment Template'!C381=\"\"),\"Please fill in Date of Birth.\",IF(TRIM(O376)<>\"D4\",\"Please format DOB as a date in the form MM/DD/YYYY.\",IF('MARK Enrollment Template'!C381>TODAY(),\"Please check DOB.\",\"\"))))","v":""},{"$f":"IF('MARK Enrollment Template'!A381=\"\",\"\",IF(AND('MARK Enrollment Template'!A381<>\"\",'MARK Enrollment Template'!D381=\"\"),\"Please fill in Sex.\",IF(OR(TRIM('MARK Enrollment Template'!D381)=\"M\",TRIM('MARK Enrollment Template'!D381)=\"F\",TRIM('MARK Enrollment Template'!D381)=\"Male\",TRIM('MARK Enrollment Template'!D381)=\"Female\"),\"\",\"Sex must be M/F/Male/Female.\")))","v":""},null,null,{"$f":"IF('MARK Enrollment Template'!A381=\"\",\"\",IF(AND('MARK Enrollment Template'!A381<>\"\",'MARK Enrollment Template'!G381=\"\"),\"Please fill in Email Address.\",IF(IFERROR(FIND(\"@\",'MARK Enrollment Template'!G381),\"X\")=\"X\",\"Email Address must include an @ symbol.\",\"\")))","v":""},null,null,null,{"$f":"IF('MARK Enrollment Template'!A381=\"\",\"\",IF(AND('MARK Enrollment Template'!A381<>\"\",'MARK Enrollment Template'!K381=\"\"),\"Please fill in Zip Code.\",IF(LEN(SUBSTITUTE(TRIM('MARK Enrollment Template'!K381),CHAR(9),\"\"))<5,\"Zip <5 digits. If leading zero, add apostrophe (ex. '01234).\",\"\")))","v":""},null,null,{"$f":"CELL(\"format\",'MARK Enrollment Template'!C381)","v":"G"}]
["",{"$f":"IF(AND(SUMPRODUCT(--('MARK Enrollment Template'!A382:L382<>\"\"))<>0,'MARK Enrollment Template'!A382=\"\"),\"Please fill in First Name.\",IF(LEN('MARK Enrollment Template'!A382)=1,\"Please fill in full first name.\",\"\"))","v":""},{"$f":"IF('MARK Enrollment Template'!A382=\"\",\"\",IF(AND('MARK Enrollment Template'!A382<>\"\",'MARK Enrollment Template'!B382=\"\"),\"Please fill in a Last Name.\",\"\"))","v":""},{"$f":"IF('MARK Enrollment Template'!A382=\"\",\"\",IF(AND('MARK Enrollment Template'!A382<>\"\",'MARK Enrollment Template'!C382=\"\"),\"Please fill in Date of Birth.\",IF(TRIM(O377)<>\"D4\",\"Please format DOB as a date in the form MM/DD/YYYY.\",IF('MARK Enrollment Template'!C382>TODAY(),\"Please check DOB.\",\"\"))))","v":""},{"$f":"IF('MARK Enrollment Template'!A382=\"\",\"\",IF(AND('MARK Enrollment Template'!A382<>\"\",'MARK Enrollment Template'!D382=\"\"),\"Please fill in Sex.\",IF(OR(TRIM('MARK Enrollment Template'!D382)=\"M\",TRIM('MARK Enrollment Template'!D382)=\"F\",TRIM('MARK Enrollment Template'!D382)=\"Male\",TRIM('MARK Enrollment Template'!D382)=\"Female\"),\"\",\"Sex must be M/F/Male/Female.\")))","v":""},null,null,{"$f":"IF('MARK Enrollment Template'!A382=\"\",\"\",IF(AND('MARK Enrollment Template'!A382<>\"\",'MARK Enrollment Template'!G382=\"\"),\"Please fill in Email Address.\",IF(IFERROR(FIND(\"@\",'MARK Enrollment Template'!G382),\"X\")=\"X\",\"Email Address must include an @ symbol.\",\"\")))","v":""},null,null,null,{"$f":"IF('MARK Enrollment Template'!A382=\"\",\"\",IF(AND('MARK Enrollment Template'!A382<>\"\",'MARK Enrollment Template'!K382=\"\"),\"Please fill in Zip Code.\",IF(LEN(SUBSTITUTE(TRIM('MARK Enrollment Template'!K382),CHAR(9),\"\"))<5,\"Zip <5 digits. If leading zero, add apostrophe (ex. '01234).\",\"\")))","v":""},null,null,{"$f":"CELL(\"format\",'MARK Enrollment Template'!C382)","v":"G"}]
["",{"$f":"IF(AND(SUMPRODUCT(--('MARK Enrollment Template'!A383:L383<>\"\"))<>0,'MARK Enrollment Template'!A383=\"\"),\"Please fill in First Name.\",IF(LEN('MARK Enrollment Template'!A383)=1,\"Please fill in full first name.\",\"\"))","v":""},{"$f":"IF('MARK Enrollment Template'!A383=\"\",\"\",IF(AND('MARK Enrollment Template'!A383<>\"\",'MARK Enrollment Template'!B383=\"\"),\"Please fill in a Last Name.\",\"\"))","v":""},{"$f":"IF('MARK Enrollment Template'!A383=\"\",\"\",IF(AND('MARK Enrollment Template'!A383<>\"\",'MARK Enrollment Template'!C383=\"\"),\"Please fill in Date of Birth.\",IF(TRIM(O378)<>\"D4\",\"Please format DOB as a date in the form MM/DD/YYYY.\",IF('MARK Enrollment Template'!C383>TODAY(),\"Please check DOB.\",\"\"))))","v":""},{"$f":"IF('MARK Enrollment Template'!A383=\"\",\"\",IF(AND('MARK Enrollment Template'!A383<>\"\",'MARK Enrollment Template'!D383=\"\"),\"Please fill in Sex.\",IF(OR(TRIM('MARK Enrollment Template'!D383)=\"M\",TRIM('MARK Enrollment Template'!D383)=\"F\",TRIM('MARK Enrollment Template'!D383)=\"Male\",TRIM('MARK Enrollment Template'!D383)=\"Female\"),\"\",\"Sex must be M/F/Male/Female.\")))","v":""},null,null,{"$f":"IF('MARK Enrollment Template'!A383=\"\",\"\",IF(AND('MARK Enrollment Template'!A383<>\"\",'MARK Enrollment Template'!G383=\"\"),\"Please fill in Email Address.\",IF(IFERROR(FIND(\"@\",'MARK Enrollment Template'!G383),\"X\")=\"X\",\"Email Address must include an @ symbol.\",\"\")))","v":""},null,null,null,{"$f":"IF('MARK Enrollment Template'!A383=\"\",\"\",IF(AND('MARK Enrollment Template'!A383<>\"\",'MARK Enrollment Template'!K383=\"\"),\"Please fill in Zip Code.\",IF(LEN(SUBSTITUTE(TRIM('MARK Enrollment Template'!K383),CHAR(9),\"\"))<5,\"Zip <5 digits. If leading zero, add apostrophe (ex. '01234).\",\"\")))","v":""},null,null,{"$f":"CELL(\"format\",'MARK Enrollment Template'!C383)","v":"G"}]
["",{"$f":"IF(AND(SUMPRODUCT(--('MARK Enrollment Template'!A384:L384<>\"\"))<>0,'MARK Enrollment Template'!A384=\"\"),\"Please fill in First Name.\",IF(LEN('MARK Enrollment Template'!A384)=1,\"Please fill in full first name.\",\"\"))","v":""},{"$f":"IF('MARK Enrollment Template'!A384=\"\",\"\",IF(AND('MARK Enrollment Template'!A384<>\"\",'MARK Enrollment Template'!B384=\"\"),\"Please fill in a Last Name.\",\"\"))","v":""},{"$f":"IF('MARK Enrollment Template'!A384=\"\",\"\",IF(AND('MARK Enrollment Template'!A384<>\"\",'MARK Enrollment Template'!C384=\"\"),\"Please fill in Date of Birth.\",IF(TRIM(O379)<>\"D4\",\"Please format DOB as a date in the form MM/DD/YYYY.\",IF('MARK Enrollment Template'!C384>TODAY(),\"Please check DOB.\",\"\"))))","v":""},{"$f":"IF('MARK Enrollment Template'!A384=\"\",\"\",IF(AND('MARK Enrollment Template'!A384<>\"\",'MARK Enrollment Template'!D384=\"\"),\"Please fill in Sex.\",IF(OR(TRIM('MARK Enrollment Template'!D384)=\"M\",TRIM('MARK Enrollment Template'!D384)=\"F\",TRIM('MARK Enrollment Template'!D384)=\"Male\",TRIM('MARK Enrollment Template'!D384)=\"Female\"),\"\",\"Sex must be M/F/Male/Female.\")))","v":""},null,null,{"$f":"IF('MARK Enrollment Template'!A384=\"\",\"\",IF(AND('MARK Enrollment Template'!A384<>\"\",'MARK Enrollment Template'!G384=\"\"),\"Please fill in Email Address.\",IF(IFERROR(FIND(\"@\",'MARK Enrollment Template'!G384),\"X\")=\"X\",\"Email Address must include an @ symbol.\",\"\")))","v":""},null,null,null,{"$f":"IF('MARK Enrollment Template'!A384=\"\",\"\",IF(AND('MARK Enrollment Template'!A384<>\"\",'MARK Enrollment Template'!K384=\"\"),\"Please fill in Zip Code.\",IF(LEN(SUBSTITUTE(TRIM('MARK Enrollment Template'!K384),CHAR(9),\"\"))<5,\"Zip <5 digits. If leading zero, add apostrophe (ex. '01234).\",\"\")))","v":""},null,null,{"$f":"CELL(\"format\",'MARK Enrollment Template'!C384)","v":"G"}]
["",{"$f":"IF(AND(SUMPRODUCT(--('MARK Enrollment Template'!A385:L385<>\"\"))<>0,'MARK Enrollment Template'!A385=\"\"),\"Please fill in First Name.\",IF(LEN('MARK Enrollment Template'!A385)=1,\"Please fill in full first name.\",\"\"))","v":""},{"$f":"IF('MARK Enrollment Template'!A385=\"\",\"\",IF(AND('MARK Enrollment Template'!A385<>\"\",'MARK Enrollment Template'!B385=\"\"),\"Please fill in a Last Name.\",\"\"))","v":""},{"$f":"IF('MARK Enrollment Template'!A385=\"\",\"\",IF(AND('MARK Enrollment Template'!A385<>\"\",'MARK Enrollment Template'!C385=\"\"),\"Please fill in Date of Birth.\",IF(TRIM(O380)<>\"D4\",\"Please format DOB as a date in the form MM/DD/YYYY.\",IF('MARK Enrollment Template'!C385>TODAY(),\"Please check DOB.\",\"\"))))","v":""},{"$f":"IF('MARK Enrollment Template'!A385=\"\",\"\",IF(AND('MARK Enrollment Template'!A385<>\"\",'MARK Enrollment Template'!D385=\"\"),\"Please fill in Sex.\",IF(OR(TRIM('MARK Enrollment Template'!D385)=\"M\",TRIM('MARK Enrollment Template'!D385)=\"F\",TRIM('MARK Enrollment Template'!D385)=\"Male\",TRIM('MARK Enrollment Template'!D385)=\"Female\"),\"\",\"Sex must be M/F/Male/Female.\")))","v":""},null,null,{"$f":"IF('MARK Enrollment Template'!A385=\"\",\"\",IF(AND('MARK Enrollment Template'!A385<>\"\",'MARK Enrollment Template'!G385=\"\"),\"Please fill in Email Address.\",IF(IFERROR(FIND(\"@\",'MARK Enrollment Template'!G385),\"X\")=\"X\",\"Email Address must include an @ symbol.\",\"\")))","v":""},null,null,null,{"$f":"IF('MARK Enrollment Template'!A385=\"\",\"\",IF(AND('MARK Enrollment Template'!A385<>\"\",'MARK Enrollment Template'!K385=\"\"),\"Please fill in Zip Code.\",IF(LEN(SUBSTITUTE(TRIM('MARK Enrollment Template'!K385),CHAR(9),\"\"))<5,\"Zip <5 digits. If leading zero, add apostrophe (ex. '01234).\",\"\")))","v":""},null,null,{"$f":"CELL(\"format\",'MARK Enrollment Template'!C385)","v":"G"}]
["",{"$f":"IF(AND(SUMPRODUCT(--('MARK Enrollment Template'!A386:L386<>\"\"))<>0,'MARK Enrollment Template'!A386=\"\"),\"Please fill in First Name.\",IF(LEN('MARK Enrollment Template'!A386)=1,\"Please fill in full first name.\",\"\"))","v":""},{"$f":"IF('MARK Enrollment Template'!A386=\"\",\"\",IF(AND('MARK Enrollment Template'!A386<>\"\",'MARK Enrollment Template'!B386=\"\"),\"Please fill in a Last Name.\",\"\"))","v":""},{"$f":"IF('MARK Enrollment Template'!A386=\"\",\"\",IF(AND('MARK Enrollment Template'!A386<>\"\",'MARK Enrollment Template'!C386=\"\"),\"Please fill in Date of Birth.\",IF(TRIM(O381)<>\"D4\",\"Please format DOB as a date in the form MM/DD/YYYY.\",IF('MARK Enrollment Template'!C386>TODAY(),\"Please check DOB.\",\"\"))))","v":""},{"$f":"IF('MARK Enrollment Template'!A386=\"\",\"\",IF(AND('MARK Enrollment Template'!A386<>\"\",'MARK Enrollment Template'!D386=\"\"),\"Please fill in Sex.\",IF(OR(TRIM('MARK Enrollment Template'!D386)=\"M\",TRIM('MARK Enrollment Template'!D386)=\"F\",TRIM('MARK Enrollment Template'!D386)=\"Male\",TRIM('MARK Enrollment Template'!D386)=\"Female\"),\"\",\"Sex must be M/F/Male/Female.\")))","v":""},null,null,{"$f":"IF('MARK Enrollment Template'!A386=\"\",\"\",IF(AND('MARK Enrollment Template'!A386<>\"\",'MARK Enrollment Template'!G386=\"\"),\"Please fill in Email Address.\",IF(IFERROR(FIND(\"@\",'MARK Enrollment Template'!G386),\"X\")=\"X\",\"Email Address must include an @ symbol.\",\"\")))","v":""},null,null,null,{"$f":"IF('MARK Enrollment Template'!A386=\"\",\"\",IF(AND('MARK Enrollment Template'!A386<>\"\",'MARK Enrollment Template'!K386=\"\"),\"Please fill in Zip Code.\",IF(LEN(SUBSTITUTE(TRIM('MARK Enrollment Template'!K386),CHAR(9),\"\"))<5,\"Zip <5 digits. If leading zero, add apostrophe (ex. '01234).\",\"\")))","v":""},null,null,{"$f":"CELL(\"format\",'MARK Enrollment Template'!C386)","v":"G"}]
["",{"$f":"IF(AND(SUMPRODUCT(--('MARK Enrollment Template'!A387:L387<>\"\"))<>0,'MARK Enrollment Template'!A387=\"\"),\"Please fill in First Name.\",IF(LEN('MARK Enrollment Template'!A387)=1,\"Please fill in full first name.\",\"\"))","v":""},{"$f":"IF('MARK Enrollment Template'!A387=\"\",\"\",IF(AND('MARK Enrollment Template'!A387<>\"\",'MARK Enrollment Template'!B387=\"\"),\"Please fill in a Last Name.\",\"\"))","v":""},{"$f":"IF('MARK Enrollment Template'!A387=\"\",\"\",IF(AND('MARK Enrollment Template'!A387<>\"\",'MARK Enrollment Template'!C387=\"\"),\"Please fill in Date of Birth.\",IF(TRIM(O382)<>\"D4\",\"Please format DOB as a date in the form MM/DD/YYYY.\",IF('MARK Enrollment Template'!C387>TODAY(),\"Please check DOB.\",\"\"))))","v":""},{"$f":"IF('MARK Enrollment Template'!A387=\"\",\"\",IF(AND('MARK Enrollment Template'!A387<>\"\",'MARK Enrollment Template'!D387=\"\"),\"Please fill in Sex.\",IF(OR(TRIM('MARK Enrollment Template'!D387)=\"M\",TRIM('MARK Enrollment Template'!D387)=\"F\",TRIM('MARK Enrollment Template'!D387)=\"Male\",TRIM('MARK Enrollment Template'!D387)=\"Female\"),\"\",\"Sex must be M/F/Male/Female.\")))","v":""},null,null,{"$f":"IF('MARK Enrollment Template'!A387=\"\",\"\",IF(AND('MARK Enrollment Template'!A387<>\"\",'MARK Enrollment Template'!G387=\"\"),\"Please fill in Email Address.\",IF(IFERROR(FIND(\"@\",'MARK Enrollment Template'!G387),\"X\")=\"X\",\"Email Address must include an @ symbol.\",\"\")))","v":""},null,null,null,{"$f":"IF('MARK Enrollment Template'!A387=\"\",\"\",IF(AND('MARK Enrollment Template'!A387<>\"\",'MARK Enrollment Template'!K387=\"\"),\"Please fill in Zip Code.\",IF(LEN(SUBSTITUTE(TRIM('MARK Enrollment Template'!K387),CHAR(9),\"\"))<5,\"Zip <5 digits. If leading zero, add apostrophe (ex. '01234).\",\"\")))","v":""},null,null,{"$f":"CELL(\"format\",'MARK Enrollment Template'!C387)","v":"G"}]
["",{"$f":"IF(AND(SUMPRODUCT(--('MARK Enrollment Template'!A388:L388<>\"\"))<>0,'MARK Enrollment Template'!A388=\"\"),\"Please fill in First Name.\",IF(LEN('MARK Enrollment Template'!A388)=1,\"Please fill in full first name.\",\"\"))","v":""},{"$f":"IF('MARK Enrollment Template'!A388=\"\",\"\",IF(AND('MARK Enrollment Template'!A388<>\"\",'MARK Enrollment Template'!B388=\"\"),\"Please fill in a Last Name.\",\"\"))","v":""},{"$f":"IF('MARK Enrollment Template'!A388=\"\",\"\",IF(AND('MARK Enrollment Template'!A388<>\"\",'MARK Enrollment Template'!C388=\"\"),\"Please fill in Date of Birth.\",IF(TRIM(O383)<>\"D4\",\"Please format DOB as a date in the form MM/DD/YYYY.\",IF('MARK Enrollment Template'!C388>TODAY(),\"Please check DOB.\",\"\"))))","v":""},{"$f":"IF('MARK Enrollment Template'!A388=\"\",\"\",IF(AND('MARK Enrollment Template'!A388<>\"\",'MARK Enrollment Template'!D388=\"\"),\"Please fill in Sex.\",IF(OR(TRIM('MARK Enrollment Template'!D388)=\"M\",TRIM('MARK Enrollment Template'!D388)=\"F\",TRIM('MARK Enrollment Template'!D388)=\"Male\",TRIM('MARK Enrollment Template'!D388)=\"Female\"),\"\",\"Sex must be M/F/Male/Female.\")))","v":""},null,null,{"$f":"IF('MARK Enrollment Template'!A388=\"\",\"\",IF(AND('MARK Enrollment Template'!A388<>\"\",'MARK Enrollment Template'!G388=\"\"),\"Please fill in Email Address.\",IF(IFERROR(FIND(\"@\",'MARK Enrollment Template'!G388),\"X\")=\"X\",\"Email Address must include an @ symbol.\",\"\")))","v":""},null,null,null,{"$f":"IF('MARK Enrollment Template'!A388=\"\",\"\",IF(AND('MARK Enrollment Template'!A388<>\"\",'MARK Enrollment Template'!K388=\"\"),\"Please fill in Zip Code.\",IF(LEN(SUBSTITUTE(TRIM('MARK Enrollment Template'!K388),CHAR(9),\"\"))<5,\"Zip <5 digits. If leading zero, add apostrophe (ex. '01234).\",\"\")))","v":""},null,null,{"$f":"CELL(\"format\",'MARK Enrollment Template'!C388)","v":"G"}]
["",{"$f":"IF(AND(SUMPRODUCT(--('MARK Enrollment Template'!A389:L389<>\"\"))<>0,'MARK Enrollment Template'!A389=\"\"),\"Please fill in First Name.\",IF(LEN('MARK Enrollment Template'!A389)=1,\"Please fill in full first name.\",\"\"))","v":""},{"$f":"IF('MARK Enrollment Template'!A389=\"\",\"\",IF(AND('MARK Enrollment Template'!A389<>\"\",'MARK Enrollment Template'!B389=\"\"),\"Please fill in a Last Name.\",\"\"))","v":""},{"$f":"IF('MARK Enrollment Template'!A389=\"\",\"\",IF(AND('MARK Enrollment Template'!A389<>\"\",'MARK Enrollment Template'!C389=\"\"),\"Please fill in Date of Birth.\",IF(TRIM(O384)<>\"D4\",\"Please format DOB as a date in the form MM/DD/YYYY.\",IF('MARK Enrollment Template'!C389>TODAY(),\"Please check DOB.\",\"\"))))","v":""},{"$f":"IF('MARK Enrollment Template'!A389=\"\",\"\",IF(AND('MARK Enrollment Template'!A389<>\"\",'MARK Enrollment Template'!D389=\"\"),\"Please fill in Sex.\",IF(OR(TRIM('MARK Enrollment Template'!D389)=\"M\",TRIM('MARK Enrollment Template'!D389)=\"F\",TRIM('MARK Enrollment Template'!D389)=\"Male\",TRIM('MARK Enrollment Template'!D389)=\"Female\"),\"\",\"Sex must be M/F/Male/Female.\")))","v":""},null,null,{"$f":"IF('MARK Enrollment Template'!A389=\"\",\"\",IF(AND('MARK Enrollment Template'!A389<>\"\",'MARK Enrollment Template'!G389=\"\"),\"Please fill in Email Address.\",IF(IFERROR(FIND(\"@\",'MARK Enrollment Template'!G389),\"X\")=\"X\",\"Email Address must include an @ symbol.\",\"\")))","v":""},null,null,null,{"$f":"IF('MARK Enrollment Template'!A389=\"\",\"\",IF(AND('MARK Enrollment Template'!A389<>\"\",'MARK Enrollment Template'!K389=\"\"),\"Please fill in Zip Code.\",IF(LEN(SUBSTITUTE(TRIM('MARK Enrollment Template'!K389),CHAR(9),\"\"))<5,\"Zip <5 digits. If leading zero, add apostrophe (ex. '01234).\",\"\")))","v":""},null,null,{"$f":"CELL(\"format\",'MARK Enrollment Template'!C389)","v":"G"}]
["",{"$f":"IF(AND(SUMPRODUCT(--('MARK Enrollment Template'!A390:L390<>\"\"))<>0,'MARK Enrollment Template'!A390=\"\"),\"Please fill in First Name.\",IF(LEN('MARK Enrollment Template'!A390)=1,\"Please fill in full first name.\",\"\"))","v":""},{"$f":"IF('MARK Enrollment Template'!A390=\"\",\"\",IF(AND('MARK Enrollment Template'!A390<>\"\",'MARK Enrollment Template'!B390=\"\"),\"Please fill in a Last Name.\",\"\"))","v":""},{"$f":"IF('MARK Enrollment Template'!A390=\"\",\"\",IF(AND('MARK Enrollment Template'!A390<>\"\",'MARK Enrollment Template'!C390=\"\"),\"Please fill in Date of Birth.\",IF(TRIM(O385)<>\"D4\",\"Please format DOB as a date in the form MM/DD/YYYY.\",IF('MARK Enrollment Template'!C390>TODAY(),\"Please check DOB.\",\"\"))))","v":""},{"$f":"IF('MARK Enrollment Template'!A390=\"\",\"\",IF(AND('MARK Enrollment Template'!A390<>\"\",'MARK Enrollment Template'!D390=\"\"),\"Please fill in Sex.\",IF(OR(TRIM('MARK Enrollment Template'!D390)=\"M\",TRIM('MARK Enrollment Template'!D390)=\"F\",TRIM('MARK Enrollment Template'!D390)=\"Male\",TRIM('MARK Enrollment Template'!D390)=\"Female\"),\"\",\"Sex must be M/F/Male/Female.\")))","v":""},null,null,{"$f":"IF('MARK Enrollment Template'!A390=\"\",\"\",IF(AND('MARK Enrollment Template'!A390<>\"\",'MARK Enrollment Template'!G390=\"\"),\"Please fill in Email Address.\",IF(IFERROR(FIND(\"@\",'MARK Enrollment Template'!G390),\"X\")=\"X\",\"Email Address must include an @ symbol.\",\"\")))","v":""},null,null,null,{"$f":"IF('MARK Enrollment Template'!A390=\"\",\"\",IF(AND('MARK Enrollment Template'!A390<>\"\",'MARK Enrollment Template'!K390=\"\"),\"Please fill in Zip Code.\",IF(LEN(SUBSTITUTE(TRIM('MARK Enrollment Template'!K390),CHAR(9),\"\"))<5,\"Zip <5 digits. If leading zero, add apostrophe (ex. '01234).\",\"\")))","v":""},null,null,{"$f":"CELL(\"format\",'MARK Enrollment Template'!C390)","v":"G"}]
["",{"$f":"IF(AND(SUMPRODUCT(--('MARK Enrollment Template'!A391:L391<>\"\"))<>0,'MARK Enrollment Template'!A391=\"\"),\"Please fill in First Name.\",IF(LEN('MARK Enrollment Template'!A391)=1,\"Please fill in full first name.\",\"\"))","v":""},{"$f":"IF('MARK Enrollment Template'!A391=\"\",\"\",IF(AND('MARK Enrollment Template'!A391<>\"\",'MARK Enrollment Template'!B391=\"\"),\"Please fill in a Last Name.\",\"\"))","v":""},{"$f":"IF('MARK Enrollment Template'!A391=\"\",\"\",IF(AND('MARK Enrollment Template'!A391<>\"\",'MARK Enrollment Template'!C391=\"\"),\"Please fill in Date of Birth.\",IF(TRIM(O386)<>\"D4\",\"Please format DOB as a date in the form MM/DD/YYYY.\",IF('MARK Enrollment Template'!C391>TODAY(),\"Please check DOB.\",\"\"))))","v":""},{"$f":"IF('MARK Enrollment Template'!A391=\"\",\"\",IF(AND('MARK Enrollment Template'!A391<>\"\",'MARK Enrollment Template'!D391=\"\"),\"Please fill in Sex.\",IF(OR(TRIM('MARK Enrollment Template'!D391)=\"M\",TRIM('MARK Enrollment Template'!D391)=\"F\",TRIM('MARK Enrollment Template'!D391)=\"Male\",TRIM('MARK Enrollment Template'!D391)=\"Female\"),\"\",\"Sex must be M/F/Male/Female.\")))","v":""},null,null,{"$f":"IF('MARK Enrollment Template'!A391=\"\",\"\",IF(AND('MARK Enrollment Template'!A391<>\"\",'MARK Enrollment Template'!G391=\"\"),\"Please fill in Email Address.\",IF(IFERROR(FIND(\"@\",'MARK Enrollment Template'!G391),\"X\")=\"X\",\"Email Address must include an @ symbol.\",\"\")))","v":""},null,null,null,{"$f":"IF('MARK Enrollment Template'!A391=\"\",\"\",IF(AND('MARK Enrollment Template'!A391<>\"\",'MARK Enrollment Template'!K391=\"\"),\"Please fill in Zip Code.\",IF(LEN(SUBSTITUTE(TRIM('MARK Enrollment Template'!K391),CHAR(9),\"\"))<5,\"Zip <5 digits. If leading zero, add apostrophe (ex. '01234).\",\"\")))","v":""},null,null,{"$f":"CELL(\"format\",'MARK Enrollment Template'!C391)","v":"G"}]
["",{"$f":"IF(AND(SUMPRODUCT(--('MARK Enrollment Template'!A392:L392<>\"\"))<>0,'MARK Enrollment Template'!A392=\"\"),\"Please fill in First Name.\",IF(LEN('MARK Enrollment Template'!A392)=1,\"Please fill in full first name.\",\"\"))","v":""},{"$f":"IF('MARK Enrollment Template'!A392=\"\",\"\",IF(AND('MARK Enrollment Template'!A392<>\"\",'MARK Enrollment Template'!B392=\"\"),\"Please fill in a Last Name.\",\"\"))","v":""},{"$f":"IF('MARK Enrollment Template'!A392=\"\",\"\",IF(AND('MARK Enrollment Template'!A392<>\"\",'MARK Enrollment Template'!C392=\"\"),\"Please fill in Date of Birth.\",IF(TRIM(O387)<>\"D4\",\"Please format DOB as a date in the form MM/DD/YYYY.\",IF('MARK Enrollment Template'!C392>TODAY(),\"Please check DOB.\",\"\"))))","v":""},{"$f":"IF('MARK Enrollment Template'!A392=\"\",\"\",IF(AND('MARK Enrollment Template'!A392<>\"\",'MARK Enrollment Template'!D392=\"\"),\"Please fill in Sex.\",IF(OR(TRIM('MARK Enrollment Template'!D392)=\"M\",TRIM('MARK Enrollment Template'!D392)=\"F\",TRIM('MARK Enrollment Template'!D392)=\"Male\",TRIM('MARK Enrollment Template'!D392)=\"Female\"),\"\",\"Sex must be M/F/Male/Female.\")))","v":""},null,null,{"$f":"IF('MARK Enrollment Template'!A392=\"\",\"\",IF(AND('MARK Enrollment Template'!A392<>\"\",'MARK Enrollment Template'!G392=\"\"),\"Please fill in Email Address.\",IF(IFERROR(FIND(\"@\",'MARK Enrollment Template'!G392),\"X\")=\"X\",\"Email Address must include an @ symbol.\",\"\")))","v":""},null,null,null,{"$f":"IF('MARK Enrollment Template'!A392=\"\",\"\",IF(AND('MARK Enrollment Template'!A392<>\"\",'MARK Enrollment Template'!K392=\"\"),\"Please fill in Zip Code.\",IF(LEN(SUBSTITUTE(TRIM('MARK Enrollment Template'!K392),CHAR(9),\"\"))<5,\"Zip <5 digits. If leading zero, add apostrophe (ex. '01234).\",\"\")))","v":""},null,null,{"$f":"CELL(\"format\",'MARK Enrollment Template'!C392)","v":"G"}]
["",{"$f":"IF(AND(SUMPRODUCT(--('MARK Enrollment Template'!A393:L393<>\"\"))<>0,'MARK Enrollment Template'!A393=\"\"),\"Please fill in First Name.\",IF(LEN('MARK Enrollment Template'!A393)=1,\"Please fill in full first name.\",\"\"))","v":""},{"$f":"IF('MARK Enrollment Template'!A393=\"\",\"\",IF(AND('MARK Enrollment Template'!A393<>\"\",'MARK Enrollment Template'!B393=\"\"),\"Please fill in a Last Name.\",\"\"))","v":""},{"$f":"IF('MARK Enrollment Template'!A393=\"\",\"\",IF(AND('MARK Enrollment Template'!A393<>\"\",'MARK Enrollment Template'!C393=\"\"),\"Please fill in Date of Birth.\",IF(TRIM(O388)<>\"D4\",\"Please format DOB as a date in the form MM/DD/YYYY.\",IF('MARK Enrollment Template'!C393>TODAY(),\"Please check DOB.\",\"\"))))","v":""},{"$f":"IF('MARK Enrollment Template'!A393=\"\",\"\",IF(AND('MARK Enrollment Template'!A393<>\"\",'MARK Enrollment Template'!D393=\"\"),\"Please fill in Sex.\",IF(OR(TRIM('MARK Enrollment Template'!D393)=\"M\",TRIM('MARK Enrollment Template'!D393)=\"F\",TRIM('MARK Enrollment Template'!D393)=\"Male\",TRIM('MARK Enrollment Template'!D393)=\"Female\"),\"\",\"Sex must be M/F/Male/Female.\")))","v":""},null,null,{"$f":"IF('MARK Enrollment Template'!A393=\"\",\"\",IF(AND('MARK Enrollment Template'!A393<>\"\",'MARK Enrollment Template'!G393=\"\"),\"Please fill in Email Address.\",IF(IFERROR(FIND(\"@\",'MARK Enrollment Template'!G393),\"X\")=\"X\",\"Email Address must include an @ symbol.\",\"\")))","v":""},null,null,null,{"$f":"IF('MARK Enrollment Template'!A393=\"\",\"\",IF(AND('MARK Enrollment Template'!A393<>\"\",'MARK Enrollment Template'!K393=\"\"),\"Please fill in Zip Code.\",IF(LEN(SUBSTITUTE(TRIM('MARK Enrollment Template'!K393),CHAR(9),\"\"))<5,\"Zip <5 digits. If leading zero, add apostrophe (ex. '01234).\",\"\")))","v":""},null,null,{"$f":"CELL(\"format\",'MARK Enrollment Template'!C393)","v":"G"}]
["",{"$f":"IF(AND(SUMPRODUCT(--('MARK Enrollment Template'!A394:L394<>\"\"))<>0,'MARK Enrollment Template'!A394=\"\"),\"Please fill in First Name.\",IF(LEN('MARK Enrollment Template'!A394)=1,\"Please fill in full first name.\",\"\"))","v":""},{"$f":"IF('MARK Enrollment Template'!A394=\"\",\"\",IF(AND('MARK Enrollment Template'!A394<>\"\",'MARK Enrollment Template'!B394=\"\"),\"Please fill in a Last Name.\",\"\"))","v":""},{"$f":"IF('MARK Enrollment Template'!A394=\"\",\"\",IF(AND('MARK Enrollment Template'!A394<>\"\",'MARK Enrollment Template'!C394=\"\"),\"Please fill in Date of Birth.\",IF(TRIM(O389)<>\"D4\",\"Please format DOB as a date in the form MM/DD/YYYY.\",IF('MARK Enrollment Template'!C394>TODAY(),\"Please check DOB.\",\"\"))))","v":""},{"$f":"IF('MARK Enrollment Template'!A394=\"\",\"\",IF(AND('MARK Enrollment Template'!A394<>\"\",'MARK Enrollment Template'!D394=\"\"),\"Please fill in Sex.\",IF(OR(TRIM('MARK Enrollment Template'!D394)=\"M\",TRIM('MARK Enrollment Template'!D394)=\"F\",TRIM('MARK Enrollment Template'!D394)=\"Male\",TRIM('MARK Enrollment Template'!D394)=\"Female\"),\"\",\"Sex must be M/F/Male/Female.\")))","v":""},null,null,{"$f":"IF('MARK Enrollment Template'!A394=\"\",\"\",IF(AND('MARK Enrollment Template'!A394<>\"\",'MARK Enrollment Template'!G394=\"\"),\"Please fill in Email Address.\",IF(IFERROR(FIND(\"@\",'MARK Enrollment Template'!G394),\"X\")=\"X\",\"Email Address must include an @ symbol.\",\"\")))","v":""},null,null,null,{"$f":"IF('MARK Enrollment Template'!A394=\"\",\"\",IF(AND('MARK Enrollment Template'!A394<>\"\",'MARK Enrollment Template'!K394=\"\"),\"Please fill in Zip Code.\",IF(LEN(SUBSTITUTE(TRIM('MARK Enrollment Template'!K394),CHAR(9),\"\"))<5,\"Zip <5 digits. If leading zero, add apostrophe (ex. '01234).\",\"\")))","v":""},null,null,{"$f":"CELL(\"format\",'MARK Enrollment Template'!C394)","v":"G"}]
["",{"$f":"IF(AND(SUMPRODUCT(--('MARK Enrollment Template'!A395:L395<>\"\"))<>0,'MARK Enrollment Template'!A395=\"\"),\"Please fill in First Name.\",IF(LEN('MARK Enrollment Template'!A395)=1,\"Please fill in full first name.\",\"\"))","v":""},{"$f":"IF('MARK Enrollment Template'!A395=\"\",\"\",IF(AND('MARK Enrollment Template'!A395<>\"\",'MARK Enrollment Template'!B395=\"\"),\"Please fill in a Last Name.\",\"\"))","v":""},{"$f":"IF('MARK Enrollment Template'!A395=\"\",\"\",IF(AND('MARK Enrollment Template'!A395<>\"\",'MARK Enrollment Template'!C395=\"\"),\"Please fill in Date of Birth.\",IF(TRIM(O390)<>\"D4\",\"Please format DOB as a date in the form MM/DD/YYYY.\",IF('MARK Enrollment Template'!C395>TODAY(),\"Please check DOB.\",\"\"))))","v":""},{"$f":"IF('MARK Enrollment Template'!A395=\"\",\"\",IF(AND('MARK Enrollment Template'!A395<>\"\",'MARK Enrollment Template'!D395=\"\"),\"Please fill in Sex.\",IF(OR(TRIM('MARK Enrollment Template'!D395)=\"M\",TRIM('MARK Enrollment Template'!D395)=\"F\",TRIM('MARK Enrollment Template'!D395)=\"Male\",TRIM('MARK Enrollment Template'!D395)=\"Female\"),\"\",\"Sex must be M/F/Male/Female.\")))","v":""},null,null,{"$f":"IF('MARK Enrollment Template'!A395=\"\",\"\",IF(AND('MARK Enrollment Template'!A395<>\"\",'MARK Enrollment Template'!G395=\"\"),\"Please fill in Email Address.\",IF(IFERROR(FIND(\"@\",'MARK Enrollment Template'!G395),\"X\")=\"X\",\"Email Address must include an @ symbol.\",\"\")))","v":""},null,null,null,{"$f":"IF('MARK Enrollment Template'!A395=\"\",\"\",IF(AND('MARK Enrollment Template'!A395<>\"\",'MARK Enrollment Template'!K395=\"\"),\"Please fill in Zip Code.\",IF(LEN(SUBSTITUTE(TRIM('MARK Enrollment Template'!K395),CHAR(9),\"\"))<5,\"Zip <5 digits. If leading zero, add apostrophe (ex. '01234).\",\"\")))","v":""},null,null,{"$f":"CELL(\"format\",'MARK Enrollment Template'!C395)","v":"G"}]
["",{"$f":"IF(AND(SUMPRODUCT(--('MARK Enrollment Template'!A396:L396<>\"\"))<>0,'MARK Enrollment Template'!A396=\"\"),\"Please fill in First Name.\",IF(LEN('MARK Enrollment Template'!A396)=1,\"Please fill in full first name.\",\"\"))","v":""},{"$f":"IF('MARK Enrollment Template'!A396=\"\",\"\",IF(AND('MARK Enrollment Template'!A396<>\"\",'MARK Enrollment Template'!B396=\"\"),\"Please fill in a Last Name.\",\"\"))","v":""},{"$f":"IF('MARK Enrollment Template'!A396=\"\",\"\",IF(AND('MARK Enrollment Template'!A396<>\"\",'MARK Enrollment Template'!C396=\"\"),\"Please fill in Date of Birth.\",IF(TRIM(O391)<>\"D4\",\"Please format DOB as a date in the form MM/DD/YYYY.\",IF('MARK Enrollment Template'!C396>TODAY(),\"Please check DOB.\",\"\"))))","v":""},{"$f":"IF('MARK Enrollment Template'!A396=\"\",\"\",IF(AND('MARK Enrollment Template'!A396<>\"\",'MARK Enrollment Template'!D396=\"\"),\"Please fill in Sex.\",IF(OR(TRIM('MARK Enrollment Template'!D396)=\"M\",TRIM('MARK Enrollment Template'!D396)=\"F\",TRIM('MARK Enrollment Template'!D396)=\"Male\",TRIM('MARK Enrollment Template'!D396)=\"Female\"),\"\",\"Sex must be M/F/Male/Female.\")))","v":""},null,null,{"$f":"IF('MARK Enrollment Template'!A396=\"\",\"\",IF(AND('MARK Enrollment Template'!A396<>\"\",'MARK Enrollment Template'!G396=\"\"),\"Please fill in Email Address.\",IF(IFERROR(FIND(\"@\",'MARK Enrollment Template'!G396),\"X\")=\"X\",\"Email Address must include an @ symbol.\",\"\")))","v":""},null,null,null,{"$f":"IF('MARK Enrollment Template'!A396=\"\",\"\",IF(AND('MARK Enrollment Template'!A396<>\"\",'MARK Enrollment Template'!K396=\"\"),\"Please fill in Zip Code.\",IF(LEN(SUBSTITUTE(TRIM('MARK Enrollment Template'!K396),CHAR(9),\"\"))<5,\"Zip <5 digits. If leading zero, add apostrophe (ex. '01234).\",\"\")))","v":""},null,null,{"$f":"CELL(\"format\",'MARK Enrollment Template'!C396)","v":"G"}]
["",{"$f":"IF(AND(SUMPRODUCT(--('MARK Enrollment Template'!A397:L397<>\"\"))<>0,'MARK Enrollment Template'!A397=\"\"),\"Please fill in First Name.\",IF(LEN('MARK Enrollment Template'!A397)=1,\"Please fill in full first name.\",\"\"))","v":""},{"$f":"IF('MARK Enrollment Template'!A397=\"\",\"\",IF(AND('MARK Enrollment Template'!A397<>\"\",'MARK Enrollment Template'!B397=\"\"),\"Please fill in a Last Name.\",\"\"))","v":""},{"$f":"IF('MARK Enrollment Template'!A397=\"\",\"\",IF(AND('MARK Enrollment Template'!A397<>\"\",'MARK Enrollment Template'!C397=\"\"),\"Please fill in Date of Birth.\",IF(TRIM(O392)<>\"D4\",\"Please format DOB as a date in the form MM/DD/YYYY.\",IF('MARK Enrollment Template'!C397>TODAY(),\"Please check DOB.\",\"\"))))","v":""},{"$f":"IF('MARK Enrollment Template'!A397=\"\",\"\",IF(AND('MARK Enrollment Template'!A397<>\"\",'MARK Enrollment Template'!D397=\"\"),\"Please fill in Sex.\",IF(OR(TRIM('MARK Enrollment Template'!D397)=\"M\",TRIM('MARK Enrollment Template'!D397)=\"F\",TRIM('MARK Enrollment Template'!D397)=\"Male\",TRIM('MARK Enrollment Template'!D397)=\"Female\"),\"\",\"Sex must be M/F/Male/Female.\")))","v":""},null,null,{"$f":"IF('MARK Enrollment Template'!A397=\"\",\"\",IF(AND('MARK Enrollment Template'!A397<>\"\",'MARK Enrollment Template'!G397=\"\"),\"Please fill in Email Address.\",IF(IFERROR(FIND(\"@\",'MARK Enrollment Template'!G397),\"X\")=\"X\",\"Email Address must include an @ symbol.\",\"\")))","v":""},null,null,null,{"$f":"IF('MARK Enrollment Template'!A397=\"\",\"\",IF(AND('MARK Enrollment Template'!A397<>\"\",'MARK Enrollment Template'!K397=\"\"),\"Please fill in Zip Code.\",IF(LEN(SUBSTITUTE(TRIM('MARK Enrollment Template'!K397),CHAR(9),\"\"))<5,\"Zip <5 digits. If leading zero, add apostrophe (ex. '01234).\",\"\")))","v":""},null,null,{"$f":"CELL(\"format\",'MARK Enrollment Template'!C397)","v":"G"}]
[{"$f":"IF(B393<>\"\",B393,IF(C393<>\"\",C393,IF(D393<>\"\",D393,IF(E393<>\"\",E393,IF(F393<>\"\",F393,IF(G393<>\"\",G393,IF(H393<>\"\",H393,IF(I393<>\"\",I393,IF(J393<>\"\",J393,IF(K393<>\"\",K393,L393))))))))))","v":""},{"$f":"IF(AND(SUMPRODUCT(--('MARK Enrollment Template'!A398:L398<>\"\"))<>0,'MARK Enrollment Template'!A398=\"\"),\"Please fill in First Name.\",IF(LEN('MARK Enrollment Template'!A398)=1,\"Please fill in full first name.\",\"\"))","v":""},{"$f":"IF('MARK Enrollment Template'!A398=\"\",\"\",IF(AND('MARK Enrollment Template'!A398<>\"\",'MARK Enrollment Template'!B398=\"\"),\"Please fill in a Last Name.\",\"\"))","v":""},{"$f":"IF('MARK Enrollment Template'!A398=\"\",\"\",IF(AND('MARK Enrollment Template'!A398<>\"\",'MARK Enrollment Template'!C398=\"\"),\"Please fill in Date of Birth.\",IF(TRIM(O393)<>\"D4\",\"Please format DOB as a date in the form MM/DD/YYYY.\",IF('MARK Enrollment Template'!C398>TODAY(),\"Please check DOB.\",\"\"))))","v":""},{"$f":"IF('MARK Enrollment Template'!A398=\"\",\"\",IF(AND('MARK Enrollment Template'!A398<>\"\",'MARK Enrollment Template'!D398=\"\"),\"Please fill in Sex.\",IF(OR(TRIM('MARK Enrollment Template'!D398)=\"M\",TRIM('MARK Enrollment Template'!D398)=\"F\",TRIM('MARK Enrollment Template'!D398)=\"Male\",TRIM('MARK Enrollment Template'!D398)=\"Female\"),\"\",\"Sex must be M/F/Male/Female.\")))","v":""},null,null,{"$f":"IF('MARK Enrollment Template'!A398=\"\",\"\",IF(AND('MARK Enrollment Template'!A398<>\"\",'MARK Enrollment Template'!G398=\"\"),\"Please fill in Email Address.\",IF(IFERROR(FIND(\"@\",'MARK Enrollment Template'!G398),\"X\")=\"X\",\"Email Address must include an @ symbol.\",\"\")))","v":""},null,null,null,{"$f":"IF('MARK Enrollment Template'!A398=\"\",\"\",IF(AND('MARK Enrollment Template'!A398<>\"\",'MARK Enrollment Template'!K398=\"\"),\"Please fill in Zip Code.\",IF(LEN(SUBSTITUTE(TRIM('MARK Enrollment Template'!K398),CHAR(9),\"\"))<5,\"Zip <5 digits. If leading zero, add apostrophe (ex. '01234).\",\"\")))","v":""},null,null,{"$f":"CELL(\"format\",'MARK Enrollment Template'!C398)","v":"G"}]
["",{"$f":"IF(AND(SUMPRODUCT(--('MARK Enrollment Template'!A399:L399<>\"\"))<>0,'MARK Enrollment Template'!A399=\"\"),\"Please fill in First Name.\",IF(LEN('MARK Enrollment Template'!A399)=1,\"Please fill in full first name.\",\"\"))","v":""},{"$f":"IF('MARK Enrollment Template'!A399=\"\",\"\",IF(AND('MARK Enrollment Template'!A399<>\"\",'MARK Enrollment Template'!B399=\"\"),\"Please fill in a Last Name.\",\"\"))","v":""},{"$f":"IF('MARK Enrollment Template'!A399=\"\",\"\",IF(AND('MARK Enrollment Template'!A399<>\"\",'MARK Enrollment Template'!C399=\"\"),\"Please fill in Date of Birth.\",IF(TRIM(O394)<>\"D4\",\"Please format DOB as a date in the form MM/DD/YYYY.\",IF('MARK Enrollment Template'!C399>TODAY(),\"Please check DOB.\",\"\"))))","v":""},{"$f":"IF('MARK Enrollment Template'!A399=\"\",\"\",IF(AND('MARK Enrollment Template'!A399<>\"\",'MARK Enrollment Template'!D399=\"\"),\"Please fill in Sex.\",IF(OR(TRIM('MARK Enrollment Template'!D399)=\"M\",TRIM('MARK Enrollment Template'!D399)=\"F\",TRIM('MARK Enrollment Template'!D399)=\"Male\",TRIM('MARK Enrollment Template'!D399)=\"Female\"),\"\",\"Sex must be M/F/Male/Female.\")))","v":""},null,null,{"$f":"IF('MARK Enrollment Template'!A399=\"\",\"\",IF(AND('MARK Enrollment Template'!A399<>\"\",'MARK Enrollment Template'!G399=\"\"),\"Please fill in Email Address.\",IF(IFERROR(FIND(\"@\",'MARK Enrollment Template'!G399),\"X\")=\"X\",\"Email Address must include an @ symbol.\",\"\")))","v":""},null,null,null,{"$f":"IF('MARK Enrollment Template'!A399=\"\",\"\",IF(AND('MARK Enrollment Template'!A399<>\"\",'MARK Enrollment Template'!K399=\"\"),\"Please fill in Zip Code.\",IF(LEN(SUBSTITUTE(TRIM('MARK Enrollment Template'!K399),CHAR(9),\"\"))<5,\"Zip <5 digits. If leading zero, add apostrophe (ex. '01234).\",\"\")))","v":""},null,null,{"$f":"CELL(\"format\",'MARK Enrollment Template'!C399)","v":"G"}]
["",{"$f":"IF(AND(SUMPRODUCT(--('MARK Enrollment Template'!A400:L400<>\"\"))<>0,'MARK Enrollment Template'!A400=\"\"),\"Please fill in First Name.\",IF(LEN('MARK Enrollment Template'!A400)=1,\"Please fill in full first name.\",\"\"))","v":""},{"$f":"IF('MARK Enrollment Template'!A400=\"\",\"\",IF(AND('MARK Enrollment Template'!A400<>\"\",'MARK Enrollment Template'!B400=\"\"),\"Please fill in a Last Name.\",\"\"))","v":""},{"$f":"IF('MARK Enrollment Template'!A400=\"\",\"\",IF(AND('MARK Enrollment Template'!A400<>\"\",'MARK Enrollment Template'!C400=\"\"),\"Please fill in Date of Birth.\",IF(TRIM(O395)<>\"D4\",\"Please format DOB as a date in the form MM/DD/YYYY.\",IF('MARK Enrollment Template'!C400>TODAY(),\"Please check DOB.\",\"\"))))","v":""},{"$f":"IF('MARK Enrollment Template'!A400=\"\",\"\",IF(AND('MARK Enrollment Template'!A400<>\"\",'MARK Enrollment Template'!D400=\"\"),\"Please fill in Sex.\",IF(OR(TRIM('MARK Enrollment Template'!D400)=\"M\",TRIM('MARK Enrollment Template'!D400)=\"F\",TRIM('MARK Enrollment Template'!D400)=\"Male\",TRIM('MARK Enrollment Template'!D400)=\"Female\"),\"\",\"Sex must be M/F/Male/Female.\")))","v":""},null,null,{"$f":"IF('MARK Enrollment Template'!A400=\"\",\"\",IF(AND('MARK Enrollment Template'!A400<>\"\",'MARK Enrollment Template'!G400=\"\"),\"Please fill in Email Address.\",IF(IFERROR(FIND(\"@\",'MARK Enrollment Template'!G400),\"X\")=\"X\",\"Email Address must include an @ symbol.\",\"\")))","v":""},null,null,null,{"$f":"IF('MARK Enrollment Template'!A400=\"\",\"\",IF(AND('MARK Enrollment Template'!A400<>\"\",'MARK Enrollment Template'!K400=\"\"),\"Please fill in Zip Code.\",IF(LEN(SUBSTITUTE(TRIM('MARK Enrollment Template'!K400),CHAR(9),\"\"))<5,\"Zip <5 digits. If leading zero, add apostrophe (ex. '01234).\",\"\")))","v":""},null,null,{"$f":"CELL(\"format\",'MARK Enrollment Template'!C400)","v":"G"}]
["",{"$f":"IF(AND(SUMPRODUCT(--('MARK Enrollment Template'!A401:L401<>\"\"))<>0,'MARK Enrollment Template'!A401=\"\"),\"Please fill in First Name.\",IF(LEN('MARK Enrollment Template'!A401)=1,\"Please fill in full first name.\",\"\"))","v":""},{"$f":"IF('MARK Enrollment Template'!A401=\"\",\"\",IF(AND('MARK Enrollment Template'!A401<>\"\",'MARK Enrollment Template'!B401=\"\"),\"Please fill in a Last Name.\",\"\"))","v":""},{"$f":"IF('MARK Enrollment Template'!A401=\"\",\"\",IF(AND('MARK Enrollment Template'!A401<>\"\",'MARK Enrollment Template'!C401=\"\"),\"Please fill in Date of Birth.\",IF(TRIM(O396)<>\"D4\",\"Please format DOB as a date in the form MM/DD/YYYY.\",IF('MARK Enrollment Template'!C401>TODAY(),\"Please check DOB.\",\"\"))))","v":""},{"$f":"IF('MARK Enrollment Template'!A401=\"\",\"\",IF(AND('MARK Enrollment Template'!A401<>\"\",'MARK Enrollment Template'!D401=\"\"),\"Please fill in Sex.\",IF(OR(TRIM('MARK Enrollment Template'!D401)=\"M\",TRIM('MARK Enrollment Template'!D401)=\"F\",TRIM('MARK Enrollment Template'!D401)=\"Male\",TRIM('MARK Enrollment Template'!D401)=\"Female\"),\"\",\"Sex must be M/F/Male/Female.\")))","v":""},null,null,{"$f":"IF('MARK Enrollment Template'!A401=\"\",\"\",IF(AND('MARK Enrollment Template'!A401<>\"\",'MARK Enrollment Template'!G401=\"\"),\"Please fill in Email Address.\",IF(IFERROR(FIND(\"@\",'MARK Enrollment Template'!G401),\"X\")=\"X\",\"Email Address must include an @ symbol.\",\"\")))","v":""},null,null,null,{"$f":"IF('MARK Enrollment Template'!A401=\"\",\"\",IF(AND('MARK Enrollment Template'!A401<>\"\",'MARK Enrollment Template'!K401=\"\"),\"Please fill in Zip Code.\",IF(LEN(SUBSTITUTE(TRIM('MARK Enrollment Template'!K401),CHAR(9),\"\"))<5,\"Zip <5 digits. If leading zero, add apostrophe (ex. '01234).\",\"\")))","v":""},null,null,{"$f":"CELL(\"format\",'MARK Enrollment Template'!C401)","v":"G"}]
["",{"$f":"IF(AND(SUMPRODUCT(--('MARK Enrollment Template'!A402:L402<>\"\"))<>0,'MARK Enrollment Template'!A402=\"\"),\"Please fill in First Name.\",IF(LEN('MARK Enrollment Template'!A402)=1,\"Please fill in full first name.\",\"\"))","v":""},{"$f":"IF('MARK Enrollment Template'!A402=\"\",\"\",IF(AND('MARK Enrollment Template'!A402<>\"\",'MARK Enrollment Template'!B402=\"\"),\"Please fill in a Last Name.\",\"\"))","v":""},{"$f":"IF('MARK Enrollment Template'!A402=\"\",\"\",IF(AND('MARK Enrollment Template'!A402<>\"\",'MARK Enrollment Template'!C402=\"\"),\"Please fill in Date of Birth.\",IF(TRIM(O397)<>\"D4\",\"Please format DOB as a date in the form MM/DD/YYYY.\",IF('MARK Enrollment Template'!C402>TODAY(),\"Please check DOB.\",\"\"))))","v":""},{"$f":"IF('MARK Enrollment Template'!A402=\"\",\"\",IF(AND('MARK Enrollment Template'!A402<>\"\",'MARK Enrollment Template'!D402=\"\"),\"Please fill in Sex.\",IF(OR(TRIM('MARK Enrollment Template'!D402)=\"M\",TRIM('MARK Enrollment Template'!D402)=\"F\",TRIM('MARK Enrollment Template'!D402)=\"Male\",TRIM('MARK Enrollment Template'!D402)=\"Female\"),\"\",\"Sex must be M/F/Male/Female.\")))","v":""},null,null,{"$f":"IF('MARK Enrollment Template'!A402=\"\",\"\",IF(AND('MARK Enrollment Template'!A402<>\"\",'MARK Enrollment Template'!G402=\"\"),\"Please fill in Email Address.\",IF(IFERROR(FIND(\"@\",'MARK Enrollment Template'!G402),\"X\")=\"X\",\"Email Address must include an @ symbol.\",\"\")))","v":""},null,null,null,{"$f":"IF('MARK Enrollment Template'!A402=\"\",\"\",IF(AND('MARK Enrollment Template'!A402<>\"\",'MARK Enrollment Template'!K402=\"\"),\"Please fill in Zip Code.\",IF(LEN(SUBSTITUTE(TRIM('MARK Enrollment Template'!K402),CHAR(9),\"\"))<5,\"Zip <5 digits. If leading zero, add apostrophe (ex. '01234).\",\"\")))","v":""},null,null,{"$f":"CELL(\"format\",'MARK Enrollment Template'!C402)","v":"G"}]
["",{"$f":"IF(AND(SUMPRODUCT(--('MARK Enrollment Template'!A403:L403<>\"\"))<>0,'MARK Enrollment Template'!A403=\"\"),\"Please fill in First Name.\",IF(LEN('MARK Enrollment Template'!A403)=1,\"Please fill in full first name.\",\"\"))","v":""},{"$f":"IF('MARK Enrollment Template'!A403=\"\",\"\",IF(AND('MARK Enrollment Template'!A403<>\"\",'MARK Enrollment Template'!B403=\"\"),\"Please fill in a Last Name.\",\"\"))","v":""},{"$f":"IF('MARK Enrollment Template'!A403=\"\",\"\",IF(AND('MARK Enrollment Template'!A403<>\"\",'MARK Enrollment Template'!C403=\"\"),\"Please fill in Date of Birth.\",IF(TRIM(O398)<>\"D4\",\"Please format DOB as a date in the form MM/DD/YYYY.\",IF('MARK Enrollment Template'!C403>TODAY(),\"Please check DOB.\",\"\"))))","v":""},{"$f":"IF('MARK Enrollment Template'!A403=\"\",\"\",IF(AND('MARK Enrollment Template'!A403<>\"\",'MARK Enrollment Template'!D403=\"\"),\"Please fill in Sex.\",IF(OR(TRIM('MARK Enrollment Template'!D403)=\"M\",TRIM('MARK Enrollment Template'!D403)=\"F\",TRIM('MARK Enrollment Template'!D403)=\"Male\",TRIM('MARK Enrollment Template'!D403)=\"Female\"),\"\",\"Sex must be M/F/Male/Female.\")))","v":""},null,null,{"$f":"IF('MARK Enrollment Template'!A403=\"\",\"\",IF(AND('MARK Enrollment Template'!A403<>\"\",'MARK Enrollment Template'!G403=\"\"),\"Please fill in Email Address.\",IF(IFERROR(FIND(\"@\",'MARK Enrollment Template'!G403),\"X\")=\"X\",\"Email Address must include an @ symbol.\",\"\")))","v":""},null,null,null,{"$f":"IF('MARK Enrollment Template'!A403=\"\",\"\",IF(AND('MARK Enrollment Template'!A403<>\"\",'MARK Enrollment Template'!K403=\"\"),\"Please fill in Zip Code.\",IF(LEN(SUBSTITUTE(TRIM('MARK Enrollment Template'!K403),CHAR(9),\"\"))<5,\"Zip <5 digits. If leading zero, add apostrophe (ex. '01234).\",\"\")))","v":""},null,null,{"$f":"CELL(\"format\",'MARK Enrollment Template'!C403)","v":"G"}]
["",{"$f":"IF(AND(SUMPRODUCT(--('MARK Enrollment Template'!A404:L404<>\"\"))<>0,'MARK Enrollment Template'!A404=\"\"),\"Please fill in First Name.\",IF(LEN('MARK Enrollment Template'!A404)=1,\"Please fill in full first name.\",\"\"))","v":""},{"$f":"IF('MARK Enrollment Template'!A404=\"\",\"\",IF(AND('MARK Enrollment Template'!A404<>\"\",'MARK Enrollment Template'!B404=\"\"),\"Please fill in a Last Name.\",\"\"))","v":""},{"$f":"IF('MARK Enrollment Template'!A404=\"\",\"\",IF(AND('MARK Enrollment Template'!A404<>\"\",'MARK Enrollment Template'!C404=\"\"),\"Please fill in Date of Birth.\",IF(TRIM(O399)<>\"D4\",\"Please format DOB as a date in the form MM/DD/YYYY.\",IF('MARK Enrollment Template'!C404>TODAY(),\"Please check DOB.\",\"\"))))","v":""},{"$f":"IF('MARK Enrollment Template'!A404=\"\",\"\",IF(AND('MARK Enrollment Template'!A404<>\"\",'MARK Enrollment Template'!D404=\"\"),\"Please fill in Sex.\",IF(OR(TRIM('MARK Enrollment Template'!D404)=\"M\",TRIM('MARK Enrollment Template'!D404)=\"F\",TRIM('MARK Enrollment Template'!D404)=\"Male\",TRIM('MARK Enrollment Template'!D404)=\"Female\"),\"\",\"Sex must be M/F/Male/Female.\")))","v":""},null,null,{"$f":"IF('MARK Enrollment Template'!A404=\"\",\"\",IF(AND('MARK Enrollment Template'!A404<>\"\",'MARK Enrollment Template'!G404=\"\"),\"Please fill in Email Address.\",IF(IFERROR(FIND(\"@\",'MARK Enrollment Template'!G404),\"X\")=\"X\",\"Email Address must include an @ symbol.\",\"\")))","v":""},null,null,null,{"$f":"IF('MARK Enrollment Template'!A404=\"\",\"\",IF(AND('MARK Enrollment Template'!A404<>\"\",'MARK Enrollment Template'!K404=\"\"),\"Please fill in Zip Code.\",IF(LEN(SUBSTITUTE(TRIM('MARK Enrollment Template'!K404),CHAR(9),\"\"))<5,\"Zip <5 digits. If leading zero, add apostrophe (ex. '01234).\",\"\")))","v":""},null,null,{"$f":"CELL(\"format\",'MARK Enrollment Template'!C404)","v":"G"}]
["",{"$f":"IF(AND(SUMPRODUCT(--('MARK Enrollment Template'!A405:L405<>\"\"))<>0,'MARK Enrollment Template'!A405=\"\"),\"Please fill in First Name.\",IF(LEN('MARK Enrollment Template'!A405)=1,\"Please fill in full first name.\",\"\"))","v":""},{"$f":"IF('MARK Enrollment Template'!A405=\"\",\"\",IF(AND('MARK Enrollment Template'!A405<>\"\",'MARK Enrollment Template'!B405=\"\"),\"Please fill in a Last Name.\",\"\"))","v":""},{"$f":"IF('MARK Enrollment Template'!A405=\"\",\"\",IF(AND('MARK Enrollment Template'!A405<>\"\",'MARK Enrollment Template'!C405=\"\"),\"Please fill in Date of Birth.\",IF(TRIM(O400)<>\"D4\",\"Please format DOB as a date in the form MM/DD/YYYY.\",IF('MARK Enrollment Template'!C405>TODAY(),\"Please check DOB.\",\"\"))))","v":""},{"$f":"IF('MARK Enrollment Template'!A405=\"\",\"\",IF(AND('MARK Enrollment Template'!A405<>\"\",'MARK Enrollment Template'!D405=\"\"),\"Please fill in Sex.\",IF(OR(TRIM('MARK Enrollment Template'!D405)=\"M\",TRIM('MARK Enrollment Template'!D405)=\"F\",TRIM('MARK Enrollment Template'!D405)=\"Male\",TRIM('MARK Enrollment Template'!D405)=\"Female\"),\"\",\"Sex must be M/F/Male/Female.\")))","v":""},null,null,{"$f":"IF('MARK Enrollment Template'!A405=\"\",\"\",IF(AND('MARK Enrollment Template'!A405<>\"\",'MARK Enrollment Template'!G405=\"\"),\"Please fill in Email Address.\",IF(IFERROR(FIND(\"@\",'MARK Enrollment Template'!G405),\"X\")=\"X\",\"Email Address must include an @ symbol.\",\"\")))","v":""},null,null,null,{"$f":"IF('MARK Enrollment Template'!A405=\"\",\"\",IF(AND('MARK Enrollment Template'!A405<>\"\",'MARK Enrollment Template'!K405=\"\"),\"Please fill in Zip Code.\",IF(LEN(SUBSTITUTE(TRIM('MARK Enrollment Template'!K405),CHAR(9),\"\"))<5,\"Zip <5 digits. If leading zero, add apostrophe (ex. '01234).\",\"\")))","v":""},null,null,{"$f":"CELL(\"format\",'MARK Enrollment Template'!C405)","v":"G"}]
["",{"$f":"IF(AND(SUMPRODUCT(--('MARK Enrollment Template'!A406:L406<>\"\"))<>0,'MARK Enrollment Template'!A406=\"\"),\"Please fill in First Name.\",IF(LEN('MARK Enrollment Template'!A406)=1,\"Please fill in full first name.\",\"\"))","v":""},{"$f":"IF('MARK Enrollment Template'!A406=\"\",\"\",IF(AND('MARK Enrollment Template'!A406<>\"\",'MARK Enrollment Template'!B406=\"\"),\"Please fill in a Last Name.\",\"\"))","v":""},{"$f":"IF('MARK Enrollment Template'!A406=\"\",\"\",IF(AND('MARK Enrollment Template'!A406<>\"\",'MARK Enrollment Template'!C406=\"\"),\"Please fill in Date of Birth.\",IF(TRIM(O401)<>\"D4\",\"Please format DOB as a date in the form MM/DD/YYYY.\",IF('MARK Enrollment Template'!C406>TODAY(),\"Please check DOB.\",\"\"))))","v":""},{"$f":"IF('MARK Enrollment Template'!A406=\"\",\"\",IF(AND('MARK Enrollment Template'!A406<>\"\",'MARK Enrollment Template'!D406=\"\"),\"Please fill in Sex.\",IF(OR(TRIM('MARK Enrollment Template'!D406)=\"M\",TRIM('MARK Enrollment Template'!D406)=\"F\",TRIM('MARK Enrollment Template'!D406)=\"Male\",TRIM('MARK Enrollment Template'!D406)=\"Female\"),\"\",\"Sex must be M/F/Male/Female.\")))","v":""},null,null,{"$f":"IF('MARK Enrollment Template'!A406=\"\",\"\",IF(AND('MARK Enrollment Template'!A406<>\"\",'MARK Enrollment Template'!G406=\"\"),\"Please fill in Email Address.\",IF(IFERROR(FIND(\"@\",'MARK Enrollment Template'!G406),\"X\")=\"X\",\"Email Address must include an @ symbol.\",\"\")))","v":""},null,null,null,{"$f":"IF('MARK Enrollment Template'!A406=\"\",\"\",IF(AND('MARK Enrollment Template'!A406<>\"\",'MARK Enrollment Template'!K406=\"\"),\"Please fill in Zip Code.\",IF(LEN(SUBSTITUTE(TRIM('MARK Enrollment Template'!K406),CHAR(9),\"\"))<5,\"Zip <5 digits. If leading zero, add apostrophe (ex. '01234).\",\"\")))","v":""},null,null,{"$f":"CELL(\"format\",'MARK Enrollment Template'!C406)","v":"G"}]
["",{"$f":"IF(AND(SUMPRODUCT(--('MARK Enrollment Template'!A407:L407<>\"\"))<>0,'MARK Enrollment Template'!A407=\"\"),\"Please fill in First Name.\",IF(LEN('MARK Enrollment Template'!A407)=1,\"Please fill in full first name.\",\"\"))","v":""},{"$f":"IF('MARK Enrollment Template'!A407=\"\",\"\",IF(AND('MARK Enrollment Template'!A407<>\"\",'MARK Enrollment Template'!B407=\"\"),\"Please fill in a Last Name.\",\"\"))","v":""},{"$f":"IF('MARK Enrollment Template'!A407=\"\",\"\",IF(AND('MARK Enrollment Template'!A407<>\"\",'MARK Enrollment Template'!C407=\"\"),\"Please fill in Date of Birth.\",IF(TRIM(O402)<>\"D4\",\"Please format DOB as a date in the form MM/DD/YYYY.\",IF('MARK Enrollment Template'!C407>TODAY(),\"Please check DOB.\",\"\"))))","v":""},{"$f":"IF('MARK Enrollment Template'!A407=\"\",\"\",IF(AND('MARK Enrollment Template'!A407<>\"\",'MARK Enrollment Template'!D407=\"\"),\"Please fill in Sex.\",IF(OR(TRIM('MARK Enrollment Template'!D407)=\"M\",TRIM('MARK Enrollment Template'!D407)=\"F\",TRIM('MARK Enrollment Template'!D407)=\"Male\",TRIM('MARK Enrollment Template'!D407)=\"Female\"),\"\",\"Sex must be M/F/Male/Female.\")))","v":""},null,null,{"$f":"IF('MARK Enrollment Template'!A407=\"\",\"\",IF(AND('MARK Enrollment Template'!A407<>\"\",'MARK Enrollment Template'!G407=\"\"),\"Please fill in Email Address.\",IF(IFERROR(FIND(\"@\",'MARK Enrollment Template'!G407),\"X\")=\"X\",\"Email Address must include an @ symbol.\",\"\")))","v":""},null,null,null,{"$f":"IF('MARK Enrollment Template'!A407=\"\",\"\",IF(AND('MARK Enrollment Template'!A407<>\"\",'MARK Enrollment Template'!K407=\"\"),\"Please fill in Zip Code.\",IF(LEN(SUBSTITUTE(TRIM('MARK Enrollment Template'!K407),CHAR(9),\"\"))<5,\"Zip <5 digits. If leading zero, add apostrophe (ex. '01234).\",\"\")))","v":""},null,null,{"$f":"CELL(\"format\",'MARK Enrollment Template'!C407)","v":"G"}]
["",{"$f":"IF(AND(SUMPRODUCT(--('MARK Enrollment Template'!A408:L408<>\"\"))<>0,'MARK Enrollment Template'!A408=\"\"),\"Please fill in First Name.\",IF(LEN('MARK Enrollment Template'!A408)=1,\"Please fill in full first name.\",\"\"))","v":""},{"$f":"IF('MARK Enrollment Template'!A408=\"\",\"\",IF(AND('MARK Enrollment Template'!A408<>\"\",'MARK Enrollment Template'!B408=\"\"),\"Please fill in a Last Name.\",\"\"))","v":""},{"$f":"IF('MARK Enrollment Template'!A408=\"\",\"\",IF(AND('MARK Enrollment Template'!A408<>\"\",'MARK Enrollment Template'!C408=\"\"),\"Please fill in Date of Birth.\",IF(TRIM(O403)<>\"D4\",\"Please format DOB as a date in the form MM/DD/YYYY.\",IF('MARK Enrollment Template'!C408>TODAY(),\"Please check DOB.\",\"\"))))","v":""},{"$f":"IF('MARK Enrollment Template'!A408=\"\",\"\",IF(AND('MARK Enrollment Template'!A408<>\"\",'MARK Enrollment Template'!D408=\"\"),\"Please fill in Sex.\",IF(OR(TRIM('MARK Enrollment Template'!D408)=\"M\",TRIM('MARK Enrollment Template'!D408)=\"F\",TRIM('MARK Enrollment Template'!D408)=\"Male\",TRIM('MARK Enrollment Template'!D408)=\"Female\"),\"\",\"Sex must be M/F/Male/Female.\")))","v":""},null,null,{"$f":"IF('MARK Enrollment Template'!A408=\"\",\"\",IF(AND('MARK Enrollment Template'!A408<>\"\",'MARK Enrollment Template'!G408=\"\"),\"Please fill in Email Address.\",IF(IFERROR(FIND(\"@\",'MARK Enrollment Template'!G408),\"X\")=\"X\",\"Email Address must include an @ symbol.\",\"\")))","v":""},null,null,null,{"$f":"IF('MARK Enrollment Template'!A408=\"\",\"\",IF(AND('MARK Enrollment Template'!A408<>\"\",'MARK Enrollment Template'!K408=\"\"),\"Please fill in Zip Code.\",IF(LEN(SUBSTITUTE(TRIM('MARK Enrollment Template'!K408),CHAR(9),\"\"))<5,\"Zip <5 digits. If leading zero, add apostrophe (ex. '01234).\",\"\")))","v":""},null,null,{"$f":"CELL(\"format\",'MARK Enrollment Template'!C408)","v":"G"}]
["",{"$f":"IF(AND(SUMPRODUCT(--('MARK Enrollment Template'!A409:L409<>\"\"))<>0,'MARK Enrollment Template'!A409=\"\"),\"Please fill in First Name.\",IF(LEN('MARK Enrollment Template'!A409)=1,\"Please fill in full first name.\",\"\"))","v":""},{"$f":"IF('MARK Enrollment Template'!A409=\"\",\"\",IF(AND('MARK Enrollment Template'!A409<>\"\",'MARK Enrollment Template'!B409=\"\"),\"Please fill in a Last Name.\",\"\"))","v":""},{"$f":"IF('MARK Enrollment Template'!A409=\"\",\"\",IF(AND('MARK Enrollment Template'!A409<>\"\",'MARK Enrollment Template'!C409=\"\"),\"Please fill in Date of Birth.\",IF(TRIM(O404)<>\"D4\",\"Please format DOB as a date in the form MM/DD/YYYY.\",IF('MARK Enrollment Template'!C409>TODAY(),\"Please check DOB.\",\"\"))))","v":""},{"$f":"IF('MARK Enrollment Template'!A409=\"\",\"\",IF(AND('MARK Enrollment Template'!A409<>\"\",'MARK Enrollment Template'!D409=\"\"),\"Please fill in Sex.\",IF(OR(TRIM('MARK Enrollment Template'!D409)=\"M\",TRIM('MARK Enrollment Template'!D409)=\"F\",TRIM('MARK Enrollment Template'!D409)=\"Male\",TRIM('MARK Enrollment Template'!D409)=\"Female\"),\"\",\"Sex must be M/F/Male/Female.\")))","v":""},null,null,{"$f":"IF('MARK Enrollment Template'!A409=\"\",\"\",IF(AND('MARK Enrollment Template'!A409<>\"\",'MARK Enrollment Template'!G409=\"\"),\"Please fill in Email Address.\",IF(IFERROR(FIND(\"@\",'MARK Enrollment Template'!G409),\"X\")=\"X\",\"Email Address must include an @ symbol.\",\"\")))","v":""},null,null,null,{"$f":"IF('MARK Enrollment Template'!A409=\"\",\"\",IF(AND('MARK Enrollment Template'!A409<>\"\",'MARK Enrollment Template'!K409=\"\"),\"Please fill in Zip Code.\",IF(LEN(SUBSTITUTE(TRIM('MARK Enrollment Template'!K409),CHAR(9),\"\"))<5,\"Zip <5 digits. If leading zero, add apostrophe (ex. '01234).\",\"\")))","v":""},null,null,{"$f":"CELL(\"format\",'MARK Enrollment Template'!C409)","v":"G"}]
["",{"$f":"IF(AND(SUMPRODUCT(--('MARK Enrollment Template'!A410:L410<>\"\"))<>0,'MARK Enrollment Template'!A410=\"\"),\"Please fill in First Name.\",IF(LEN('MARK Enrollment Template'!A410)=1,\"Please fill in full first name.\",\"\"))","v":""},{"$f":"IF('MARK Enrollment Template'!A410=\"\",\"\",IF(AND('MARK Enrollment Template'!A410<>\"\",'MARK Enrollment Template'!B410=\"\"),\"Please fill in a Last Name.\",\"\"))","v":""},{"$f":"IF('MARK Enrollment Template'!A410=\"\",\"\",IF(AND('MARK Enrollment Template'!A410<>\"\",'MARK Enrollment Template'!C410=\"\"),\"Please fill in Date of Birth.\",IF(TRIM(O405)<>\"D4\",\"Please format DOB as a date in the form MM/DD/YYYY.\",IF('MARK Enrollment Template'!C410>TODAY(),\"Please check DOB.\",\"\"))))","v":""},{"$f":"IF('MARK Enrollment Template'!A410=\"\",\"\",IF(AND('MARK Enrollment Template'!A410<>\"\",'MARK Enrollment Template'!D410=\"\"),\"Please fill in Sex.\",IF(OR(TRIM('MARK Enrollment Template'!D410)=\"M\",TRIM('MARK Enrollment Template'!D410)=\"F\",TRIM('MARK Enrollment Template'!D410)=\"Male\",TRIM('MARK Enrollment Template'!D410)=\"Female\"),\"\",\"Sex must be M/F/Male/Female.\")))","v":""},null,null,{"$f":"IF('MARK Enrollment Template'!A410=\"\",\"\",IF(AND('MARK Enrollment Template'!A410<>\"\",'MARK Enrollment Template'!G410=\"\"),\"Please fill in Email Address.\",IF(IFERROR(FIND(\"@\",'MARK Enrollment Template'!G410),\"X\")=\"X\",\"Email Address must include an @ symbol.\",\"\")))","v":""},null,null,null,{"$f":"IF('MARK Enrollment Template'!A410=\"\",\"\",IF(AND('MARK Enrollment Template'!A410<>\"\",'MARK Enrollment Template'!K410=\"\"),\"Please fill in Zip Code.\",IF(LEN(SUBSTITUTE(TRIM('MARK Enrollment Template'!K410),CHAR(9),\"\"))<5,\"Zip <5 digits. If leading zero, add apostrophe (ex. '01234).\",\"\")))","v":""},null,null,{"$f":"CELL(\"format\",'MARK Enrollment Template'!C410)","v":"G"}]
["",{"$f":"IF(AND(SUMPRODUCT(--('MARK Enrollment Template'!A411:L411<>\"\"))<>0,'MARK Enrollment Template'!A411=\"\"),\"Please fill in First Name.\",IF(LEN('MARK Enrollment Template'!A411)=1,\"Please fill in full first name.\",\"\"))","v":""},{"$f":"IF('MARK Enrollment Template'!A411=\"\",\"\",IF(AND('MARK Enrollment Template'!A411<>\"\",'MARK Enrollment Template'!B411=\"\"),\"Please fill in a Last Name.\",\"\"))","v":""},{"$f":"IF('MARK Enrollment Template'!A411=\"\",\"\",IF(AND('MARK Enrollment Template'!A411<>\"\",'MARK Enrollment Template'!C411=\"\"),\"Please fill in Date of Birth.\",IF(TRIM(O406)<>\"D4\",\"Please format DOB as a date in the form MM/DD/YYYY.\",IF('MARK Enrollment Template'!C411>TODAY(),\"Please check DOB.\",\"\"))))","v":""},{"$f":"IF('MARK Enrollment Template'!A411=\"\",\"\",IF(AND('MARK Enrollment Template'!A411<>\"\",'MARK Enrollment Template'!D411=\"\"),\"Please fill in Sex.\",IF(OR(TRIM('MARK Enrollment Template'!D411)=\"M\",TRIM('MARK Enrollment Template'!D411)=\"F\",TRIM('MARK Enrollment Template'!D411)=\"Male\",TRIM('MARK Enrollment Template'!D411)=\"Female\"),\"\",\"Sex must be M/F/Male/Female.\")))","v":""},null,null,{"$f":"IF('MARK Enrollment Template'!A411=\"\",\"\",IF(AND('MARK Enrollment Template'!A411<>\"\",'MARK Enrollment Template'!G411=\"\"),\"Please fill in Email Address.\",IF(IFERROR(FIND(\"@\",'MARK Enrollment Template'!G411),\"X\")=\"X\",\"Email Address must include an @ symbol.\",\"\")))","v":""},null,null,null,{"$f":"IF('MARK Enrollment Template'!A411=\"\",\"\",IF(AND('MARK Enrollment Template'!A411<>\"\",'MARK Enrollment Template'!K411=\"\"),\"Please fill in Zip Code.\",IF(LEN(SUBSTITUTE(TRIM('MARK Enrollment Template'!K411),CHAR(9),\"\"))<5,\"Zip <5 digits. If leading zero, add apostrophe (ex. '01234).\",\"\")))","v":""},null,null,{"$f":"CELL(\"format\",'MARK Enrollment Template'!C411)","v":"G"}]
["",{"$f":"IF(AND(SUMPRODUCT(--('MARK Enrollment Template'!A412:L412<>\"\"))<>0,'MARK Enrollment Template'!A412=\"\"),\"Please fill in First Name.\",IF(LEN('MARK Enrollment Template'!A412)=1,\"Please fill in full first name.\",\"\"))","v":""},{"$f":"IF('MARK Enrollment Template'!A412=\"\",\"\",IF(AND('MARK Enrollment Template'!A412<>\"\",'MARK Enrollment Template'!B412=\"\"),\"Please fill in a Last Name.\",\"\"))","v":""},{"$f":"IF('MARK Enrollment Template'!A412=\"\",\"\",IF(AND('MARK Enrollment Template'!A412<>\"\",'MARK Enrollment Template'!C412=\"\"),\"Please fill in Date of Birth.\",IF(TRIM(O407)<>\"D4\",\"Please format DOB as a date in the form MM/DD/YYYY.\",IF('MARK Enrollment Template'!C412>TODAY(),\"Please check DOB.\",\"\"))))","v":""},{"$f":"IF('MARK Enrollment Template'!A412=\"\",\"\",IF(AND('MARK Enrollment Template'!A412<>\"\",'MARK Enrollment Template'!D412=\"\"),\"Please fill in Sex.\",IF(OR(TRIM('MARK Enrollment Template'!D412)=\"M\",TRIM('MARK Enrollment Template'!D412)=\"F\",TRIM('MARK Enrollment Template'!D412)=\"Male\",TRIM('MARK Enrollment Template'!D412)=\"Female\"),\"\",\"Sex must be M/F/Male/Female.\")))","v":""},null,null,{"$f":"IF('MARK Enrollment Template'!A412=\"\",\"\",IF(AND('MARK Enrollment Template'!A412<>\"\",'MARK Enrollment Template'!G412=\"\"),\"Please fill in Email Address.\",IF(IFERROR(FIND(\"@\",'MARK Enrollment Template'!G412),\"X\")=\"X\",\"Email Address must include an @ symbol.\",\"\")))","v":""},null,null,null,{"$f":"IF('MARK Enrollment Template'!A412=\"\",\"\",IF(AND('MARK Enrollment Template'!A412<>\"\",'MARK Enrollment Template'!K412=\"\"),\"Please fill in Zip Code.\",IF(LEN(SUBSTITUTE(TRIM('MARK Enrollment Template'!K412),CHAR(9),\"\"))<5,\"Zip <5 digits. If leading zero, add apostrophe (ex. '01234).\",\"\")))","v":""},null,null,{"$f":"CELL(\"format\",'MARK Enrollment Template'!C412)","v":"G"}]
["",{"$f":"IF(AND(SUMPRODUCT(--('MARK Enrollment Template'!A413:L413<>\"\"))<>0,'MARK Enrollment Template'!A413=\"\"),\"Please fill in First Name.\",IF(LEN('MARK Enrollment Template'!A413)=1,\"Please fill in full first name.\",\"\"))","v":""},{"$f":"IF('MARK Enrollment Template'!A413=\"\",\"\",IF(AND('MARK Enrollment Template'!A413<>\"\",'MARK Enrollment Template'!B413=\"\"),\"Please fill in a Last Name.\",\"\"))","v":""},{"$f":"IF('MARK Enrollment Template'!A413=\"\",\"\",IF(AND('MARK Enrollment Template'!A413<>\"\",'MARK Enrollment Template'!C413=\"\"),\"Please fill in Date of Birth.\",IF(TRIM(O408)<>\"D4\",\"Please format DOB as a date in the form MM/DD/YYYY.\",IF('MARK Enrollment Template'!C413>TODAY(),\"Please check DOB.\",\"\"))))","v":""},{"$f":"IF('MARK Enrollment Template'!A413=\"\",\"\",IF(AND('MARK Enrollment Template'!A413<>\"\",'MARK Enrollment Template'!D413=\"\"),\"Please fill in Sex.\",IF(OR(TRIM('MARK Enrollment Template'!D413)=\"M\",TRIM('MARK Enrollment Template'!D413)=\"F\",TRIM('MARK Enrollment Template'!D413)=\"Male\",TRIM('MARK Enrollment Template'!D413)=\"Female\"),\"\",\"Sex must be M/F/Male/Female.\")))","v":""},null,null,{"$f":"IF('MARK Enrollment Template'!A413=\"\",\"\",IF(AND('MARK Enrollment Template'!A413<>\"\",'MARK Enrollment Template'!G413=\"\"),\"Please fill in Email Address.\",IF(IFERROR(FIND(\"@\",'MARK Enrollment Template'!G413),\"X\")=\"X\",\"Email Address must include an @ symbol.\",\"\")))","v":""},null,null,null,{"$f":"IF('MARK Enrollment Template'!A413=\"\",\"\",IF(AND('MARK Enrollment Template'!A413<>\"\",'MARK Enrollment Template'!K413=\"\"),\"Please fill in Zip Code.\",IF(LEN(SUBSTITUTE(TRIM('MARK Enrollment Template'!K413),CHAR(9),\"\"))<5,\"Zip <5 digits. If leading zero, add apostrophe (ex. '01234).\",\"\")))","v":""},null,null,{"$f":"CELL(\"format\",'MARK Enrollment Template'!C413)","v":"G"}]
["",{"$f":"IF(AND(SUMPRODUCT(--('MARK Enrollment Template'!A414:L414<>\"\"))<>0,'MARK Enrollment Template'!A414=\"\"),\"Please fill in First Name.\",IF(LEN('MARK Enrollment Template'!A414)=1,\"Please fill in full first name.\",\"\"))","v":""},{"$f":"IF('MARK Enrollment Template'!A414=\"\",\"\",IF(AND('MARK Enrollment Template'!A414<>\"\",'MARK Enrollment Template'!B414=\"\"),\"Please fill in a Last Name.\",\"\"))","v":""},{"$f":"IF('MARK Enrollment Template'!A414=\"\",\"\",IF(AND('MARK Enrollment Template'!A414<>\"\",'MARK Enrollment Template'!C414=\"\"),\"Please fill in Date of Birth.\",IF(TRIM(O409)<>\"D4\",\"Please format DOB as a date in the form MM/DD/YYYY.\",IF('MARK Enrollment Template'!C414>TODAY(),\"Please check DOB.\",\"\"))))","v":""},{"$f":"IF('MARK Enrollment Template'!A414=\"\",\"\",IF(AND('MARK Enrollment Template'!A414<>\"\",'MARK Enrollment Template'!D414=\"\"),\"Please fill in Sex.\",IF(OR(TRIM('MARK Enrollment Template'!D414)=\"M\",TRIM('MARK Enrollment Template'!D414)=\"F\",TRIM('MARK Enrollment Template'!D414)=\"Male\",TRIM('MARK Enrollment Template'!D414)=\"Female\"),\"\",\"Sex must be M/F/Male/Female.\")))","v":""},null,null,{"$f":"IF('MARK Enrollment Template'!A414=\"\",\"\",IF(AND('MARK Enrollment Template'!A414<>\"\",'MARK Enrollment Template'!G414=\"\"),\"Please fill in Email Address.\",IF(IFERROR(FIND(\"@\",'MARK Enrollment Template'!G414),\"X\")=\"X\",\"Email Address must include an @ symbol.\",\"\")))","v":""},null,null,null,{"$f":"IF('MARK Enrollment Template'!A414=\"\",\"\",IF(AND('MARK Enrollment Template'!A414<>\"\",'MARK Enrollment Template'!K414=\"\"),\"Please fill in Zip Code.\",IF(LEN(SUBSTITUTE(TRIM('MARK Enrollment Template'!K414),CHAR(9),\"\"))<5,\"Zip <5 digits. If leading zero, add apostrophe (ex. '01234).\",\"\")))","v":""},null,null,{"$f":"CELL(\"format\",'MARK Enrollment Template'!C414)","v":"G"}]
["",{"$f":"IF(AND(SUMPRODUCT(--('MARK Enrollment Template'!A415:L415<>\"\"))<>0,'MARK Enrollment Template'!A415=\"\"),\"Please fill in First Name.\",IF(LEN('MARK Enrollment Template'!A415)=1,\"Please fill in full first name.\",\"\"))","v":""},{"$f":"IF('MARK Enrollment Template'!A415=\"\",\"\",IF(AND('MARK Enrollment Template'!A415<>\"\",'MARK Enrollment Template'!B415=\"\"),\"Please fill in a Last Name.\",\"\"))","v":""},{"$f":"IF('MARK Enrollment Template'!A415=\"\",\"\",IF(AND('MARK Enrollment Template'!A415<>\"\",'MARK Enrollment Template'!C415=\"\"),\"Please fill in Date of Birth.\",IF(TRIM(O410)<>\"D4\",\"Please format DOB as a date in the form MM/DD/YYYY.\",IF('MARK Enrollment Template'!C415>TODAY(),\"Please check DOB.\",\"\"))))","v":""},{"$f":"IF('MARK Enrollment Template'!A415=\"\",\"\",IF(AND('MARK Enrollment Template'!A415<>\"\",'MARK Enrollment Template'!D415=\"\"),\"Please fill in Sex.\",IF(OR(TRIM('MARK Enrollment Template'!D415)=\"M\",TRIM('MARK Enrollment Template'!D415)=\"F\",TRIM('MARK Enrollment Template'!D415)=\"Male\",TRIM('MARK Enrollment Template'!D415)=\"Female\"),\"\",\"Sex must be M/F/Male/Female.\")))","v":""},null,null,{"$f":"IF('MARK Enrollment Template'!A415=\"\",\"\",IF(AND('MARK Enrollment Template'!A415<>\"\",'MARK Enrollment Template'!G415=\"\"),\"Please fill in Email Address.\",IF(IFERROR(FIND(\"@\",'MARK Enrollment Template'!G415),\"X\")=\"X\",\"Email Address must include an @ symbol.\",\"\")))","v":""},null,null,null,{"$f":"IF('MARK Enrollment Template'!A415=\"\",\"\",IF(AND('MARK Enrollment Template'!A415<>\"\",'MARK Enrollment Template'!K415=\"\"),\"Please fill in Zip Code.\",IF(LEN(SUBSTITUTE(TRIM('MARK Enrollment Template'!K415),CHAR(9),\"\"))<5,\"Zip <5 digits. If leading zero, add apostrophe (ex. '01234).\",\"\")))","v":""},null,null,{"$f":"CELL(\"format\",'MARK Enrollment Template'!C415)","v":"G"}]
["",{"$f":"IF(AND(SUMPRODUCT(--('MARK Enrollment Template'!A416:L416<>\"\"))<>0,'MARK Enrollment Template'!A416=\"\"),\"Please fill in First Name.\",IF(LEN('MARK Enrollment Template'!A416)=1,\"Please fill in full first name.\",\"\"))","v":""},{"$f":"IF('MARK Enrollment Template'!A416=\"\",\"\",IF(AND('MARK Enrollment Template'!A416<>\"\",'MARK Enrollment Template'!B416=\"\"),\"Please fill in a Last Name.\",\"\"))","v":""},{"$f":"IF('MARK Enrollment Template'!A416=\"\",\"\",IF(AND('MARK Enrollment Template'!A416<>\"\",'MARK Enrollment Template'!C416=\"\"),\"Please fill in Date of Birth.\",IF(TRIM(O411)<>\"D4\",\"Please format DOB as a date in the form MM/DD/YYYY.\",IF('MARK Enrollment Template'!C416>TODAY(),\"Please check DOB.\",\"\"))))","v":""},{"$f":"IF('MARK Enrollment Template'!A416=\"\",\"\",IF(AND('MARK Enrollment Template'!A416<>\"\",'MARK Enrollment Template'!D416=\"\"),\"Please fill in Sex.\",IF(OR(TRIM('MARK Enrollment Template'!D416)=\"M\",TRIM('MARK Enrollment Template'!D416)=\"F\",TRIM('MARK Enrollment Template'!D416)=\"Male\",TRIM('MARK Enrollment Template'!D416)=\"Female\"),\"\",\"Sex must be M/F/Male/Female.\")))","v":""},null,null,{"$f":"IF('MARK Enrollment Template'!A416=\"\",\"\",IF(AND('MARK Enrollment Template'!A416<>\"\",'MARK Enrollment Template'!G416=\"\"),\"Please fill in Email Address.\",IF(IFERROR(FIND(\"@\",'MARK Enrollment Template'!G416),\"X\")=\"X\",\"Email Address must include an @ symbol.\",\"\")))","v":""},null,null,null,{"$f":"IF('MARK Enrollment Template'!A416=\"\",\"\",IF(AND('MARK Enrollment Template'!A416<>\"\",'MARK Enrollment Template'!K416=\"\"),\"Please fill in Zip Code.\",IF(LEN(SUBSTITUTE(TRIM('MARK Enrollment Template'!K416),CHAR(9),\"\"))<5,\"Zip <5 digits. If leading zero, add apostrophe (ex. '01234).\",\"\")))","v":""},null,null,{"$f":"CELL(\"format\",'MARK Enrollment Template'!C416)","v":"G"}]
["",{"$f":"IF(AND(SUMPRODUCT(--('MARK Enrollment Template'!A417:L417<>\"\"))<>0,'MARK Enrollment Template'!A417=\"\"),\"Please fill in First Name.\",IF(LEN('MARK Enrollment Template'!A417)=1,\"Please fill in full first name.\",\"\"))","v":""},{"$f":"IF('MARK Enrollment Template'!A417=\"\",\"\",IF(AND('MARK Enrollment Template'!A417<>\"\",'MARK Enrollment Template'!B417=\"\"),\"Please fill in a Last Name.\",\"\"))","v":""},{"$f":"IF('MARK Enrollment Template'!A417=\"\",\"\",IF(AND('MARK Enrollment Template'!A417<>\"\",'MARK Enrollment Template'!C417=\"\"),\"Please fill in Date of Birth.\",IF(TRIM(O412)<>\"D4\",\"Please format DOB as a date in the form MM/DD/YYYY.\",IF('MARK Enrollment Template'!C417>TODAY(),\"Please check DOB.\",\"\"))))","v":""},{"$f":"IF('MARK Enrollment Template'!A417=\"\",\"\",IF(AND('MARK Enrollment Template'!A417<>\"\",'MARK Enrollment Template'!D417=\"\"),\"Please fill in Sex.\",IF(OR(TRIM('MARK Enrollment Template'!D417)=\"M\",TRIM('MARK Enrollment Template'!D417)=\"F\",TRIM('MARK Enrollment Template'!D417)=\"Male\",TRIM('MARK Enrollment Template'!D417)=\"Female\"),\"\",\"Sex must be M/F/Male/Female.\")))","v":""},null,null,{"$f":"IF('MARK Enrollment Template'!A417=\"\",\"\",IF(AND('MARK Enrollment Template'!A417<>\"\",'MARK Enrollment Template'!G417=\"\"),\"Please fill in Email Address.\",IF(IFERROR(FIND(\"@\",'MARK Enrollment Template'!G417),\"X\")=\"X\",\"Email Address must include an @ symbol.\",\"\")))","v":""},null,null,null,{"$f":"IF('MARK Enrollment Template'!A417=\"\",\"\",IF(AND('MARK Enrollment Template'!A417<>\"\",'MARK Enrollment Template'!K417=\"\"),\"Please fill in Zip Code.\",IF(LEN(SUBSTITUTE(TRIM('MARK Enrollment Template'!K417),CHAR(9),\"\"))<5,\"Zip <5 digits. If leading zero, add apostrophe (ex. '01234).\",\"\")))","v":""},null,null,{"$f":"CELL(\"format\",'MARK Enrollment Template'!C417)","v":"G"}]
["",{"$f":"IF(AND(SUMPRODUCT(--('MARK Enrollment Template'!A418:L418<>\"\"))<>0,'MARK Enrollment Template'!A418=\"\"),\"Please fill in First Name.\",IF(LEN('MARK Enrollment Template'!A418)=1,\"Please fill in full first name.\",\"\"))","v":""},{"$f":"IF('MARK Enrollment Template'!A418=\"\",\"\",IF(AND('MARK Enrollment Template'!A418<>\"\",'MARK Enrollment Template'!B418=\"\"),\"Please fill in a Last Name.\",\"\"))","v":""},{"$f":"IF('MARK Enrollment Template'!A418=\"\",\"\",IF(AND('MARK Enrollment Template'!A418<>\"\",'MARK Enrollment Template'!C418=\"\"),\"Please fill in Date of Birth.\",IF(TRIM(O413)<>\"D4\",\"Please format DOB as a date in the form MM/DD/YYYY.\",IF('MARK Enrollment Template'!C418>TODAY(),\"Please check DOB.\",\"\"))))","v":""},{"$f":"IF('MARK Enrollment Template'!A418=\"\",\"\",IF(AND('MARK Enrollment Template'!A418<>\"\",'MARK Enrollment Template'!D418=\"\"),\"Please fill in Sex.\",IF(OR(TRIM('MARK Enrollment Template'!D418)=\"M\",TRIM('MARK Enrollment Template'!D418)=\"F\",TRIM('MARK Enrollment Template'!D418)=\"Male\",TRIM('MARK Enrollment Template'!D418)=\"Female\"),\"\",\"Sex must be M/F/Male/Female.\")))","v":""},null,null,{"$f":"IF('MARK Enrollment Template'!A418=\"\",\"\",IF(AND('MARK Enrollment Template'!A418<>\"\",'MARK Enrollment Template'!G418=\"\"),\"Please fill in Email Address.\",IF(IFERROR(FIND(\"@\",'MARK Enrollment Template'!G418),\"X\")=\"X\",\"Email Address must include an @ symbol.\",\"\")))","v":""},null,null,null,{"$f":"IF('MARK Enrollment Template'!A418=\"\",\"\",IF(AND('MARK Enrollment Template'!A418<>\"\",'MARK Enrollment Template'!K418=\"\"),\"Please fill in Zip Code.\",IF(LEN(SUBSTITUTE(TRIM('MARK Enrollment Template'!K418),CHAR(9),\"\"))<5,\"Zip <5 digits. If leading zero, add apostrophe (ex. '01234).\",\"\")))","v":""},null,null,{"$f":"CELL(\"format\",'MARK Enrollment Template'!C418)","v":"G"}]
["",{"$f":"IF(AND(SUMPRODUCT(--('MARK Enrollment Template'!A419:L419<>\"\"))<>0,'MARK Enrollment Template'!A419=\"\"),\"Please fill in First Name.\",IF(LEN('MARK Enrollment Template'!A419)=1,\"Please fill in full first name.\",\"\"))","v":""},{"$f":"IF('MARK Enrollment Template'!A419=\"\",\"\",IF(AND('MARK Enrollment Template'!A419<>\"\",'MARK Enrollment Template'!B419=\"\"),\"Please fill in a Last Name.\",\"\"))","v":""},{"$f":"IF('MARK Enrollment Template'!A419=\"\",\"\",IF(AND('MARK Enrollment Template'!A419<>\"\",'MARK Enrollment Template'!C419=\"\"),\"Please fill in Date of Birth.\",IF(TRIM(O414)<>\"D4\",\"Please format DOB as a date in the form MM/DD/YYYY.\",IF('MARK Enrollment Template'!C419>TODAY(),\"Please check DOB.\",\"\"))))","v":""},{"$f":"IF('MARK Enrollment Template'!A419=\"\",\"\",IF(AND('MARK Enrollment Template'!A419<>\"\",'MARK Enrollment Template'!D419=\"\"),\"Please fill in Sex.\",IF(OR(TRIM('MARK Enrollment Template'!D419)=\"M\",TRIM('MARK Enrollment Template'!D419)=\"F\",TRIM('MARK Enrollment Template'!D419)=\"Male\",TRIM('MARK Enrollment Template'!D419)=\"Female\"),\"\",\"Sex must be M/F/Male/Female.\")))","v":""},null,null,{"$f":"IF('MARK Enrollment Template'!A419=\"\",\"\",IF(AND('MARK Enrollment Template'!A419<>\"\",'MARK Enrollment Template'!G419=\"\"),\"Please fill in Email Address.\",IF(IFERROR(FIND(\"@\",'MARK Enrollment Template'!G419),\"X\")=\"X\",\"Email Address must include an @ symbol.\",\"\")))","v":""},null,null,null,{"$f":"IF('MARK Enrollment Template'!A419=\"\",\"\",IF(AND('MARK Enrollment Template'!A419<>\"\",'MARK Enrollment Template'!K419=\"\"),\"Please fill in Zip Code.\",IF(LEN(SUBSTITUTE(TRIM('MARK Enrollment Template'!K419),CHAR(9),\"\"))<5,\"Zip <5 digits. If leading zero, add apostrophe (ex. '01234).\",\"\")))","v":""},null,null,{"$f":"CELL(\"format\",'MARK Enrollment Template'!C419)","v":"G"}]
["",{"$f":"IF(AND(SUMPRODUCT(--('MARK Enrollment Template'!A420:L420<>\"\"))<>0,'MARK Enrollment Template'!A420=\"\"),\"Please fill in First Name.\",IF(LEN('MARK Enrollment Template'!A420)=1,\"Please fill in full first name.\",\"\"))","v":""},{"$f":"IF('MARK Enrollment Template'!A420=\"\",\"\",IF(AND('MARK Enrollment Template'!A420<>\"\",'MARK Enrollment Template'!B420=\"\"),\"Please fill in a Last Name.\",\"\"))","v":""},{"$f":"IF('MARK Enrollment Template'!A420=\"\",\"\",IF(AND('MARK Enrollment Template'!A420<>\"\",'MARK Enrollment Template'!C420=\"\"),\"Please fill in Date of Birth.\",IF(TRIM(O415)<>\"D4\",\"Please format DOB as a date in the form MM/DD/YYYY.\",IF('MARK Enrollment Template'!C420>TODAY(),\"Please check DOB.\",\"\"))))","v":""},{"$f":"IF('MARK Enrollment Template'!A420=\"\",\"\",IF(AND('MARK Enrollment Template'!A420<>\"\",'MARK Enrollment Template'!D420=\"\"),\"Please fill in Sex.\",IF(OR(TRIM('MARK Enrollment Template'!D420)=\"M\",TRIM('MARK Enrollment Template'!D420)=\"F\",TRIM('MARK Enrollment Template'!D420)=\"Male\",TRIM('MARK Enrollment Template'!D420)=\"Female\"),\"\",\"Sex must be M/F/Male/Female.\")))","v":""},null,null,{"$f":"IF('MARK Enrollment Template'!A420=\"\",\"\",IF(AND('MARK Enrollment Template'!A420<>\"\",'MARK Enrollment Template'!G420=\"\"),\"Please fill in Email Address.\",IF(IFERROR(FIND(\"@\",'MARK Enrollment Template'!G420),\"X\")=\"X\",\"Email Address must include an @ symbol.\",\"\")))","v":""},null,null,null,{"$f":"IF('MARK Enrollment Template'!A420=\"\",\"\",IF(AND('MARK Enrollment Template'!A420<>\"\",'MARK Enrollment Template'!K420=\"\"),\"Please fill in Zip Code.\",IF(LEN(SUBSTITUTE(TRIM('MARK Enrollment Template'!K420),CHAR(9),\"\"))<5,\"Zip <5 digits. If leading zero, add apostrophe (ex. '01234).\",\"\")))","v":""},null,null,{"$f":"CELL(\"format\",'MARK Enrollment Template'!C420)","v":"G"}]
["",{"$f":"IF(AND(SUMPRODUCT(--('MARK Enrollment Template'!A421:L421<>\"\"))<>0,'MARK Enrollment Template'!A421=\"\"),\"Please fill in First Name.\",IF(LEN('MARK Enrollment Template'!A421)=1,\"Please fill in full first name.\",\"\"))","v":""},{"$f":"IF('MARK Enrollment Template'!A421=\"\",\"\",IF(AND('MARK Enrollment Template'!A421<>\"\",'MARK Enrollment Template'!B421=\"\"),\"Please fill in a Last Name.\",\"\"))","v":""},{"$f":"IF('MARK Enrollment Template'!A421=\"\",\"\",IF(AND('MARK Enrollment Template'!A421<>\"\",'MARK Enrollment Template'!C421=\"\"),\"Please fill in Date of Birth.\",IF(TRIM(O416)<>\"D4\",\"Please format DOB as a date in the form MM/DD/YYYY.\",IF('MARK Enrollment Template'!C421>TODAY(),\"Please check DOB.\",\"\"))))","v":""},{"$f":"IF('MARK Enrollment Template'!A421=\"\",\"\",IF(AND('MARK Enrollment Template'!A421<>\"\",'MARK Enrollment Template'!D421=\"\"),\"Please fill in Sex.\",IF(OR(TRIM('MARK Enrollment Template'!D421)=\"M\",TRIM('MARK Enrollment Template'!D421)=\"F\",TRIM('MARK Enrollment Template'!D421)=\"Male\",TRIM('MARK Enrollment Template'!D421)=\"Female\"),\"\",\"Sex must be M/F/Male/Female.\")))","v":""},null,null,{"$f":"IF('MARK Enrollment Template'!A421=\"\",\"\",IF(AND('MARK Enrollment Template'!A421<>\"\",'MARK Enrollment Template'!G421=\"\"),\"Please fill in Email Address.\",IF(IFERROR(FIND(\"@\",'MARK Enrollment Template'!G421),\"X\")=\"X\",\"Email Address must include an @ symbol.\",\"\")))","v":""},null,null,null,{"$f":"IF('MARK Enrollment Template'!A421=\"\",\"\",IF(AND('MARK Enrollment Template'!A421<>\"\",'MARK Enrollment Template'!K421=\"\"),\"Please fill in Zip Code.\",IF(LEN(SUBSTITUTE(TRIM('MARK Enrollment Template'!K421),CHAR(9),\"\"))<5,\"Zip <5 digits. If leading zero, add apostrophe (ex. '01234).\",\"\")))","v":""},null,null,{"$f":"CELL(\"format\",'MARK Enrollment Template'!C421)","v":"G"}]
["",{"$f":"IF(AND(SUMPRODUCT(--('MARK Enrollment Template'!A422:L422<>\"\"))<>0,'MARK Enrollment Template'!A422=\"\"),\"Please fill in First Name.\",IF(LEN('MARK Enrollment Template'!A422)=1,\"Please fill in full first name.\",\"\"))","v":""},{"$f":"IF('MARK Enrollment Template'!A422=\"\",\"\",IF(AND('MARK Enrollment Template'!A422<>\"\",'MARK Enrollment Template'!B422=\"\"),\"Please fill in a Last Name.\",\"\"))","v":""},{"$f":"IF('MARK Enrollment Template'!A422=\"\",\"\",IF(AND('MARK Enrollment Template'!A422<>\"\",'MARK Enrollment Template'!C422=\"\"),\"Please fill in Date of Birth.\",IF(TRIM(O417)<>\"D4\",\"Please format DOB as a date in the form MM/DD/YYYY.\",IF('MARK Enrollment Template'!C422>TODAY(),\"Please check DOB.\",\"\"))))","v":""},{"$f":"IF('MARK Enrollment Template'!A422=\"\",\"\",IF(AND('MARK Enrollment Template'!A422<>\"\",'MARK Enrollment Template'!D422=\"\"),\"Please fill in Sex.\",IF(OR(TRIM('MARK Enrollment Template'!D422)=\"M\",TRIM('MARK Enrollment Template'!D422)=\"F\",TRIM('MARK Enrollment Template'!D422)=\"Male\",TRIM('MARK Enrollment Template'!D422)=\"Female\"),\"\",\"Sex must be M/F/Male/Female.\")))","v":""},null,null,{"$f":"IF('MARK Enrollment Template'!A422=\"\",\"\",IF(AND('MARK Enrollment Template'!A422<>\"\",'MARK Enrollment Template'!G422=\"\"),\"Please fill in Email Address.\",IF(IFERROR(FIND(\"@\",'MARK Enrollment Template'!G422),\"X\")=\"X\",\"Email Address must include an @ symbol.\",\"\")))","v":""},null,null,null,{"$f":"IF('MARK Enrollment Template'!A422=\"\",\"\",IF(AND('MARK Enrollment Template'!A422<>\"\",'MARK Enrollment Template'!K422=\"\"),\"Please fill in Zip Code.\",IF(LEN(SUBSTITUTE(TRIM('MARK Enrollment Template'!K422),CHAR(9),\"\"))<5,\"Zip <5 digits. If leading zero, add apostrophe (ex. '01234).\",\"\")))","v":""},null,null,{"$f":"CELL(\"format\",'MARK Enrollment Template'!C422)","v":"G"}]
["",{"$f":"IF(AND(SUMPRODUCT(--('MARK Enrollment Template'!A423:L423<>\"\"))<>0,'MARK Enrollment Template'!A423=\"\"),\"Please fill in First Name.\",IF(LEN('MARK Enrollment Template'!A423)=1,\"Please fill in full first name.\",\"\"))","v":""},{"$f":"IF('MARK Enrollment Template'!A423=\"\",\"\",IF(AND('MARK Enrollment Template'!A423<>\"\",'MARK Enrollment Template'!B423=\"\"),\"Please fill in a Last Name.\",\"\"))","v":""},{"$f":"IF('MARK Enrollment Template'!A423=\"\",\"\",IF(AND('MARK Enrollment Template'!A423<>\"\",'MARK Enrollment Template'!C423=\"\"),\"Please fill in Date of Birth.\",IF(TRIM(O418)<>\"D4\",\"Please format DOB as a date in the form MM/DD/YYYY.\",IF('MARK Enrollment Template'!C423>TODAY(),\"Please check DOB.\",\"\"))))","v":""},{"$f":"IF('MARK Enrollment Template'!A423=\"\",\"\",IF(AND('MARK Enrollment Template'!A423<>\"\",'MARK Enrollment Template'!D423=\"\"),\"Please fill in Sex.\",IF(OR(TRIM('MARK Enrollment Template'!D423)=\"M\",TRIM('MARK Enrollment Template'!D423)=\"F\",TRIM('MARK Enrollment Template'!D423)=\"Male\",TRIM('MARK Enrollment Template'!D423)=\"Female\"),\"\",\"Sex must be M/F/Male/Female.\")))","v":""},null,null,{"$f":"IF('MARK Enrollment Template'!A423=\"\",\"\",IF(AND('MARK Enrollment Template'!A423<>\"\",'MARK Enrollment Template'!G423=\"\"),\"Please fill in Email Address.\",IF(IFERROR(FIND(\"@\",'MARK Enrollment Template'!G423),\"X\")=\"X\",\"Email Address must include an @ symbol.\",\"\")))","v":""},null,null,null,{"$f":"IF('MARK Enrollment Template'!A423=\"\",\"\",IF(AND('MARK Enrollment Template'!A423<>\"\",'MARK Enrollment Template'!K423=\"\"),\"Please fill in Zip Code.\",IF(LEN(SUBSTITUTE(TRIM('MARK Enrollment Template'!K423),CHAR(9),\"\"))<5,\"Zip <5 digits. If leading zero, add apostrophe (ex. '01234).\",\"\")))","v":""},null,null,{"$f":"CELL(\"format\",'MARK Enrollment Template'!C423)","v":"G"}]
["",{"$f":"IF(AND(SUMPRODUCT(--('MARK Enrollment Template'!A424:L424<>\"\"))<>0,'MARK Enrollment Template'!A424=\"\"),\"Please fill in First Name.\",IF(LEN('MARK Enrollment Template'!A424)=1,\"Please fill in full first name.\",\"\"))","v":""},{"$f":"IF('MARK Enrollment Template'!A424=\"\",\"\",IF(AND('MARK Enrollment Template'!A424<>\"\",'MARK Enrollment Template'!B424=\"\"),\"Please fill in a Last Name.\",\"\"))","v":""},{"$f":"IF('MARK Enrollment Template'!A424=\"\",\"\",IF(AND('MARK Enrollment Template'!A424<>\"\",'MARK Enrollment Template'!C424=\"\"),\"Please fill in Date of Birth.\",IF(TRIM(O419)<>\"D4\",\"Please format DOB as a date in the form MM/DD/YYYY.\",IF('MARK Enrollment Template'!C424>TODAY(),\"Please check DOB.\",\"\"))))","v":""},{"$f":"IF('MARK Enrollment Template'!A424=\"\",\"\",IF(AND('MARK Enrollment Template'!A424<>\"\",'MARK Enrollment Template'!D424=\"\"),\"Please fill in Sex.\",IF(OR(TRIM('MARK Enrollment Template'!D424)=\"M\",TRIM('MARK Enrollment Template'!D424)=\"F\",TRIM('MARK Enrollment Template'!D424)=\"Male\",TRIM('MARK Enrollment Template'!D424)=\"Female\"),\"\",\"Sex must be M/F/Male/Female.\")))","v":""},null,null,{"$f":"IF('MARK Enrollment Template'!A424=\"\",\"\",IF(AND('MARK Enrollment Template'!A424<>\"\",'MARK Enrollment Template'!G424=\"\"),\"Please fill in Email Address.\",IF(IFERROR(FIND(\"@\",'MARK Enrollment Template'!G424),\"X\")=\"X\",\"Email Address must include an @ symbol.\",\"\")))","v":""},null,null,null,{"$f":"IF('MARK Enrollment Template'!A424=\"\",\"\",IF(AND('MARK Enrollment Template'!A424<>\"\",'MARK Enrollment Template'!K424=\"\"),\"Please fill in Zip Code.\",IF(LEN(SUBSTITUTE(TRIM('MARK Enrollment Template'!K424),CHAR(9),\"\"))<5,\"Zip <5 digits. If leading zero, add apostrophe (ex. '01234).\",\"\")))","v":""},null,null,{"$f":"CELL(\"format\",'MARK Enrollment Template'!C424)","v":"G"}]
["",{"$f":"IF(AND(SUMPRODUCT(--('MARK Enrollment Template'!A425:L425<>\"\"))<>0,'MARK Enrollment Template'!A425=\"\"),\"Please fill in First Name.\",IF(LEN('MARK Enrollment Template'!A425)=1,\"Please fill in full first name.\",\"\"))","v":""},{"$f":"IF('MARK Enrollment Template'!A425=\"\",\"\",IF(AND('MARK Enrollment Template'!A425<>\"\",'MARK Enrollment Template'!B425=\"\"),\"Please fill in a Last Name.\",\"\"))","v":""},{"$f":"IF('MARK Enrollment Template'!A425=\"\",\"\",IF(AND('MARK Enrollment Template'!A425<>\"\",'MARK Enrollment Template'!C425=\"\"),\"Please fill in Date of Birth.\",IF(TRIM(O420)<>\"D4\",\"Please format DOB as a date in the form MM/DD/YYYY.\",IF('MARK Enrollment Template'!C425>TODAY(),\"Please check DOB.\",\"\"))))","v":""},{"$f":"IF('MARK Enrollment Template'!A425=\"\",\"\",IF(AND('MARK Enrollment Template'!A425<>\"\",'MARK Enrollment Template'!D425=\"\"),\"Please fill in Sex.\",IF(OR(TRIM('MARK Enrollment Template'!D425)=\"M\",TRIM('MARK Enrollment Template'!D425)=\"F\",TRIM('MARK Enrollment Template'!D425)=\"Male\",TRIM('MARK Enrollment Template'!D425)=\"Female\"),\"\",\"Sex must be M/F/Male/Female.\")))","v":""},null,null,{"$f":"IF('MARK Enrollment Template'!A425=\"\",\"\",IF(AND('MARK Enrollment Template'!A425<>\"\",'MARK Enrollment Template'!G425=\"\"),\"Please fill in Email Address.\",IF(IFERROR(FIND(\"@\",'MARK Enrollment Template'!G425),\"X\")=\"X\",\"Email Address must include an @ symbol.\",\"\")))","v":""},null,null,null,{"$f":"IF('MARK Enrollment Template'!A425=\"\",\"\",IF(AND('MARK Enrollment Template'!A425<>\"\",'MARK Enrollment Template'!K425=\"\"),\"Please fill in Zip Code.\",IF(LEN(SUBSTITUTE(TRIM('MARK Enrollment Template'!K425),CHAR(9),\"\"))<5,\"Zip <5 digits. If leading zero, add apostrophe (ex. '01234).\",\"\")))","v":""},null,null,{"$f":"CELL(\"format\",'MARK Enrollment Template'!C425)","v":"G"}]
["",{"$f":"IF(AND(SUMPRODUCT(--('MARK Enrollment Template'!A426:L426<>\"\"))<>0,'MARK Enrollment Template'!A426=\"\"),\"Please fill in First Name.\",IF(LEN('MARK Enrollment Template'!A426)=1,\"Please fill in full first name.\",\"\"))","v":""},{"$f":"IF('MARK Enrollment Template'!A426=\"\",\"\",IF(AND('MARK Enrollment Template'!A426<>\"\",'MARK Enrollment Template'!B426=\"\"),\"Please fill in a Last Name.\",\"\"))","v":""},{"$f":"IF('MARK Enrollment Template'!A426=\"\",\"\",IF(AND('MARK Enrollment Template'!A426<>\"\",'MARK Enrollment Template'!C426=\"\"),\"Please fill in Date of Birth.\",IF(TRIM(O421)<>\"D4\",\"Please format DOB as a date in the form MM/DD/YYYY.\",IF('MARK Enrollment Template'!C426>TODAY(),\"Please check DOB.\",\"\"))))","v":""},{"$f":"IF('MARK Enrollment Template'!A426=\"\",\"\",IF(AND('MARK Enrollment Template'!A426<>\"\",'MARK Enrollment Template'!D426=\"\"),\"Please fill in Sex.\",IF(OR(TRIM('MARK Enrollment Template'!D426)=\"M\",TRIM('MARK Enrollment Template'!D426)=\"F\",TRIM('MARK Enrollment Template'!D426)=\"Male\",TRIM('MARK Enrollment Template'!D426)=\"Female\"),\"\",\"Sex must be M/F/Male/Female.\")))","v":""},null,null,{"$f":"IF('MARK Enrollment Template'!A426=\"\",\"\",IF(AND('MARK Enrollment Template'!A426<>\"\",'MARK Enrollment Template'!G426=\"\"),\"Please fill in Email Address.\",IF(IFERROR(FIND(\"@\",'MARK Enrollment Template'!G426),\"X\")=\"X\",\"Email Address must include an @ symbol.\",\"\")))","v":""},null,null,null,{"$f":"IF('MARK Enrollment Template'!A426=\"\",\"\",IF(AND('MARK Enrollment Template'!A426<>\"\",'MARK Enrollment Template'!K426=\"\"),\"Please fill in Zip Code.\",IF(LEN(SUBSTITUTE(TRIM('MARK Enrollment Template'!K426),CHAR(9),\"\"))<5,\"Zip <5 digits. If leading zero, add apostrophe (ex. '01234).\",\"\")))","v":""},null,null,{"$f":"CELL(\"format\",'MARK Enrollment Template'!C426)","v":"G"}]
["",{"$f":"IF(AND(SUMPRODUCT(--('MARK Enrollment Template'!A427:L427<>\"\"))<>0,'MARK Enrollment Template'!A427=\"\"),\"Please fill in First Name.\",IF(LEN('MARK Enrollment Template'!A427)=1,\"Please fill in full first name.\",\"\"))","v":""},{"$f":"IF('MARK Enrollment Template'!A427=\"\",\"\",IF(AND('MARK Enrollment Template'!A427<>\"\",'MARK Enrollment Template'!B427=\"\"),\"Please fill in a Last Name.\",\"\"))","v":""},{"$f":"IF('MARK Enrollment Template'!A427=\"\",\"\",IF(AND('MARK Enrollment Template'!A427<>\"\",'MARK Enrollment Template'!C427=\"\"),\"Please fill in Date of Birth.\",IF(TRIM(O422)<>\"D4\",\"Please format DOB as a date in the form MM/DD/YYYY.\",IF('MARK Enrollment Template'!C427>TODAY(),\"Please check DOB.\",\"\"))))","v":""},{"$f":"IF('MARK Enrollment Template'!A427=\"\",\"\",IF(AND('MARK Enrollment Template'!A427<>\"\",'MARK Enrollment Template'!D427=\"\"),\"Please fill in Sex.\",IF(OR(TRIM('MARK Enrollment Template'!D427)=\"M\",TRIM('MARK Enrollment Template'!D427)=\"F\",TRIM('MARK Enrollment Template'!D427)=\"Male\",TRIM('MARK Enrollment Template'!D427)=\"Female\"),\"\",\"Sex must be M/F/Male/Female.\")))","v":""},null,null,{"$f":"IF('MARK Enrollment Template'!A427=\"\",\"\",IF(AND('MARK Enrollment Template'!A427<>\"\",'MARK Enrollment Template'!G427=\"\"),\"Please fill in Email Address.\",IF(IFERROR(FIND(\"@\",'MARK Enrollment Template'!G427),\"X\")=\"X\",\"Email Address must include an @ symbol.\",\"\")))","v":""},null,null,null,{"$f":"IF('MARK Enrollment Template'!A427=\"\",\"\",IF(AND('MARK Enrollment Template'!A427<>\"\",'MARK Enrollment Template'!K427=\"\"),\"Please fill in Zip Code.\",IF(LEN(SUBSTITUTE(TRIM('MARK Enrollment Template'!K427),CHAR(9),\"\"))<5,\"Zip <5 digits. If leading zero, add apostrophe (ex. '01234).\",\"\")))","v":""},null,null,{"$f":"CELL(\"format\",'MARK Enrollment Template'!C427)","v":"G"}]
["",{"$f":"IF(AND(SUMPRODUCT(--('MARK Enrollment Template'!A428:L428<>\"\"))<>0,'MARK Enrollment Template'!A428=\"\"),\"Please fill in First Name.\",IF(LEN('MARK Enrollment Template'!A428)=1,\"Please fill in full first name.\",\"\"))","v":""},{"$f":"IF('MARK Enrollment Template'!A428=\"\",\"\",IF(AND('MARK Enrollment Template'!A428<>\"\",'MARK Enrollment Template'!B428=\"\"),\"Please fill in a Last Name.\",\"\"))","v":""},{"$f":"IF('MARK Enrollment Template'!A428=\"\",\"\",IF(AND('MARK Enrollment Template'!A428<>\"\",'MARK Enrollment Template'!C428=\"\"),\"Please fill in Date of Birth.\",IF(TRIM(O423)<>\"D4\",\"Please format DOB as a date in the form MM/DD/YYYY.\",IF('MARK Enrollment Template'!C428>TODAY(),\"Please check DOB.\",\"\"))))","v":""},{"$f":"IF('MARK Enrollment Template'!A428=\"\",\"\",IF(AND('MARK Enrollment Template'!A428<>\"\",'MARK Enrollment Template'!D428=\"\"),\"Please fill in Sex.\",IF(OR(TRIM('MARK Enrollment Template'!D428)=\"M\",TRIM('MARK Enrollment Template'!D428)=\"F\",TRIM('MARK Enrollment Template'!D428)=\"Male\",TRIM('MARK Enrollment Template'!D428)=\"Female\"),\"\",\"Sex must be M/F/Male/Female.\")))","v":""},null,null,{"$f":"IF('MARK Enrollment Template'!A428=\"\",\"\",IF(AND('MARK Enrollment Template'!A428<>\"\",'MARK Enrollment Template'!G428=\"\"),\"Please fill in Email Address.\",IF(IFERROR(FIND(\"@\",'MARK Enrollment Template'!G428),\"X\")=\"X\",\"Email Address must include an @ symbol.\",\"\")))","v":""},null,null,null,{"$f":"IF('MARK Enrollment Template'!A428=\"\",\"\",IF(AND('MARK Enrollment Template'!A428<>\"\",'MARK Enrollment Template'!K428=\"\"),\"Please fill in Zip Code.\",IF(LEN(SUBSTITUTE(TRIM('MARK Enrollment Template'!K428),CHAR(9),\"\"))<5,\"Zip <5 digits. If leading zero, add apostrophe (ex. '01234).\",\"\")))","v":""},null,null,{"$f":"CELL(\"format\",'MARK Enrollment Template'!C428)","v":"G"}]
["",{"$f":"IF(AND(SUMPRODUCT(--('MARK Enrollment Template'!A429:L429<>\"\"))<>0,'MARK Enrollment Template'!A429=\"\"),\"Please fill in First Name.\",IF(LEN('MARK Enrollment Template'!A429)=1,\"Please fill in full first name.\",\"\"))","v":""},{"$f":"IF('MARK Enrollment Template'!A429=\"\",\"\",IF(AND('MARK Enrollment Template'!A429<>\"\",'MARK Enrollment Template'!B429=\"\"),\"Please fill in a Last Name.\",\"\"))","v":""},{"$f":"IF('MARK Enrollment Template'!A429=\"\",\"\",IF(AND('MARK Enrollment Template'!A429<>\"\",'MARK Enrollment Template'!C429=\"\"),\"Please fill in Date of Birth.\",IF(TRIM(O424)<>\"D4\",\"Please format DOB as a date in the form MM/DD/YYYY.\",IF('MARK Enrollment Template'!C429>TODAY(),\"Please check DOB.\",\"\"))))","v":""},{"$f":"IF('MARK Enrollment Template'!A429=\"\",\"\",IF(AND('MARK Enrollment Template'!A429<>\"\",'MARK Enrollment Template'!D429=\"\"),\"Please fill in Sex.\",IF(OR(TRIM('MARK Enrollment Template'!D429)=\"M\",TRIM('MARK Enrollment Template'!D429)=\"F\",TRIM('MARK Enrollment Template'!D429)=\"Male\",TRIM('MARK Enrollment Template'!D429)=\"Female\"),\"\",\"Sex must be M/F/Male/Female.\")))","v":""},null,null,{"$f":"IF('MARK Enrollment Template'!A429=\"\",\"\",IF(AND('MARK Enrollment Template'!A429<>\"\",'MARK Enrollment Template'!G429=\"\"),\"Please fill in Email Address.\",IF(IFERROR(FIND(\"@\",'MARK Enrollment Template'!G429),\"X\")=\"X\",\"Email Address must include an @ symbol.\",\"\")))","v":""},null,null,null,{"$f":"IF('MARK Enrollment Template'!A429=\"\",\"\",IF(AND('MARK Enrollment Template'!A429<>\"\",'MARK Enrollment Template'!K429=\"\"),\"Please fill in Zip Code.\",IF(LEN(SUBSTITUTE(TRIM('MARK Enrollment Template'!K429),CHAR(9),\"\"))<5,\"Zip <5 digits. If leading zero, add apostrophe (ex. '01234).\",\"\")))","v":""},null,null,{"$f":"CELL(\"format\",'MARK Enrollment Template'!C429)","v":"G"}]
["",{"$f":"IF(AND(SUMPRODUCT(--('MARK Enrollment Template'!A430:L430<>\"\"))<>0,'MARK Enrollment Template'!A430=\"\"),\"Please fill in First Name.\",IF(LEN('MARK Enrollment Template'!A430)=1,\"Please fill in full first name.\",\"\"))","v":""},{"$f":"IF('MARK Enrollment Template'!A430=\"\",\"\",IF(AND('MARK Enrollment Template'!A430<>\"\",'MARK Enrollment Template'!B430=\"\"),\"Please fill in a Last Name.\",\"\"))","v":""},{"$f":"IF('MARK Enrollment Template'!A430=\"\",\"\",IF(AND('MARK Enrollment Template'!A430<>\"\",'MARK Enrollment Template'!C430=\"\"),\"Please fill in Date of Birth.\",IF(TRIM(O425)<>\"D4\",\"Please format DOB as a date in the form MM/DD/YYYY.\",IF('MARK Enrollment Template'!C430>TODAY(),\"Please check DOB.\",\"\"))))","v":""},{"$f":"IF('MARK Enrollment Template'!A430=\"\",\"\",IF(AND('MARK Enrollment Template'!A430<>\"\",'MARK Enrollment Template'!D430=\"\"),\"Please fill in Sex.\",IF(OR(TRIM('MARK Enrollment Template'!D430)=\"M\",TRIM('MARK Enrollment Template'!D430)=\"F\",TRIM('MARK Enrollment Template'!D430)=\"Male\",TRIM('MARK Enrollment Template'!D430)=\"Female\"),\"\",\"Sex must be M/F/Male/Female.\")))","v":""},null,null,{"$f":"IF('MARK Enrollment Template'!A430=\"\",\"\",IF(AND('MARK Enrollment Template'!A430<>\"\",'MARK Enrollment Template'!G430=\"\"),\"Please fill in Email Address.\",IF(IFERROR(FIND(\"@\",'MARK Enrollment Template'!G430),\"X\")=\"X\",\"Email Address must include an @ symbol.\",\"\")))","v":""},null,null,null,{"$f":"IF('MARK Enrollment Template'!A430=\"\",\"\",IF(AND('MARK Enrollment Template'!A430<>\"\",'MARK Enrollment Template'!K430=\"\"),\"Please fill in Zip Code.\",IF(LEN(SUBSTITUTE(TRIM('MARK Enrollment Template'!K430),CHAR(9),\"\"))<5,\"Zip <5 digits. If leading zero, add apostrophe (ex. '01234).\",\"\")))","v":""},null,null,{"$f":"CELL(\"format\",'MARK Enrollment Template'!C430)","v":"G"}]
["",{"$f":"IF(AND(SUMPRODUCT(--('MARK Enrollment Template'!A431:L431<>\"\"))<>0,'MARK Enrollment Template'!A431=\"\"),\"Please fill in First Name.\",IF(LEN('MARK Enrollment Template'!A431)=1,\"Please fill in full first name.\",\"\"))","v":""},{"$f":"IF('MARK Enrollment Template'!A431=\"\",\"\",IF(AND('MARK Enrollment Template'!A431<>\"\",'MARK Enrollment Template'!B431=\"\"),\"Please fill in a Last Name.\",\"\"))","v":""},{"$f":"IF('MARK Enrollment Template'!A431=\"\",\"\",IF(AND('MARK Enrollment Template'!A431<>\"\",'MARK Enrollment Template'!C431=\"\"),\"Please fill in Date of Birth.\",IF(TRIM(O426)<>\"D4\",\"Please format DOB as a date in the form MM/DD/YYYY.\",IF('MARK Enrollment Template'!C431>TODAY(),\"Please check DOB.\",\"\"))))","v":""},{"$f":"IF('MARK Enrollment Template'!A431=\"\",\"\",IF(AND('MARK Enrollment Template'!A431<>\"\",'MARK Enrollment Template'!D431=\"\"),\"Please fill in Sex.\",IF(OR(TRIM('MARK Enrollment Template'!D431)=\"M\",TRIM('MARK Enrollment Template'!D431)=\"F\",TRIM('MARK Enrollment Template'!D431)=\"Male\",TRIM('MARK Enrollment Template'!D431)=\"Female\"),\"\",\"Sex must be M/F/Male/Female.\")))","v":""},null,null,{"$f":"IF('MARK Enrollment Template'!A431=\"\",\"\",IF(AND('MARK Enrollment Template'!A431<>\"\",'MARK Enrollment Template'!G431=\"\"),\"Please fill in Email Address.\",IF(IFERROR(FIND(\"@\",'MARK Enrollment Template'!G431),\"X\")=\"X\",\"Email Address must include an @ symbol.\",\"\")))","v":""},null,null,null,{"$f":"IF('MARK Enrollment Template'!A431=\"\",\"\",IF(AND('MARK Enrollment Template'!A431<>\"\",'MARK Enrollment Template'!K431=\"\"),\"Please fill in Zip Code.\",IF(LEN(SUBSTITUTE(TRIM('MARK Enrollment Template'!K431),CHAR(9),\"\"))<5,\"Zip <5 digits. If leading zero, add apostrophe (ex. '01234).\",\"\")))","v":""},null,null,{"$f":"CELL(\"format\",'MARK Enrollment Template'!C431)","v":"G"}]
["",{"$f":"IF(AND(SUMPRODUCT(--('MARK Enrollment Template'!A432:L432<>\"\"))<>0,'MARK Enrollment Template'!A432=\"\"),\"Please fill in First Name.\",IF(LEN('MARK Enrollment Template'!A432)=1,\"Please fill in full first name.\",\"\"))","v":""},{"$f":"IF('MARK Enrollment Template'!A432=\"\",\"\",IF(AND('MARK Enrollment Template'!A432<>\"\",'MARK Enrollment Template'!B432=\"\"),\"Please fill in a Last Name.\",\"\"))","v":""},{"$f":"IF('MARK Enrollment Template'!A432=\"\",\"\",IF(AND('MARK Enrollment Template'!A432<>\"\",'MARK Enrollment Template'!C432=\"\"),\"Please fill in Date of Birth.\",IF(TRIM(O427)<>\"D4\",\"Please format DOB as a date in the form MM/DD/YYYY.\",IF('MARK Enrollment Template'!C432>TODAY(),\"Please check DOB.\",\"\"))))","v":""},{"$f":"IF('MARK Enrollment Template'!A432=\"\",\"\",IF(AND('MARK Enrollment Template'!A432<>\"\",'MARK Enrollment Template'!D432=\"\"),\"Please fill in Sex.\",IF(OR(TRIM('MARK Enrollment Template'!D432)=\"M\",TRIM('MARK Enrollment Template'!D432)=\"F\",TRIM('MARK Enrollment Template'!D432)=\"Male\",TRIM('MARK Enrollment Template'!D432)=\"Female\"),\"\",\"Sex must be M/F/Male/Female.\")))","v":""},null,null,{"$f":"IF('MARK Enrollment Template'!A432=\"\",\"\",IF(AND('MARK Enrollment Template'!A432<>\"\",'MARK Enrollment Template'!G432=\"\"),\"Please fill in Email Address.\",IF(IFERROR(FIND(\"@\",'MARK Enrollment Template'!G432),\"X\")=\"X\",\"Email Address must include an @ symbol.\",\"\")))","v":""},null,null,null,{"$f":"IF('MARK Enrollment Template'!A432=\"\",\"\",IF(AND('MARK Enrollment Template'!A432<>\"\",'MARK Enrollment Template'!K432=\"\"),\"Please fill in Zip Code.\",IF(LEN(SUBSTITUTE(TRIM('MARK Enrollment Template'!K432),CHAR(9),\"\"))<5,\"Zip <5 digits. If leading zero, add apostrophe (ex. '01234).\",\"\")))","v":""},null,null,{"$f":"CELL(\"format\",'MARK Enrollment Template'!C432)","v":"G"}]
["",{"$f":"IF(AND(SUMPRODUCT(--('MARK Enrollment Template'!A433:L433<>\"\"))<>0,'MARK Enrollment Template'!A433=\"\"),\"Please fill in First Name.\",IF(LEN('MARK Enrollment Template'!A433)=1,\"Please fill in full first name.\",\"\"))","v":""},{"$f":"IF('MARK Enrollment Template'!A433=\"\",\"\",IF(AND('MARK Enrollment Template'!A433<>\"\",'MARK Enrollment Template'!B433=\"\"),\"Please fill in a Last Name.\",\"\"))","v":""},{"$f":"IF('MARK Enrollment Template'!A433=\"\",\"\",IF(AND('MARK Enrollment Template'!A433<>\"\",'MARK Enrollment Template'!C433=\"\"),\"Please fill in Date of Birth.\",IF(TRIM(O428)<>\"D4\",\"Please format DOB as a date in the form MM/DD/YYYY.\",IF('MARK Enrollment Template'!C433>TODAY(),\"Please check DOB.\",\"\"))))","v":""},{"$f":"IF('MARK Enrollment Template'!A433=\"\",\"\",IF(AND('MARK Enrollment Template'!A433<>\"\",'MARK Enrollment Template'!D433=\"\"),\"Please fill in Sex.\",IF(OR(TRIM('MARK Enrollment Template'!D433)=\"M\",TRIM('MARK Enrollment Template'!D433)=\"F\",TRIM('MARK Enrollment Template'!D433)=\"Male\",TRIM('MARK Enrollment Template'!D433)=\"Female\"),\"\",\"Sex must be M/F/Male/Female.\")))","v":""},null,null,{"$f":"IF('MARK Enrollment Template'!A433=\"\",\"\",IF(AND('MARK Enrollment Template'!A433<>\"\",'MARK Enrollment Template'!G433=\"\"),\"Please fill in Email Address.\",IF(IFERROR(FIND(\"@\",'MARK Enrollment Template'!G433),\"X\")=\"X\",\"Email Address must include an @ symbol.\",\"\")))","v":""},null,null,null,{"$f":"IF('MARK Enrollment Template'!A433=\"\",\"\",IF(AND('MARK Enrollment Template'!A433<>\"\",'MARK Enrollment Template'!K433=\"\"),\"Please fill in Zip Code.\",IF(LEN(SUBSTITUTE(TRIM('MARK Enrollment Template'!K433),CHAR(9),\"\"))<5,\"Zip <5 digits. If leading zero, add apostrophe (ex. '01234).\",\"\")))","v":""},null,null,{"$f":"CELL(\"format\",'MARK Enrollment Template'!C433)","v":"G"}]
["",{"$f":"IF(AND(SUMPRODUCT(--('MARK Enrollment Template'!A434:L434<>\"\"))<>0,'MARK Enrollment Template'!A434=\"\"),\"Please fill in First Name.\",IF(LEN('MARK Enrollment Template'!A434)=1,\"Please fill in full first name.\",\"\"))","v":""},{"$f":"IF('MARK Enrollment Template'!A434=\"\",\"\",IF(AND('MARK Enrollment Template'!A434<>\"\",'MARK Enrollment Template'!B434=\"\"),\"Please fill in a Last Name.\",\"\"))","v":""},{"$f":"IF('MARK Enrollment Template'!A434=\"\",\"\",IF(AND('MARK Enrollment Template'!A434<>\"\",'MARK Enrollment Template'!C434=\"\"),\"Please fill in Date of Birth.\",IF(TRIM(O429)<>\"D4\",\"Please format DOB as a date in the form MM/DD/YYYY.\",IF('MARK Enrollment Template'!C434>TODAY(),\"Please check DOB.\",\"\"))))","v":""},{"$f":"IF('MARK Enrollment Template'!A434=\"\",\"\",IF(AND('MARK Enrollment Template'!A434<>\"\",'MARK Enrollment Template'!D434=\"\"),\"Please fill in Sex.\",IF(OR(TRIM('MARK Enrollment Template'!D434)=\"M\",TRIM('MARK Enrollment Template'!D434)=\"F\",TRIM('MARK Enrollment Template'!D434)=\"Male\",TRIM('MARK Enrollment Template'!D434)=\"Female\"),\"\",\"Sex must be M/F/Male/Female.\")))","v":""},null,null,{"$f":"IF('MARK Enrollment Template'!A434=\"\",\"\",IF(AND('MARK Enrollment Template'!A434<>\"\",'MARK Enrollment Template'!G434=\"\"),\"Please fill in Email Address.\",IF(IFERROR(FIND(\"@\",'MARK Enrollment Template'!G434),\"X\")=\"X\",\"Email Address must include an @ symbol.\",\"\")))","v":""},null,null,null,{"$f":"IF('MARK Enrollment Template'!A434=\"\",\"\",IF(AND('MARK Enrollment Template'!A434<>\"\",'MARK Enrollment Template'!K434=\"\"),\"Please fill in Zip Code.\",IF(LEN(SUBSTITUTE(TRIM('MARK Enrollment Template'!K434),CHAR(9),\"\"))<5,\"Zip <5 digits. If leading zero, add apostrophe (ex. '01234).\",\"\")))","v":""},null,null,{"$f":"CELL(\"format\",'MARK Enrollment Template'!C434)","v":"G"}]
["",{"$f":"IF(AND(SUMPRODUCT(--('MARK Enrollment Template'!A435:L435<>\"\"))<>0,'MARK Enrollment Template'!A435=\"\"),\"Please fill in First Name.\",IF(LEN('MARK Enrollment Template'!A435)=1,\"Please fill in full first name.\",\"\"))","v":""},{"$f":"IF('MARK Enrollment Template'!A435=\"\",\"\",IF(AND('MARK Enrollment Template'!A435<>\"\",'MARK Enrollment Template'!B435=\"\"),\"Please fill in a Last Name.\",\"\"))","v":""},{"$f":"IF('MARK Enrollment Template'!A435=\"\",\"\",IF(AND('MARK Enrollment Template'!A435<>\"\",'MARK Enrollment Template'!C435=\"\"),\"Please fill in Date of Birth.\",IF(TRIM(O430)<>\"D4\",\"Please format DOB as a date in the form MM/DD/YYYY.\",IF('MARK Enrollment Template'!C435>TODAY(),\"Please check DOB.\",\"\"))))","v":""},{"$f":"IF('MARK Enrollment Template'!A435=\"\",\"\",IF(AND('MARK Enrollment Template'!A435<>\"\",'MARK Enrollment Template'!D435=\"\"),\"Please fill in Sex.\",IF(OR(TRIM('MARK Enrollment Template'!D435)=\"M\",TRIM('MARK Enrollment Template'!D435)=\"F\",TRIM('MARK Enrollment Template'!D435)=\"Male\",TRIM('MARK Enrollment Template'!D435)=\"Female\"),\"\",\"Sex must be M/F/Male/Female.\")))","v":""},null,null,{"$f":"IF('MARK Enrollment Template'!A435=\"\",\"\",IF(AND('MARK Enrollment Template'!A435<>\"\",'MARK Enrollment Template'!G435=\"\"),\"Please fill in Email Address.\",IF(IFERROR(FIND(\"@\",'MARK Enrollment Template'!G435),\"X\")=\"X\",\"Email Address must include an @ symbol.\",\"\")))","v":""},null,null,null,{"$f":"IF('MARK Enrollment Template'!A435=\"\",\"\",IF(AND('MARK Enrollment Template'!A435<>\"\",'MARK Enrollment Template'!K435=\"\"),\"Please fill in Zip Code.\",IF(LEN(SUBSTITUTE(TRIM('MARK Enrollment Template'!K435),CHAR(9),\"\"))<5,\"Zip <5 digits. If leading zero, add apostrophe (ex. '01234).\",\"\")))","v":""},null,null,{"$f":"CELL(\"format\",'MARK Enrollment Template'!C435)","v":"G"}]
["",{"$f":"IF(AND(SUMPRODUCT(--('MARK Enrollment Template'!A436:L436<>\"\"))<>0,'MARK Enrollment Template'!A436=\"\"),\"Please fill in First Name.\",IF(LEN('MARK Enrollment Template'!A436)=1,\"Please fill in full first name.\",\"\"))","v":""},{"$f":"IF('MARK Enrollment Template'!A436=\"\",\"\",IF(AND('MARK Enrollment Template'!A436<>\"\",'MARK Enrollment Template'!B436=\"\"),\"Please fill in a Last Name.\",\"\"))","v":""},{"$f":"IF('MARK Enrollment Template'!A436=\"\",\"\",IF(AND('MARK Enrollment Template'!A436<>\"\",'MARK Enrollment Template'!C436=\"\"),\"Please fill in Date of Birth.\",IF(TRIM(O431)<>\"D4\",\"Please format DOB as a date in the form MM/DD/YYYY.\",IF('MARK Enrollment Template'!C436>TODAY(),\"Please check DOB.\",\"\"))))","v":""},{"$f":"IF('MARK Enrollment Template'!A436=\"\",\"\",IF(AND('MARK Enrollment Template'!A436<>\"\",'MARK Enrollment Template'!D436=\"\"),\"Please fill in Sex.\",IF(OR(TRIM('MARK Enrollment Template'!D436)=\"M\",TRIM('MARK Enrollment Template'!D436)=\"F\",TRIM('MARK Enrollment Template'!D436)=\"Male\",TRIM('MARK Enrollment Template'!D436)=\"Female\"),\"\",\"Sex must be M/F/Male/Female.\")))","v":""},null,null,{"$f":"IF('MARK Enrollment Template'!A436=\"\",\"\",IF(AND('MARK Enrollment Template'!A436<>\"\",'MARK Enrollment Template'!G436=\"\"),\"Please fill in Email Address.\",IF(IFERROR(FIND(\"@\",'MARK Enrollment Template'!G436),\"X\")=\"X\",\"Email Address must include an @ symbol.\",\"\")))","v":""},null,null,null,{"$f":"IF('MARK Enrollment Template'!A436=\"\",\"\",IF(AND('MARK Enrollment Template'!A436<>\"\",'MARK Enrollment Template'!K436=\"\"),\"Please fill in Zip Code.\",IF(LEN(SUBSTITUTE(TRIM('MARK Enrollment Template'!K436),CHAR(9),\"\"))<5,\"Zip <5 digits. If leading zero, add apostrophe (ex. '01234).\",\"\")))","v":""},null,null,{"$f":"CELL(\"format\",'MARK Enrollment Template'!C436)","v":"G"}]
["",{"$f":"IF(AND(SUMPRODUCT(--('MARK Enrollment Template'!A437:L437<>\"\"))<>0,'MARK Enrollment Template'!A437=\"\"),\"Please fill in First Name.\",IF(LEN('MARK Enrollment Template'!A437)=1,\"Please fill in full first name.\",\"\"))","v":""},{"$f":"IF('MARK Enrollment Template'!A437=\"\",\"\",IF(AND('MARK Enrollment Template'!A437<>\"\",'MARK Enrollment Template'!B437=\"\"),\"Please fill in a Last Name.\",\"\"))","v":""},{"$f":"IF('MARK Enrollment Template'!A437=\"\",\"\",IF(AND('MARK Enrollment Template'!A437<>\"\",'MARK Enrollment Template'!C437=\"\"),\"Please fill in Date of Birth.\",IF(TRIM(O432)<>\"D4\",\"Please format DOB as a date in the form MM/DD/YYYY.\",IF('MARK Enrollment Template'!C437>TODAY(),\"Please check DOB.\",\"\"))))","v":""},{"$f":"IF('MARK Enrollment Template'!A437=\"\",\"\",IF(AND('MARK Enrollment Template'!A437<>\"\",'MARK Enrollment Template'!D437=\"\"),\"Please fill in Sex.\",IF(OR(TRIM('MARK Enrollment Template'!D437)=\"M\",TRIM('MARK Enrollment Template'!D437)=\"F\",TRIM('MARK Enrollment Template'!D437)=\"Male\",TRIM('MARK Enrollment Template'!D437)=\"Female\"),\"\",\"Sex must be M/F/Male/Female.\")))","v":""},null,null,{"$f":"IF('MARK Enrollment Template'!A437=\"\",\"\",IF(AND('MARK Enrollment Template'!A437<>\"\",'MARK Enrollment Template'!G437=\"\"),\"Please fill in Email Address.\",IF(IFERROR(FIND(\"@\",'MARK Enrollment Template'!G437),\"X\")=\"X\",\"Email Address must include an @ symbol.\",\"\")))","v":""},null,null,null,{"$f":"IF('MARK Enrollment Template'!A437=\"\",\"\",IF(AND('MARK Enrollment Template'!A437<>\"\",'MARK Enrollment Template'!K437=\"\"),\"Please fill in Zip Code.\",IF(LEN(SUBSTITUTE(TRIM('MARK Enrollment Template'!K437),CHAR(9),\"\"))<5,\"Zip <5 digits. If leading zero, add apostrophe (ex. '01234).\",\"\")))","v":""},null,null,{"$f":"CELL(\"format\",'MARK Enrollment Template'!C437)","v":"G"}]
["",{"$f":"IF(AND(SUMPRODUCT(--('MARK Enrollment Template'!A438:L438<>\"\"))<>0,'MARK Enrollment Template'!A438=\"\"),\"Please fill in First Name.\",IF(LEN('MARK Enrollment Template'!A438)=1,\"Please fill in full first name.\",\"\"))","v":""},{"$f":"IF('MARK Enrollment Template'!A438=\"\",\"\",IF(AND('MARK Enrollment Template'!A438<>\"\",'MARK Enrollment Template'!B438=\"\"),\"Please fill in a Last Name.\",\"\"))","v":""},{"$f":"IF('MARK Enrollment Template'!A438=\"\",\"\",IF(AND('MARK Enrollment Template'!A438<>\"\",'MARK Enrollment Template'!C438=\"\"),\"Please fill in Date of Birth.\",IF(TRIM(O433)<>\"D4\",\"Please format DOB as a date in the form MM/DD/YYYY.\",IF('MARK Enrollment Template'!C438>TODAY(),\"Please check DOB.\",\"\"))))","v":""},{"$f":"IF('MARK Enrollment Template'!A438=\"\",\"\",IF(AND('MARK Enrollment Template'!A438<>\"\",'MARK Enrollment Template'!D438=\"\"),\"Please fill in Sex.\",IF(OR(TRIM('MARK Enrollment Template'!D438)=\"M\",TRIM('MARK Enrollment Template'!D438)=\"F\",TRIM('MARK Enrollment Template'!D438)=\"Male\",TRIM('MARK Enrollment Template'!D438)=\"Female\"),\"\",\"Sex must be M/F/Male/Female.\")))","v":""},null,null,{"$f":"IF('MARK Enrollment Template'!A438=\"\",\"\",IF(AND('MARK Enrollment Template'!A438<>\"\",'MARK Enrollment Template'!G438=\"\"),\"Please fill in Email Address.\",IF(IFERROR(FIND(\"@\",'MARK Enrollment Template'!G438),\"X\")=\"X\",\"Email Address must include an @ symbol.\",\"\")))","v":""},null,null,null,{"$f":"IF('MARK Enrollment Template'!A438=\"\",\"\",IF(AND('MARK Enrollment Template'!A438<>\"\",'MARK Enrollment Template'!K438=\"\"),\"Please fill in Zip Code.\",IF(LEN(SUBSTITUTE(TRIM('MARK Enrollment Template'!K438),CHAR(9),\"\"))<5,\"Zip <5 digits. If leading zero, add apostrophe (ex. '01234).\",\"\")))","v":""},null,null,{"$f":"CELL(\"format\",'MARK Enrollment Template'!C438)","v":"G"}]
["",{"$f":"IF(AND(SUMPRODUCT(--('MARK Enrollment Template'!A439:L439<>\"\"))<>0,'MARK Enrollment Template'!A439=\"\"),\"Please fill in First Name.\",IF(LEN('MARK Enrollment Template'!A439)=1,\"Please fill in full first name.\",\"\"))","v":""},{"$f":"IF('MARK Enrollment Template'!A439=\"\",\"\",IF(AND('MARK Enrollment Template'!A439<>\"\",'MARK Enrollment Template'!B439=\"\"),\"Please fill in a Last Name.\",\"\"))","v":""},{"$f":"IF('MARK Enrollment Template'!A439=\"\",\"\",IF(AND('MARK Enrollment Template'!A439<>\"\",'MARK Enrollment Template'!C439=\"\"),\"Please fill in Date of Birth.\",IF(TRIM(O434)<>\"D4\",\"Please format DOB as a date in the form MM/DD/YYYY.\",IF('MARK Enrollment Template'!C439>TODAY(),\"Please check DOB.\",\"\"))))","v":""},{"$f":"IF('MARK Enrollment Template'!A439=\"\",\"\",IF(AND('MARK Enrollment Template'!A439<>\"\",'MARK Enrollment Template'!D439=\"\"),\"Please fill in Sex.\",IF(OR(TRIM('MARK Enrollment Template'!D439)=\"M\",TRIM('MARK Enrollment Template'!D439)=\"F\",TRIM('MARK Enrollment Template'!D439)=\"Male\",TRIM('MARK Enrollment Template'!D439)=\"Female\"),\"\",\"Sex must be M/F/Male/Female.\")))","v":""},null,null,{"$f":"IF('MARK Enrollment Template'!A439=\"\",\"\",IF(AND('MARK Enrollment Template'!A439<>\"\",'MARK Enrollment Template'!G439=\"\"),\"Please fill in Email Address.\",IF(IFERROR(FIND(\"@\",'MARK Enrollment Template'!G439),\"X\")=\"X\",\"Email Address must include an @ symbol.\",\"\")))","v":""},null,null,null,{"$f":"IF('MARK Enrollment Template'!A439=\"\",\"\",IF(AND('MARK Enrollment Template'!A439<>\"\",'MARK Enrollment Template'!K439=\"\"),\"Please fill in Zip Code.\",IF(LEN(SUBSTITUTE(TRIM('MARK Enrollment Template'!K439),CHAR(9),\"\"))<5,\"Zip <5 digits. If leading zero, add apostrophe (ex. '01234).\",\"\")))","v":""},null,null,{"$f":"CELL(\"format\",'MARK Enrollment Template'!C439)","v":"G"}]
["",{"$f":"IF(AND(SUMPRODUCT(--('MARK Enrollment Template'!A440:L440<>\"\"))<>0,'MARK Enrollment Template'!A440=\"\"),\"Please fill in First Name.\",IF(LEN('MARK Enrollment Template'!A440)=1,\"Please fill in full first name.\",\"\"))","v":""},{"$f":"IF('MARK Enrollment Template'!A440=\"\",\"\",IF(AND('MARK Enrollment Template'!A440<>\"\",'MARK Enrollment Template'!B440=\"\"),\"Please fill in a Last Name.\",\"\"))","v":""},{"$f":"IF('MARK Enrollment Template'!A440=\"\",\"\",IF(AND('MARK Enrollment Template'!A440<>\"\",'MARK Enrollment Template'!C440=\"\"),\"Please fill in Date of Birth.\",IF(TRIM(O435)<>\"D4\",\"Please format DOB as a date in the form MM/DD/YYYY.\",IF('MARK Enrollment Template'!C440>TODAY(),\"Please check DOB.\",\"\"))))","v":""},{"$f":"IF('MARK Enrollment Template'!A440=\"\",\"\",IF(AND('MARK Enrollment Template'!A440<>\"\",'MARK Enrollment Template'!D440=\"\"),\"Please fill in Sex.\",IF(OR(TRIM('MARK Enrollment Template'!D440)=\"M\",TRIM('MARK Enrollment Template'!D440)=\"F\",TRIM('MARK Enrollment Template'!D440)=\"Male\",TRIM('MARK Enrollment Template'!D440)=\"Female\"),\"\",\"Sex must be M/F/Male/Female.\")))","v":""},null,null,{"$f":"IF('MARK Enrollment Template'!A440=\"\",\"\",IF(AND('MARK Enrollment Template'!A440<>\"\",'MARK Enrollment Template'!G440=\"\"),\"Please fill in Email Address.\",IF(IFERROR(FIND(\"@\",'MARK Enrollment Template'!G440),\"X\")=\"X\",\"Email Address must include an @ symbol.\",\"\")))","v":""},null,null,null,{"$f":"IF('MARK Enrollment Template'!A440=\"\",\"\",IF(AND('MARK Enrollment Template'!A440<>\"\",'MARK Enrollment Template'!K440=\"\"),\"Please fill in Zip Code.\",IF(LEN(SUBSTITUTE(TRIM('MARK Enrollment Template'!K440),CHAR(9),\"\"))<5,\"Zip <5 digits. If leading zero, add apostrophe (ex. '01234).\",\"\")))","v":""},null,null,{"$f":"CELL(\"format\",'MARK Enrollment Template'!C440)","v":"G"}]
["",{"$f":"IF(AND(SUMPRODUCT(--('MARK Enrollment Template'!A441:L441<>\"\"))<>0,'MARK Enrollment Template'!A441=\"\"),\"Please fill in First Name.\",IF(LEN('MARK Enrollment Template'!A441)=1,\"Please fill in full first name.\",\"\"))","v":""},{"$f":"IF('MARK Enrollment Template'!A441=\"\",\"\",IF(AND('MARK Enrollment Template'!A441<>\"\",'MARK Enrollment Template'!B441=\"\"),\"Please fill in a Last Name.\",\"\"))","v":""},{"$f":"IF('MARK Enrollment Template'!A441=\"\",\"\",IF(AND('MARK Enrollment Template'!A441<>\"\",'MARK Enrollment Template'!C441=\"\"),\"Please fill in Date of Birth.\",IF(TRIM(O436)<>\"D4\",\"Please format DOB as a date in the form MM/DD/YYYY.\",IF('MARK Enrollment Template'!C441>TODAY(),\"Please check DOB.\",\"\"))))","v":""},{"$f":"IF('MARK Enrollment Template'!A441=\"\",\"\",IF(AND('MARK Enrollment Template'!A441<>\"\",'MARK Enrollment Template'!D441=\"\"),\"Please fill in Sex.\",IF(OR(TRIM('MARK Enrollment Template'!D441)=\"M\",TRIM('MARK Enrollment Template'!D441)=\"F\",TRIM('MARK Enrollment Template'!D441)=\"Male\",TRIM('MARK Enrollment Template'!D441)=\"Female\"),\"\",\"Sex must be M/F/Male/Female.\")))","v":""},null,null,{"$f":"IF('MARK Enrollment Template'!A441=\"\",\"\",IF(AND('MARK Enrollment Template'!A441<>\"\",'MARK Enrollment Template'!G441=\"\"),\"Please fill in Email Address.\",IF(IFERROR(FIND(\"@\",'MARK Enrollment Template'!G441),\"X\")=\"X\",\"Email Address must include an @ symbol.\",\"\")))","v":""},null,null,null,{"$f":"IF('MARK Enrollment Template'!A441=\"\",\"\",IF(AND('MARK Enrollment Template'!A441<>\"\",'MARK Enrollment Template'!K441=\"\"),\"Please fill in Zip Code.\",IF(LEN(SUBSTITUTE(TRIM('MARK Enrollment Template'!K441),CHAR(9),\"\"))<5,\"Zip <5 digits. If leading zero, add apostrophe (ex. '01234).\",\"\")))","v":""},null,null,{"$f":"CELL(\"format\",'MARK Enrollment Template'!C441)","v":"G"}]
["",{"$f":"IF(AND(SUMPRODUCT(--('MARK Enrollment Template'!A442:L442<>\"\"))<>0,'MARK Enrollment Template'!A442=\"\"),\"Please fill in First Name.\",IF(LEN('MARK Enrollment Template'!A442)=1,\"Please fill in full first name.\",\"\"))","v":""},{"$f":"IF('MARK Enrollment Template'!A442=\"\",\"\",IF(AND('MARK Enrollment Template'!A442<>\"\",'MARK Enrollment Template'!B442=\"\"),\"Please fill in a Last Name.\",\"\"))","v":""},{"$f":"IF('MARK Enrollment Template'!A442=\"\",\"\",IF(AND('MARK Enrollment Template'!A442<>\"\",'MARK Enrollment Template'!C442=\"\"),\"Please fill in Date of Birth.\",IF(TRIM(O437)<>\"D4\",\"Please format DOB as a date in the form MM/DD/YYYY.\",IF('MARK Enrollment Template'!C442>TODAY(),\"Please check DOB.\",\"\"))))","v":""},{"$f":"IF('MARK Enrollment Template'!A442=\"\",\"\",IF(AND('MARK Enrollment Template'!A442<>\"\",'MARK Enrollment Template'!D442=\"\"),\"Please fill in Sex.\",IF(OR(TRIM('MARK Enrollment Template'!D442)=\"M\",TRIM('MARK Enrollment Template'!D442)=\"F\",TRIM('MARK Enrollment Template'!D442)=\"Male\",TRIM('MARK Enrollment Template'!D442)=\"Female\"),\"\",\"Sex must be M/F/Male/Female.\")))","v":""},null,null,{"$f":"IF('MARK Enrollment Template'!A442=\"\",\"\",IF(AND('MARK Enrollment Template'!A442<>\"\",'MARK Enrollment Template'!G442=\"\"),\"Please fill in Email Address.\",IF(IFERROR(FIND(\"@\",'MARK Enrollment Template'!G442),\"X\")=\"X\",\"Email Address must include an @ symbol.\",\"\")))","v":""},null,null,null,{"$f":"IF('MARK Enrollment Template'!A442=\"\",\"\",IF(AND('MARK Enrollment Template'!A442<>\"\",'MARK Enrollment Template'!K442=\"\"),\"Please fill in Zip Code.\",IF(LEN(SUBSTITUTE(TRIM('MARK Enrollment Template'!K442),CHAR(9),\"\"))<5,\"Zip <5 digits. If leading zero, add apostrophe (ex. '01234).\",\"\")))","v":""},null,null,{"$f":"CELL(\"format\",'MARK Enrollment Template'!C442)","v":"G"}]
["",{"$f":"IF(AND(SUMPRODUCT(--('MARK Enrollment Template'!A443:L443<>\"\"))<>0,'MARK Enrollment Template'!A443=\"\"),\"Please fill in First Name.\",IF(LEN('MARK Enrollment Template'!A443)=1,\"Please fill in full first name.\",\"\"))","v":""},{"$f":"IF('MARK Enrollment Template'!A443=\"\",\"\",IF(AND('MARK Enrollment Template'!A443<>\"\",'MARK Enrollment Template'!B443=\"\"),\"Please fill in a Last Name.\",\"\"))","v":""},{"$f":"IF('MARK Enrollment Template'!A443=\"\",\"\",IF(AND('MARK Enrollment Template'!A443<>\"\",'MARK Enrollment Template'!C443=\"\"),\"Please fill in Date of Birth.\",IF(TRIM(O438)<>\"D4\",\"Please format DOB as a date in the form MM/DD/YYYY.\",IF('MARK Enrollment Template'!C443>TODAY(),\"Please check DOB.\",\"\"))))","v":""},{"$f":"IF('MARK Enrollment Template'!A443=\"\",\"\",IF(AND('MARK Enrollment Template'!A443<>\"\",'MARK Enrollment Template'!D443=\"\"),\"Please fill in Sex.\",IF(OR(TRIM('MARK Enrollment Template'!D443)=\"M\",TRIM('MARK Enrollment Template'!D443)=\"F\",TRIM('MARK Enrollment Template'!D443)=\"Male\",TRIM('MARK Enrollment Template'!D443)=\"Female\"),\"\",\"Sex must be M/F/Male/Female.\")))","v":""},null,null,{"$f":"IF('MARK Enrollment Template'!A443=\"\",\"\",IF(AND('MARK Enrollment Template'!A443<>\"\",'MARK Enrollment Template'!G443=\"\"),\"Please fill in Email Address.\",IF(IFERROR(FIND(\"@\",'MARK Enrollment Template'!G443),\"X\")=\"X\",\"Email Address must include an @ symbol.\",\"\")))","v":""},null,null,null,{"$f":"IF('MARK Enrollment Template'!A443=\"\",\"\",IF(AND('MARK Enrollment Template'!A443<>\"\",'MARK Enrollment Template'!K443=\"\"),\"Please fill in Zip Code.\",IF(LEN(SUBSTITUTE(TRIM('MARK Enrollment Template'!K443),CHAR(9),\"\"))<5,\"Zip <5 digits. If leading zero, add apostrophe (ex. '01234).\",\"\")))","v":""},null,null,{"$f":"CELL(\"format\",'MARK Enrollment Template'!C443)","v":"G"}]
["",{"$f":"IF(AND(SUMPRODUCT(--('MARK Enrollment Template'!A444:L444<>\"\"))<>0,'MARK Enrollment Template'!A444=\"\"),\"Please fill in First Name.\",IF(LEN('MARK Enrollment Template'!A444)=1,\"Please fill in full first name.\",\"\"))","v":""},{"$f":"IF('MARK Enrollment Template'!A444=\"\",\"\",IF(AND('MARK Enrollment Template'!A444<>\"\",'MARK Enrollment Template'!B444=\"\"),\"Please fill in a Last Name.\",\"\"))","v":""},{"$f":"IF('MARK Enrollment Template'!A444=\"\",\"\",IF(AND('MARK Enrollment Template'!A444<>\"\",'MARK Enrollment Template'!C444=\"\"),\"Please fill in Date of Birth.\",IF(TRIM(O439)<>\"D4\",\"Please format DOB as a date in the form MM/DD/YYYY.\",IF('MARK Enrollment Template'!C444>TODAY(),\"Please check DOB.\",\"\"))))","v":""},{"$f":"IF('MARK Enrollment Template'!A444=\"\",\"\",IF(AND('MARK Enrollment Template'!A444<>\"\",'MARK Enrollment Template'!D444=\"\"),\"Please fill in Sex.\",IF(OR(TRIM('MARK Enrollment Template'!D444)=\"M\",TRIM('MARK Enrollment Template'!D444)=\"F\",TRIM('MARK Enrollment Template'!D444)=\"Male\",TRIM('MARK Enrollment Template'!D444)=\"Female\"),\"\",\"Sex must be M/F/Male/Female.\")))","v":""},null,null,{"$f":"IF('MARK Enrollment Template'!A444=\"\",\"\",IF(AND('MARK Enrollment Template'!A444<>\"\",'MARK Enrollment Template'!G444=\"\"),\"Please fill in Email Address.\",IF(IFERROR(FIND(\"@\",'MARK Enrollment Template'!G444),\"X\")=\"X\",\"Email Address must include an @ symbol.\",\"\")))","v":""},null,null,null,{"$f":"IF('MARK Enrollment Template'!A444=\"\",\"\",IF(AND('MARK Enrollment Template'!A444<>\"\",'MARK Enrollment Template'!K444=\"\"),\"Please fill in Zip Code.\",IF(LEN(SUBSTITUTE(TRIM('MARK Enrollment Template'!K444),CHAR(9),\"\"))<5,\"Zip <5 digits. If leading zero, add apostrophe (ex. '01234).\",\"\")))","v":""},null,null,{"$f":"CELL(\"format\",'MARK Enrollment Template'!C444)","v":"G"}]
["",{"$f":"IF(AND(SUMPRODUCT(--('MARK Enrollment Template'!A445:L445<>\"\"))<>0,'MARK Enrollment Template'!A445=\"\"),\"Please fill in First Name.\",IF(LEN('MARK Enrollment Template'!A445)=1,\"Please fill in full first name.\",\"\"))","v":""},{"$f":"IF('MARK Enrollment Template'!A445=\"\",\"\",IF(AND('MARK Enrollment Template'!A445<>\"\",'MARK Enrollment Template'!B445=\"\"),\"Please fill in a Last Name.\",\"\"))","v":""},{"$f":"IF('MARK Enrollment Template'!A445=\"\",\"\",IF(AND('MARK Enrollment Template'!A445<>\"\",'MARK Enrollment Template'!C445=\"\"),\"Please fill in Date of Birth.\",IF(TRIM(O440)<>\"D4\",\"Please format DOB as a date in the form MM/DD/YYYY.\",IF('MARK Enrollment Template'!C445>TODAY(),\"Please check DOB.\",\"\"))))","v":""},{"$f":"IF('MARK Enrollment Template'!A445=\"\",\"\",IF(AND('MARK Enrollment Template'!A445<>\"\",'MARK Enrollment Template'!D445=\"\"),\"Please fill in Sex.\",IF(OR(TRIM('MARK Enrollment Template'!D445)=\"M\",TRIM('MARK Enrollment Template'!D445)=\"F\",TRIM('MARK Enrollment Template'!D445)=\"Male\",TRIM('MARK Enrollment Template'!D445)=\"Female\"),\"\",\"Sex must be M/F/Male/Female.\")))","v":""},null,null,{"$f":"IF('MARK Enrollment Template'!A445=\"\",\"\",IF(AND('MARK Enrollment Template'!A445<>\"\",'MARK Enrollment Template'!G445=\"\"),\"Please fill in Email Address.\",IF(IFERROR(FIND(\"@\",'MARK Enrollment Template'!G445),\"X\")=\"X\",\"Email Address must include an @ symbol.\",\"\")))","v":""},null,null,null,{"$f":"IF('MARK Enrollment Template'!A445=\"\",\"\",IF(AND('MARK Enrollment Template'!A445<>\"\",'MARK Enrollment Template'!K445=\"\"),\"Please fill in Zip Code.\",IF(LEN(SUBSTITUTE(TRIM('MARK Enrollment Template'!K445),CHAR(9),\"\"))<5,\"Zip <5 digits. If leading zero, add apostrophe (ex. '01234).\",\"\")))","v":""},null,null,{"$f":"CELL(\"format\",'MARK Enrollment Template'!C445)","v":"G"}]
["",{"$f":"IF(AND(SUMPRODUCT(--('MARK Enrollment Template'!A446:L446<>\"\"))<>0,'MARK Enrollment Template'!A446=\"\"),\"Please fill in First Name.\",IF(LEN('MARK Enrollment Template'!A446)=1,\"Please fill in full first name.\",\"\"))","v":""},{"$f":"IF('MARK Enrollment Template'!A446=\"\",\"\",IF(AND('MARK Enrollment Template'!A446<>\"\",'MARK Enrollment Template'!B446=\"\"),\"Please fill in a Last Name.\",\"\"))","v":""},{"$f":"IF('MARK Enrollment Template'!A446=\"\",\"\",IF(AND('MARK Enrollment Template'!A446<>\"\",'MARK Enrollment Template'!C446=\"\"),\"Please fill in Date of Birth.\",IF(TRIM(O441)<>\"D4\",\"Please format DOB as a date in the form MM/DD/YYYY.\",IF('MARK Enrollment Template'!C446>TODAY(),\"Please check DOB.\",\"\"))))","v":""},{"$f":"IF('MARK Enrollment Template'!A446=\"\",\"\",IF(AND('MARK Enrollment Template'!A446<>\"\",'MARK Enrollment Template'!D446=\"\"),\"Please fill in Sex.\",IF(OR(TRIM('MARK Enrollment Template'!D446)=\"M\",TRIM('MARK Enrollment Template'!D446)=\"F\",TRIM('MARK Enrollment Template'!D446)=\"Male\",TRIM('MARK Enrollment Template'!D446)=\"Female\"),\"\",\"Sex must be M/F/Male/Female.\")))","v":""},null,null,{"$f":"IF('MARK Enrollment Template'!A446=\"\",\"\",IF(AND('MARK Enrollment Template'!A446<>\"\",'MARK Enrollment Template'!G446=\"\"),\"Please fill in Email Address.\",IF(IFERROR(FIND(\"@\",'MARK Enrollment Template'!G446),\"X\")=\"X\",\"Email Address must include an @ symbol.\",\"\")))","v":""},null,null,null,{"$f":"IF('MARK Enrollment Template'!A446=\"\",\"\",IF(AND('MARK Enrollment Template'!A446<>\"\",'MARK Enrollment Template'!K446=\"\"),\"Please fill in Zip Code.\",IF(LEN(SUBSTITUTE(TRIM('MARK Enrollment Template'!K446),CHAR(9),\"\"))<5,\"Zip <5 digits. If leading zero, add apostrophe (ex. '01234).\",\"\")))","v":""},null,null,{"$f":"CELL(\"format\",'MARK Enrollment Template'!C446)","v":"G"}]
["",{"$f":"IF(AND(SUMPRODUCT(--('MARK Enrollment Template'!A447:L447<>\"\"))<>0,'MARK Enrollment Template'!A447=\"\"),\"Please fill in First Name.\",IF(LEN('MARK Enrollment Template'!A447)=1,\"Please fill in full first name.\",\"\"))","v":""},{"$f":"IF('MARK Enrollment Template'!A447=\"\",\"\",IF(AND('MARK Enrollment Template'!A447<>\"\",'MARK Enrollment Template'!B447=\"\"),\"Please fill in a Last Name.\",\"\"))","v":""},{"$f":"IF('MARK Enrollment Template'!A447=\"\",\"\",IF(AND('MARK Enrollment Template'!A447<>\"\",'MARK Enrollment Template'!C447=\"\"),\"Please fill in Date of Birth.\",IF(TRIM(O442)<>\"D4\",\"Please format DOB as a date in the form MM/DD/YYYY.\",IF('MARK Enrollment Template'!C447>TODAY(),\"Please check DOB.\",\"\"))))","v":""},{"$f":"IF('MARK Enrollment Template'!A447=\"\",\"\",IF(AND('MARK Enrollment Template'!A447<>\"\",'MARK Enrollment Template'!D447=\"\"),\"Please fill in Sex.\",IF(OR(TRIM('MARK Enrollment Template'!D447)=\"M\",TRIM('MARK Enrollment Template'!D447)=\"F\",TRIM('MARK Enrollment Template'!D447)=\"Male\",TRIM('MARK Enrollment Template'!D447)=\"Female\"),\"\",\"Sex must be M/F/Male/Female.\")))","v":""},null,null,{"$f":"IF('MARK Enrollment Template'!A447=\"\",\"\",IF(AND('MARK Enrollment Template'!A447<>\"\",'MARK Enrollment Template'!G447=\"\"),\"Please fill in Email Address.\",IF(IFERROR(FIND(\"@\",'MARK Enrollment Template'!G447),\"X\")=\"X\",\"Email Address must include an @ symbol.\",\"\")))","v":""},null,null,null,{"$f":"IF('MARK Enrollment Template'!A447=\"\",\"\",IF(AND('MARK Enrollment Template'!A447<>\"\",'MARK Enrollment Template'!K447=\"\"),\"Please fill in Zip Code.\",IF(LEN(SUBSTITUTE(TRIM('MARK Enrollment Template'!K447),CHAR(9),\"\"))<5,\"Zip <5 digits. If leading zero, add apostrophe (ex. '01234).\",\"\")))","v":""},null,null,{"$f":"CELL(\"format\",'MARK Enrollment Template'!C447)","v":"G"}]
["",{"$f":"IF(AND(SUMPRODUCT(--('MARK Enrollment Template'!A448:L448<>\"\"))<>0,'MARK Enrollment Template'!A448=\"\"),\"Please fill in First Name.\",IF(LEN('MARK Enrollment Template'!A448)=1,\"Please fill in full first name.\",\"\"))","v":""},{"$f":"IF('MARK Enrollment Template'!A448=\"\",\"\",IF(AND('MARK Enrollment Template'!A448<>\"\",'MARK Enrollment Template'!B448=\"\"),\"Please fill in a Last Name.\",\"\"))","v":""},{"$f":"IF('MARK Enrollment Template'!A448=\"\",\"\",IF(AND('MARK Enrollment Template'!A448<>\"\",'MARK Enrollment Template'!C448=\"\"),\"Please fill in Date of Birth.\",IF(TRIM(O443)<>\"D4\",\"Please format DOB as a date in the form MM/DD/YYYY.\",IF('MARK Enrollment Template'!C448>TODAY(),\"Please check DOB.\",\"\"))))","v":""},{"$f":"IF('MARK Enrollment Template'!A448=\"\",\"\",IF(AND('MARK Enrollment Template'!A448<>\"\",'MARK Enrollment Template'!D448=\"\"),\"Please fill in Sex.\",IF(OR(TRIM('MARK Enrollment Template'!D448)=\"M\",TRIM('MARK Enrollment Template'!D448)=\"F\",TRIM('MARK Enrollment Template'!D448)=\"Male\",TRIM('MARK Enrollment Template'!D448)=\"Female\"),\"\",\"Sex must be M/F/Male/Female.\")))","v":""},null,null,{"$f":"IF('MARK Enrollment Template'!A448=\"\",\"\",IF(AND('MARK Enrollment Template'!A448<>\"\",'MARK Enrollment Template'!G448=\"\"),\"Please fill in Email Address.\",IF(IFERROR(FIND(\"@\",'MARK Enrollment Template'!G448),\"X\")=\"X\",\"Email Address must include an @ symbol.\",\"\")))","v":""},null,null,null,{"$f":"IF('MARK Enrollment Template'!A448=\"\",\"\",IF(AND('MARK Enrollment Template'!A448<>\"\",'MARK Enrollment Template'!K448=\"\"),\"Please fill in Zip Code.\",IF(LEN(SUBSTITUTE(TRIM('MARK Enrollment Template'!K448),CHAR(9),\"\"))<5,\"Zip <5 digits. If leading zero, add apostrophe (ex. '01234).\",\"\")))","v":""},null,null,{"$f":"CELL(\"format\",'MARK Enrollment Template'!C448)","v":"G"}]
["",{"$f":"IF(AND(SUMPRODUCT(--('MARK Enrollment Template'!A449:L449<>\"\"))<>0,'MARK Enrollment Template'!A449=\"\"),\"Please fill in First Name.\",IF(LEN('MARK Enrollment Template'!A449)=1,\"Please fill in full first name.\",\"\"))","v":""},{"$f":"IF('MARK Enrollment Template'!A449=\"\",\"\",IF(AND('MARK Enrollment Template'!A449<>\"\",'MARK Enrollment Template'!B449=\"\"),\"Please fill in a Last Name.\",\"\"))","v":""},{"$f":"IF('MARK Enrollment Template'!A449=\"\",\"\",IF(AND('MARK Enrollment Template'!A449<>\"\",'MARK Enrollment Template'!C449=\"\"),\"Please fill in Date of Birth.\",IF(TRIM(O444)<>\"D4\",\"Please format DOB as a date in the form MM/DD/YYYY.\",IF('MARK Enrollment Template'!C449>TODAY(),\"Please check DOB.\",\"\"))))","v":""},{"$f":"IF('MARK Enrollment Template'!A449=\"\",\"\",IF(AND('MARK Enrollment Template'!A449<>\"\",'MARK Enrollment Template'!D449=\"\"),\"Please fill in Sex.\",IF(OR(TRIM('MARK Enrollment Template'!D449)=\"M\",TRIM('MARK Enrollment Template'!D449)=\"F\",TRIM('MARK Enrollment Template'!D449)=\"Male\",TRIM('MARK Enrollment Template'!D449)=\"Female\"),\"\",\"Sex must be M/F/Male/Female.\")))","v":""},null,null,{"$f":"IF('MARK Enrollment Template'!A449=\"\",\"\",IF(AND('MARK Enrollment Template'!A449<>\"\",'MARK Enrollment Template'!G449=\"\"),\"Please fill in Email Address.\",IF(IFERROR(FIND(\"@\",'MARK Enrollment Template'!G449),\"X\")=\"X\",\"Email Address must include an @ symbol.\",\"\")))","v":""},null,null,null,{"$f":"IF('MARK Enrollment Template'!A449=\"\",\"\",IF(AND('MARK Enrollment Template'!A449<>\"\",'MARK Enrollment Template'!K449=\"\"),\"Please fill in Zip Code.\",IF(LEN(SUBSTITUTE(TRIM('MARK Enrollment Template'!K449),CHAR(9),\"\"))<5,\"Zip <5 digits. If leading zero, add apostrophe (ex. '01234).\",\"\")))","v":""},null,null,{"$f":"CELL(\"format\",'MARK Enrollment Template'!C449)","v":"G"}]
["",{"$f":"IF(AND(SUMPRODUCT(--('MARK Enrollment Template'!A450:L450<>\"\"))<>0,'MARK Enrollment Template'!A450=\"\"),\"Please fill in First Name.\",IF(LEN('MARK Enrollment Template'!A450)=1,\"Please fill in full first name.\",\"\"))","v":""},{"$f":"IF('MARK Enrollment Template'!A450=\"\",\"\",IF(AND('MARK Enrollment Template'!A450<>\"\",'MARK Enrollment Template'!B450=\"\"),\"Please fill in a Last Name.\",\"\"))","v":""},{"$f":"IF('MARK Enrollment Template'!A450=\"\",\"\",IF(AND('MARK Enrollment Template'!A450<>\"\",'MARK Enrollment Template'!C450=\"\"),\"Please fill in Date of Birth.\",IF(TRIM(O445)<>\"D4\",\"Please format DOB as a date in the form MM/DD/YYYY.\",IF('MARK Enrollment Template'!C450>TODAY(),\"Please check DOB.\",\"\"))))","v":""},{"$f":"IF('MARK Enrollment Template'!A450=\"\",\"\",IF(AND('MARK Enrollment Template'!A450<>\"\",'MARK Enrollment Template'!D450=\"\"),\"Please fill in Sex.\",IF(OR(TRIM('MARK Enrollment Template'!D450)=\"M\",TRIM('MARK Enrollment Template'!D450)=\"F\",TRIM('MARK Enrollment Template'!D450)=\"Male\",TRIM('MARK Enrollment Template'!D450)=\"Female\"),\"\",\"Sex must be M/F/Male/Female.\")))","v":""},null,null,{"$f":"IF('MARK Enrollment Template'!A450=\"\",\"\",IF(AND('MARK Enrollment Template'!A450<>\"\",'MARK Enrollment Template'!G450=\"\"),\"Please fill in Email Address.\",IF(IFERROR(FIND(\"@\",'MARK Enrollment Template'!G450),\"X\")=\"X\",\"Email Address must include an @ symbol.\",\"\")))","v":""},null,null,null,{"$f":"IF('MARK Enrollment Template'!A450=\"\",\"\",IF(AND('MARK Enrollment Template'!A450<>\"\",'MARK Enrollment Template'!K450=\"\"),\"Please fill in Zip Code.\",IF(LEN(SUBSTITUTE(TRIM('MARK Enrollment Template'!K450),CHAR(9),\"\"))<5,\"Zip <5 digits. If leading zero, add apostrophe (ex. '01234).\",\"\")))","v":""},null,null,{"$f":"CELL(\"format\",'MARK Enrollment Template'!C450)","v":"G"}]
["",{"$f":"IF(AND(SUMPRODUCT(--('MARK Enrollment Template'!A451:L451<>\"\"))<>0,'MARK Enrollment Template'!A451=\"\"),\"Please fill in First Name.\",IF(LEN('MARK Enrollment Template'!A451)=1,\"Please fill in full first name.\",\"\"))","v":""},{"$f":"IF('MARK Enrollment Template'!A451=\"\",\"\",IF(AND('MARK Enrollment Template'!A451<>\"\",'MARK Enrollment Template'!B451=\"\"),\"Please fill in a Last Name.\",\"\"))","v":""},{"$f":"IF('MARK Enrollment Template'!A451=\"\",\"\",IF(AND('MARK Enrollment Template'!A451<>\"\",'MARK Enrollment Template'!C451=\"\"),\"Please fill in Date of Birth.\",IF(TRIM(O446)<>\"D4\",\"Please format DOB as a date in the form MM/DD/YYYY.\",IF('MARK Enrollment Template'!C451>TODAY(),\"Please check DOB.\",\"\"))))","v":""},{"$f":"IF('MARK Enrollment Template'!A451=\"\",\"\",IF(AND('MARK Enrollment Template'!A451<>\"\",'MARK Enrollment Template'!D451=\"\"),\"Please fill in Sex.\",IF(OR(TRIM('MARK Enrollment Template'!D451)=\"M\",TRIM('MARK Enrollment Template'!D451)=\"F\",TRIM('MARK Enrollment Template'!D451)=\"Male\",TRIM('MARK Enrollment Template'!D451)=\"Female\"),\"\",\"Sex must be M/F/Male/Female.\")))","v":""},null,null,{"$f":"IF('MARK Enrollment Template'!A451=\"\",\"\",IF(AND('MARK Enrollment Template'!A451<>\"\",'MARK Enrollment Template'!G451=\"\"),\"Please fill in Email Address.\",IF(IFERROR(FIND(\"@\",'MARK Enrollment Template'!G451),\"X\")=\"X\",\"Email Address must include an @ symbol.\",\"\")))","v":""},null,null,null,{"$f":"IF('MARK Enrollment Template'!A451=\"\",\"\",IF(AND('MARK Enrollment Template'!A451<>\"\",'MARK Enrollment Template'!K451=\"\"),\"Please fill in Zip Code.\",IF(LEN(SUBSTITUTE(TRIM('MARK Enrollment Template'!K451),CHAR(9),\"\"))<5,\"Zip <5 digits. If leading zero, add apostrophe (ex. '01234).\",\"\")))","v":""},null,null,{"$f":"CELL(\"format\",'MARK Enrollment Template'!C451)","v":"G"}]
["",{"$f":"IF(AND(SUMPRODUCT(--('MARK Enrollment Template'!A452:L452<>\"\"))<>0,'MARK Enrollment Template'!A452=\"\"),\"Please fill in First Name.\",IF(LEN('MARK Enrollment Template'!A452)=1,\"Please fill in full first name.\",\"\"))","v":""},{"$f":"IF('MARK Enrollment Template'!A452=\"\",\"\",IF(AND('MARK Enrollment Template'!A452<>\"\",'MARK Enrollment Template'!B452=\"\"),\"Please fill in a Last Name.\",\"\"))","v":""},{"$f":"IF('MARK Enrollment Template'!A452=\"\",\"\",IF(AND('MARK Enrollment Template'!A452<>\"\",'MARK Enrollment Template'!C452=\"\"),\"Please fill in Date of Birth.\",IF(TRIM(O447)<>\"D4\",\"Please format DOB as a date in the form MM/DD/YYYY.\",IF('MARK Enrollment Template'!C452>TODAY(),\"Please check DOB.\",\"\"))))","v":""},{"$f":"IF('MARK Enrollment Template'!A452=\"\",\"\",IF(AND('MARK Enrollment Template'!A452<>\"\",'MARK Enrollment Template'!D452=\"\"),\"Please fill in Sex.\",IF(OR(TRIM('MARK Enrollment Template'!D452)=\"M\",TRIM('MARK Enrollment Template'!D452)=\"F\",TRIM('MARK Enrollment Template'!D452)=\"Male\",TRIM('MARK Enrollment Template'!D452)=\"Female\"),\"\",\"Sex must be M/F/Male/Female.\")))","v":""},null,null,{"$f":"IF('MARK Enrollment Template'!A452=\"\",\"\",IF(AND('MARK Enrollment Template'!A452<>\"\",'MARK Enrollment Template'!G452=\"\"),\"Please fill in Email Address.\",IF(IFERROR(FIND(\"@\",'MARK Enrollment Template'!G452),\"X\")=\"X\",\"Email Address must include an @ symbol.\",\"\")))","v":""},null,null,null,{"$f":"IF('MARK Enrollment Template'!A452=\"\",\"\",IF(AND('MARK Enrollment Template'!A452<>\"\",'MARK Enrollment Template'!K452=\"\"),\"Please fill in Zip Code.\",IF(LEN(SUBSTITUTE(TRIM('MARK Enrollment Template'!K452),CHAR(9),\"\"))<5,\"Zip <5 digits. If leading zero, add apostrophe (ex. '01234).\",\"\")))","v":""},null,null,{"$f":"CELL(\"format\",'MARK Enrollment Template'!C452)","v":"G"}]
["",{"$f":"IF(AND(SUMPRODUCT(--('MARK Enrollment Template'!A453:L453<>\"\"))<>0,'MARK Enrollment Template'!A453=\"\"),\"Please fill in First Name.\",IF(LEN('MARK Enrollment Template'!A453)=1,\"Please fill in full first name.\",\"\"))","v":""},{"$f":"IF('MARK Enrollment Template'!A453=\"\",\"\",IF(AND('MARK Enrollment Template'!A453<>\"\",'MARK Enrollment Template'!B453=\"\"),\"Please fill in a Last Name.\",\"\"))","v":""},{"$f":"IF('MARK Enrollment Template'!A453=\"\",\"\",IF(AND('MARK Enrollment Template'!A453<>\"\",'MARK Enrollment Template'!C453=\"\"),\"Please fill in Date of Birth.\",IF(TRIM(O448)<>\"D4\",\"Please format DOB as a date in the form MM/DD/YYYY.\",IF('MARK Enrollment Template'!C453>TODAY(),\"Please check DOB.\",\"\"))))","v":""},{"$f":"IF('MARK Enrollment Template'!A453=\"\",\"\",IF(AND('MARK Enrollment Template'!A453<>\"\",'MARK Enrollment Template'!D453=\"\"),\"Please fill in Sex.\",IF(OR(TRIM('MARK Enrollment Template'!D453)=\"M\",TRIM('MARK Enrollment Template'!D453)=\"F\",TRIM('MARK Enrollment Template'!D453)=\"Male\",TRIM('MARK Enrollment Template'!D453)=\"Female\"),\"\",\"Sex must be M/F/Male/Female.\")))","v":""},null,null,{"$f":"IF('MARK Enrollment Template'!A453=\"\",\"\",IF(AND('MARK Enrollment Template'!A453<>\"\",'MARK Enrollment Template'!G453=\"\"),\"Please fill in Email Address.\",IF(IFERROR(FIND(\"@\",'MARK Enrollment Template'!G453),\"X\")=\"X\",\"Email Address must include an @ symbol.\",\"\")))","v":""},null,null,null,{"$f":"IF('MARK Enrollment Template'!A453=\"\",\"\",IF(AND('MARK Enrollment Template'!A453<>\"\",'MARK Enrollment Template'!K453=\"\"),\"Please fill in Zip Code.\",IF(LEN(SUBSTITUTE(TRIM('MARK Enrollment Template'!K453),CHAR(9),\"\"))<5,\"Zip <5 digits. If leading zero, add apostrophe (ex. '01234).\",\"\")))","v":""},null,null,{"$f":"CELL(\"format\",'MARK Enrollment Template'!C453)","v":"G"}]
["",{"$f":"IF(AND(SUMPRODUCT(--('MARK Enrollment Template'!A454:L454<>\"\"))<>0,'MARK Enrollment Template'!A454=\"\"),\"Please fill in First Name.\",IF(LEN('MARK Enrollment Template'!A454)=1,\"Please fill in full first name.\",\"\"))","v":""},{"$f":"IF('MARK Enrollment Template'!A454=\"\",\"\",IF(AND('MARK Enrollment Template'!A454<>\"\",'MARK Enrollment Template'!B454=\"\"),\"Please fill in a Last Name.\",\"\"))","v":""},{"$f":"IF('MARK Enrollment Template'!A454=\"\",\"\",IF(AND('MARK Enrollment Template'!A454<>\"\",'MARK Enrollment Template'!C454=\"\"),\"Please fill in Date of Birth.\",IF(TRIM(O449)<>\"D4\",\"Please format DOB as a date in the form MM/DD/YYYY.\",IF('MARK Enrollment Template'!C454>TODAY(),\"Please check DOB.\",\"\"))))","v":""},{"$f":"IF('MARK Enrollment Template'!A454=\"\",\"\",IF(AND('MARK Enrollment Template'!A454<>\"\",'MARK Enrollment Template'!D454=\"\"),\"Please fill in Sex.\",IF(OR(TRIM('MARK Enrollment Template'!D454)=\"M\",TRIM('MARK Enrollment Template'!D454)=\"F\",TRIM('MARK Enrollment Template'!D454)=\"Male\",TRIM('MARK Enrollment Template'!D454)=\"Female\"),\"\",\"Sex must be M/F/Male/Female.\")))","v":""},null,null,{"$f":"IF('MARK Enrollment Template'!A454=\"\",\"\",IF(AND('MARK Enrollment Template'!A454<>\"\",'MARK Enrollment Template'!G454=\"\"),\"Please fill in Email Address.\",IF(IFERROR(FIND(\"@\",'MARK Enrollment Template'!G454),\"X\")=\"X\",\"Email Address must include an @ symbol.\",\"\")))","v":""},null,null,null,{"$f":"IF('MARK Enrollment Template'!A454=\"\",\"\",IF(AND('MARK Enrollment Template'!A454<>\"\",'MARK Enrollment Template'!K454=\"\"),\"Please fill in Zip Code.\",IF(LEN(SUBSTITUTE(TRIM('MARK Enrollment Template'!K454),CHAR(9),\"\"))<5,\"Zip <5 digits. If leading zero, add apostrophe (ex. '01234).\",\"\")))","v":""},null,null,{"$f":"CELL(\"format\",'MARK Enrollment Template'!C454)","v":"G"}]
["",{"$f":"IF(AND(SUMPRODUCT(--('MARK Enrollment Template'!A455:L455<>\"\"))<>0,'MARK Enrollment Template'!A455=\"\"),\"Please fill in First Name.\",IF(LEN('MARK Enrollment Template'!A455)=1,\"Please fill in full first name.\",\"\"))","v":""},{"$f":"IF('MARK Enrollment Template'!A455=\"\",\"\",IF(AND('MARK Enrollment Template'!A455<>\"\",'MARK Enrollment Template'!B455=\"\"),\"Please fill in a Last Name.\",\"\"))","v":""},{"$f":"IF('MARK Enrollment Template'!A455=\"\",\"\",IF(AND('MARK Enrollment Template'!A455<>\"\",'MARK Enrollment Template'!C455=\"\"),\"Please fill in Date of Birth.\",IF(TRIM(O450)<>\"D4\",\"Please format DOB as a date in the form MM/DD/YYYY.\",IF('MARK Enrollment Template'!C455>TODAY(),\"Please check DOB.\",\"\"))))","v":""},{"$f":"IF('MARK Enrollment Template'!A455=\"\",\"\",IF(AND('MARK Enrollment Template'!A455<>\"\",'MARK Enrollment Template'!D455=\"\"),\"Please fill in Sex.\",IF(OR(TRIM('MARK Enrollment Template'!D455)=\"M\",TRIM('MARK Enrollment Template'!D455)=\"F\",TRIM('MARK Enrollment Template'!D455)=\"Male\",TRIM('MARK Enrollment Template'!D455)=\"Female\"),\"\",\"Sex must be M/F/Male/Female.\")))","v":""},null,null,{"$f":"IF('MARK Enrollment Template'!A455=\"\",\"\",IF(AND('MARK Enrollment Template'!A455<>\"\",'MARK Enrollment Template'!G455=\"\"),\"Please fill in Email Address.\",IF(IFERROR(FIND(\"@\",'MARK Enrollment Template'!G455),\"X\")=\"X\",\"Email Address must include an @ symbol.\",\"\")))","v":""},null,null,null,{"$f":"IF('MARK Enrollment Template'!A455=\"\",\"\",IF(AND('MARK Enrollment Template'!A455<>\"\",'MARK Enrollment Template'!K455=\"\"),\"Please fill in Zip Code.\",IF(LEN(SUBSTITUTE(TRIM('MARK Enrollment Template'!K455),CHAR(9),\"\"))<5,\"Zip <5 digits. If leading zero, add apostrophe (ex. '01234).\",\"\")))","v":""},null,null,{"$f":"CELL(\"format\",'MARK Enrollment Template'!C455)","v":"G"}]
["",{"$f":"IF(AND(SUMPRODUCT(--('MARK Enrollment Template'!A456:L456<>\"\"))<>0,'MARK Enrollment Template'!A456=\"\"),\"Please fill in First Name.\",IF(LEN('MARK Enrollment Template'!A456)=1,\"Please fill in full first name.\",\"\"))","v":""},{"$f":"IF('MARK Enrollment Template'!A456=\"\",\"\",IF(AND('MARK Enrollment Template'!A456<>\"\",'MARK Enrollment Template'!B456=\"\"),\"Please fill in a Last Name.\",\"\"))","v":""},{"$f":"IF('MARK Enrollment Template'!A456=\"\",\"\",IF(AND('MARK Enrollment Template'!A456<>\"\",'MARK Enrollment Template'!C456=\"\"),\"Please fill in Date of Birth.\",IF(TRIM(O451)<>\"D4\",\"Please format DOB as a date in the form MM/DD/YYYY.\",IF('MARK Enrollment Template'!C456>TODAY(),\"Please check DOB.\",\"\"))))","v":""},{"$f":"IF('MARK Enrollment Template'!A456=\"\",\"\",IF(AND('MARK Enrollment Template'!A456<>\"\",'MARK Enrollment Template'!D456=\"\"),\"Please fill in Sex.\",IF(OR(TRIM('MARK Enrollment Template'!D456)=\"M\",TRIM('MARK Enrollment Template'!D456)=\"F\",TRIM('MARK Enrollment Template'!D456)=\"Male\",TRIM('MARK Enrollment Template'!D456)=\"Female\"),\"\",\"Sex must be M/F/Male/Female.\")))","v":""},null,null,{"$f":"IF('MARK Enrollment Template'!A456=\"\",\"\",IF(AND('MARK Enrollment Template'!A456<>\"\",'MARK Enrollment Template'!G456=\"\"),\"Please fill in Email Address.\",IF(IFERROR(FIND(\"@\",'MARK Enrollment Template'!G456),\"X\")=\"X\",\"Email Address must include an @ symbol.\",\"\")))","v":""},null,null,null,{"$f":"IF('MARK Enrollment Template'!A456=\"\",\"\",IF(AND('MARK Enrollment Template'!A456<>\"\",'MARK Enrollment Template'!K456=\"\"),\"Please fill in Zip Code.\",IF(LEN(SUBSTITUTE(TRIM('MARK Enrollment Template'!K456),CHAR(9),\"\"))<5,\"Zip <5 digits. If leading zero, add apostrophe (ex. '01234).\",\"\")))","v":""},null,null,{"$f":"CELL(\"format\",'MARK Enrollment Template'!C456)","v":"G"}]
["",{"$f":"IF(AND(SUMPRODUCT(--('MARK Enrollment Template'!A457:L457<>\"\"))<>0,'MARK Enrollment Template'!A457=\"\"),\"Please fill in First Name.\",IF(LEN('MARK Enrollment Template'!A457)=1,\"Please fill in full first name.\",\"\"))","v":""},{"$f":"IF('MARK Enrollment Template'!A457=\"\",\"\",IF(AND('MARK Enrollment Template'!A457<>\"\",'MARK Enrollment Template'!B457=\"\"),\"Please fill in a Last Name.\",\"\"))","v":""},{"$f":"IF('MARK Enrollment Template'!A457=\"\",\"\",IF(AND('MARK Enrollment Template'!A457<>\"\",'MARK Enrollment Template'!C457=\"\"),\"Please fill in Date of Birth.\",IF(TRIM(O452)<>\"D4\",\"Please format DOB as a date in the form MM/DD/YYYY.\",IF('MARK Enrollment Template'!C457>TODAY(),\"Please check DOB.\",\"\"))))","v":""},{"$f":"IF('MARK Enrollment Template'!A457=\"\",\"\",IF(AND('MARK Enrollment Template'!A457<>\"\",'MARK Enrollment Template'!D457=\"\"),\"Please fill in Sex.\",IF(OR(TRIM('MARK Enrollment Template'!D457)=\"M\",TRIM('MARK Enrollment Template'!D457)=\"F\",TRIM('MARK Enrollment Template'!D457)=\"Male\",TRIM('MARK Enrollment Template'!D457)=\"Female\"),\"\",\"Sex must be M/F/Male/Female.\")))","v":""},null,null,{"$f":"IF('MARK Enrollment Template'!A457=\"\",\"\",IF(AND('MARK Enrollment Template'!A457<>\"\",'MARK Enrollment Template'!G457=\"\"),\"Please fill in Email Address.\",IF(IFERROR(FIND(\"@\",'MARK Enrollment Template'!G457),\"X\")=\"X\",\"Email Address must include an @ symbol.\",\"\")))","v":""},null,null,null,{"$f":"IF('MARK Enrollment Template'!A457=\"\",\"\",IF(AND('MARK Enrollment Template'!A457<>\"\",'MARK Enrollment Template'!K457=\"\"),\"Please fill in Zip Code.\",IF(LEN(SUBSTITUTE(TRIM('MARK Enrollment Template'!K457),CHAR(9),\"\"))<5,\"Zip <5 digits. If leading zero, add apostrophe (ex. '01234).\",\"\")))","v":""},null,null,{"$f":"CELL(\"format\",'MARK Enrollment Template'!C457)","v":"G"}]
["",{"$f":"IF(AND(SUMPRODUCT(--('MARK Enrollment Template'!A458:L458<>\"\"))<>0,'MARK Enrollment Template'!A458=\"\"),\"Please fill in First Name.\",IF(LEN('MARK Enrollment Template'!A458)=1,\"Please fill in full first name.\",\"\"))","v":""},{"$f":"IF('MARK Enrollment Template'!A458=\"\",\"\",IF(AND('MARK Enrollment Template'!A458<>\"\",'MARK Enrollment Template'!B458=\"\"),\"Please fill in a Last Name.\",\"\"))","v":""},{"$f":"IF('MARK Enrollment Template'!A458=\"\",\"\",IF(AND('MARK Enrollment Template'!A458<>\"\",'MARK Enrollment Template'!C458=\"\"),\"Please fill in Date of Birth.\",IF(TRIM(O453)<>\"D4\",\"Please format DOB as a date in the form MM/DD/YYYY.\",IF('MARK Enrollment Template'!C458>TODAY(),\"Please check DOB.\",\"\"))))","v":""},{"$f":"IF('MARK Enrollment Template'!A458=\"\",\"\",IF(AND('MARK Enrollment Template'!A458<>\"\",'MARK Enrollment Template'!D458=\"\"),\"Please fill in Sex.\",IF(OR(TRIM('MARK Enrollment Template'!D458)=\"M\",TRIM('MARK Enrollment Template'!D458)=\"F\",TRIM('MARK Enrollment Template'!D458)=\"Male\",TRIM('MARK Enrollment Template'!D458)=\"Female\"),\"\",\"Sex must be M/F/Male/Female.\")))","v":""},null,null,{"$f":"IF('MARK Enrollment Template'!A458=\"\",\"\",IF(AND('MARK Enrollment Template'!A458<>\"\",'MARK Enrollment Template'!G458=\"\"),\"Please fill in Email Address.\",IF(IFERROR(FIND(\"@\",'MARK Enrollment Template'!G458),\"X\")=\"X\",\"Email Address must include an @ symbol.\",\"\")))","v":""},null,null,null,{"$f":"IF('MARK Enrollment Template'!A458=\"\",\"\",IF(AND('MARK Enrollment Template'!A458<>\"\",'MARK Enrollment Template'!K458=\"\"),\"Please fill in Zip Code.\",IF(LEN(SUBSTITUTE(TRIM('MARK Enrollment Template'!K458),CHAR(9),\"\"))<5,\"Zip <5 digits. If leading zero, add apostrophe (ex. '01234).\",\"\")))","v":""},null,null,{"$f":"CELL(\"format\",'MARK Enrollment Template'!C458)","v":"G"}]
["",{"$f":"IF(AND(SUMPRODUCT(--('MARK Enrollment Template'!A459:L459<>\"\"))<>0,'MARK Enrollment Template'!A459=\"\"),\"Please fill in First Name.\",IF(LEN('MARK Enrollment Template'!A459)=1,\"Please fill in full first name.\",\"\"))","v":""},{"$f":"IF('MARK Enrollment Template'!A459=\"\",\"\",IF(AND('MARK Enrollment Template'!A459<>\"\",'MARK Enrollment Template'!B459=\"\"),\"Please fill in a Last Name.\",\"\"))","v":""},{"$f":"IF('MARK Enrollment Template'!A459=\"\",\"\",IF(AND('MARK Enrollment Template'!A459<>\"\",'MARK Enrollment Template'!C459=\"\"),\"Please fill in Date of Birth.\",IF(TRIM(O454)<>\"D4\",\"Please format DOB as a date in the form MM/DD/YYYY.\",IF('MARK Enrollment Template'!C459>TODAY(),\"Please check DOB.\",\"\"))))","v":""},{"$f":"IF('MARK Enrollment Template'!A459=\"\",\"\",IF(AND('MARK Enrollment Template'!A459<>\"\",'MARK Enrollment Template'!D459=\"\"),\"Please fill in Sex.\",IF(OR(TRIM('MARK Enrollment Template'!D459)=\"M\",TRIM('MARK Enrollment Template'!D459)=\"F\",TRIM('MARK Enrollment Template'!D459)=\"Male\",TRIM('MARK Enrollment Template'!D459)=\"Female\"),\"\",\"Sex must be M/F/Male/Female.\")))","v":""},null,null,{"$f":"IF('MARK Enrollment Template'!A459=\"\",\"\",IF(AND('MARK Enrollment Template'!A459<>\"\",'MARK Enrollment Template'!G459=\"\"),\"Please fill in Email Address.\",IF(IFERROR(FIND(\"@\",'MARK Enrollment Template'!G459),\"X\")=\"X\",\"Email Address must include an @ symbol.\",\"\")))","v":""},null,null,null,{"$f":"IF('MARK Enrollment Template'!A459=\"\",\"\",IF(AND('MARK Enrollment Template'!A459<>\"\",'MARK Enrollment Template'!K459=\"\"),\"Please fill in Zip Code.\",IF(LEN(SUBSTITUTE(TRIM('MARK Enrollment Template'!K459),CHAR(9),\"\"))<5,\"Zip <5 digits. If leading zero, add apostrophe (ex. '01234).\",\"\")))","v":""},null,null,{"$f":"CELL(\"format\",'MARK Enrollment Template'!C459)","v":"G"}]
["",{"$f":"IF(AND(SUMPRODUCT(--('MARK Enrollment Template'!A460:L460<>\"\"))<>0,'MARK Enrollment Template'!A460=\"\"),\"Please fill in First Name.\",IF(LEN('MARK Enrollment Template'!A460)=1,\"Please fill in full first name.\",\"\"))","v":""},{"$f":"IF('MARK Enrollment Template'!A460=\"\",\"\",IF(AND('MARK Enrollment Template'!A460<>\"\",'MARK Enrollment Template'!B460=\"\"),\"Please fill in a Last Name.\",\"\"))","v":""},{"$f":"IF('MARK Enrollment Template'!A460=\"\",\"\",IF(AND('MARK Enrollment Template'!A460<>\"\",'MARK Enrollment Template'!C460=\"\"),\"Please fill in Date of Birth.\",IF(TRIM(O455)<>\"D4\",\"Please format DOB as a date in the form MM/DD/YYYY.\",IF('MARK Enrollment Template'!C460>TODAY(),\"Please check DOB.\",\"\"))))","v":""},{"$f":"IF('MARK Enrollment Template'!A460=\"\",\"\",IF(AND('MARK Enrollment Template'!A460<>\"\",'MARK Enrollment Template'!D460=\"\"),\"Please fill in Sex.\",IF(OR(TRIM('MARK Enrollment Template'!D460)=\"M\",TRIM('MARK Enrollment Template'!D460)=\"F\",TRIM('MARK Enrollment Template'!D460)=\"Male\",TRIM('MARK Enrollment Template'!D460)=\"Female\"),\"\",\"Sex must be M/F/Male/Female.\")))","v":""},null,null,{"$f":"IF('MARK Enrollment Template'!A460=\"\",\"\",IF(AND('MARK Enrollment Template'!A460<>\"\",'MARK Enrollment Template'!G460=\"\"),\"Please fill in Email Address.\",IF(IFERROR(FIND(\"@\",'MARK Enrollment Template'!G460),\"X\")=\"X\",\"Email Address must include an @ symbol.\",\"\")))","v":""},null,null,null,{"$f":"IF('MARK Enrollment Template'!A460=\"\",\"\",IF(AND('MARK Enrollment Template'!A460<>\"\",'MARK Enrollment Template'!K460=\"\"),\"Please fill in Zip Code.\",IF(LEN(SUBSTITUTE(TRIM('MARK Enrollment Template'!K460),CHAR(9),\"\"))<5,\"Zip <5 digits. If leading zero, add apostrophe (ex. '01234).\",\"\")))","v":""},null,null,{"$f":"CELL(\"format\",'MARK Enrollment Template'!C460)","v":"G"}]
["",{"$f":"IF(AND(SUMPRODUCT(--('MARK Enrollment Template'!A461:L461<>\"\"))<>0,'MARK Enrollment Template'!A461=\"\"),\"Please fill in First Name.\",IF(LEN('MARK Enrollment Template'!A461)=1,\"Please fill in full first name.\",\"\"))","v":""},{"$f":"IF('MARK Enrollment Template'!A461=\"\",\"\",IF(AND('MARK Enrollment Template'!A461<>\"\",'MARK Enrollment Template'!B461=\"\"),\"Please fill in a Last Name.\",\"\"))","v":""},{"$f":"IF('MARK Enrollment Template'!A461=\"\",\"\",IF(AND('MARK Enrollment Template'!A461<>\"\",'MARK Enrollment Template'!C461=\"\"),\"Please fill in Date of Birth.\",IF(TRIM(O456)<>\"D4\",\"Please format DOB as a date in the form MM/DD/YYYY.\",IF('MARK Enrollment Template'!C461>TODAY(),\"Please check DOB.\",\"\"))))","v":""},{"$f":"IF('MARK Enrollment Template'!A461=\"\",\"\",IF(AND('MARK Enrollment Template'!A461<>\"\",'MARK Enrollment Template'!D461=\"\"),\"Please fill in Sex.\",IF(OR(TRIM('MARK Enrollment Template'!D461)=\"M\",TRIM('MARK Enrollment Template'!D461)=\"F\",TRIM('MARK Enrollment Template'!D461)=\"Male\",TRIM('MARK Enrollment Template'!D461)=\"Female\"),\"\",\"Sex must be M/F/Male/Female.\")))","v":""},null,null,{"$f":"IF('MARK Enrollment Template'!A461=\"\",\"\",IF(AND('MARK Enrollment Template'!A461<>\"\",'MARK Enrollment Template'!G461=\"\"),\"Please fill in Email Address.\",IF(IFERROR(FIND(\"@\",'MARK Enrollment Template'!G461),\"X\")=\"X\",\"Email Address must include an @ symbol.\",\"\")))","v":""},null,null,null,{"$f":"IF('MARK Enrollment Template'!A461=\"\",\"\",IF(AND('MARK Enrollment Template'!A461<>\"\",'MARK Enrollment Template'!K461=\"\"),\"Please fill in Zip Code.\",IF(LEN(SUBSTITUTE(TRIM('MARK Enrollment Template'!K461),CHAR(9),\"\"))<5,\"Zip <5 digits. If leading zero, add apostrophe (ex. '01234).\",\"\")))","v":""},null,null,{"$f":"CELL(\"format\",'MARK Enrollment Template'!C461)","v":"G"}]
[{"$f":"IF(B457<>\"\",B457,IF(C457<>\"\",C457,IF(D457<>\"\",D457,IF(E457<>\"\",E457,IF(F457<>\"\",F457,IF(G457<>\"\",G457,IF(H457<>\"\",H457,IF(I457<>\"\",I457,IF(J457<>\"\",J457,IF(K457<>\"\",K457,L457))))))))))","v":""},{"$f":"IF(AND(SUMPRODUCT(--('MARK Enrollment Template'!A462:L462<>\"\"))<>0,'MARK Enrollment Template'!A462=\"\"),\"Please fill in First Name.\",IF(LEN('MARK Enrollment Template'!A462)=1,\"Please fill in full first name.\",\"\"))","v":""},{"$f":"IF('MARK Enrollment Template'!A462=\"\",\"\",IF(AND('MARK Enrollment Template'!A462<>\"\",'MARK Enrollment Template'!B462=\"\"),\"Please fill in a Last Name.\",\"\"))","v":""},{"$f":"IF('MARK Enrollment Template'!A462=\"\",\"\",IF(AND('MARK Enrollment Template'!A462<>\"\",'MARK Enrollment Template'!C462=\"\"),\"Please fill in Date of Birth.\",IF(TRIM(O457)<>\"D4\",\"Please format DOB as a date in the form MM/DD/YYYY.\",IF('MARK Enrollment Template'!C462>TODAY(),\"Please check DOB.\",\"\"))))","v":""},{"$f":"IF('MARK Enrollment Template'!A462=\"\",\"\",IF(AND('MARK Enrollment Template'!A462<>\"\",'MARK Enrollment Template'!D462=\"\"),\"Please fill in Sex.\",IF(OR(TRIM('MARK Enrollment Template'!D462)=\"M\",TRIM('MARK Enrollment Template'!D462)=\"F\",TRIM('MARK Enrollment Template'!D462)=\"Male\",TRIM('MARK Enrollment Template'!D462)=\"Female\"),\"\",\"Sex must be M/F/Male/Female.\")))","v":""},null,null,{"$f":"IF('MARK Enrollment Template'!A462=\"\",\"\",IF(AND('MARK Enrollment Template'!A462<>\"\",'MARK Enrollment Template'!G462=\"\"),\"Please fill in Email Address.\",IF(IFERROR(FIND(\"@\",'MARK Enrollment Template'!G462),\"X\")=\"X\",\"Email Address must include an @ symbol.\",\"\")))","v":""},null,null,null,{"$f":"IF('MARK Enrollment Template'!A462=\"\",\"\",IF(AND('MARK Enrollment Template'!A462<>\"\",'MARK Enrollment Template'!K462=\"\"),\"Please fill in Zip Code.\",IF(LEN(SUBSTITUTE(TRIM('MARK Enrollment Template'!K462),CHAR(9),\"\"))<5,\"Zip <5 digits. If leading zero, add apostrophe (ex. '01234).\",\"\")))","v":""},null,null,{"$f":"CELL(\"format\",'MARK Enrollment Template'!C462)","v":"G"}]
["",{"$f":"IF(AND(SUMPRODUCT(--('MARK Enrollment Template'!A463:L463<>\"\"))<>0,'MARK Enrollment Template'!A463=\"\"),\"Please fill in First Name.\",IF(LEN('MARK Enrollment Template'!A463)=1,\"Please fill in full first name.\",\"\"))","v":""},{"$f":"IF('MARK Enrollment Template'!A463=\"\",\"\",IF(AND('MARK Enrollment Template'!A463<>\"\",'MARK Enrollment Template'!B463=\"\"),\"Please fill in a Last Name.\",\"\"))","v":""},{"$f":"IF('MARK Enrollment Template'!A463=\"\",\"\",IF(AND('MARK Enrollment Template'!A463<>\"\",'MARK Enrollment Template'!C463=\"\"),\"Please fill in Date of Birth.\",IF(TRIM(O458)<>\"D4\",\"Please format DOB as a date in the form MM/DD/YYYY.\",IF('MARK Enrollment Template'!C463>TODAY(),\"Please check DOB.\",\"\"))))","v":""},{"$f":"IF('MARK Enrollment Template'!A463=\"\",\"\",IF(AND('MARK Enrollment Template'!A463<>\"\",'MARK Enrollment Template'!D463=\"\"),\"Please fill in Sex.\",IF(OR(TRIM('MARK Enrollment Template'!D463)=\"M\",TRIM('MARK Enrollment Template'!D463)=\"F\",TRIM('MARK Enrollment Template'!D463)=\"Male\",TRIM('MARK Enrollment Template'!D463)=\"Female\"),\"\",\"Sex must be M/F/Male/Female.\")))","v":""},null,null,{"$f":"IF('MARK Enrollment Template'!A463=\"\",\"\",IF(AND('MARK Enrollment Template'!A463<>\"\",'MARK Enrollment Template'!G463=\"\"),\"Please fill in Email Address.\",IF(IFERROR(FIND(\"@\",'MARK Enrollment Template'!G463),\"X\")=\"X\",\"Email Address must include an @ symbol.\",\"\")))","v":""},null,null,null,{"$f":"IF('MARK Enrollment Template'!A463=\"\",\"\",IF(AND('MARK Enrollment Template'!A463<>\"\",'MARK Enrollment Template'!K463=\"\"),\"Please fill in Zip Code.\",IF(LEN(SUBSTITUTE(TRIM('MARK Enrollment Template'!K463),CHAR(9),\"\"))<5,\"Zip <5 digits. If leading zero, add apostrophe (ex. '01234).\",\"\")))","v":""},null,null,{"$f":"CELL(\"format\",'MARK Enrollment Template'!C463)","v":"G"}]
["",{"$f":"IF(AND(SUMPRODUCT(--('MARK Enrollment Template'!A464:L464<>\"\"))<>0,'MARK Enrollment Template'!A464=\"\"),\"Please fill in First Name.\",IF(LEN('MARK Enrollment Template'!A464)=1,\"Please fill in full first name.\",\"\"))","v":""},{"$f":"IF('MARK Enrollment Template'!A464=\"\",\"\",IF(AND('MARK Enrollment Template'!A464<>\"\",'MARK Enrollment Template'!B464=\"\"),\"Please fill in a Last Name.\",\"\"))","v":""},{"$f":"IF('MARK Enrollment Template'!A464=\"\",\"\",IF(AND('MARK Enrollment Template'!A464<>\"\",'MARK Enrollment Template'!C464=\"\"),\"Please fill in Date of Birth.\",IF(TRIM(O459)<>\"D4\",\"Please format DOB as a date in the form MM/DD/YYYY.\",IF('MARK Enrollment Template'!C464>TODAY(),\"Please check DOB.\",\"\"))))","v":""},{"$f":"IF('MARK Enrollment Template'!A464=\"\",\"\",IF(AND('MARK Enrollment Template'!A464<>\"\",'MARK Enrollment Template'!D464=\"\"),\"Please fill in Sex.\",IF(OR(TRIM('MARK Enrollment Template'!D464)=\"M\",TRIM('MARK Enrollment Template'!D464)=\"F\",TRIM('MARK Enrollment Template'!D464)=\"Male\",TRIM('MARK Enrollment Template'!D464)=\"Female\"),\"\",\"Sex must be M/F/Male/Female.\")))","v":""},null,null,{"$f":"IF('MARK Enrollment Template'!A464=\"\",\"\",IF(AND('MARK Enrollment Template'!A464<>\"\",'MARK Enrollment Template'!G464=\"\"),\"Please fill in Email Address.\",IF(IFERROR(FIND(\"@\",'MARK Enrollment Template'!G464),\"X\")=\"X\",\"Email Address must include an @ symbol.\",\"\")))","v":""},null,null,null,{"$f":"IF('MARK Enrollment Template'!A464=\"\",\"\",IF(AND('MARK Enrollment Template'!A464<>\"\",'MARK Enrollment Template'!K464=\"\"),\"Please fill in Zip Code.\",IF(LEN(SUBSTITUTE(TRIM('MARK Enrollment Template'!K464),CHAR(9),\"\"))<5,\"Zip <5 digits. If leading zero, add apostrophe (ex. '01234).\",\"\")))","v":""},null,null,{"$f":"CELL(\"format\",'MARK Enrollment Template'!C464)","v":"G"}]
["",{"$f":"IF(AND(SUMPRODUCT(--('MARK Enrollment Template'!A465:L465<>\"\"))<>0,'MARK Enrollment Template'!A465=\"\"),\"Please fill in First Name.\",IF(LEN('MARK Enrollment Template'!A465)=1,\"Please fill in full first name.\",\"\"))","v":""},{"$f":"IF('MARK Enrollment Template'!A465=\"\",\"\",IF(AND('MARK Enrollment Template'!A465<>\"\",'MARK Enrollment Template'!B465=\"\"),\"Please fill in a Last Name.\",\"\"))","v":""},{"$f":"IF('MARK Enrollment Template'!A465=\"\",\"\",IF(AND('MARK Enrollment Template'!A465<>\"\",'MARK Enrollment Template'!C465=\"\"),\"Please fill in Date of Birth.\",IF(TRIM(O460)<>\"D4\",\"Please format DOB as a date in the form MM/DD/YYYY.\",IF('MARK Enrollment Template'!C465>TODAY(),\"Please check DOB.\",\"\"))))","v":""},{"$f":"IF('MARK Enrollment Template'!A465=\"\",\"\",IF(AND('MARK Enrollment Template'!A465<>\"\",'MARK Enrollment Template'!D465=\"\"),\"Please fill in Sex.\",IF(OR(TRIM('MARK Enrollment Template'!D465)=\"M\",TRIM('MARK Enrollment Template'!D465)=\"F\",TRIM('MARK Enrollment Template'!D465)=\"Male\",TRIM('MARK Enrollment Template'!D465)=\"Female\"),\"\",\"Sex must be M/F/Male/Female.\")))","v":""},null,null,{"$f":"IF('MARK Enrollment Template'!A465=\"\",\"\",IF(AND('MARK Enrollment Template'!A465<>\"\",'MARK Enrollment Template'!G465=\"\"),\"Please fill in Email Address.\",IF(IFERROR(FIND(\"@\",'MARK Enrollment Template'!G465),\"X\")=\"X\",\"Email Address must include an @ symbol.\",\"\")))","v":""},null,null,null,{"$f":"IF('MARK Enrollment Template'!A465=\"\",\"\",IF(AND('MARK Enrollment Template'!A465<>\"\",'MARK Enrollment Template'!K465=\"\"),\"Please fill in Zip Code.\",IF(LEN(SUBSTITUTE(TRIM('MARK Enrollment Template'!K465),CHAR(9),\"\"))<5,\"Zip <5 digits. If leading zero, add apostrophe (ex. '01234).\",\"\")))","v":""},null,null,{"$f":"CELL(\"format\",'MARK Enrollment Template'!C465)","v":"G"}]
["",{"$f":"IF(AND(SUMPRODUCT(--('MARK Enrollment Template'!A466:L466<>\"\"))<>0,'MARK Enrollment Template'!A466=\"\"),\"Please fill in First Name.\",IF(LEN('MARK Enrollment Template'!A466)=1,\"Please fill in full first name.\",\"\"))","v":""},{"$f":"IF('MARK Enrollment Template'!A466=\"\",\"\",IF(AND('MARK Enrollment Template'!A466<>\"\",'MARK Enrollment Template'!B466=\"\"),\"Please fill in a Last Name.\",\"\"))","v":""},{"$f":"IF('MARK Enrollment Template'!A466=\"\",\"\",IF(AND('MARK Enrollment Template'!A466<>\"\",'MARK Enrollment Template'!C466=\"\"),\"Please fill in Date of Birth.\",IF(TRIM(O461)<>\"D4\",\"Please format DOB as a date in the form MM/DD/YYYY.\",IF('MARK Enrollment Template'!C466>TODAY(),\"Please check DOB.\",\"\"))))","v":""},{"$f":"IF('MARK Enrollment Template'!A466=\"\",\"\",IF(AND('MARK Enrollment Template'!A466<>\"\",'MARK Enrollment Template'!D466=\"\"),\"Please fill in Sex.\",IF(OR(TRIM('MARK Enrollment Template'!D466)=\"M\",TRIM('MARK Enrollment Template'!D466)=\"F\",TRIM('MARK Enrollment Template'!D466)=\"Male\",TRIM('MARK Enrollment Template'!D466)=\"Female\"),\"\",\"Sex must be M/F/Male/Female.\")))","v":""},null,null,{"$f":"IF('MARK Enrollment Template'!A466=\"\",\"\",IF(AND('MARK Enrollment Template'!A466<>\"\",'MARK Enrollment Template'!G466=\"\"),\"Please fill in Email Address.\",IF(IFERROR(FIND(\"@\",'MARK Enrollment Template'!G466),\"X\")=\"X\",\"Email Address must include an @ symbol.\",\"\")))","v":""},null,null,null,{"$f":"IF('MARK Enrollment Template'!A466=\"\",\"\",IF(AND('MARK Enrollment Template'!A466<>\"\",'MARK Enrollment Template'!K466=\"\"),\"Please fill in Zip Code.\",IF(LEN(SUBSTITUTE(TRIM('MARK Enrollment Template'!K466),CHAR(9),\"\"))<5,\"Zip <5 digits. If leading zero, add apostrophe (ex. '01234).\",\"\")))","v":""},null,null,{"$f":"CELL(\"format\",'MARK Enrollment Template'!C466)","v":"G"}]
["",{"$f":"IF(AND(SUMPRODUCT(--('MARK Enrollment Template'!A467:L467<>\"\"))<>0,'MARK Enrollment Template'!A467=\"\"),\"Please fill in First Name.\",IF(LEN('MARK Enrollment Template'!A467)=1,\"Please fill in full first name.\",\"\"))","v":""},{"$f":"IF('MARK Enrollment Template'!A467=\"\",\"\",IF(AND('MARK Enrollment Template'!A467<>\"\",'MARK Enrollment Template'!B467=\"\"),\"Please fill in a Last Name.\",\"\"))","v":""},{"$f":"IF('MARK Enrollment Template'!A467=\"\",\"\",IF(AND('MARK Enrollment Template'!A467<>\"\",'MARK Enrollment Template'!C467=\"\"),\"Please fill in Date of Birth.\",IF(TRIM(O462)<>\"D4\",\"Please format DOB as a date in the form MM/DD/YYYY.\",IF('MARK Enrollment Template'!C467>TODAY(),\"Please check DOB.\",\"\"))))","v":""},{"$f":"IF('MARK Enrollment Template'!A467=\"\",\"\",IF(AND('MARK Enrollment Template'!A467<>\"\",'MARK Enrollment Template'!D467=\"\"),\"Please fill in Sex.\",IF(OR(TRIM('MARK Enrollment Template'!D467)=\"M\",TRIM('MARK Enrollment Template'!D467)=\"F\",TRIM('MARK Enrollment Template'!D467)=\"Male\",TRIM('MARK Enrollment Template'!D467)=\"Female\"),\"\",\"Sex must be M/F/Male/Female.\")))","v":""},null,null,{"$f":"IF('MARK Enrollment Template'!A467=\"\",\"\",IF(AND('MARK Enrollment Template'!A467<>\"\",'MARK Enrollment Template'!G467=\"\"),\"Please fill in Email Address.\",IF(IFERROR(FIND(\"@\",'MARK Enrollment Template'!G467),\"X\")=\"X\",\"Email Address must include an @ symbol.\",\"\")))","v":""},null,null,null,{"$f":"IF('MARK Enrollment Template'!A467=\"\",\"\",IF(AND('MARK Enrollment Template'!A467<>\"\",'MARK Enrollment Template'!K467=\"\"),\"Please fill in Zip Code.\",IF(LEN(SUBSTITUTE(TRIM('MARK Enrollment Template'!K467),CHAR(9),\"\"))<5,\"Zip <5 digits. If leading zero, add apostrophe (ex. '01234).\",\"\")))","v":""},null,null,{"$f":"CELL(\"format\",'MARK Enrollment Template'!C467)","v":"G"}]
["",{"$f":"IF(AND(SUMPRODUCT(--('MARK Enrollment Template'!A468:L468<>\"\"))<>0,'MARK Enrollment Template'!A468=\"\"),\"Please fill in First Name.\",IF(LEN('MARK Enrollment Template'!A468)=1,\"Please fill in full first name.\",\"\"))","v":""},{"$f":"IF('MARK Enrollment Template'!A468=\"\",\"\",IF(AND('MARK Enrollment Template'!A468<>\"\",'MARK Enrollment Template'!B468=\"\"),\"Please fill in a Last Name.\",\"\"))","v":""},{"$f":"IF('MARK Enrollment Template'!A468=\"\",\"\",IF(AND('MARK Enrollment Template'!A468<>\"\",'MARK Enrollment Template'!C468=\"\"),\"Please fill in Date of Birth.\",IF(TRIM(O463)<>\"D4\",\"Please format DOB as a date in the form MM/DD/YYYY.\",IF('MARK Enrollment Template'!C468>TODAY(),\"Please check DOB.\",\"\"))))","v":""},{"$f":"IF('MARK Enrollment Template'!A468=\"\",\"\",IF(AND('MARK Enrollment Template'!A468<>\"\",'MARK Enrollment Template'!D468=\"\"),\"Please fill in Sex.\",IF(OR(TRIM('MARK Enrollment Template'!D468)=\"M\",TRIM('MARK Enrollment Template'!D468)=\"F\",TRIM('MARK Enrollment Template'!D468)=\"Male\",TRIM('MARK Enrollment Template'!D468)=\"Female\"),\"\",\"Sex must be M/F/Male/Female.\")))","v":""},null,null,{"$f":"IF('MARK Enrollment Template'!A468=\"\",\"\",IF(AND('MARK Enrollment Template'!A468<>\"\",'MARK Enrollment Template'!G468=\"\"),\"Please fill in Email Address.\",IF(IFERROR(FIND(\"@\",'MARK Enrollment Template'!G468),\"X\")=\"X\",\"Email Address must include an @ symbol.\",\"\")))","v":""},null,null,null,{"$f":"IF('MARK Enrollment Template'!A468=\"\",\"\",IF(AND('MARK Enrollment Template'!A468<>\"\",'MARK Enrollment Template'!K468=\"\"),\"Please fill in Zip Code.\",IF(LEN(SUBSTITUTE(TRIM('MARK Enrollment Template'!K468),CHAR(9),\"\"))<5,\"Zip <5 digits. If leading zero, add apostrophe (ex. '01234).\",\"\")))","v":""},null,null,{"$f":"CELL(\"format\",'MARK Enrollment Template'!C468)","v":"G"}]
["",{"$f":"IF(AND(SUMPRODUCT(--('MARK Enrollment Template'!A469:L469<>\"\"))<>0,'MARK Enrollment Template'!A469=\"\"),\"Please fill in First Name.\",IF(LEN('MARK Enrollment Template'!A469)=1,\"Please fill in full first name.\",\"\"))","v":""},{"$f":"IF('MARK Enrollment Template'!A469=\"\",\"\",IF(AND('MARK Enrollment Template'!A469<>\"\",'MARK Enrollment Template'!B469=\"\"),\"Please fill in a Last Name.\",\"\"))","v":""},{"$f":"IF('MARK Enrollment Template'!A469=\"\",\"\",IF(AND('MARK Enrollment Template'!A469<>\"\",'MARK Enrollment Template'!C469=\"\"),\"Please fill in Date of Birth.\",IF(TRIM(O464)<>\"D4\",\"Please format DOB as a date in the form MM/DD/YYYY.\",IF('MARK Enrollment Template'!C469>TODAY(),\"Please check DOB.\",\"\"))))","v":""},{"$f":"IF('MARK Enrollment Template'!A469=\"\",\"\",IF(AND('MARK Enrollment Template'!A469<>\"\",'MARK Enrollment Template'!D469=\"\"),\"Please fill in Sex.\",IF(OR(TRIM('MARK Enrollment Template'!D469)=\"M\",TRIM('MARK Enrollment Template'!D469)=\"F\",TRIM('MARK Enrollment Template'!D469)=\"Male\",TRIM('MARK Enrollment Template'!D469)=\"Female\"),\"\",\"Sex must be M/F/Male/Female.\")))","v":""},null,null,{"$f":"IF('MARK Enrollment Template'!A469=\"\",\"\",IF(AND('MARK Enrollment Template'!A469<>\"\",'MARK Enrollment Template'!G469=\"\"),\"Please fill in Email Address.\",IF(IFERROR(FIND(\"@\",'MARK Enrollment Template'!G469),\"X\")=\"X\",\"Email Address must include an @ symbol.\",\"\")))","v":""},null,null,null,{"$f":"IF('MARK Enrollment Template'!A469=\"\",\"\",IF(AND('MARK Enrollment Template'!A469<>\"\",'MARK Enrollment Template'!K469=\"\"),\"Please fill in Zip Code.\",IF(LEN(SUBSTITUTE(TRIM('MARK Enrollment Template'!K469),CHAR(9),\"\"))<5,\"Zip <5 digits. If leading zero, add apostrophe (ex. '01234).\",\"\")))","v":""},null,null,{"$f":"CELL(\"format\",'MARK Enrollment Template'!C469)","v":"G"}]
["",{"$f":"IF(AND(SUMPRODUCT(--('MARK Enrollment Template'!A470:L470<>\"\"))<>0,'MARK Enrollment Template'!A470=\"\"),\"Please fill in First Name.\",IF(LEN('MARK Enrollment Template'!A470)=1,\"Please fill in full first name.\",\"\"))","v":""},{"$f":"IF('MARK Enrollment Template'!A470=\"\",\"\",IF(AND('MARK Enrollment Template'!A470<>\"\",'MARK Enrollment Template'!B470=\"\"),\"Please fill in a Last Name.\",\"\"))","v":""},{"$f":"IF('MARK Enrollment Template'!A470=\"\",\"\",IF(AND('MARK Enrollment Template'!A470<>\"\",'MARK Enrollment Template'!C470=\"\"),\"Please fill in Date of Birth.\",IF(TRIM(O465)<>\"D4\",\"Please format DOB as a date in the form MM/DD/YYYY.\",IF('MARK Enrollment Template'!C470>TODAY(),\"Please check DOB.\",\"\"))))","v":""},{"$f":"IF('MARK Enrollment Template'!A470=\"\",\"\",IF(AND('MARK Enrollment Template'!A470<>\"\",'MARK Enrollment Template'!D470=\"\"),\"Please fill in Sex.\",IF(OR(TRIM('MARK Enrollment Template'!D470)=\"M\",TRIM('MARK Enrollment Template'!D470)=\"F\",TRIM('MARK Enrollment Template'!D470)=\"Male\",TRIM('MARK Enrollment Template'!D470)=\"Female\"),\"\",\"Sex must be M/F/Male/Female.\")))","v":""},null,null,{"$f":"IF('MARK Enrollment Template'!A470=\"\",\"\",IF(AND('MARK Enrollment Template'!A470<>\"\",'MARK Enrollment Template'!G470=\"\"),\"Please fill in Email Address.\",IF(IFERROR(FIND(\"@\",'MARK Enrollment Template'!G470),\"X\")=\"X\",\"Email Address must include an @ symbol.\",\"\")))","v":""},null,null,null,{"$f":"IF('MARK Enrollment Template'!A470=\"\",\"\",IF(AND('MARK Enrollment Template'!A470<>\"\",'MARK Enrollment Template'!K470=\"\"),\"Please fill in Zip Code.\",IF(LEN(SUBSTITUTE(TRIM('MARK Enrollment Template'!K470),CHAR(9),\"\"))<5,\"Zip <5 digits. If leading zero, add apostrophe (ex. '01234).\",\"\")))","v":""},null,null,{"$f":"CELL(\"format\",'MARK Enrollment Template'!C470)","v":"G"}]
["",{"$f":"IF(AND(SUMPRODUCT(--('MARK Enrollment Template'!A471:L471<>\"\"))<>0,'MARK Enrollment Template'!A471=\"\"),\"Please fill in First Name.\",IF(LEN('MARK Enrollment Template'!A471)=1,\"Please fill in full first name.\",\"\"))","v":""},{"$f":"IF('MARK Enrollment Template'!A471=\"\",\"\",IF(AND('MARK Enrollment Template'!A471<>\"\",'MARK Enrollment Template'!B471=\"\"),\"Please fill in a Last Name.\",\"\"))","v":""},{"$f":"IF('MARK Enrollment Template'!A471=\"\",\"\",IF(AND('MARK Enrollment Template'!A471<>\"\",'MARK Enrollment Template'!C471=\"\"),\"Please fill in Date of Birth.\",IF(TRIM(O466)<>\"D4\",\"Please format DOB as a date in the form MM/DD/YYYY.\",IF('MARK Enrollment Template'!C471>TODAY(),\"Please check DOB.\",\"\"))))","v":""},{"$f":"IF('MARK Enrollment Template'!A471=\"\",\"\",IF(AND('MARK Enrollment Template'!A471<>\"\",'MARK Enrollment Template'!D471=\"\"),\"Please fill in Sex.\",IF(OR(TRIM('MARK Enrollment Template'!D471)=\"M\",TRIM('MARK Enrollment Template'!D471)=\"F\",TRIM('MARK Enrollment Template'!D471)=\"Male\",TRIM('MARK Enrollment Template'!D471)=\"Female\"),\"\",\"Sex must be M/F/Male/Female.\")))","v":""},null,null,{"$f":"IF('MARK Enrollment Template'!A471=\"\",\"\",IF(AND('MARK Enrollment Template'!A471<>\"\",'MARK Enrollment Template'!G471=\"\"),\"Please fill in Email Address.\",IF(IFERROR(FIND(\"@\",'MARK Enrollment Template'!G471),\"X\")=\"X\",\"Email Address must include an @ symbol.\",\"\")))","v":""},null,null,null,{"$f":"IF('MARK Enrollment Template'!A471=\"\",\"\",IF(AND('MARK Enrollment Template'!A471<>\"\",'MARK Enrollment Template'!K471=\"\"),\"Please fill in Zip Code.\",IF(LEN(SUBSTITUTE(TRIM('MARK Enrollment Template'!K471),CHAR(9),\"\"))<5,\"Zip <5 digits. If leading zero, add apostrophe (ex. '01234).\",\"\")))","v":""},null,null,{"$f":"CELL(\"format\",'MARK Enrollment Template'!C471)","v":"G"}]
["",{"$f":"IF(AND(SUMPRODUCT(--('MARK Enrollment Template'!A472:L472<>\"\"))<>0,'MARK Enrollment Template'!A472=\"\"),\"Please fill in First Name.\",IF(LEN('MARK Enrollment Template'!A472)=1,\"Please fill in full first name.\",\"\"))","v":""},{"$f":"IF('MARK Enrollment Template'!A472=\"\",\"\",IF(AND('MARK Enrollment Template'!A472<>\"\",'MARK Enrollment Template'!B472=\"\"),\"Please fill in a Last Name.\",\"\"))","v":""},{"$f":"IF('MARK Enrollment Template'!A472=\"\",\"\",IF(AND('MARK Enrollment Template'!A472<>\"\",'MARK Enrollment Template'!C472=\"\"),\"Please fill in Date of Birth.\",IF(TRIM(O467)<>\"D4\",\"Please format DOB as a date in the form MM/DD/YYYY.\",IF('MARK Enrollment Template'!C472>TODAY(),\"Please check DOB.\",\"\"))))","v":""},{"$f":"IF('MARK Enrollment Template'!A472=\"\",\"\",IF(AND('MARK Enrollment Template'!A472<>\"\",'MARK Enrollment Template'!D472=\"\"),\"Please fill in Sex.\",IF(OR(TRIM('MARK Enrollment Template'!D472)=\"M\",TRIM('MARK Enrollment Template'!D472)=\"F\",TRIM('MARK Enrollment Template'!D472)=\"Male\",TRIM('MARK Enrollment Template'!D472)=\"Female\"),\"\",\"Sex must be M/F/Male/Female.\")))","v":""},null,null,{"$f":"IF('MARK Enrollment Template'!A472=\"\",\"\",IF(AND('MARK Enrollment Template'!A472<>\"\",'MARK Enrollment Template'!G472=\"\"),\"Please fill in Email Address.\",IF(IFERROR(FIND(\"@\",'MARK Enrollment Template'!G472),\"X\")=\"X\",\"Email Address must include an @ symbol.\",\"\")))","v":""},null,null,null,{"$f":"IF('MARK Enrollment Template'!A472=\"\",\"\",IF(AND('MARK Enrollment Template'!A472<>\"\",'MARK Enrollment Template'!K472=\"\"),\"Please fill in Zip Code.\",IF(LEN(SUBSTITUTE(TRIM('MARK Enrollment Template'!K472),CHAR(9),\"\"))<5,\"Zip <5 digits. If leading zero, add apostrophe (ex. '01234).\",\"\")))","v":""},null,null,{"$f":"CELL(\"format\",'MARK Enrollment Template'!C472)","v":"G"}]
["",{"$f":"IF(AND(SUMPRODUCT(--('MARK Enrollment Template'!A473:L473<>\"\"))<>0,'MARK Enrollment Template'!A473=\"\"),\"Please fill in First Name.\",IF(LEN('MARK Enrollment Template'!A473)=1,\"Please fill in full first name.\",\"\"))","v":""},{"$f":"IF('MARK Enrollment Template'!A473=\"\",\"\",IF(AND('MARK Enrollment Template'!A473<>\"\",'MARK Enrollment Template'!B473=\"\"),\"Please fill in a Last Name.\",\"\"))","v":""},{"$f":"IF('MARK Enrollment Template'!A473=\"\",\"\",IF(AND('MARK Enrollment Template'!A473<>\"\",'MARK Enrollment Template'!C473=\"\"),\"Please fill in Date of Birth.\",IF(TRIM(O468)<>\"D4\",\"Please format DOB as a date in the form MM/DD/YYYY.\",IF('MARK Enrollment Template'!C473>TODAY(),\"Please check DOB.\",\"\"))))","v":""},{"$f":"IF('MARK Enrollment Template'!A473=\"\",\"\",IF(AND('MARK Enrollment Template'!A473<>\"\",'MARK Enrollment Template'!D473=\"\"),\"Please fill in Sex.\",IF(OR(TRIM('MARK Enrollment Template'!D473)=\"M\",TRIM('MARK Enrollment Template'!D473)=\"F\",TRIM('MARK Enrollment Template'!D473)=\"Male\",TRIM('MARK Enrollment Template'!D473)=\"Female\"),\"\",\"Sex must be M/F/Male/Female.\")))","v":""},null,null,{"$f":"IF('MARK Enrollment Template'!A473=\"\",\"\",IF(AND('MARK Enrollment Template'!A473<>\"\",'MARK Enrollment Template'!G473=\"\"),\"Please fill in Email Address.\",IF(IFERROR(FIND(\"@\",'MARK Enrollment Template'!G473),\"X\")=\"X\",\"Email Address must include an @ symbol.\",\"\")))","v":""},null,null,null,{"$f":"IF('MARK Enrollment Template'!A473=\"\",\"\",IF(AND('MARK Enrollment Template'!A473<>\"\",'MARK Enrollment Template'!K473=\"\"),\"Please fill in Zip Code.\",IF(LEN(SUBSTITUTE(TRIM('MARK Enrollment Template'!K473),CHAR(9),\"\"))<5,\"Zip <5 digits. If leading zero, add apostrophe (ex. '01234).\",\"\")))","v":""},null,null,{"$f":"CELL(\"format\",'MARK Enrollment Template'!C473)","v":"G"}]
["",{"$f":"IF(AND(SUMPRODUCT(--('MARK Enrollment Template'!A474:L474<>\"\"))<>0,'MARK Enrollment Template'!A474=\"\"),\"Please fill in First Name.\",IF(LEN('MARK Enrollment Template'!A474)=1,\"Please fill in full first name.\",\"\"))","v":""},{"$f":"IF('MARK Enrollment Template'!A474=\"\",\"\",IF(AND('MARK Enrollment Template'!A474<>\"\",'MARK Enrollment Template'!B474=\"\"),\"Please fill in a Last Name.\",\"\"))","v":""},{"$f":"IF('MARK Enrollment Template'!A474=\"\",\"\",IF(AND('MARK Enrollment Template'!A474<>\"\",'MARK Enrollment Template'!C474=\"\"),\"Please fill in Date of Birth.\",IF(TRIM(O469)<>\"D4\",\"Please format DOB as a date in the form MM/DD/YYYY.\",IF('MARK Enrollment Template'!C474>TODAY(),\"Please check DOB.\",\"\"))))","v":""},{"$f":"IF('MARK Enrollment Template'!A474=\"\",\"\",IF(AND('MARK Enrollment Template'!A474<>\"\",'MARK Enrollment Template'!D474=\"\"),\"Please fill in Sex.\",IF(OR(TRIM('MARK Enrollment Template'!D474)=\"M\",TRIM('MARK Enrollment Template'!D474)=\"F\",TRIM('MARK Enrollment Template'!D474)=\"Male\",TRIM('MARK Enrollment Template'!D474)=\"Female\"),\"\",\"Sex must be M/F/Male/Female.\")))","v":""},null,null,{"$f":"IF('MARK Enrollment Template'!A474=\"\",\"\",IF(AND('MARK Enrollment Template'!A474<>\"\",'MARK Enrollment Template'!G474=\"\"),\"Please fill in Email Address.\",IF(IFERROR(FIND(\"@\",'MARK Enrollment Template'!G474),\"X\")=\"X\",\"Email Address must include an @ symbol.\",\"\")))","v":""},null,null,null,{"$f":"IF('MARK Enrollment Template'!A474=\"\",\"\",IF(AND('MARK Enrollment Template'!A474<>\"\",'MARK Enrollment Template'!K474=\"\"),\"Please fill in Zip Code.\",IF(LEN(SUBSTITUTE(TRIM('MARK Enrollment Template'!K474),CHAR(9),\"\"))<5,\"Zip <5 digits. If leading zero, add apostrophe (ex. '01234).\",\"\")))","v":""},null,null,{"$f":"CELL(\"format\",'MARK Enrollment Template'!C474)","v":"G"}]
["",{"$f":"IF(AND(SUMPRODUCT(--('MARK Enrollment Template'!A475:L475<>\"\"))<>0,'MARK Enrollment Template'!A475=\"\"),\"Please fill in First Name.\",IF(LEN('MARK Enrollment Template'!A475)=1,\"Please fill in full first name.\",\"\"))","v":""},{"$f":"IF('MARK Enrollment Template'!A475=\"\",\"\",IF(AND('MARK Enrollment Template'!A475<>\"\",'MARK Enrollment Template'!B475=\"\"),\"Please fill in a Last Name.\",\"\"))","v":""},{"$f":"IF('MARK Enrollment Template'!A475=\"\",\"\",IF(AND('MARK Enrollment Template'!A475<>\"\",'MARK Enrollment Template'!C475=\"\"),\"Please fill in Date of Birth.\",IF(TRIM(O470)<>\"D4\",\"Please format DOB as a date in the form MM/DD/YYYY.\",IF('MARK Enrollment Template'!C475>TODAY(),\"Please check DOB.\",\"\"))))","v":""},{"$f":"IF('MARK Enrollment Template'!A475=\"\",\"\",IF(AND('MARK Enrollment Template'!A475<>\"\",'MARK Enrollment Template'!D475=\"\"),\"Please fill in Sex.\",IF(OR(TRIM('MARK Enrollment Template'!D475)=\"M\",TRIM('MARK Enrollment Template'!D475)=\"F\",TRIM('MARK Enrollment Template'!D475)=\"Male\",TRIM('MARK Enrollment Template'!D475)=\"Female\"),\"\",\"Sex must be M/F/Male/Female.\")))","v":""},null,null,{"$f":"IF('MARK Enrollment Template'!A475=\"\",\"\",IF(AND('MARK Enrollment Template'!A475<>\"\",'MARK Enrollment Template'!G475=\"\"),\"Please fill in Email Address.\",IF(IFERROR(FIND(\"@\",'MARK Enrollment Template'!G475),\"X\")=\"X\",\"Email Address must include an @ symbol.\",\"\")))","v":""},null,null,null,{"$f":"IF('MARK Enrollment Template'!A475=\"\",\"\",IF(AND('MARK Enrollment Template'!A475<>\"\",'MARK Enrollment Template'!K475=\"\"),\"Please fill in Zip Code.\",IF(LEN(SUBSTITUTE(TRIM('MARK Enrollment Template'!K475),CHAR(9),\"\"))<5,\"Zip <5 digits. If leading zero, add apostrophe (ex. '01234).\",\"\")))","v":""},null,null,{"$f":"CELL(\"format\",'MARK Enrollment Template'!C475)","v":"G"}]
["",{"$f":"IF(AND(SUMPRODUCT(--('MARK Enrollment Template'!A476:L476<>\"\"))<>0,'MARK Enrollment Template'!A476=\"\"),\"Please fill in First Name.\",IF(LEN('MARK Enrollment Template'!A476)=1,\"Please fill in full first name.\",\"\"))","v":""},{"$f":"IF('MARK Enrollment Template'!A476=\"\",\"\",IF(AND('MARK Enrollment Template'!A476<>\"\",'MARK Enrollment Template'!B476=\"\"),\"Please fill in a Last Name.\",\"\"))","v":""},{"$f":"IF('MARK Enrollment Template'!A476=\"\",\"\",IF(AND('MARK Enrollment Template'!A476<>\"\",'MARK Enrollment Template'!C476=\"\"),\"Please fill in Date of Birth.\",IF(TRIM(O471)<>\"D4\",\"Please format DOB as a date in the form MM/DD/YYYY.\",IF('MARK Enrollment Template'!C476>TODAY(),\"Please check DOB.\",\"\"))))","v":""},{"$f":"IF('MARK Enrollment Template'!A476=\"\",\"\",IF(AND('MARK Enrollment Template'!A476<>\"\",'MARK Enrollment Template'!D476=\"\"),\"Please fill in Sex.\",IF(OR(TRIM('MARK Enrollment Template'!D476)=\"M\",TRIM('MARK Enrollment Template'!D476)=\"F\",TRIM('MARK Enrollment Template'!D476)=\"Male\",TRIM('MARK Enrollment Template'!D476)=\"Female\"),\"\",\"Sex must be M/F/Male/Female.\")))","v":""},null,null,{"$f":"IF('MARK Enrollment Template'!A476=\"\",\"\",IF(AND('MARK Enrollment Template'!A476<>\"\",'MARK Enrollment Template'!G476=\"\"),\"Please fill in Email Address.\",IF(IFERROR(FIND(\"@\",'MARK Enrollment Template'!G476),\"X\")=\"X\",\"Email Address must include an @ symbol.\",\"\")))","v":""},null,null,null,{"$f":"IF('MARK Enrollment Template'!A476=\"\",\"\",IF(AND('MARK Enrollment Template'!A476<>\"\",'MARK Enrollment Template'!K476=\"\"),\"Please fill in Zip Code.\",IF(LEN(SUBSTITUTE(TRIM('MARK Enrollment Template'!K476),CHAR(9),\"\"))<5,\"Zip <5 digits. If leading zero, add apostrophe (ex. '01234).\",\"\")))","v":""},null,null,{"$f":"CELL(\"format\",'MARK Enrollment Template'!C476)","v":"G"}]
["",{"$f":"IF(AND(SUMPRODUCT(--('MARK Enrollment Template'!A477:L477<>\"\"))<>0,'MARK Enrollment Template'!A477=\"\"),\"Please fill in First Name.\",IF(LEN('MARK Enrollment Template'!A477)=1,\"Please fill in full first name.\",\"\"))","v":""},{"$f":"IF('MARK Enrollment Template'!A477=\"\",\"\",IF(AND('MARK Enrollment Template'!A477<>\"\",'MARK Enrollment Template'!B477=\"\"),\"Please fill in a Last Name.\",\"\"))","v":""},{"$f":"IF('MARK Enrollment Template'!A477=\"\",\"\",IF(AND('MARK Enrollment Template'!A477<>\"\",'MARK Enrollment Template'!C477=\"\"),\"Please fill in Date of Birth.\",IF(TRIM(O472)<>\"D4\",\"Please format DOB as a date in the form MM/DD/YYYY.\",IF('MARK Enrollment Template'!C477>TODAY(),\"Please check DOB.\",\"\"))))","v":""},{"$f":"IF('MARK Enrollment Template'!A477=\"\",\"\",IF(AND('MARK Enrollment Template'!A477<>\"\",'MARK Enrollment Template'!D477=\"\"),\"Please fill in Sex.\",IF(OR(TRIM('MARK Enrollment Template'!D477)=\"M\",TRIM('MARK Enrollment Template'!D477)=\"F\",TRIM('MARK Enrollment Template'!D477)=\"Male\",TRIM('MARK Enrollment Template'!D477)=\"Female\"),\"\",\"Sex must be M/F/Male/Female.\")))","v":""},null,null,{"$f":"IF('MARK Enrollment Template'!A477=\"\",\"\",IF(AND('MARK Enrollment Template'!A477<>\"\",'MARK Enrollment Template'!G477=\"\"),\"Please fill in Email Address.\",IF(IFERROR(FIND(\"@\",'MARK Enrollment Template'!G477),\"X\")=\"X\",\"Email Address must include an @ symbol.\",\"\")))","v":""},null,null,null,{"$f":"IF('MARK Enrollment Template'!A477=\"\",\"\",IF(AND('MARK Enrollment Template'!A477<>\"\",'MARK Enrollment Template'!K477=\"\"),\"Please fill in Zip Code.\",IF(LEN(SUBSTITUTE(TRIM('MARK Enrollment Template'!K477),CHAR(9),\"\"))<5,\"Zip <5 digits. If leading zero, add apostrophe (ex. '01234).\",\"\")))","v":""},null,null,{"$f":"CELL(\"format\",'MARK Enrollment Template'!C477)","v":"G"}]
["",{"$f":"IF(AND(SUMPRODUCT(--('MARK Enrollment Template'!A478:L478<>\"\"))<>0,'MARK Enrollment Template'!A478=\"\"),\"Please fill in First Name.\",IF(LEN('MARK Enrollment Template'!A478)=1,\"Please fill in full first name.\",\"\"))","v":""},{"$f":"IF('MARK Enrollment Template'!A478=\"\",\"\",IF(AND('MARK Enrollment Template'!A478<>\"\",'MARK Enrollment Template'!B478=\"\"),\"Please fill in a Last Name.\",\"\"))","v":""},{"$f":"IF('MARK Enrollment Template'!A478=\"\",\"\",IF(AND('MARK Enrollment Template'!A478<>\"\",'MARK Enrollment Template'!C478=\"\"),\"Please fill in Date of Birth.\",IF(TRIM(O473)<>\"D4\",\"Please format DOB as a date in the form MM/DD/YYYY.\",IF('MARK Enrollment Template'!C478>TODAY(),\"Please check DOB.\",\"\"))))","v":""},{"$f":"IF('MARK Enrollment Template'!A478=\"\",\"\",IF(AND('MARK Enrollment Template'!A478<>\"\",'MARK Enrollment Template'!D478=\"\"),\"Please fill in Sex.\",IF(OR(TRIM('MARK Enrollment Template'!D478)=\"M\",TRIM('MARK Enrollment Template'!D478)=\"F\",TRIM('MARK Enrollment Template'!D478)=\"Male\",TRIM('MARK Enrollment Template'!D478)=\"Female\"),\"\",\"Sex must be M/F/Male/Female.\")))","v":""},null,null,{"$f":"IF('MARK Enrollment Template'!A478=\"\",\"\",IF(AND('MARK Enrollment Template'!A478<>\"\",'MARK Enrollment Template'!G478=\"\"),\"Please fill in Email Address.\",IF(IFERROR(FIND(\"@\",'MARK Enrollment Template'!G478),\"X\")=\"X\",\"Email Address must include an @ symbol.\",\"\")))","v":""},null,null,null,{"$f":"IF('MARK Enrollment Template'!A478=\"\",\"\",IF(AND('MARK Enrollment Template'!A478<>\"\",'MARK Enrollment Template'!K478=\"\"),\"Please fill in Zip Code.\",IF(LEN(SUBSTITUTE(TRIM('MARK Enrollment Template'!K478),CHAR(9),\"\"))<5,\"Zip <5 digits. If leading zero, add apostrophe (ex. '01234).\",\"\")))","v":""},null,null,{"$f":"CELL(\"format\",'MARK Enrollment Template'!C478)","v":"G"}]
["",{"$f":"IF(AND(SUMPRODUCT(--('MARK Enrollment Template'!A479:L479<>\"\"))<>0,'MARK Enrollment Template'!A479=\"\"),\"Please fill in First Name.\",IF(LEN('MARK Enrollment Template'!A479)=1,\"Please fill in full first name.\",\"\"))","v":""},{"$f":"IF('MARK Enrollment Template'!A479=\"\",\"\",IF(AND('MARK Enrollment Template'!A479<>\"\",'MARK Enrollment Template'!B479=\"\"),\"Please fill in a Last Name.\",\"\"))","v":""},{"$f":"IF('MARK Enrollment Template'!A479=\"\",\"\",IF(AND('MARK Enrollment Template'!A479<>\"\",'MARK Enrollment Template'!C479=\"\"),\"Please fill in Date of Birth.\",IF(TRIM(O474)<>\"D4\",\"Please format DOB as a date in the form MM/DD/YYYY.\",IF('MARK Enrollment Template'!C479>TODAY(),\"Please check DOB.\",\"\"))))","v":""},{"$f":"IF('MARK Enrollment Template'!A479=\"\",\"\",IF(AND('MARK Enrollment Template'!A479<>\"\",'MARK Enrollment Template'!D479=\"\"),\"Please fill in Sex.\",IF(OR(TRIM('MARK Enrollment Template'!D479)=\"M\",TRIM('MARK Enrollment Template'!D479)=\"F\",TRIM('MARK Enrollment Template'!D479)=\"Male\",TRIM('MARK Enrollment Template'!D479)=\"Female\"),\"\",\"Sex must be M/F/Male/Female.\")))","v":""},null,null,{"$f":"IF('MARK Enrollment Template'!A479=\"\",\"\",IF(AND('MARK Enrollment Template'!A479<>\"\",'MARK Enrollment Template'!G479=\"\"),\"Please fill in Email Address.\",IF(IFERROR(FIND(\"@\",'MARK Enrollment Template'!G479),\"X\")=\"X\",\"Email Address must include an @ symbol.\",\"\")))","v":""},null,null,null,{"$f":"IF('MARK Enrollment Template'!A479=\"\",\"\",IF(AND('MARK Enrollment Template'!A479<>\"\",'MARK Enrollment Template'!K479=\"\"),\"Please fill in Zip Code.\",IF(LEN(SUBSTITUTE(TRIM('MARK Enrollment Template'!K479),CHAR(9),\"\"))<5,\"Zip <5 digits. If leading zero, add apostrophe (ex. '01234).\",\"\")))","v":""},null,null,{"$f":"CELL(\"format\",'MARK Enrollment Template'!C479)","v":"G"}]
["",{"$f":"IF(AND(SUMPRODUCT(--('MARK Enrollment Template'!A480:L480<>\"\"))<>0,'MARK Enrollment Template'!A480=\"\"),\"Please fill in First Name.\",IF(LEN('MARK Enrollment Template'!A480)=1,\"Please fill in full first name.\",\"\"))","v":""},{"$f":"IF('MARK Enrollment Template'!A480=\"\",\"\",IF(AND('MARK Enrollment Template'!A480<>\"\",'MARK Enrollment Template'!B480=\"\"),\"Please fill in a Last Name.\",\"\"))","v":""},{"$f":"IF('MARK Enrollment Template'!A480=\"\",\"\",IF(AND('MARK Enrollment Template'!A480<>\"\",'MARK Enrollment Template'!C480=\"\"),\"Please fill in Date of Birth.\",IF(TRIM(O475)<>\"D4\",\"Please format DOB as a date in the form MM/DD/YYYY.\",IF('MARK Enrollment Template'!C480>TODAY(),\"Please check DOB.\",\"\"))))","v":""},{"$f":"IF('MARK Enrollment Template'!A480=\"\",\"\",IF(AND('MARK Enrollment Template'!A480<>\"\",'MARK Enrollment Template'!D480=\"\"),\"Please fill in Sex.\",IF(OR(TRIM('MARK Enrollment Template'!D480)=\"M\",TRIM('MARK Enrollment Template'!D480)=\"F\",TRIM('MARK Enrollment Template'!D480)=\"Male\",TRIM('MARK Enrollment Template'!D480)=\"Female\"),\"\",\"Sex must be M/F/Male/Female.\")))","v":""},null,null,{"$f":"IF('MARK Enrollment Template'!A480=\"\",\"\",IF(AND('MARK Enrollment Template'!A480<>\"\",'MARK Enrollment Template'!G480=\"\"),\"Please fill in Email Address.\",IF(IFERROR(FIND(\"@\",'MARK Enrollment Template'!G480),\"X\")=\"X\",\"Email Address must include an @ symbol.\",\"\")))","v":""},null,null,null,{"$f":"IF('MARK Enrollment Template'!A480=\"\",\"\",IF(AND('MARK Enrollment Template'!A480<>\"\",'MARK Enrollment Template'!K480=\"\"),\"Please fill in Zip Code.\",IF(LEN(SUBSTITUTE(TRIM('MARK Enrollment Template'!K480),CHAR(9),\"\"))<5,\"Zip <5 digits. If leading zero, add apostrophe (ex. '01234).\",\"\")))","v":""},null,null,{"$f":"CELL(\"format\",'MARK Enrollment Template'!C480)","v":"G"}]
["",{"$f":"IF(AND(SUMPRODUCT(--('MARK Enrollment Template'!A481:L481<>\"\"))<>0,'MARK Enrollment Template'!A481=\"\"),\"Please fill in First Name.\",IF(LEN('MARK Enrollment Template'!A481)=1,\"Please fill in full first name.\",\"\"))","v":""},{"$f":"IF('MARK Enrollment Template'!A481=\"\",\"\",IF(AND('MARK Enrollment Template'!A481<>\"\",'MARK Enrollment Template'!B481=\"\"),\"Please fill in a Last Name.\",\"\"))","v":""},{"$f":"IF('MARK Enrollment Template'!A481=\"\",\"\",IF(AND('MARK Enrollment Template'!A481<>\"\",'MARK Enrollment Template'!C481=\"\"),\"Please fill in Date of Birth.\",IF(TRIM(O476)<>\"D4\",\"Please format DOB as a date in the form MM/DD/YYYY.\",IF('MARK Enrollment Template'!C481>TODAY(),\"Please check DOB.\",\"\"))))","v":""},{"$f":"IF('MARK Enrollment Template'!A481=\"\",\"\",IF(AND('MARK Enrollment Template'!A481<>\"\",'MARK Enrollment Template'!D481=\"\"),\"Please fill in Sex.\",IF(OR(TRIM('MARK Enrollment Template'!D481)=\"M\",TRIM('MARK Enrollment Template'!D481)=\"F\",TRIM('MARK Enrollment Template'!D481)=\"Male\",TRIM('MARK Enrollment Template'!D481)=\"Female\"),\"\",\"Sex must be M/F/Male/Female.\")))","v":""},null,null,{"$f":"IF('MARK Enrollment Template'!A481=\"\",\"\",IF(AND('MARK Enrollment Template'!A481<>\"\",'MARK Enrollment Template'!G481=\"\"),\"Please fill in Email Address.\",IF(IFERROR(FIND(\"@\",'MARK Enrollment Template'!G481),\"X\")=\"X\",\"Email Address must include an @ symbol.\",\"\")))","v":""},null,null,null,{"$f":"IF('MARK Enrollment Template'!A481=\"\",\"\",IF(AND('MARK Enrollment Template'!A481<>\"\",'MARK Enrollment Template'!K481=\"\"),\"Please fill in Zip Code.\",IF(LEN(SUBSTITUTE(TRIM('MARK Enrollment Template'!K481),CHAR(9),\"\"))<5,\"Zip <5 digits. If leading zero, add apostrophe (ex. '01234).\",\"\")))","v":""},null,null,{"$f":"CELL(\"format\",'MARK Enrollment Template'!C481)","v":"G"}]
["",{"$f":"IF(AND(SUMPRODUCT(--('MARK Enrollment Template'!A482:L482<>\"\"))<>0,'MARK Enrollment Template'!A482=\"\"),\"Please fill in First Name.\",IF(LEN('MARK Enrollment Template'!A482)=1,\"Please fill in full first name.\",\"\"))","v":""},{"$f":"IF('MARK Enrollment Template'!A482=\"\",\"\",IF(AND('MARK Enrollment Template'!A482<>\"\",'MARK Enrollment Template'!B482=\"\"),\"Please fill in a Last Name.\",\"\"))","v":""},{"$f":"IF('MARK Enrollment Template'!A482=\"\",\"\",IF(AND('MARK Enrollment Template'!A482<>\"\",'MARK Enrollment Template'!C482=\"\"),\"Please fill in Date of Birth.\",IF(TRIM(O477)<>\"D4\",\"Please format DOB as a date in the form MM/DD/YYYY.\",IF('MARK Enrollment Template'!C482>TODAY(),\"Please check DOB.\",\"\"))))","v":""},{"$f":"IF('MARK Enrollment Template'!A482=\"\",\"\",IF(AND('MARK Enrollment Template'!A482<>\"\",'MARK Enrollment Template'!D482=\"\"),\"Please fill in Sex.\",IF(OR(TRIM('MARK Enrollment Template'!D482)=\"M\",TRIM('MARK Enrollment Template'!D482)=\"F\",TRIM('MARK Enrollment Template'!D482)=\"Male\",TRIM('MARK Enrollment Template'!D482)=\"Female\"),\"\",\"Sex must be M/F/Male/Female.\")))","v":""},null,null,{"$f":"IF('MARK Enrollment Template'!A482=\"\",\"\",IF(AND('MARK Enrollment Template'!A482<>\"\",'MARK Enrollment Template'!G482=\"\"),\"Please fill in Email Address.\",IF(IFERROR(FIND(\"@\",'MARK Enrollment Template'!G482),\"X\")=\"X\",\"Email Address must include an @ symbol.\",\"\")))","v":""},null,null,null,{"$f":"IF('MARK Enrollment Template'!A482=\"\",\"\",IF(AND('MARK Enrollment Template'!A482<>\"\",'MARK Enrollment Template'!K482=\"\"),\"Please fill in Zip Code.\",IF(LEN(SUBSTITUTE(TRIM('MARK Enrollment Template'!K482),CHAR(9),\"\"))<5,\"Zip <5 digits. If leading zero, add apostrophe (ex. '01234).\",\"\")))","v":""},null,null,{"$f":"CELL(\"format\",'MARK Enrollment Template'!C482)","v":"G"}]
["",{"$f":"IF(AND(SUMPRODUCT(--('MARK Enrollment Template'!A483:L483<>\"\"))<>0,'MARK Enrollment Template'!A483=\"\"),\"Please fill in First Name.\",IF(LEN('MARK Enrollment Template'!A483)=1,\"Please fill in full first name.\",\"\"))","v":""},{"$f":"IF('MARK Enrollment Template'!A483=\"\",\"\",IF(AND('MARK Enrollment Template'!A483<>\"\",'MARK Enrollment Template'!B483=\"\"),\"Please fill in a Last Name.\",\"\"))","v":""},{"$f":"IF('MARK Enrollment Template'!A483=\"\",\"\",IF(AND('MARK Enrollment Template'!A483<>\"\",'MARK Enrollment Template'!C483=\"\"),\"Please fill in Date of Birth.\",IF(TRIM(O478)<>\"D4\",\"Please format DOB as a date in the form MM/DD/YYYY.\",IF('MARK Enrollment Template'!C483>TODAY(),\"Please check DOB.\",\"\"))))","v":""},{"$f":"IF('MARK Enrollment Template'!A483=\"\",\"\",IF(AND('MARK Enrollment Template'!A483<>\"\",'MARK Enrollment Template'!D483=\"\"),\"Please fill in Sex.\",IF(OR(TRIM('MARK Enrollment Template'!D483)=\"M\",TRIM('MARK Enrollment Template'!D483)=\"F\",TRIM('MARK Enrollment Template'!D483)=\"Male\",TRIM('MARK Enrollment Template'!D483)=\"Female\"),\"\",\"Sex must be M/F/Male/Female.\")))","v":""},null,null,{"$f":"IF('MARK Enrollment Template'!A483=\"\",\"\",IF(AND('MARK Enrollment Template'!A483<>\"\",'MARK Enrollment Template'!G483=\"\"),\"Please fill in Email Address.\",IF(IFERROR(FIND(\"@\",'MARK Enrollment Template'!G483),\"X\")=\"X\",\"Email Address must include an @ symbol.\",\"\")))","v":""},null,null,null,{"$f":"IF('MARK Enrollment Template'!A483=\"\",\"\",IF(AND('MARK Enrollment Template'!A483<>\"\",'MARK Enrollment Template'!K483=\"\"),\"Please fill in Zip Code.\",IF(LEN(SUBSTITUTE(TRIM('MARK Enrollment Template'!K483),CHAR(9),\"\"))<5,\"Zip <5 digits. If leading zero, add apostrophe (ex. '01234).\",\"\")))","v":""},null,null,{"$f":"CELL(\"format\",'MARK Enrollment Template'!C483)","v":"G"}]
["",{"$f":"IF(AND(SUMPRODUCT(--('MARK Enrollment Template'!A484:L484<>\"\"))<>0,'MARK Enrollment Template'!A484=\"\"),\"Please fill in First Name.\",IF(LEN('MARK Enrollment Template'!A484)=1,\"Please fill in full first name.\",\"\"))","v":""},{"$f":"IF('MARK Enrollment Template'!A484=\"\",\"\",IF(AND('MARK Enrollment Template'!A484<>\"\",'MARK Enrollment Template'!B484=\"\"),\"Please fill in a Last Name.\",\"\"))","v":""},{"$f":"IF('MARK Enrollment Template'!A484=\"\",\"\",IF(AND('MARK Enrollment Template'!A484<>\"\",'MARK Enrollment Template'!C484=\"\"),\"Please fill in Date of Birth.\",IF(TRIM(O479)<>\"D4\",\"Please format DOB as a date in the form MM/DD/YYYY.\",IF('MARK Enrollment Template'!C484>TODAY(),\"Please check DOB.\",\"\"))))","v":""},{"$f":"IF('MARK Enrollment Template'!A484=\"\",\"\",IF(AND('MARK Enrollment Template'!A484<>\"\",'MARK Enrollment Template'!D484=\"\"),\"Please fill in Sex.\",IF(OR(TRIM('MARK Enrollment Template'!D484)=\"M\",TRIM('MARK Enrollment Template'!D484)=\"F\",TRIM('MARK Enrollment Template'!D484)=\"Male\",TRIM('MARK Enrollment Template'!D484)=\"Female\"),\"\",\"Sex must be M/F/Male/Female.\")))","v":""},null,null,{"$f":"IF('MARK Enrollment Template'!A484=\"\",\"\",IF(AND('MARK Enrollment Template'!A484<>\"\",'MARK Enrollment Template'!G484=\"\"),\"Please fill in Email Address.\",IF(IFERROR(FIND(\"@\",'MARK Enrollment Template'!G484),\"X\")=\"X\",\"Email Address must include an @ symbol.\",\"\")))","v":""},null,null,null,{"$f":"IF('MARK Enrollment Template'!A484=\"\",\"\",IF(AND('MARK Enrollment Template'!A484<>\"\",'MARK Enrollment Template'!K484=\"\"),\"Please fill in Zip Code.\",IF(LEN(SUBSTITUTE(TRIM('MARK Enrollment Template'!K484),CHAR(9),\"\"))<5,\"Zip <5 digits. If leading zero, add apostrophe (ex. '01234).\",\"\")))","v":""},null,null,{"$f":"CELL(\"format\",'MARK Enrollment Template'!C484)","v":"G"}]
["",{"$f":"IF(AND(SUMPRODUCT(--('MARK Enrollment Template'!A485:L485<>\"\"))<>0,'MARK Enrollment Template'!A485=\"\"),\"Please fill in First Name.\",IF(LEN('MARK Enrollment Template'!A485)=1,\"Please fill in full first name.\",\"\"))","v":""},{"$f":"IF('MARK Enrollment Template'!A485=\"\",\"\",IF(AND('MARK Enrollment Template'!A485<>\"\",'MARK Enrollment Template'!B485=\"\"),\"Please fill in a Last Name.\",\"\"))","v":""},{"$f":"IF('MARK Enrollment Template'!A485=\"\",\"\",IF(AND('MARK Enrollment Template'!A485<>\"\",'MARK Enrollment Template'!C485=\"\"),\"Please fill in Date of Birth.\",IF(TRIM(O480)<>\"D4\",\"Please format DOB as a date in the form MM/DD/YYYY.\",IF('MARK Enrollment Template'!C485>TODAY(),\"Please check DOB.\",\"\"))))","v":""},{"$f":"IF('MARK Enrollment Template'!A485=\"\",\"\",IF(AND('MARK Enrollment Template'!A485<>\"\",'MARK Enrollment Template'!D485=\"\"),\"Please fill in Sex.\",IF(OR(TRIM('MARK Enrollment Template'!D485)=\"M\",TRIM('MARK Enrollment Template'!D485)=\"F\",TRIM('MARK Enrollment Template'!D485)=\"Male\",TRIM('MARK Enrollment Template'!D485)=\"Female\"),\"\",\"Sex must be M/F/Male/Female.\")))","v":""},null,null,{"$f":"IF('MARK Enrollment Template'!A485=\"\",\"\",IF(AND('MARK Enrollment Template'!A485<>\"\",'MARK Enrollment Template'!G485=\"\"),\"Please fill in Email Address.\",IF(IFERROR(FIND(\"@\",'MARK Enrollment Template'!G485),\"X\")=\"X\",\"Email Address must include an @ symbol.\",\"\")))","v":""},null,null,null,{"$f":"IF('MARK Enrollment Template'!A485=\"\",\"\",IF(AND('MARK Enrollment Template'!A485<>\"\",'MARK Enrollment Template'!K485=\"\"),\"Please fill in Zip Code.\",IF(LEN(SUBSTITUTE(TRIM('MARK Enrollment Template'!K485),CHAR(9),\"\"))<5,\"Zip <5 digits. If leading zero, add apostrophe (ex. '01234).\",\"\")))","v":""},null,null,{"$f":"CELL(\"format\",'MARK Enrollment Template'!C485)","v":"G"}]
["",{"$f":"IF(AND(SUMPRODUCT(--('MARK Enrollment Template'!A486:L486<>\"\"))<>0,'MARK Enrollment Template'!A486=\"\"),\"Please fill in First Name.\",IF(LEN('MARK Enrollment Template'!A486)=1,\"Please fill in full first name.\",\"\"))","v":""},{"$f":"IF('MARK Enrollment Template'!A486=\"\",\"\",IF(AND('MARK Enrollment Template'!A486<>\"\",'MARK Enrollment Template'!B486=\"\"),\"Please fill in a Last Name.\",\"\"))","v":""},{"$f":"IF('MARK Enrollment Template'!A486=\"\",\"\",IF(AND('MARK Enrollment Template'!A486<>\"\",'MARK Enrollment Template'!C486=\"\"),\"Please fill in Date of Birth.\",IF(TRIM(O481)<>\"D4\",\"Please format DOB as a date in the form MM/DD/YYYY.\",IF('MARK Enrollment Template'!C486>TODAY(),\"Please check DOB.\",\"\"))))","v":""},{"$f":"IF('MARK Enrollment Template'!A486=\"\",\"\",IF(AND('MARK Enrollment Template'!A486<>\"\",'MARK Enrollment Template'!D486=\"\"),\"Please fill in Sex.\",IF(OR(TRIM('MARK Enrollment Template'!D486)=\"M\",TRIM('MARK Enrollment Template'!D486)=\"F\",TRIM('MARK Enrollment Template'!D486)=\"Male\",TRIM('MARK Enrollment Template'!D486)=\"Female\"),\"\",\"Sex must be M/F/Male/Female.\")))","v":""},null,null,{"$f":"IF('MARK Enrollment Template'!A486=\"\",\"\",IF(AND('MARK Enrollment Template'!A486<>\"\",'MARK Enrollment Template'!G486=\"\"),\"Please fill in Email Address.\",IF(IFERROR(FIND(\"@\",'MARK Enrollment Template'!G486),\"X\")=\"X\",\"Email Address must include an @ symbol.\",\"\")))","v":""},null,null,null,{"$f":"IF('MARK Enrollment Template'!A486=\"\",\"\",IF(AND('MARK Enrollment Template'!A486<>\"\",'MARK Enrollment Template'!K486=\"\"),\"Please fill in Zip Code.\",IF(LEN(SUBSTITUTE(TRIM('MARK Enrollment Template'!K486),CHAR(9),\"\"))<5,\"Zip <5 digits. If leading zero, add apostrophe (ex. '01234).\",\"\")))","v":""},null,null,{"$f":"CELL(\"format\",'MARK Enrollment Template'!C486)","v":"G"}]
["",{"$f":"IF(AND(SUMPRODUCT(--('MARK Enrollment Template'!A487:L487<>\"\"))<>0,'MARK Enrollment Template'!A487=\"\"),\"Please fill in First Name.\",IF(LEN('MARK Enrollment Template'!A487)=1,\"Please fill in full first name.\",\"\"))","v":""},{"$f":"IF('MARK Enrollment Template'!A487=\"\",\"\",IF(AND('MARK Enrollment Template'!A487<>\"\",'MARK Enrollment Template'!B487=\"\"),\"Please fill in a Last Name.\",\"\"))","v":""},{"$f":"IF('MARK Enrollment Template'!A487=\"\",\"\",IF(AND('MARK Enrollment Template'!A487<>\"\",'MARK Enrollment Template'!C487=\"\"),\"Please fill in Date of Birth.\",IF(TRIM(O482)<>\"D4\",\"Please format DOB as a date in the form MM/DD/YYYY.\",IF('MARK Enrollment Template'!C487>TODAY(),\"Please check DOB.\",\"\"))))","v":""},{"$f":"IF('MARK Enrollment Template'!A487=\"\",\"\",IF(AND('MARK Enrollment Template'!A487<>\"\",'MARK Enrollment Template'!D487=\"\"),\"Please fill in Sex.\",IF(OR(TRIM('MARK Enrollment Template'!D487)=\"M\",TRIM('MARK Enrollment Template'!D487)=\"F\",TRIM('MARK Enrollment Template'!D487)=\"Male\",TRIM('MARK Enrollment Template'!D487)=\"Female\"),\"\",\"Sex must be M/F/Male/Female.\")))","v":""},null,null,{"$f":"IF('MARK Enrollment Template'!A487=\"\",\"\",IF(AND('MARK Enrollment Template'!A487<>\"\",'MARK Enrollment Template'!G487=\"\"),\"Please fill in Email Address.\",IF(IFERROR(FIND(\"@\",'MARK Enrollment Template'!G487),\"X\")=\"X\",\"Email Address must include an @ symbol.\",\"\")))","v":""},null,null,null,{"$f":"IF('MARK Enrollment Template'!A487=\"\",\"\",IF(AND('MARK Enrollment Template'!A487<>\"\",'MARK Enrollment Template'!K487=\"\"),\"Please fill in Zip Code.\",IF(LEN(SUBSTITUTE(TRIM('MARK Enrollment Template'!K487),CHAR(9),\"\"))<5,\"Zip <5 digits. If leading zero, add apostrophe (ex. '01234).\",\"\")))","v":""},null,null,{"$f":"CELL(\"format\",'MARK Enrollment Template'!C487)","v":"G"}]
["",{"$f":"IF(AND(SUMPRODUCT(--('MARK Enrollment Template'!A488:L488<>\"\"))<>0,'MARK Enrollment Template'!A488=\"\"),\"Please fill in First Name.\",IF(LEN('MARK Enrollment Template'!A488)=1,\"Please fill in full first name.\",\"\"))","v":""},{"$f":"IF('MARK Enrollment Template'!A488=\"\",\"\",IF(AND('MARK Enrollment Template'!A488<>\"\",'MARK Enrollment Template'!B488=\"\"),\"Please fill in a Last Name.\",\"\"))","v":""},{"$f":"IF('MARK Enrollment Template'!A488=\"\",\"\",IF(AND('MARK Enrollment Template'!A488<>\"\",'MARK Enrollment Template'!C488=\"\"),\"Please fill in Date of Birth.\",IF(TRIM(O483)<>\"D4\",\"Please format DOB as a date in the form MM/DD/YYYY.\",IF('MARK Enrollment Template'!C488>TODAY(),\"Please check DOB.\",\"\"))))","v":""},{"$f":"IF('MARK Enrollment Template'!A488=\"\",\"\",IF(AND('MARK Enrollment Template'!A488<>\"\",'MARK Enrollment Template'!D488=\"\"),\"Please fill in Sex.\",IF(OR(TRIM('MARK Enrollment Template'!D488)=\"M\",TRIM('MARK Enrollment Template'!D488)=\"F\",TRIM('MARK Enrollment Template'!D488)=\"Male\",TRIM('MARK Enrollment Template'!D488)=\"Female\"),\"\",\"Sex must be M/F/Male/Female.\")))","v":""},null,null,{"$f":"IF('MARK Enrollment Template'!A488=\"\",\"\",IF(AND('MARK Enrollment Template'!A488<>\"\",'MARK Enrollment Template'!G488=\"\"),\"Please fill in Email Address.\",IF(IFERROR(FIND(\"@\",'MARK Enrollment Template'!G488),\"X\")=\"X\",\"Email Address must include an @ symbol.\",\"\")))","v":""},null,null,null,{"$f":"IF('MARK Enrollment Template'!A488=\"\",\"\",IF(AND('MARK Enrollment Template'!A488<>\"\",'MARK Enrollment Template'!K488=\"\"),\"Please fill in Zip Code.\",IF(LEN(SUBSTITUTE(TRIM('MARK Enrollment Template'!K488),CHAR(9),\"\"))<5,\"Zip <5 digits. If leading zero, add apostrophe (ex. '01234).\",\"\")))","v":""},null,null,{"$f":"CELL(\"format\",'MARK Enrollment Template'!C488)","v":"G"}]
["",{"$f":"IF(AND(SUMPRODUCT(--('MARK Enrollment Template'!A489:L489<>\"\"))<>0,'MARK Enrollment Template'!A489=\"\"),\"Please fill in First Name.\",IF(LEN('MARK Enrollment Template'!A489)=1,\"Please fill in full first name.\",\"\"))","v":""},{"$f":"IF('MARK Enrollment Template'!A489=\"\",\"\",IF(AND('MARK Enrollment Template'!A489<>\"\",'MARK Enrollment Template'!B489=\"\"),\"Please fill in a Last Name.\",\"\"))","v":""},{"$f":"IF('MARK Enrollment Template'!A489=\"\",\"\",IF(AND('MARK Enrollment Template'!A489<>\"\",'MARK Enrollment Template'!C489=\"\"),\"Please fill in Date of Birth.\",IF(TRIM(O484)<>\"D4\",\"Please format DOB as a date in the form MM/DD/YYYY.\",IF('MARK Enrollment Template'!C489>TODAY(),\"Please check DOB.\",\"\"))))","v":""},{"$f":"IF('MARK Enrollment Template'!A489=\"\",\"\",IF(AND('MARK Enrollment Template'!A489<>\"\",'MARK Enrollment Template'!D489=\"\"),\"Please fill in Sex.\",IF(OR(TRIM('MARK Enrollment Template'!D489)=\"M\",TRIM('MARK Enrollment Template'!D489)=\"F\",TRIM('MARK Enrollment Template'!D489)=\"Male\",TRIM('MARK Enrollment Template'!D489)=\"Female\"),\"\",\"Sex must be M/F/Male/Female.\")))","v":""},null,null,{"$f":"IF('MARK Enrollment Template'!A489=\"\",\"\",IF(AND('MARK Enrollment Template'!A489<>\"\",'MARK Enrollment Template'!G489=\"\"),\"Please fill in Email Address.\",IF(IFERROR(FIND(\"@\",'MARK Enrollment Template'!G489),\"X\")=\"X\",\"Email Address must include an @ symbol.\",\"\")))","v":""},null,null,null,{"$f":"IF('MARK Enrollment Template'!A489=\"\",\"\",IF(AND('MARK Enrollment Template'!A489<>\"\",'MARK Enrollment Template'!K489=\"\"),\"Please fill in Zip Code.\",IF(LEN(SUBSTITUTE(TRIM('MARK Enrollment Template'!K489),CHAR(9),\"\"))<5,\"Zip <5 digits. If leading zero, add apostrophe (ex. '01234).\",\"\")))","v":""},null,null,{"$f":"CELL(\"format\",'MARK Enrollment Template'!C489)","v":"G"}]
["",{"$f":"IF(AND(SUMPRODUCT(--('MARK Enrollment Template'!A490:L490<>\"\"))<>0,'MARK Enrollment Template'!A490=\"\"),\"Please fill in First Name.\",IF(LEN('MARK Enrollment Template'!A490)=1,\"Please fill in full first name.\",\"\"))","v":""},{"$f":"IF('MARK Enrollment Template'!A490=\"\",\"\",IF(AND('MARK Enrollment Template'!A490<>\"\",'MARK Enrollment Template'!B490=\"\"),\"Please fill in a Last Name.\",\"\"))","v":""},{"$f":"IF('MARK Enrollment Template'!A490=\"\",\"\",IF(AND('MARK Enrollment Template'!A490<>\"\",'MARK Enrollment Template'!C490=\"\"),\"Please fill in Date of Birth.\",IF(TRIM(O485)<>\"D4\",\"Please format DOB as a date in the form MM/DD/YYYY.\",IF('MARK Enrollment Template'!C490>TODAY(),\"Please check DOB.\",\"\"))))","v":""},{"$f":"IF('MARK Enrollment Template'!A490=\"\",\"\",IF(AND('MARK Enrollment Template'!A490<>\"\",'MARK Enrollment Template'!D490=\"\"),\"Please fill in Sex.\",IF(OR(TRIM('MARK Enrollment Template'!D490)=\"M\",TRIM('MARK Enrollment Template'!D490)=\"F\",TRIM('MARK Enrollment Template'!D490)=\"Male\",TRIM('MARK Enrollment Template'!D490)=\"Female\"),\"\",\"Sex must be M/F/Male/Female.\")))","v":""},null,null,{"$f":"IF('MARK Enrollment Template'!A490=\"\",\"\",IF(AND('MARK Enrollment Template'!A490<>\"\",'MARK Enrollment Template'!G490=\"\"),\"Please fill in Email Address.\",IF(IFERROR(FIND(\"@\",'MARK Enrollment Template'!G490),\"X\")=\"X\",\"Email Address must include an @ symbol.\",\"\")))","v":""},null,null,null,{"$f":"IF('MARK Enrollment Template'!A490=\"\",\"\",IF(AND('MARK Enrollment Template'!A490<>\"\",'MARK Enrollment Template'!K490=\"\"),\"Please fill in Zip Code.\",IF(LEN(SUBSTITUTE(TRIM('MARK Enrollment Template'!K490),CHAR(9),\"\"))<5,\"Zip <5 digits. If leading zero, add apostrophe (ex. '01234).\",\"\")))","v":""},null,null,{"$f":"CELL(\"format\",'MARK Enrollment Template'!C490)","v":"G"}]
["",{"$f":"IF(AND(SUMPRODUCT(--('MARK Enrollment Template'!A491:L491<>\"\"))<>0,'MARK Enrollment Template'!A491=\"\"),\"Please fill in First Name.\",IF(LEN('MARK Enrollment Template'!A491)=1,\"Please fill in full first name.\",\"\"))","v":""},{"$f":"IF('MARK Enrollment Template'!A491=\"\",\"\",IF(AND('MARK Enrollment Template'!A491<>\"\",'MARK Enrollment Template'!B491=\"\"),\"Please fill in a Last Name.\",\"\"))","v":""},{"$f":"IF('MARK Enrollment Template'!A491=\"\",\"\",IF(AND('MARK Enrollment Template'!A491<>\"\",'MARK Enrollment Template'!C491=\"\"),\"Please fill in Date of Birth.\",IF(TRIM(O486)<>\"D4\",\"Please format DOB as a date in the form MM/DD/YYYY.\",IF('MARK Enrollment Template'!C491>TODAY(),\"Please check DOB.\",\"\"))))","v":""},{"$f":"IF('MARK Enrollment Template'!A491=\"\",\"\",IF(AND('MARK Enrollment Template'!A491<>\"\",'MARK Enrollment Template'!D491=\"\"),\"Please fill in Sex.\",IF(OR(TRIM('MARK Enrollment Template'!D491)=\"M\",TRIM('MARK Enrollment Template'!D491)=\"F\",TRIM('MARK Enrollment Template'!D491)=\"Male\",TRIM('MARK Enrollment Template'!D491)=\"Female\"),\"\",\"Sex must be M/F/Male/Female.\")))","v":""},null,null,{"$f":"IF('MARK Enrollment Template'!A491=\"\",\"\",IF(AND('MARK Enrollment Template'!A491<>\"\",'MARK Enrollment Template'!G491=\"\"),\"Please fill in Email Address.\",IF(IFERROR(FIND(\"@\",'MARK Enrollment Template'!G491),\"X\")=\"X\",\"Email Address must include an @ symbol.\",\"\")))","v":""},null,null,null,{"$f":"IF('MARK Enrollment Template'!A491=\"\",\"\",IF(AND('MARK Enrollment Template'!A491<>\"\",'MARK Enrollment Template'!K491=\"\"),\"Please fill in Zip Code.\",IF(LEN(SUBSTITUTE(TRIM('MARK Enrollment Template'!K491),CHAR(9),\"\"))<5,\"Zip <5 digits. If leading zero, add apostrophe (ex. '01234).\",\"\")))","v":""},null,null,{"$f":"CELL(\"format\",'MARK Enrollment Template'!C491)","v":"G"}]
["",{"$f":"IF(AND(SUMPRODUCT(--('MARK Enrollment Template'!A492:L492<>\"\"))<>0,'MARK Enrollment Template'!A492=\"\"),\"Please fill in First Name.\",IF(LEN('MARK Enrollment Template'!A492)=1,\"Please fill in full first name.\",\"\"))","v":""},{"$f":"IF('MARK Enrollment Template'!A492=\"\",\"\",IF(AND('MARK Enrollment Template'!A492<>\"\",'MARK Enrollment Template'!B492=\"\"),\"Please fill in a Last Name.\",\"\"))","v":""},{"$f":"IF('MARK Enrollment Template'!A492=\"\",\"\",IF(AND('MARK Enrollment Template'!A492<>\"\",'MARK Enrollment Template'!C492=\"\"),\"Please fill in Date of Birth.\",IF(TRIM(O487)<>\"D4\",\"Please format DOB as a date in the form MM/DD/YYYY.\",IF('MARK Enrollment Template'!C492>TODAY(),\"Please check DOB.\",\"\"))))","v":""},{"$f":"IF('MARK Enrollment Template'!A492=\"\",\"\",IF(AND('MARK Enrollment Template'!A492<>\"\",'MARK Enrollment Template'!D492=\"\"),\"Please fill in Sex.\",IF(OR(TRIM('MARK Enrollment Template'!D492)=\"M\",TRIM('MARK Enrollment Template'!D492)=\"F\",TRIM('MARK Enrollment Template'!D492)=\"Male\",TRIM('MARK Enrollment Template'!D492)=\"Female\"),\"\",\"Sex must be M/F/Male/Female.\")))","v":""},null,null,{"$f":"IF('MARK Enrollment Template'!A492=\"\",\"\",IF(AND('MARK Enrollment Template'!A492<>\"\",'MARK Enrollment Template'!G492=\"\"),\"Please fill in Email Address.\",IF(IFERROR(FIND(\"@\",'MARK Enrollment Template'!G492),\"X\")=\"X\",\"Email Address must include an @ symbol.\",\"\")))","v":""},null,null,null,{"$f":"IF('MARK Enrollment Template'!A492=\"\",\"\",IF(AND('MARK Enrollment Template'!A492<>\"\",'MARK Enrollment Template'!K492=\"\"),\"Please fill in Zip Code.\",IF(LEN(SUBSTITUTE(TRIM('MARK Enrollment Template'!K492),CHAR(9),\"\"))<5,\"Zip <5 digits. If leading zero, add apostrophe (ex. '01234).\",\"\")))","v":""},null,null,{"$f":"CELL(\"format\",'MARK Enrollment Template'!C492)","v":"G"}]
["",{"$f":"IF(AND(SUMPRODUCT(--('MARK Enrollment Template'!A493:L493<>\"\"))<>0,'MARK Enrollment Template'!A493=\"\"),\"Please fill in First Name.\",IF(LEN('MARK Enrollment Template'!A493)=1,\"Please fill in full first name.\",\"\"))","v":""},{"$f":"IF('MARK Enrollment Template'!A493=\"\",\"\",IF(AND('MARK Enrollment Template'!A493<>\"\",'MARK Enrollment Template'!B493=\"\"),\"Please fill in a Last Name.\",\"\"))","v":""},{"$f":"IF('MARK Enrollment Template'!A493=\"\",\"\",IF(AND('MARK Enrollment Template'!A493<>\"\",'MARK Enrollment Template'!C493=\"\"),\"Please fill in Date of Birth.\",IF(TRIM(O488)<>\"D4\",\"Please format DOB as a date in the form MM/DD/YYYY.\",IF('MARK Enrollment Template'!C493>TODAY(),\"Please check DOB.\",\"\"))))","v":""},{"$f":"IF('MARK Enrollment Template'!A493=\"\",\"\",IF(AND('MARK Enrollment Template'!A493<>\"\",'MARK Enrollment Template'!D493=\"\"),\"Please fill in Sex.\",IF(OR(TRIM('MARK Enrollment Template'!D493)=\"M\",TRIM('MARK Enrollment Template'!D493)=\"F\",TRIM('MARK Enrollment Template'!D493)=\"Male\",TRIM('MARK Enrollment Template'!D493)=\"Female\"),\"\",\"Sex must be M/F/Male/Female.\")))","v":""},null,null,{"$f":"IF('MARK Enrollment Template'!A493=\"\",\"\",IF(AND('MARK Enrollment Template'!A493<>\"\",'MARK Enrollment Template'!G493=\"\"),\"Please fill in Email Address.\",IF(IFERROR(FIND(\"@\",'MARK Enrollment Template'!G493),\"X\")=\"X\",\"Email Address must include an @ symbol.\",\"\")))","v":""},null,null,null,{"$f":"IF('MARK Enrollment Template'!A493=\"\",\"\",IF(AND('MARK Enrollment Template'!A493<>\"\",'MARK Enrollment Template'!K493=\"\"),\"Please fill in Zip Code.\",IF(LEN(SUBSTITUTE(TRIM('MARK Enrollment Template'!K493),CHAR(9),\"\"))<5,\"Zip <5 digits. If leading zero, add apostrophe (ex. '01234).\",\"\")))","v":""},null,null,{"$f":"CELL(\"format\",'MARK Enrollment Template'!C493)","v":"G"}]
["",{"$f":"IF(AND(SUMPRODUCT(--('MARK Enrollment Template'!A494:L494<>\"\"))<>0,'MARK Enrollment Template'!A494=\"\"),\"Please fill in First Name.\",IF(LEN('MARK Enrollment Template'!A494)=1,\"Please fill in full first name.\",\"\"))","v":""},{"$f":"IF('MARK Enrollment Template'!A494=\"\",\"\",IF(AND('MARK Enrollment Template'!A494<>\"\",'MARK Enrollment Template'!B494=\"\"),\"Please fill in a Last Name.\",\"\"))","v":""},{"$f":"IF('MARK Enrollment Template'!A494=\"\",\"\",IF(AND('MARK Enrollment Template'!A494<>\"\",'MARK Enrollment Template'!C494=\"\"),\"Please fill in Date of Birth.\",IF(TRIM(O489)<>\"D4\",\"Please format DOB as a date in the form MM/DD/YYYY.\",IF('MARK Enrollment Template'!C494>TODAY(),\"Please check DOB.\",\"\"))))","v":""},{"$f":"IF('MARK Enrollment Template'!A494=\"\",\"\",IF(AND('MARK Enrollment Template'!A494<>\"\",'MARK Enrollment Template'!D494=\"\"),\"Please fill in Sex.\",IF(OR(TRIM('MARK Enrollment Template'!D494)=\"M\",TRIM('MARK Enrollment Template'!D494)=\"F\",TRIM('MARK Enrollment Template'!D494)=\"Male\",TRIM('MARK Enrollment Template'!D494)=\"Female\"),\"\",\"Sex must be M/F/Male/Female.\")))","v":""},null,null,{"$f":"IF('MARK Enrollment Template'!A494=\"\",\"\",IF(AND('MARK Enrollment Template'!A494<>\"\",'MARK Enrollment Template'!G494=\"\"),\"Please fill in Email Address.\",IF(IFERROR(FIND(\"@\",'MARK Enrollment Template'!G494),\"X\")=\"X\",\"Email Address must include an @ symbol.\",\"\")))","v":""},null,null,null,{"$f":"IF('MARK Enrollment Template'!A494=\"\",\"\",IF(AND('MARK Enrollment Template'!A494<>\"\",'MARK Enrollment Template'!K494=\"\"),\"Please fill in Zip Code.\",IF(LEN(SUBSTITUTE(TRIM('MARK Enrollment Template'!K494),CHAR(9),\"\"))<5,\"Zip <5 digits. If leading zero, add apostrophe (ex. '01234).\",\"\")))","v":""},null,null,{"$f":"CELL(\"format\",'MARK Enrollment Template'!C494)","v":"G"}]
["",{"$f":"IF(AND(SUMPRODUCT(--('MARK Enrollment Template'!A495:L495<>\"\"))<>0,'MARK Enrollment Template'!A495=\"\"),\"Please fill in First Name.\",IF(LEN('MARK Enrollment Template'!A495)=1,\"Please fill in full first name.\",\"\"))","v":""},{"$f":"IF('MARK Enrollment Template'!A495=\"\",\"\",IF(AND('MARK Enrollment Template'!A495<>\"\",'MARK Enrollment Template'!B495=\"\"),\"Please fill in a Last Name.\",\"\"))","v":""},{"$f":"IF('MARK Enrollment Template'!A495=\"\",\"\",IF(AND('MARK Enrollment Template'!A495<>\"\",'MARK Enrollment Template'!C495=\"\"),\"Please fill in Date of Birth.\",IF(TRIM(O490)<>\"D4\",\"Please format DOB as a date in the form MM/DD/YYYY.\",IF('MARK Enrollment Template'!C495>TODAY(),\"Please check DOB.\",\"\"))))","v":""},{"$f":"IF('MARK Enrollment Template'!A495=\"\",\"\",IF(AND('MARK Enrollment Template'!A495<>\"\",'MARK Enrollment Template'!D495=\"\"),\"Please fill in Sex.\",IF(OR(TRIM('MARK Enrollment Template'!D495)=\"M\",TRIM('MARK Enrollment Template'!D495)=\"F\",TRIM('MARK Enrollment Template'!D495)=\"Male\",TRIM('MARK Enrollment Template'!D495)=\"Female\"),\"\",\"Sex must be M/F/Male/Female.\")))","v":""},null,null,{"$f":"IF('MARK Enrollment Template'!A495=\"\",\"\",IF(AND('MARK Enrollment Template'!A495<>\"\",'MARK Enrollment Template'!G495=\"\"),\"Please fill in Email Address.\",IF(IFERROR(FIND(\"@\",'MARK Enrollment Template'!G495),\"X\")=\"X\",\"Email Address must include an @ symbol.\",\"\")))","v":""},null,null,null,{"$f":"IF('MARK Enrollment Template'!A495=\"\",\"\",IF(AND('MARK Enrollment Template'!A495<>\"\",'MARK Enrollment Template'!K495=\"\"),\"Please fill in Zip Code.\",IF(LEN(SUBSTITUTE(TRIM('MARK Enrollment Template'!K495),CHAR(9),\"\"))<5,\"Zip <5 digits. If leading zero, add apostrophe (ex. '01234).\",\"\")))","v":""},null,null,{"$f":"CELL(\"format\",'MARK Enrollment Template'!C495)","v":"G"}]
["",{"$f":"IF(AND(SUMPRODUCT(--('MARK Enrollment Template'!A496:L496<>\"\"))<>0,'MARK Enrollment Template'!A496=\"\"),\"Please fill in First Name.\",IF(LEN('MARK Enrollment Template'!A496)=1,\"Please fill in full first name.\",\"\"))","v":""},{"$f":"IF('MARK Enrollment Template'!A496=\"\",\"\",IF(AND('MARK Enrollment Template'!A496<>\"\",'MARK Enrollment Template'!B496=\"\"),\"Please fill in a Last Name.\",\"\"))","v":""},{"$f":"IF('MARK Enrollment Template'!A496=\"\",\"\",IF(AND('MARK Enrollment Template'!A496<>\"\",'MARK Enrollment Template'!C496=\"\"),\"Please fill in Date of Birth.\",IF(TRIM(O491)<>\"D4\",\"Please format DOB as a date in the form MM/DD/YYYY.\",IF('MARK Enrollment Template'!C496>TODAY(),\"Please check DOB.\",\"\"))))","v":""},{"$f":"IF('MARK Enrollment Template'!A496=\"\",\"\",IF(AND('MARK Enrollment Template'!A496<>\"\",'MARK Enrollment Template'!D496=\"\"),\"Please fill in Sex.\",IF(OR(TRIM('MARK Enrollment Template'!D496)=\"M\",TRIM('MARK Enrollment Template'!D496)=\"F\",TRIM('MARK Enrollment Template'!D496)=\"Male\",TRIM('MARK Enrollment Template'!D496)=\"Female\"),\"\",\"Sex must be M/F/Male/Female.\")))","v":""},null,null,{"$f":"IF('MARK Enrollment Template'!A496=\"\",\"\",IF(AND('MARK Enrollment Template'!A496<>\"\",'MARK Enrollment Template'!G496=\"\"),\"Please fill in Email Address.\",IF(IFERROR(FIND(\"@\",'MARK Enrollment Template'!G496),\"X\")=\"X\",\"Email Address must include an @ symbol.\",\"\")))","v":""},null,null,null,{"$f":"IF('MARK Enrollment Template'!A496=\"\",\"\",IF(AND('MARK Enrollment Template'!A496<>\"\",'MARK Enrollment Template'!K496=\"\"),\"Please fill in Zip Code.\",IF(LEN(SUBSTITUTE(TRIM('MARK Enrollment Template'!K496),CHAR(9),\"\"))<5,\"Zip <5 digits. If leading zero, add apostrophe (ex. '01234).\",\"\")))","v":""},null,null,{"$f":"CELL(\"format\",'MARK Enrollment Template'!C496)","v":"G"}]
["",{"$f":"IF(AND(SUMPRODUCT(--('MARK Enrollment Template'!A497:L497<>\"\"))<>0,'MARK Enrollment Template'!A497=\"\"),\"Please fill in First Name.\",IF(LEN('MARK Enrollment Template'!A497)=1,\"Please fill in full first name.\",\"\"))","v":""},{"$f":"IF('MARK Enrollment Template'!A497=\"\",\"\",IF(AND('MARK Enrollment Template'!A497<>\"\",'MARK Enrollment Template'!B497=\"\"),\"Please fill in a Last Name.\",\"\"))","v":""},{"$f":"IF('MARK Enrollment Template'!A497=\"\",\"\",IF(AND('MARK Enrollment Template'!A497<>\"\",'MARK Enrollment Template'!C497=\"\"),\"Please fill in Date of Birth.\",IF(TRIM(O492)<>\"D4\",\"Please format DOB as a date in the form MM/DD/YYYY.\",IF('MARK Enrollment Template'!C497>TODAY(),\"Please check DOB.\",\"\"))))","v":""},{"$f":"IF('MARK Enrollment Template'!A497=\"\",\"\",IF(AND('MARK Enrollment Template'!A497<>\"\",'MARK Enrollment Template'!D497=\"\"),\"Please fill in Sex.\",IF(OR(TRIM('MARK Enrollment Template'!D497)=\"M\",TRIM('MARK Enrollment Template'!D497)=\"F\",TRIM('MARK Enrollment Template'!D497)=\"Male\",TRIM('MARK Enrollment Template'!D497)=\"Female\"),\"\",\"Sex must be M/F/Male/Female.\")))","v":""},null,null,{"$f":"IF('MARK Enrollment Template'!A497=\"\",\"\",IF(AND('MARK Enrollment Template'!A497<>\"\",'MARK Enrollment Template'!G497=\"\"),\"Please fill in Email Address.\",IF(IFERROR(FIND(\"@\",'MARK Enrollment Template'!G497),\"X\")=\"X\",\"Email Address must include an @ symbol.\",\"\")))","v":""},null,null,null,{"$f":"IF('MARK Enrollment Template'!A497=\"\",\"\",IF(AND('MARK Enrollment Template'!A497<>\"\",'MARK Enrollment Template'!K497=\"\"),\"Please fill in Zip Code.\",IF(LEN(SUBSTITUTE(TRIM('MARK Enrollment Template'!K497),CHAR(9),\"\"))<5,\"Zip <5 digits. If leading zero, add apostrophe (ex. '01234).\",\"\")))","v":""},null,null,{"$f":"CELL(\"format\",'MARK Enrollment Template'!C497)","v":"G"}]
["",{"$f":"IF(AND(SUMPRODUCT(--('MARK Enrollment Template'!A498:L498<>\"\"))<>0,'MARK Enrollment Template'!A498=\"\"),\"Please fill in First Name.\",IF(LEN('MARK Enrollment Template'!A498)=1,\"Please fill in full first name.\",\"\"))","v":""},{"$f":"IF('MARK Enrollment Template'!A498=\"\",\"\",IF(AND('MARK Enrollment Template'!A498<>\"\",'MARK Enrollment Template'!B498=\"\"),\"Please fill in a Last Name.\",\"\"))","v":""},{"$f":"IF('MARK Enrollment Template'!A498=\"\",\"\",IF(AND('MARK Enrollment Template'!A498<>\"\",'MARK Enrollment Template'!C498=\"\"),\"Please fill in Date of Birth.\",IF(TRIM(O493)<>\"D4\",\"Please format DOB as a date in the form MM/DD/YYYY.\",IF('MARK Enrollment Template'!C498>TODAY(),\"Please check DOB.\",\"\"))))","v":""},{"$f":"IF('MARK Enrollment Template'!A498=\"\",\"\",IF(AND('MARK Enrollment Template'!A498<>\"\",'MARK Enrollment Template'!D498=\"\"),\"Please fill in Sex.\",IF(OR(TRIM('MARK Enrollment Template'!D498)=\"M\",TRIM('MARK Enrollment Template'!D498)=\"F\",TRIM('MARK Enrollment Template'!D498)=\"Male\",TRIM('MARK Enrollment Template'!D498)=\"Female\"),\"\",\"Sex must be M/F/Male/Female.\")))","v":""},null,null,{"$f":"IF('MARK Enrollment Template'!A498=\"\",\"\",IF(AND('MARK Enrollment Template'!A498<>\"\",'MARK Enrollment Template'!G498=\"\"),\"Please fill in Email Address.\",IF(IFERROR(FIND(\"@\",'MARK Enrollment Template'!G498),\"X\")=\"X\",\"Email Address must include an @ symbol.\",\"\")))","v":""},null,null,null,{"$f":"IF('MARK Enrollment Template'!A498=\"\",\"\",IF(AND('MARK Enrollment Template'!A498<>\"\",'MARK Enrollment Template'!K498=\"\"),\"Please fill in Zip Code.\",IF(LEN(SUBSTITUTE(TRIM('MARK Enrollment Template'!K498),CHAR(9),\"\"))<5,\"Zip <5 digits. If leading zero, add apostrophe (ex. '01234).\",\"\")))","v":""},null,null,{"$f":"CELL(\"format\",'MARK Enrollment Template'!C498)","v":"G"}]
["",{"$f":"IF(AND(SUMPRODUCT(--('MARK Enrollment Template'!A499:L499<>\"\"))<>0,'MARK Enrollment Template'!A499=\"\"),\"Please fill in First Name.\",IF(LEN('MARK Enrollment Template'!A499)=1,\"Please fill in full first name.\",\"\"))","v":""},{"$f":"IF('MARK Enrollment Template'!A499=\"\",\"\",IF(AND('MARK Enrollment Template'!A499<>\"\",'MARK Enrollment Template'!B499=\"\"),\"Please fill in a Last Name.\",\"\"))","v":""},{"$f":"IF('MARK Enrollment Template'!A499=\"\",\"\",IF(AND('MARK Enrollment Template'!A499<>\"\",'MARK Enrollment Template'!C499=\"\"),\"Please fill in Date of Birth.\",IF(TRIM(O494)<>\"D4\",\"Please format DOB as a date in the form MM/DD/YYYY.\",IF('MARK Enrollment Template'!C499>TODAY(),\"Please check DOB.\",\"\"))))","v":""},{"$f":"IF('MARK Enrollment Template'!A499=\"\",\"\",IF(AND('MARK Enrollment Template'!A499<>\"\",'MARK Enrollment Template'!D499=\"\"),\"Please fill in Sex.\",IF(OR(TRIM('MARK Enrollment Template'!D499)=\"M\",TRIM('MARK Enrollment Template'!D499)=\"F\",TRIM('MARK Enrollment Template'!D499)=\"Male\",TRIM('MARK Enrollment Template'!D499)=\"Female\"),\"\",\"Sex must be M/F/Male/Female.\")))","v":""},null,null,{"$f":"IF('MARK Enrollment Template'!A499=\"\",\"\",IF(AND('MARK Enrollment Template'!A499<>\"\",'MARK Enrollment Template'!G499=\"\"),\"Please fill in Email Address.\",IF(IFERROR(FIND(\"@\",'MARK Enrollment Template'!G499),\"X\")=\"X\",\"Email Address must include an @ symbol.\",\"\")))","v":""},null,null,null,{"$f":"IF('MARK Enrollment Template'!A499=\"\",\"\",IF(AND('MARK Enrollment Template'!A499<>\"\",'MARK Enrollment Template'!K499=\"\"),\"Please fill in Zip Code.\",IF(LEN(SUBSTITUTE(TRIM('MARK Enrollment Template'!K499),CHAR(9),\"\"))<5,\"Zip <5 digits. If leading zero, add apostrophe (ex. '01234).\",\"\")))","v":""},null,null,{"$f":"CELL(\"format\",'MARK Enrollment Template'!C499)","v":"G"}]
["",{"$f":"IF(AND(SUMPRODUCT(--('MARK Enrollment Template'!A500:L500<>\"\"))<>0,'MARK Enrollment Template'!A500=\"\"),\"Please fill in First Name.\",IF(LEN('MARK Enrollment Template'!A500)=1,\"Please fill in full first name.\",\"\"))","v":""},{"$f":"IF('MARK Enrollment Template'!A500=\"\",\"\",IF(AND('MARK Enrollment Template'!A500<>\"\",'MARK Enrollment Template'!B500=\"\"),\"Please fill in a Last Name.\",\"\"))","v":""},{"$f":"IF('MARK Enrollment Template'!A500=\"\",\"\",IF(AND('MARK Enrollment Template'!A500<>\"\",'MARK Enrollment Template'!C500=\"\"),\"Please fill in Date of Birth.\",IF(TRIM(O495)<>\"D4\",\"Please format DOB as a date in the form MM/DD/YYYY.\",IF('MARK Enrollment Template'!C500>TODAY(),\"Please check DOB.\",\"\"))))","v":""},{"$f":"IF('MARK Enrollment Template'!A500=\"\",\"\",IF(AND('MARK Enrollment Template'!A500<>\"\",'MARK Enrollment Template'!D500=\"\"),\"Please fill in Sex.\",IF(OR(TRIM('MARK Enrollment Template'!D500)=\"M\",TRIM('MARK Enrollment Template'!D500)=\"F\",TRIM('MARK Enrollment Template'!D500)=\"Male\",TRIM('MARK Enrollment Template'!D500)=\"Female\"),\"\",\"Sex must be M/F/Male/Female.\")))","v":""},null,null,{"$f":"IF('MARK Enrollment Template'!A500=\"\",\"\",IF(AND('MARK Enrollment Template'!A500<>\"\",'MARK Enrollment Template'!G500=\"\"),\"Please fill in Email Address.\",IF(IFERROR(FIND(\"@\",'MARK Enrollment Template'!G500),\"X\")=\"X\",\"Email Address must include an @ symbol.\",\"\")))","v":""},null,null,null,{"$f":"IF('MARK Enrollment Template'!A500=\"\",\"\",IF(AND('MARK Enrollment Template'!A500<>\"\",'MARK Enrollment Template'!K500=\"\"),\"Please fill in Zip Code.\",IF(LEN(SUBSTITUTE(TRIM('MARK Enrollment Template'!K500),CHAR(9),\"\"))<5,\"Zip <5 digits. If leading zero, add apostrophe (ex. '01234).\",\"\")))","v":""},null,null,{"$f":"CELL(\"format\",'MARK Enrollment Template'!C500)","v":"G"}]
["",{"$f":"IF(AND(SUMPRODUCT(--('MARK Enrollment Template'!A501:L501<>\"\"))<>0,'MARK Enrollment Template'!A501=\"\"),\"Please fill in First Name.\",IF(LEN('MARK Enrollment Template'!A501)=1,\"Please fill in full first name.\",\"\"))","v":""},{"$f":"IF('MARK Enrollment Template'!A501=\"\",\"\",IF(AND('MARK Enrollment Template'!A501<>\"\",'MARK Enrollment Template'!B501=\"\"),\"Please fill in a Last Name.\",\"\"))","v":""},{"$f":"IF('MARK Enrollment Template'!A501=\"\",\"\",IF(AND('MARK Enrollment Template'!A501<>\"\",'MARK Enrollment Template'!C501=\"\"),\"Please fill in Date of Birth.\",IF(TRIM(O496)<>\"D4\",\"Please format DOB as a date in the form MM/DD/YYYY.\",IF('MARK Enrollment Template'!C501>TODAY(),\"Please check DOB.\",\"\"))))","v":""},{"$f":"IF('MARK Enrollment Template'!A501=\"\",\"\",IF(AND('MARK Enrollment Template'!A501<>\"\",'MARK Enrollment Template'!D501=\"\"),\"Please fill in Sex.\",IF(OR(TRIM('MARK Enrollment Template'!D501)=\"M\",TRIM('MARK Enrollment Template'!D501)=\"F\",TRIM('MARK Enrollment Template'!D501)=\"Male\",TRIM('MARK Enrollment Template'!D501)=\"Female\"),\"\",\"Sex must be M/F/Male/Female.\")))","v":""},null,null,{"$f":"IF('MARK Enrollment Template'!A501=\"\",\"\",IF(AND('MARK Enrollment Template'!A501<>\"\",'MARK Enrollment Template'!G501=\"\"),\"Please fill in Email Address.\",IF(IFERROR(FIND(\"@\",'MARK Enrollment Template'!G501),\"X\")=\"X\",\"Email Address must include an @ symbol.\",\"\")))","v":""},null,null,null,{"$f":"IF('MARK Enrollment Template'!A501=\"\",\"\",IF(AND('MARK Enrollment Template'!A501<>\"\",'MARK Enrollment Template'!K501=\"\"),\"Please fill in Zip Code.\",IF(LEN(SUBSTITUTE(TRIM('MARK Enrollment Template'!K501),CHAR(9),\"\"))<5,\"Zip <5 digits. If leading zero, add apostrophe (ex. '01234).\",\"\")))","v":""},null,null,{"$f":"CELL(\"format\",'MARK Enrollment Template'!C501)","v":"G"}]
["",{"$f":"IF(AND(SUMPRODUCT(--('MARK Enrollment Template'!A502:L502<>\"\"))<>0,'MARK Enrollment Template'!A502=\"\"),\"Please fill in First Name.\",IF(LEN('MARK Enrollment Template'!A502)=1,\"Please fill in full first name.\",\"\"))","v":""},{"$f":"IF('MARK Enrollment Template'!A502=\"\",\"\",IF(AND('MARK Enrollment Template'!A502<>\"\",'MARK Enrollment Template'!B502=\"\"),\"Please fill in a Last Name.\",\"\"))","v":""},{"$f":"IF('MARK Enrollment Template'!A502=\"\",\"\",IF(AND('MARK Enrollment Template'!A502<>\"\",'MARK Enrollment Template'!C502=\"\"),\"Please fill in Date of Birth.\",IF(TRIM(O497)<>\"D4\",\"Please format DOB as a date in the form MM/DD/YYYY.\",IF('MARK Enrollment Template'!C502>TODAY(),\"Please check DOB.\",\"\"))))","v":""},{"$f":"IF('MARK Enrollment Template'!A502=\"\",\"\",IF(AND('MARK Enrollment Template'!A502<>\"\",'MARK Enrollment Template'!D502=\"\"),\"Please fill in Sex.\",IF(OR(TRIM('MARK Enrollment Template'!D502)=\"M\",TRIM('MARK Enrollment Template'!D502)=\"F\",TRIM('MARK Enrollment Template'!D502)=\"Male\",TRIM('MARK Enrollment Template'!D502)=\"Female\"),\"\",\"Sex must be M/F/Male/Female.\")))","v":""},null,null,{"$f":"IF('MARK Enrollment Template'!A502=\"\",\"\",IF(AND('MARK Enrollment Template'!A502<>\"\",'MARK Enrollment Template'!G502=\"\"),\"Please fill in Email Address.\",IF(IFERROR(FIND(\"@\",'MARK Enrollment Template'!G502),\"X\")=\"X\",\"Email Address must include an @ symbol.\",\"\")))","v":""},null,null,null,{"$f":"IF('MARK Enrollment Template'!A502=\"\",\"\",IF(AND('MARK Enrollment Template'!A502<>\"\",'MARK Enrollment Template'!K502=\"\"),\"Please fill in Zip Code.\",IF(LEN(SUBSTITUTE(TRIM('MARK Enrollment Template'!K502),CHAR(9),\"\"))<5,\"Zip <5 digits. If leading zero, add apostrophe (ex. '01234).\",\"\")))","v":""},null,null,{"$f":"CELL(\"format\",'MARK Enrollment Template'!C502)","v":"G"}]
["",{"$f":"IF(AND(SUMPRODUCT(--('MARK Enrollment Template'!A503:L503<>\"\"))<>0,'MARK Enrollment Template'!A503=\"\"),\"Please fill in First Name.\",IF(LEN('MARK Enrollment Template'!A503)=1,\"Please fill in full first name.\",\"\"))","v":""},{"$f":"IF('MARK Enrollment Template'!A503=\"\",\"\",IF(AND('MARK Enrollment Template'!A503<>\"\",'MARK Enrollment Template'!B503=\"\"),\"Please fill in a Last Name.\",\"\"))","v":""},{"$f":"IF('MARK Enrollment Template'!A503=\"\",\"\",IF(AND('MARK Enrollment Template'!A503<>\"\",'MARK Enrollment Template'!C503=\"\"),\"Please fill in Date of Birth.\",IF(TRIM(O498)<>\"D4\",\"Please format DOB as a date in the form MM/DD/YYYY.\",IF('MARK Enrollment Template'!C503>TODAY(),\"Please check DOB.\",\"\"))))","v":""},{"$f":"IF('MARK Enrollment Template'!A503=\"\",\"\",IF(AND('MARK Enrollment Template'!A503<>\"\",'MARK Enrollment Template'!D503=\"\"),\"Please fill in Sex.\",IF(OR(TRIM('MARK Enrollment Template'!D503)=\"M\",TRIM('MARK Enrollment Template'!D503)=\"F\",TRIM('MARK Enrollment Template'!D503)=\"Male\",TRIM('MARK Enrollment Template'!D503)=\"Female\"),\"\",\"Sex must be M/F/Male/Female.\")))","v":""},null,null,{"$f":"IF('MARK Enrollment Template'!A503=\"\",\"\",IF(AND('MARK Enrollment Template'!A503<>\"\",'MARK Enrollment Template'!G503=\"\"),\"Please fill in Email Address.\",IF(IFERROR(FIND(\"@\",'MARK Enrollment Template'!G503),\"X\")=\"X\",\"Email Address must include an @ symbol.\",\"\")))","v":""},null,null,null,{"$f":"IF('MARK Enrollment Template'!A503=\"\",\"\",IF(AND('MARK Enrollment Template'!A503<>\"\",'MARK Enrollment Template'!K503=\"\"),\"Please fill in Zip Code.\",IF(LEN(SUBSTITUTE(TRIM('MARK Enrollment Template'!K503),CHAR(9),\"\"))<5,\"Zip <5 digits. If leading zero, add apostrophe (ex. '01234).\",\"\")))","v":""},null,null,{"$f":"CELL(\"format\",'MARK Enrollment Template'!C503)","v":"G"}]
["",{"$f":"IF(AND(SUMPRODUCT(--('MARK Enrollment Template'!A504:L504<>\"\"))<>0,'MARK Enrollment Template'!A504=\"\"),\"Please fill in First Name.\",IF(LEN('MARK Enrollment Template'!A504)=1,\"Please fill in full first name.\",\"\"))","v":""},{"$f":"IF('MARK Enrollment Template'!A504=\"\",\"\",IF(AND('MARK Enrollment Template'!A504<>\"\",'MARK Enrollment Template'!B504=\"\"),\"Please fill in a Last Name.\",\"\"))","v":""},{"$f":"IF('MARK Enrollment Template'!A504=\"\",\"\",IF(AND('MARK Enrollment Template'!A504<>\"\",'MARK Enrollment Template'!C504=\"\"),\"Please fill in Date of Birth.\",IF(TRIM(O499)<>\"D4\",\"Please format DOB as a date in the form MM/DD/YYYY.\",IF('MARK Enrollment Template'!C504>TODAY(),\"Please check DOB.\",\"\"))))","v":""},{"$f":"IF('MARK Enrollment Template'!A504=\"\",\"\",IF(AND('MARK Enrollment Template'!A504<>\"\",'MARK Enrollment Template'!D504=\"\"),\"Please fill in Sex.\",IF(OR(TRIM('MARK Enrollment Template'!D504)=\"M\",TRIM('MARK Enrollment Template'!D504)=\"F\",TRIM('MARK Enrollment Template'!D504)=\"Male\",TRIM('MARK Enrollment Template'!D504)=\"Female\"),\"\",\"Sex must be M/F/Male/Female.\")))","v":""},null,null,{"$f":"IF('MARK Enrollment Template'!A504=\"\",\"\",IF(AND('MARK Enrollment Template'!A504<>\"\",'MARK Enrollment Template'!G504=\"\"),\"Please fill in Email Address.\",IF(IFERROR(FIND(\"@\",'MARK Enrollment Template'!G504),\"X\")=\"X\",\"Email Address must include an @ symbol.\",\"\")))","v":""},null,null,null,{"$f":"IF('MARK Enrollment Template'!A504=\"\",\"\",IF(AND('MARK Enrollment Template'!A504<>\"\",'MARK Enrollment Template'!K504=\"\"),\"Please fill in Zip Code.\",IF(LEN(SUBSTITUTE(TRIM('MARK Enrollment Template'!K504),CHAR(9),\"\"))<5,\"Zip <5 digits. If leading zero, add apostrophe (ex. '01234).\",\"\")))","v":""},null,null,{"$f":"CELL(\"format\",'MARK Enrollment Template'!C504)","v":"G"}]
["",{"$f":"IF(AND(SUMPRODUCT(--('MARK Enrollment Template'!A505:L505<>\"\"))<>0,'MARK Enrollment Template'!A505=\"\"),\"Please fill in First Name.\",IF(LEN('MARK Enrollment Template'!A505)=1,\"Please fill in full first name.\",\"\"))","v":""},{"$f":"IF('MARK Enrollment Template'!A505=\"\",\"\",IF(AND('MARK Enrollment Template'!A505<>\"\",'MARK Enrollment Template'!B505=\"\"),\"Please fill in a Last Name.\",\"\"))","v":""},{"$f":"IF('MARK Enrollment Template'!A505=\"\",\"\",IF(AND('MARK Enrollment Template'!A505<>\"\",'MARK Enrollment Template'!C505=\"\"),\"Please fill in Date of Birth.\",IF(TRIM(O500)<>\"D4\",\"Please format DOB as a date in the form MM/DD/YYYY.\",IF('MARK Enrollment Template'!C505>TODAY(),\"Please check DOB.\",\"\"))))","v":""},{"$f":"IF('MARK Enrollment Template'!A505=\"\",\"\",IF(AND('MARK Enrollment Template'!A505<>\"\",'MARK Enrollment Template'!D505=\"\"),\"Please fill in Sex.\",IF(OR(TRIM('MARK Enrollment Template'!D505)=\"M\",TRIM('MARK Enrollment Template'!D505)=\"F\",TRIM('MARK Enrollment Template'!D505)=\"Male\",TRIM('MARK Enrollment Template'!D505)=\"Female\"),\"\",\"Sex must be M/F/Male/Female.\")))","v":""},null,null,{"$f":"IF('MARK Enrollment Template'!A505=\"\",\"\",IF(AND('MARK Enrollment Template'!A505<>\"\",'MARK Enrollment Template'!G505=\"\"),\"Please fill in Email Address.\",IF(IFERROR(FIND(\"@\",'MARK Enrollment Template'!G505),\"X\")=\"X\",\"Email Address must include an @ symbol.\",\"\")))","v":""},null,null,null,{"$f":"IF('MARK Enrollment Template'!A505=\"\",\"\",IF(AND('MARK Enrollment Template'!A505<>\"\",'MARK Enrollment Template'!K505=\"\"),\"Please fill in Zip Code.\",IF(LEN(SUBSTITUTE(TRIM('MARK Enrollment Template'!K505),CHAR(9),\"\"))<5,\"Zip <5 digits. If leading zero, add apostrophe (ex. '01234).\",\"\")))","v":""},null,null,{"$f":"CELL(\"format\",'MARK Enrollment Template'!C505)","v":"G"}]

{"sheet":"MARK Enrollment Template","index":1,"n_rows":505,"n_cols":13,"rows_kept":505,"cut":false,"hidden":false,"merged":[[4,1,4,2],[6,1,6,2],[5,1,5,2],[0,0,0,10],[1,1,2,10],[3,1,3,10]]}
["MARK Enrollment Census Template",null,null,null,null,null,null,null,null,null,null,null,"v. (9-24)"]
[null,"Include all enrolling employees, including those in the waiting period and those on COBRA. Include known waivers. A change in final enrolled census could result in a change in rate or a decline to quote."]
[]
[null,"Plans are administered by Star Marketing and Administration, Inc., and stop-loss insurance and ancillary coverage is provided by Trustmark Life Insurance Company."]
["Group Name:"]
["Effective Date:"]
["Writing Broker Name:"]
[]
["Example:"]
["John","Doe","1980-01-01","M","Y",3,"jdoe@company.com","123 Main Street","Springfield","IL",62629,"FF"]
[null,null,null,null,"*optional","*optional",null,"*optional","*optional","*optional",null,"*optional"]
["First Name","Last Name","Date of Birth","Sex Assigned at Birth","Spouse","# Children","Email Address","Address","City","State","Zip Code","Medical Coverage","DO NOT USE"]
[null,null,null,null,null,null,null,null,null,null,null,null,{"$f":"INDEX(Sheet1!$A$8:$A$500,ROW()-12)","v":""}]
[null,null,null,null,null,null,null,null,null,null,null,null,{"$f":"INDEX(Sheet1!$A$8:$A$500,ROW()-12)","v":""}]
[null,null,null,null,null,null,null,null,null,null,null,null,{"$f":"INDEX(Sheet1!$A$8:$A$500,ROW()-12)","v":""}]
[null,null,null,null,null,null,null,null,null,null,null,null,{"$f":"INDEX(Sheet1!$A$8:$A$500,ROW()-12)","v":""}]
[null,null,null,null,null,null,null,null,null,null,null,null,{"$f":"INDEX(Sheet1!$A$8:$A$500,ROW()-12)","v":""}]
[null,null,null,null,null,null,null,null,null,null,null,null,{"$f":"INDEX(Sheet1!$A$8:$A$500,ROW()-12)","v":""}]
[null,null,null,null,null,null,null,null,null,null,null,null,{"$f":"INDEX(Sheet1!$A$8:$A$500,ROW()-12)","v":""}]
[null,null,null,null,null,null,null,null,null,null,null,null,{"$f":"INDEX(Sheet1!$A$8:$A$500,ROW()-12)","v":""}]
[null,null,null,null,null,null,null,null,null,null,null,null,{"$f":"INDEX(Sheet1!$A$8:$A$500,ROW()-12)","v":""}]
[null,null,null,null,null,null,null,null,null,null,null,null,{"$f":"INDEX(Sheet1!$A$8:$A$500,ROW()-12)","v":""}]
[null,null,null,null,null,null,null,null,null,null,null,null,{"$f":"INDEX(Sheet1!$A$8:$A$500,ROW()-12)","v":""}]
[null,null,null,null,null,null,null,null,null,null,null,null,{"$f":"INDEX(Sheet1!$A$8:$A$500,ROW()-12)","v":""}]
[null,null,null,null,null,null,null,null,null,null,null,null,{"$f":"INDEX(Sheet1!$A$8:$A$500,ROW()-12)","v":""}]
[null,null,null,null,null,null,null,null,null,null,null,null,{"$f":"INDEX(Sheet1!$A$8:$A$500,ROW()-12)","v":""}]
[null,null,null,null,null,null,null,null,null,null,null,null,{"$f":"INDEX(Sheet1!$A$8:$A$500,ROW()-12)","v":""}]
[null,null,null,null,null,null,null,null,null,null,null,null,{"$f":"INDEX(Sheet1!$A$8:$A$500,ROW()-12)","v":""}]
[null,null,null,null,null,null,null,null,null,null,null,null,{"$f":"INDEX(Sheet1!$A$8:$A$500,ROW()-12)","v":""}]
[null,null,null,null,null,null,null,null,null,null,null,null,{"$f":"INDEX(Sheet1!$A$8:$A$500,ROW()-12)","v":""}]
[null,null,null,null,null,null,null,null,null,null,null,null,{"$f":"INDEX(Sheet1!$A$8:$A$500,ROW()-12)","v":""}]
[null,null,null,null,null,null,null,null,null,null,null,null,{"$f":"INDEX(Sheet1!$A$8:$A$500,ROW()-12)","v":""}]
[null,null,null,null,null,null,null,null,null,null,null,null,{"$f":"INDEX(Sheet1!$A$8:$A$500,ROW()-12)","v":""}]
[null,null,null,null,null,null,null,null,null,null,null,null,{"$f":"INDEX(Sheet1!$A$8:$A$500,ROW()-12)","v":""}]
[null,null,null,null,null,null,null,null,null,null,null,null,{"$f":"INDEX(Sheet1!$A$8:$A$500,ROW()-12)","v":""}]
[null,null,null,null,null,null,null,null,null,null,null,null,{"$f":"INDEX(Sheet1!$A$8:$A$500,ROW()-12)","v":""}]
[null,null,null,null,null,null,null,null,null,null,null,null,{"$f":"INDEX(Sheet1!$A$8:$A$500,ROW()-12)","v":""}]
[null,null,null,null,null,null,null,null,null,null,null,null,{"$f":"INDEX(Sheet1!$A$8:$A$500,ROW()-12)","v":""}]
[null,null,null,null,null,null,null,null,null,null,null,null,{"$f":"INDEX(Sheet1!$A$8:$A$500,ROW()-12)","v":""}]
[null,null,null,null,null,null,null,null,null,null,null,null,{"$f":"INDEX(Sheet1!$A$8:$A$500,ROW()-12)","v":""}]
[null,null,null,null,null,null,null,null,null,null,null,null,{"$f":"INDEX(Sheet1!$A$8:$A$500,ROW()-12)","v":""}]
[null,null,null,null,null,null,null,null,null,null,null,null,{"$f":"INDEX(Sheet1!$A$8:$A$500,ROW()-12)","v":""}]
[null,null,null,null,null,null,null,null,null,null,null,null,{"$f":"INDEX(Sheet1!$A$8:$A$500,ROW()-12)","v":""}]
[null,null,null,null,null,null,null,null,null,null,null,null,{"$f":"INDEX(Sheet1!$A$8:$A$500,ROW()-12)","v":""}]
[null,null,null,null,null,null,null,null,null,null,null,null,{"$f":"INDEX(Sheet1!$A$8:$A$500,ROW()-12)","v":""}]
[null,null,null,null,null,null,null,null,null,null,null,null,{"$f":"INDEX(Sheet1!$A$8:$A$500,ROW()-12)","v":""}]
[null,null,null,null,null,null,null,null,null,null,null,null,{"$f":"INDEX(Sheet1!$A$8:$A$500,ROW()-12)","v":""}]
[null,null,null,null,null,null,null,null,null,null,null,null,{"$f":"INDEX(Sheet1!$A$8:$A$500,ROW()-12)","v":""}]
[null,null,null,null,null,null,null,null,null,null,null,null,{"$f":"INDEX(Sheet1!$A$8:$A$500,ROW()-12)","v":""}]
[null,null,null,null,null,null,null,null,null,null,null,null,{"$f":"INDEX(Sheet1!$A$8:$A$500,ROW()-12)","v":""}]
[null,null,null,null,null,null,null,null,null,null,null,null,{"$f":"INDEX(Sheet1!$A$8:$A$500,ROW()-12)","v":""}]
[null,null,null,null,null,null,null,null,null,null,null,null,{"$f":"INDEX(Sheet1!$A$8:$A$500,ROW()-12)","v":""}]
[null,null,null,null,null,null,null,null,null,null,null,null,{"$f":"INDEX(Sheet1!$A$8:$A$500,ROW()-12)","v":""}]
[null,null,null,null,null,null,null,null,null,null,null,null,{"$f":"INDEX(Sheet1!$A$8:$A$500,ROW()-12)","v":""}]
[null,null,null,null,null,null,null,null,null,null,null,null,{"$f":"INDEX(Sheet1!$A$8:$A$500,ROW()-12)","v":""}]
[null,null,null,null,null,null,null,null,null,null,null,null,{"$f":"INDEX(Sheet1!$A$8:$A$500,ROW()-12)","v":""}]
[null,null,null,null,null,null,null,null,null,null,null,null,{"$f":"INDEX(Sheet1!$A$8:$A$500,ROW()-12)","v":""}]
[null,null,null,null,null,null,null,null,null,null,null,null,{"$f":"INDEX(Sheet1!$A$8:$A$500,ROW()-12)","v":""}]
[null,null,null,null,null,null,null,null,null,null,null,null,{"$f":"INDEX(Sheet1!$A$8:$A$500,ROW()-12)","v":""}]
[null,null,null,null,null,null,null,null,null,null,null,null,{"$f":"INDEX(Sheet1!$A$8:$A$500,ROW()-12)","v":""}]
[null,null,null,null,null,null,null,null,null,null,null,null,{"$f":"INDEX(Sheet1!$A$8:$A$500,ROW()-12)","v":""}]
[null,null,null,null,null,null,null,null,null,null,null,null,{"$f":"INDEX(Sheet1!$A$8:$A$500,ROW()-12)","v":""}]
[null,null,null,null,null,null,null,null,null,null,null,null,{"$f":"INDEX(Sheet1!$A$8:$A$500,ROW()-12)","v":""}]
[null,null,null,null,null,null,null,null,null,null,null,null,{"$f":"INDEX(Sheet1!$A$8:$A$500,ROW()-12)","v":""}]
[null,null,null,null,null,null,null,null,null,null,null,null,{"$f":"INDEX(Sheet1!$A$8:$A$500,ROW()-12)","v":""}]
[null,null,null,null,null,null,null,null,null,null,null,null,{"$f":"INDEX(Sheet1!$A$8:$A$500,ROW()-12)","v":""}]
[null,null,null,null,null,null,null,null,null,null,null,null,{"$f":"INDEX(Sheet1!$A$8:$A$500,ROW()-12)","v":""}]
[null,null,null,null,null,null,null,null,null,null,null,null,{"$f":"INDEX(Sheet1!$A$8:$A$500,ROW()-12)","v":""}]
[null,null,null,null,null,null,null,null,null,null,null,null,{"$f":"INDEX(Sheet1!$A$8:$A$500,ROW()-12)","v":""}]
[null,null,null,null,null,null,null,null,null,null,null,null,{"$f":"INDEX(Sheet1!$A$8:$A$500,ROW()-12)","v":""}]
[null,null,null,null,null,null,null,null,null,null,null,null,{"$f":"INDEX(Sheet1!$A$8:$A$500,ROW()-12)","v":""}]
[null,null,null,null,null,null,null,null,null,null,null,null,{"$f":"INDEX(Sheet1!$A$8:$A$500,ROW()-12)","v":""}]
[null,null,null,null,null,null,null,null,null,null,null,null,{"$f":"INDEX(Sheet1!$A$8:$A$500,ROW()-12)","v":""}]
[null,null,null,null,null,null,null,null,null,null,null,null,{"$f":"INDEX(Sheet1!$A$8:$A$500,ROW()-12)","v":""}]
[null,null,null,null,null,null,null,null,null,null,null,null,{"$f":"INDEX(Sheet1!$A$8:$A$500,ROW()-12)","v":""}]
[null,null,null,null,null,null,null,null,null,null,null,null,{"$f":"INDEX(Sheet1!$A$8:$A$500,ROW()-12)","v":""}]
[null,null,null,null,null,null,null,null,null,null,null,null,{"$f":"INDEX(Sheet1!$A$8:$A$500,ROW()-12)","v":""}]
[null,null,null,null,null,null,null,null,null,null,null,null,{"$f":"INDEX(Sheet1!$A$8:$A$500,ROW()-12)","v":""}]
[null,null,null,null,null,null,null,null,null,null,null,null,{"$f":"INDEX(Sheet1!$A$8:$A$500,ROW()-12)","v":""}]
[null,null,null,null,null,null,null,null,null,null,null,null,{"$f":"INDEX(Sheet1!$A$8:$A$500,ROW()-12)","v":""}]
[null,null,null,null,null,null,null,null,null,null,null,null,{"$f":"INDEX(Sheet1!$A$8:$A$500,ROW()-12)","v":""}]
[null,null,null,null,null,null,null,null,null,null,null,null,{"$f":"INDEX(Sheet1!$A$8:$A$500,ROW()-12)","v":""}]
[null,null,null,null,null,null,null,null,null,null,null,null,{"$f":"INDEX(Sheet1!$A$8:$A$500,ROW()-12)","v":""}]
[null,null,null,null,null,null,null,null,null,null,null,null,{"$f":"INDEX(Sheet1!$A$8:$A$500,ROW()-12)","v":""}]
[null,null,null,null,null,null,null,null,null,null,null,null,{"$f":"INDEX(Sheet1!$A$8:$A$500,ROW()-12)","v":""}]
[null,null,null,null,null,null,null,null,null,null,null,null,{"$f":"INDEX(Sheet1!$A$8:$A$500,ROW()-12)","v":""}]
[null,null,null,null,null,null,null,null,null,null,null,null,{"$f":"INDEX(Sheet1!$A$8:$A$500,ROW()-12)","v":""}]
[null,null,null,null,null,null,null,null,null,null,null,null,{"$f":"INDEX(Sheet1!$A$8:$A$500,ROW()-12)","v":""}]
[null,null,null,null,null,null,null,null,null,null,null,null,{"$f":"INDEX(Sheet1!$A$8:$A$500,ROW()-12)","v":""}]
[null,null,null,null,null,null,null,null,null,null,null,null,{"$f":"INDEX(Sheet1!$A$8:$A$500,ROW()-12)","v":""}]
[null,null,null,null,null,null,null,null,null,null,null,null,{"$f":"INDEX(Sheet1!$A$8:$A$500,ROW()-12)","v":""}]
[null,null,null,null,null,null,null,null,null,null,null,null,{"$f":"INDEX(Sheet1!$A$8:$A$500,ROW()-12)","v":""}]
[null,null,null,null,null,null,null,null,null,null,null,null,{"$f":"INDEX(Sheet1!$A$8:$A$500,ROW()-12)","v":""}]
[null,null,null,null,null,null,null,null,null,null,null,null,{"$f":"INDEX(Sheet1!$A$8:$A$500,ROW()-12)","v":""}]
[null,null,null,null,null,null,null,null,null,null,null,null,{"$f":"INDEX(Sheet1!$A$8:$A$500,ROW()-12)","v":""}]
[null,null,null,null,null,null,null,null,null,null,null,null,{"$f":"INDEX(Sheet1!$A$8:$A$500,ROW()-12)","v":""}]
[null,null,null,null,null,null,null,null,null,null,null,null,{"$f":"INDEX(Sheet1!$A$8:$A$500,ROW()-12)","v":""}]
[null,null,null,null,null,null,null,null,null,null,null,null,{"$f":"INDEX(Sheet1!$A$8:$A$500,ROW()-12)","v":""}]
[null,null,null,null,null,null,null,null,null,null,null,null,{"$f":"INDEX(Sheet1!$A$8:$A$500,ROW()-12)","v":""}]
[null,null,null,null,null,null,null,null,null,null,null,null,{"$f":"INDEX(Sheet1!$A$8:$A$500,ROW()-12)","v":""}]
[null,null,null,null,null,null,null,null,null,null,null,null,{"$f":"INDEX(Sheet1!$A$8:$A$500,ROW()-12)","v":""}]
[null,null,null,null,null,null,null,null,null,null,null,null,{"$f":"INDEX(Sheet1!$A$8:$A$500,ROW()-12)","v":""}]
[null,null,null,null,null,null,null,null,null,null,null,null,{"$f":"INDEX(Sheet1!$A$8:$A$500,ROW()-12)","v":""}]
[null,null,null,null,null,null,null,null,null,null,null,null,{"$f":"INDEX(Sheet1!$A$8:$A$500,ROW()-12)","v":""}]
[null,null,null,null,null,null,null,null,null,null,null,null,{"$f":"INDEX(Sheet1!$A$8:$A$500,ROW()-12)","v":""}]
[null,null,null,null,null,null,null,null,null,null,null,null,{"$f":"INDEX(Sheet1!$A$8:$A$500,ROW()-12)","v":""}]
[null,null,null,null,null,null,null,null,null,null,null,null,{"$f":"INDEX(Sheet1!$A$8:$A$500,ROW()-12)","v":""}]
[null,null,null,null,null,null,null,null,null,null,null,null,{"$f":"INDEX(Sheet1!$A$8:$A$500,ROW()-12)","v":""}]
[null,null,null,null,null,null,null,null,null,null,null,null,{"$f":"INDEX(Sheet1!$A$8:$A$500,ROW()-12)","v":""}]
[null,null,null,null,null,null,null,null,null,null,null,null,{"$f":"INDEX(Sheet1!$A$8:$A$500,ROW()-12)","v":""}]
[null,null,null,null,null,null,null,null,null,null,null,null,{"$f":"INDEX(Sheet1!$A$8:$A$500,ROW()-12)","v":""}]
[null,null,null,null,null,null,null,null,null,null,null,null,{"$f":"INDEX(Sheet1!$A$8:$A$500,ROW()-12)","v":""}]
[null,null,null,null,null,null,null,null,null,null,null,null,{"$f":"INDEX(Sheet1!$A$8:$A$500,ROW()-12)","v":""}]
[null,null,null,null,null,null,null,null,null,null,null,null,{"$f":"INDEX(Sheet1!$A$8:$A$500,ROW()-12)","v":""}]
[null,null,null,null,null,null,null,null,null,null,null,null,{"$f":"INDEX(Sheet1!$A$8:$A$500,ROW()-12)","v":""}]
[null,null,null,null,null,null,null,null,null,null,null,null,{"$f":"INDEX(Sheet1!$A$8:$A$500,ROW()-12)","v":""}]
[null,null,null,null,null,null,null,null,null,null,null,null,{"$f":"INDEX(Sheet1!$A$8:$A$500,ROW()-12)","v":""}]
[null,null,null,null,null,null,null,null,null,null,null,null,{"$f":"INDEX(Sheet1!$A$8:$A$500,ROW()-12)","v":""}]
[null,null,null,null,null,null,null,null,null,null,null,null,{"$f":"INDEX(Sheet1!$A$8:$A$500,ROW()-12)","v":""}]
[null,null,null,null,null,null,null,null,null,null,null,null,{"$f":"INDEX(Sheet1!$A$8:$A$500,ROW()-12)","v":""}]
[null,null,null,null,null,null,null,null,null,null,null,null,{"$f":"INDEX(Sheet1!$A$8:$A$500,ROW()-12)","v":""}]
[null,null,null,null,null,null,null,null,null,null,null,null,{"$f":"INDEX(Sheet1!$A$8:$A$500,ROW()-12)","v":""}]
[null,null,null,null,null,null,null,null,null,null,null,null,{"$f":"INDEX(Sheet1!$A$8:$A$500,ROW()-12)","v":""}]
[null,null,null,null,null,null,null,null,null,null,null,null,{"$f":"INDEX(Sheet1!$A$8:$A$500,ROW()-12)","v":""}]
[null,null,null,null,null,null,null,null,null,null,null,null,{"$f":"INDEX(Sheet1!$A$8:$A$500,ROW()-12)","v":""}]
[null,null,null,null,null,null,null,null,null,null,null,null,{"$f":"INDEX(Sheet1!$A$8:$A$500,ROW()-12)","v":""}]
[null,null,null,null,null,null,null,null,null,null,null,null,{"$f":"INDEX(Sheet1!$A$8:$A$500,ROW()-12)","v":""}]
[null,null,null,null,null,null,null,null,null,null,null,null,{"$f":"INDEX(Sheet1!$A$8:$A$500,ROW()-12)","v":""}]
[null,null,null,null,null,null,null,null,null,null,null,null,{"$f":"INDEX(Sheet1!$A$8:$A$500,ROW()-12)","v":""}]
[null,null,null,null,null,null,null,null,null,null,null,null,{"$f":"INDEX(Sheet1!$A$8:$A$500,ROW()-12)","v":""}]
[null,null,null,null,null,null,null,null,null,null,null,null,{"$f":"INDEX(Sheet1!$A$8:$A$500,ROW()-12)","v":""}]
[null,null,null,null,null,null,null,null,null,null,null,null,{"$f":"INDEX(Sheet1!$A$8:$A$500,ROW()-12)","v":""}]
[null,null,null,null,null,null,null,null,null,null,null,null,{"$f":"INDEX(Sheet1!$A$8:$A$500,ROW()-12)","v":""}]
[null,null,null,null,null,null,null,null,null,null,null,null,{"$f":"INDEX(Sheet1!$A$8:$A$500,ROW()-12)","v":""}]
[null,null,null,null,null,null,null,null,null,null,null,null,{"$f":"INDEX(Sheet1!$A$8:$A$500,ROW()-12)","v":""}]
[null,null,null,null,null,null,null,null,null,null,null,null,{"$f":"INDEX(Sheet1!$A$8:$A$500,ROW()-12)","v":""}]
[null,null,null,null,null,null,null,null,null,null,null,null,{"$f":"INDEX(Sheet1!$A$8:$A$500,ROW()-12)","v":""}]
[null,null,null,null,null,null,null,null,null,null,null,null,{"$f":"INDEX(Sheet1!$A$8:$A$500,ROW()-12)","v":""}]
[null,null,null,null,null,null,null,null,null,null,null,null,{"$f":"INDEX(Sheet1!$A$8:$A$500,ROW()-12)","v":""}]
[null,null,null,null,null,null,null,null,null,null,null,null,{"$f":"INDEX(Sheet1!$A$8:$A$500,ROW()-12)","v":""}]
[null,null,null,null,null,null,null,null,null,null,null,null,{"$f":"INDEX(Sheet1!$A$8:$A$500,ROW()-12)","v":""}]
[null,null,null,null,null,null,null,null,null,null,null,null,{"$f":"INDEX(Sheet1!$A$8:$A$500,ROW()-12)","v":""}]
[null,null,null,null,null,null,null,null,null,null,null,null,{"$f":"INDEX(Sheet1!$A$8:$A$500,ROW()-12)","v":""}]
[null,null,null,null,null,null,null,null,null,null,null,null,{"$f":"INDEX(Sheet1!$A$8:$A$500,ROW()-12)","v":""}]
[null,null,null,null,null,null,null,null,null,null,null,null,{"$f":"INDEX(Sheet1!$A$8:$A$500,ROW()-12)","v":""}]
[null,null,null,null,null,null,null,null,null,null,null,null,{"$f":"INDEX(Sheet1!$A$8:$A$500,ROW()-12)","v":""}]
[null,null,null,null,null,null,null,null,null,null,null,null,{"$f":"INDEX(Sheet1!$A$8:$A$500,ROW()-12)","v":""}]
[null,null,null,null,null,null,null,null,null,null,null,null,{"$f":"INDEX(Sheet1!$A$8:$A$500,ROW()-12)","v":""}]
[null,null,null,null,null,null,null,null,null,null,null,null,{"$f":"INDEX(Sheet1!$A$8:$A$500,ROW()-12)","v":""}]
[null,null,null,null,null,null,null,null,null,null,null,null,{"$f":"INDEX(Sheet1!$A$8:$A$500,ROW()-12)","v":""}]
[null,null,null,null,null,null,null,null,null,null,null,null,{"$f":"INDEX(Sheet1!$A$8:$A$500,ROW()-12)","v":""}]
[null,null,null,null,null,null,null,null,null,null,null,null,{"$f":"INDEX(Sheet1!$A$8:$A$500,ROW()-12)","v":""}]
[null,null,null,null,null,null,null,null,null,null,null,null,{"$f":"INDEX(Sheet1!$A$8:$A$500,ROW()-12)","v":""}]
[null,null,null,null,null,null,null,null,null,null,null,null,{"$f":"INDEX(Sheet1!$A$8:$A$500,ROW()-12)","v":""}]
[null,null,null,null,null,null,null,null,null,null,null,null,{"$f":"INDEX(Sheet1!$A$8:$A$500,ROW()-12)","v":""}]
[null,null,null,null,null,null,null,null,null,null,null,null,{"$f":"INDEX(Sheet1!$A$8:$A$500,ROW()-12)","v":""}]
[null,null,null,null,null,null,null,null,null,null,null,null,{"$f":"INDEX(Sheet1!$A$8:$A$500,ROW()-12)","v":""}]
[null,null,null,null,null,null,null,null,null,null,null,null,{"$f":"INDEX(Sheet1!$A$8:$A$500,ROW()-12)","v":""}]
[null,null,null,null,null,null,null,null,null,null,null,null,{"$f":"INDEX(Sheet1!$A$8:$A$500,ROW()-12)","v":""}]
[null,null,null,null,null,null,null,null,null,null,null,null,{"$f":"INDEX(Sheet1!$A$8:$A$500,ROW()-12)","v":""}]
[null,null,null,null,null,null,null,null,null,null,null,null,{"$f":"INDEX(Sheet1!$A$8:$A$500,ROW()-12)","v":""}]
[null,null,null,null,null,null,null,null,null,null,null,null,{"$f":"INDEX(Sheet1!$A$8:$A$500,ROW()-12)","v":""}]
[null,null,null,null,null,null,null,null,null,null,null,null,{"$f":"INDEX(Sheet1!$A$8:$A$500,ROW()-12)","v":""}]
[null,null,null,null,null,null,null,null,null,null,null,null,{"$f":"INDEX(Sheet1!$A$8:$A$500,ROW()-12)","v":""}]
[null,null,null,null,null,null,null,null,null,null,null,null,{"$f":"INDEX(Sheet1!$A$8:$A$500,ROW()-12)","v":""}]
[null,null,null,null,null,null,null,null,null,null,null,null,{"$f":"INDEX(Sheet1!$A$8:$A$500,ROW()-12)","v":""}]
[null,null,null,null,null,null,null,null,null,null,null,null,{"$f":"INDEX(Sheet1!$A$8:$A$500,ROW()-12)","v":""}]
[null,null,null,null,null,null,null,null,null,null,null,null,{"$f":"INDEX(Sheet1!$A$8:$A$500,ROW()-12)","v":""}]
[null,null,null,null,null,null,null,null,null,null,null,null,{"$f":"INDEX(Sheet1!$A$8:$A$500,ROW()-12)","v":""}]
[null,null,null,null,null,null,null,null,null,null,null,null,{"$f":"INDEX(Sheet1!$A$8:$A$500,ROW()-12)","v":""}]
[null,null,null,null,null,null,null,null,null,null,null,null,{"$f":"INDEX(Sheet1!$A$8:$A$500,ROW()-12)","v":""}]
[null,null,null,null,null,null,null,null,null,null,null,null,{"$f":"INDEX(Sheet1!$A$8:$A$500,ROW()-12)","v":""}]
[null,null,null,null,null,null,null,null,null,null,null,null,{"$f":"INDEX(Sheet1!$A$8:$A$500,ROW()-12)","v":""}]
[null,null,null,null,null,null,null,null,null,null,null,null,{"$f":"INDEX(Sheet1!$A$8:$A$500,ROW()-12)","v":""}]
[null,null,null,null,null,null,null,null,null,null,null,null,{"$f":"INDEX(Sheet1!$A$8:$A$500,ROW()-12)","v":""}]
[null,null,null,null,null,null,null,null,null,null,null,null,{"$f":"INDEX(Sheet1!$A$8:$A$500,ROW()-12)","v":""}]
[null,null,null,null,null,null,null,null,null,null,null,null,{"$f":"INDEX(Sheet1!$A$8:$A$500,ROW()-12)","v":""}]
[null,null,null,null,null,null,null,null,null,null,null,null,{"$f":"INDEX(Sheet1!$A$8:$A$500,ROW()-12)","v":""}]
[null,null,null,null,null,null,null,null,null,null,null,null,{"$f":"INDEX(Sheet1!$A$8:$A$500,ROW()-12)","v":""}]
[null,null,null,null,null,null,null,null,null,null,null,null,{"$f":"INDEX(Sheet1!$A$8:$A$500,ROW()-12)","v":""}]
[null,null,null,null,null,null,null,null,null,null,null,null,{"$f":"INDEX(Sheet1!$A$8:$A$500,ROW()-12)","v":""}]
[null,null,null,null,null,null,null,null,null,null,null,null,{"$f":"INDEX(Sheet1!$A$8:$A$500,ROW()-12)","v":""}]
[null,null,null,null,null,null,null,null,null,null,null,null,{"$f":"INDEX(Sheet1!$A$8:$A$500,ROW()-12)","v":""}]
[null,null,null,null,null,null,null,null,null,null,null,null,{"$f":"INDEX(Sheet1!$A$8:$A$500,ROW()-12)","v":""}]
[null,null,null,null,null,null,null,null,null,null,null,null,{"$f":"INDEX(Sheet1!$A$8:$A$500,ROW()-12)","v":""}]
[null,null,null,null,null,null,null,null,null,null,null,null,{"$f":"INDEX(Sheet1!$A$8:$A$500,ROW()-12)","v":""}]
[null,null,null,null,null,null,null,null,null,null,null,null,{"$f":"INDEX(Sheet1!$A$8:$A$500,ROW()-12)","v":""}]
[null,null,null,null,null,null,null,null,null,null,null,null,{"$f":"INDEX(Sheet1!$A$8:$A$500,ROW()-12)","v":""}]
[null,null,null,null,null,null,null,null,null,null,null,null,{"$f":"INDEX(Sheet1!$A$8:$A$500,ROW()-12)","v":""}]
[null,null,null,null,null,null,null,null,null,null,null,null,{"$f":"INDEX(Sheet1!$A$8:$A$500,ROW()-12)","v":""}]
[null,null,null,null,null,null,null,null,null,null,null,null,{"$f":"INDEX(Sheet1!$A$8:$A$500,ROW()-12)","v":""}]
[null,null,null,null,null,null,null,null,null,null,null,null,{"$f":"INDEX(Sheet1!$A$8:$A$500,ROW()-12)","v":""}]
[null,null,null,null,null,null,null,null,null,null,null,null,{"$f":"INDEX(Sheet1!$A$8:$A$500,ROW()-12)","v":""}]
[null,null,null,null,null,null,null,null,null,null,null,null,{"$f":"INDEX(Sheet1!$A$8:$A$500,ROW()-12)","v":""}]
[null,null,null,null,null,null,null,null,null,null,null,null,{"$f":"INDEX(Sheet1!$A$8:$A$500,ROW()-12)","v":""}]
[null,null,null,null,null,null,null,null,null,null,null,null,{"$f":"INDEX(Sheet1!$A$8:$A$500,ROW()-12)","v":""}]
[null,null,null,null,null,null,null,null,null,null,null,null,{"$f":"INDEX(Sheet1!$A$8:$A$500,ROW()-12)","v":""}]
[null,null,null,null,null,null,null,null,null,null,null,null,{"$f":"INDEX(Sheet1!$A$8:$A$500,ROW()-12)","v":""}]
[null,null,null,null,null,null,null,null,null,null,null,null,{"$f":"INDEX(Sheet1!$A$8:$A$500,ROW()-12)","v":""}]
[null,null,null,null,null,null,null,null,null,null,null,null,{"$f":"INDEX(Sheet1!$A$8:$A$500,ROW()-12)","v":""}]
[null,null,null,null,null,null,null,null,null,null,null,null,{"$f":"INDEX(Sheet1!$A$8:$A$500,ROW()-12)","v":""}]
[null,null,null,null,null,null,null,null,null,null,null,null,{"$f":"INDEX(Sheet1!$A$8:$A$500,ROW()-12)","v":""}]
[null,null,null,null,null,null,null,null,null,null,null,null,{"$f":"INDEX(Sheet1!$A$8:$A$500,ROW()-12)","v":""}]
[null,null,null,null,null,null,null,null,null,null,null,null,{"$f":"INDEX(Sheet1!$A$8:$A$500,ROW()-12)","v":""}]
[null,null,null,null,null,null,null,null,null,null,null,null,{"$f":"INDEX(Sheet1!$A$8:$A$500,ROW()-12)","v":""}]
[null,null,null,null,null,null,null,null,null,null,null,null,{"$f":"INDEX(Sheet1!$A$8:$A$500,ROW()-12)","v":""}]
[null,null,null,null,null,null,null,null,null,null,null,null,{"$f":"INDEX(Sheet1!$A$8:$A$500,ROW()-12)","v":""}]
[null,null,null,null,null,null,null,null,null,null,null,null,{"$f":"INDEX(Sheet1!$A$8:$A$500,ROW()-12)","v":""}]
[null,null,null,null,null,null,null,null,null,null,null,null,{"$f":"INDEX(Sheet1!$A$8:$A$500,ROW()-12)","v":""}]
[null,null,null,null,null,null,null,null,null,null,null,null,{"$f":"INDEX(Sheet1!$A$8:$A$500,ROW()-12)","v":""}]
[null,null,null,null,null,null,null,null,null,null,null,null,{"$f":"INDEX(Sheet1!$A$8:$A$500,ROW()-12)","v":""}]
[null,null,null,null,null,null,null,null,null,null,null,null,{"$f":"INDEX(Sheet1!$A$8:$A$500,ROW()-12)","v":""}]
[null,null,null,null,null,null,null,null,null,null,null,null,{"$f":"INDEX(Sheet1!$A$8:$A$500,ROW()-12)","v":""}]
[null,null,null,null,null,null,null,null,null,null,null,null,{"$f":"INDEX(Sheet1!$A$8:$A$500,ROW()-12)","v":""}]
[null,null,null,null,null,null,null,null,null,null,null,null,{"$f":"INDEX(Sheet1!$A$8:$A$500,ROW()-12)","v":""}]
[null,null,null,null,null,null,null,null,null,null,null,null,{"$f":"INDEX(Sheet1!$A$8:$A$500,ROW()-12)","v":""}]
[null,null,null,null,null,null,null,null,null,null,null,null,{"$f":"INDEX(Sheet1!$A$8:$A$500,ROW()-12)","v":""}]
[null,null,null,null,null,null,null,null,null,null,null,null,{"$f":"INDEX(Sheet1!$A$8:$A$500,ROW()-12)","v":""}]
[null,null,null,null,null,null,null,null,null,null,null,null,{"$f":"INDEX(Sheet1!$A$8:$A$500,ROW()-12)","v":""}]
[null,null,null,null,null,null,null,null,null,null,null,null,{"$f":"INDEX(Sheet1!$A$8:$A$500,ROW()-12)","v":""}]
[null,null,null,null,null,null,null,null,null,null,null,null,{"$f":"INDEX(Sheet1!$A$8:$A$500,ROW()-12)","v":""}]
[null,null,null,null,null,null,null,null,null,null,null,null,{"$f":"INDEX(Sheet1!$A$8:$A$500,ROW()-12)","v":""}]
[null,null,null,null,null,null,null,null,null,null,null,null,{"$f":"INDEX(Sheet1!$A$8:$A$500,ROW()-12)","v":""}]
[null,null,null,null,null,null,null,null,null,null,null,null,{"$f":"INDEX(Sheet1!$A$8:$A$500,ROW()-12)","v":""}]
[null,null,null,null,null,null,null,null,null,null,null,null,{"$f":"INDEX(Sheet1!$A$8:$A$500,ROW()-12)","v":""}]
[null,null,null,null,null,null,null,null,null,null,null,null,{"$f":"INDEX(Sheet1!$A$8:$A$500,ROW()-12)","v":""}]
[null,null,null,null,null,null,null,null,null,null,null,null,{"$f":"INDEX(Sheet1!$A$8:$A$500,ROW()-12)","v":""}]
[null,null,null,null,null,null,null,null,null,null,null,null,{"$f":"INDEX(Sheet1!$A$8:$A$500,ROW()-12)","v":""}]
[null,null,null,null,null,null,null,null,null,null,null,null,{"$f":"INDEX(Sheet1!$A$8:$A$500,ROW()-12)","v":""}]
[null,null,null,null,null,null,null,null,null,null,null,null,{"$f":"INDEX(Sheet1!$A$8:$A$500,ROW()-12)","v":""}]
[null,null,null,null,null,null,null,null,null,null,null,null,{"$f":"INDEX(Sheet1!$A$8:$A$500,ROW()-12)","v":""}]
[null,null,null,null,null,null,null,null,null,null,null,null,{"$f":"INDEX(Sheet1!$A$8:$A$500,ROW()-12)","v":""}]
[null,null,null,null,null,null,null,null,null,null,null,null,{"$f":"INDEX(Sheet1!$A$8:$A$500,ROW()-12)","v":""}]
[null,null,null,null,null,null,null,null,null,null,null,null,{"$f":"INDEX(Sheet1!$A$8:$A$500,ROW()-12)","v":""}]
[null,null,null,null,null,null,null,null,null,null,null,null,{"$f":"INDEX(Sheet1!$A$8:$A$500,ROW()-12)","v":""}]
[null,null,null,null,null,null,null,null,null,null,null,null,{"$f":"INDEX(Sheet1!$A$8:$A$500,ROW()-12)","v":""}]
[null,null,null,null,null,null,null,null,null,null,null,null,{"$f":"INDEX(Sheet1!$A$8:$A$500,ROW()-12)","v":""}]
[null,null,null,null,null,null,null,null,null,null,null,null,{"$f":"INDEX(Sheet1!$A$8:$A$500,ROW()-12)","v":""}]
[null,null,null,null,null,null,null,null,null,null,null,null,{"$f":"INDEX(Sheet1!$A$8:$A$500,ROW()-12)","v":""}]
[null,null,null,null,null,null,null,null,null,null,null,null,{"$f":"INDEX(Sheet1!$A$8:$A$500,ROW()-12)","v":""}]
[null,null,null,null,null,null,null,null,null,null,null,null,{"$f":"INDEX(Sheet1!$A$8:$A$500,ROW()-12)","v":""}]
[null,null,null,null,null,null,null,null,null,null,null,null,{"$f":"INDEX(Sheet1!$A$8:$A$500,ROW()-12)","v":""}]
[null,null,null,null,null,null,null,null,null,null,null,null,{"$f":"INDEX(Sheet1!$A$8:$A$500,ROW()-12)","v":""}]
[null,null,null,null,null,null,null,null,null,null,null,null,{"$f":"INDEX(Sheet1!$A$8:$A$500,ROW()-12)","v":""}]
[null,null,null,null,null,null,null,null,null,null,null,null,{"$f":"INDEX(Sheet1!$A$8:$A$500,ROW()-12)","v":""}]
[null,null,null,null,null,null,null,null,null,null,null,null,{"$f":"INDEX(Sheet1!$A$8:$A$500,ROW()-12)","v":""}]
[null,null,null,null,null,null,null,null,null,null,null,null,{"$f":"INDEX(Sheet1!$A$8:$A$500,ROW()-12)","v":""}]
[null,null,null,null,null,null,null,null,null,null,null,null,{"$f":"INDEX(Sheet1!$A$8:$A$500,ROW()-12)","v":""}]
[null,null,null,null,null,null,null,null,null,null,null,null,{"$f":"INDEX(Sheet1!$A$8:$A$500,ROW()-12)","v":""}]
[null,null,null,null,null,null,null,null,null,null,null,null,{"$f":"INDEX(Sheet1!$A$8:$A$500,ROW()-12)","v":""}]
[null,null,null,null,null,null,null,null,null,null,null,null,{"$f":"INDEX(Sheet1!$A$8:$A$500,ROW()-12)","v":""}]
[null,null,null,null,null,null,null,null,null,null,null,null,{"$f":"INDEX(Sheet1!$A$8:$A$500,ROW()-12)","v":""}]
[null,null,null,null,null,null,null,null,null,null,null,null,{"$f":"INDEX(Sheet1!$A$8:$A$500,ROW()-12)","v":""}]
[null,null,null,null,null,null,null,null,null,null,null,null,{"$f":"INDEX(Sheet1!$A$8:$A$500,ROW()-12)","v":""}]
[null,null,null,null,null,null,null,null,null,null,null,null,{"$f":"INDEX(Sheet1!$A$8:$A$500,ROW()-12)","v":""}]
[null,null,null,null,null,null,null,null,null,null,null,null,{"$f":"INDEX(Sheet1!$A$8:$A$500,ROW()-12)","v":""}]
[null,null,null,null,null,null,null,null,null,null,null,null,{"$f":"INDEX(Sheet1!$A$8:$A$500,ROW()-12)","v":""}]
[null,null,null,null,null,null,null,null,null,null,null,null,{"$f":"INDEX(Sheet1!$A$8:$A$500,ROW()-12)","v":""}]
[null,null,null,null,null,null,null,null,null,null,null,null,{"$f":"INDEX(Sheet1!$A$8:$A$500,ROW()-12)","v":""}]
[null,null,null,null,null,null,null,null,null,null,null,null,{"$f":"INDEX(Sheet1!$A$8:$A$500,ROW()-12)","v":""}]
[null,null,null,null,null,null,null,null,null,null,null,null,{"$f":"INDEX(Sheet1!$A$8:$A$500,ROW()-12)","v":""}]
[null,null,null,null,null,null,null,null,null,null,null,null,{"$f":"INDEX(Sheet1!$A$8:$A$500,ROW()-12)","v":""}]
[null,null,null,null,null,null,null,null,null,null,null,null,{"$f":"INDEX(Sheet1!$A$8:$A$500,ROW()-12)","v":""}]
[null,null,null,null,null,null,null,null,null,null,null,null,{"$f":"INDEX(Sheet1!$A$8:$A$500,ROW()-12)","v":""}]
[null,null,null,null,null,null,null,null,null,null,null,null,{"$f":"INDEX(Sheet1!$A$8:$A$500,ROW()-12)","v":""}]
[null,null,null,null,null,null,null,null,null,null,null,null,{"$f":"INDEX(Sheet1!$A$8:$A$500,ROW()-12)","v":""}]
[null,null,null,null,null,null,null,null,null,null,null,null,{"$f":"INDEX(Sheet1!$A$8:$A$500,ROW()-12)","v":""}]
[null,null,null,null,null,null,null,null,null,null,null,null,{"$f":"INDEX(Sheet1!$A$8:$A$500,ROW()-12)","v":""}]
[null,null,null,null,null,null,null,null,null,null,null,null,{"$f":"INDEX(Sheet1!$A$8:$A$500,ROW()-12)","v":""}]
[null,null,null,null,null,null,null,null,null,null,null,null,{"$f":"INDEX(Sheet1!$A$8:$A$500,ROW()-12)","v":""}]
[null,null,null,null,null,null,null,null,null,null,null,null,{"$f":"INDEX(Sheet1!$A$8:$A$500,ROW()-12)","v":""}]
[null,null,null,null,null,null,null,null,null,null,null,null,{"$f":"INDEX(Sheet1!$A$8:$A$500,ROW()-12)","v":""}]
[null,null,null,null,null,null,null,null,null,null,null,null,{"$f":"INDEX(Sheet1!$A$8:$A$500,ROW()-12)","v":""}]
[null,null,null,null,null,null,null,null,null,null,null,null,{"$f":"INDEX(Sheet1!$A$8:$A$500,ROW()-12)","v":""}]
[null,null,null,null,null,null,null,null,null,null,null,null,{"$f":"INDEX(Sheet1!$A$8:$A$500,ROW()-12)","v":""}]
[null,null,null,null,null,null,null,null,null,null,null,null,{"$f":"INDEX(Sheet1!$A$8:$A$500,ROW()-12)","v":""}]
[null,null,null,null,null,null,null,null,null,null,null,null,{"$f":"INDEX(Sheet1!$A$8:$A$500,ROW()-12)","v":""}]
[null,null,null,null,null,null,null,null,null,null,null,null,{"$f":"INDEX(Sheet1!$A$8:$A$500,ROW()-12)","v":""}]
[null,null,null,null,null,null,null,null,null,null,null,null,{"$f":"INDEX(Sheet1!$A$8:$A$500,ROW()-12)","v":""}]
[null,null,null,null,null,null,null,null,null,null,null,null,{"$f":"INDEX(Sheet1!$A$8:$A$500,ROW()-12)","v":""}]
[null,null,null,null,null,null,null,null,null,null,null,null,{"$f":"INDEX(Sheet1!$A$8:$A$500,ROW()-12)","v":""}]
[null,null,null,null,null,null,null,null,null,null,null,null,{"$f":"INDEX(Sheet1!$A$8:$A$500,ROW()-12)","v":""}]
[null,null,null,null,null,null,null,null,null,null,null,null,{"$f":"INDEX(Sheet1!$A$8:$A$500,ROW()-12)","v":""}]
[null,null,null,null,null,null,null,null,null,null,null,null,{"$f":"INDEX(Sheet1!$A$8:$A$500,ROW()-12)","v":""}]
[null,null,null,null,null,null,null,null,null,null,null,null,{"$f":"INDEX(Sheet1!$A$8:$A$500,ROW()-12)","v":""}]
[null,null,null,null,null,null,null,null,null,null,null,null,{"$f":"INDEX(Sheet1!$A$8:$A$500,ROW()-12)","v":""}]
[null,null,null,null,null,null,null,null,null,null,null,null,{"$f":"INDEX(Sheet1!$A$8:$A$500,ROW()-12)","v":""}]
[null,null,null,null,null,null,null,null,null,null,null,null,{"$f":"INDEX(Sheet1!$A$8:$A$500,ROW()-12)","v":""}]
[null,null,null,null,null,null,null,null,null,null,null,null,{"$f":"INDEX(Sheet1!$A$8:$A$500,ROW()-12)","v":""}]
[null,null,null,null,null,null,null,null,null,null,null,null,{"$f":"INDEX(Sheet1!$A$8:$A$500,ROW()-12)","v":""}]
[null,null,null,null,null,null,null,null,null,null,null,null,{"$f":"INDEX(Sheet1!$A$8:$A$500,ROW()-12)","v":""}]
[null,null,null,null,null,null,null,null,null,null,null,null,{"$f":"INDEX(Sheet1!$A$8:$A$500,ROW()-12)","v":""}]
[null,null,null,null,null,null,null,null,null,null,null,null,{"$f":"INDEX(Sheet1!$A$8:$A$500,ROW()-12)","v":""}]
[null,null,null,null,null,null,null,null,null,null,null,null,{"$f":"INDEX(Sheet1!$A$8:$A$500,ROW()-12)","v":""}]
[null,null,null,null,null,null,null,null,null,null,null,null,{"$f":"INDEX(Sheet1!$A$8:$A$500,ROW()-12)","v":""}]
[null,null,null,null,null,null,null,null,null,null,null,null,{"$f":"INDEX(Sheet1!$A$8:$A$500,ROW()-12)","v":""}]
[null,null,null,null,null,null,null,null,null,null,null,null,{"$f":"INDEX(Sheet1!$A$8:$A$500,ROW()-12)","v":""}]
[null,null,null,null,null,null,null,null,null,null,null,null,{"$f":"INDEX(Sheet1!$A$8:$A$500,ROW()-12)","v":""}]
[null,null,null,null,null,null,null,null,null,null,null,null,{"$f":"INDEX(Sheet1!$A$8:$A$500,ROW()-12)","v":""}]
[null,null,null,null,null,null,null,null,null,null,null,null,{"$f":"INDEX(Sheet1!$A$8:$A$500,ROW()-12)","v":""}]
[null,null,null,null,null,null,null,null,null,null,null,null,{"$f":"INDEX(Sheet1!$A$8:$A$500,ROW()-12)","v":""}]
[null,null,null,null,null,null,null,null,null,null,null,null,{"$f":"INDEX(Sheet1!$A$8:$A$500,ROW()-12)","v":""}]
[null,null,null,null,null,null,null,null,null,null,null,null,{"$f":"INDEX(Sheet1!$A$8:$A$500,ROW()-12)","v":""}]
[null,null,null,null,null,null,null,null,null,null,null,null,{"$f":"INDEX(Sheet1!$A$8:$A$500,ROW()-12)","v":""}]
[null,null,null,null,null,null,null,null,null,null,null,null,{"$f":"INDEX(Sheet1!$A$8:$A$500,ROW()-12)","v":""}]
[null,null,null,null,null,null,null,null,null,null,null,null,{"$f":"INDEX(Sheet1!$A$8:$A$500,ROW()-12)","v":""}]
[null,null,null,null,null,null,null,null,null,null,null,null,{"$f":"INDEX(Sheet1!$A$8:$A$500,ROW()-12)","v":""}]
[null,null,null,null,null,null,null,null,null,null,null,null,{"$f":"INDEX(Sheet1!$A$8:$A$500,ROW()-12)","v":""}]
[null,null,null,null,null,null,null,null,null,null,null,null,{"$f":"INDEX(Sheet1!$A$8:$A$500,ROW()-12)","v":""}]
[null,null,null,null,null,null,null,null,null,null,null,null,{"$f":"INDEX(Sheet1!$A$8:$A$500,ROW()-12)","v":""}]
[null,null,null,null,null,null,null,null,null,null,null,null,{"$f":"INDEX(Sheet1!$A$8:$A$500,ROW()-12)","v":""}]
[null,null,null,null,null,null,null,null,null,null,null,null,{"$f":"INDEX(Sheet1!$A$8:$A$500,ROW()-12)","v":""}]
[null,null,null,null,null,null,null,null,null,null,null,null,{"$f":"INDEX(Sheet1!$A$8:$A$500,ROW()-12)","v":""}]
[null,null,null,null,null,null,null,null,null,null,null,null,{"$f":"INDEX(Sheet1!$A$8:$A$500,ROW()-12)","v":""}]
[null,null,null,null,null,null,null,null,null,null,null,null,{"$f":"INDEX(Sheet1!$A$8:$A$500,ROW()-12)","v":""}]
[null,null,null,null,null,null,null,null,null,null,null,null,{"$f":"INDEX(Sheet1!$A$8:$A$500,ROW()-12)","v":""}]
[null,null,null,null,null,null,null,null,null,null,null,null,{"$f":"INDEX(Sheet1!$A$8:$A$500,ROW()-12)","v":""}]
[null,null,null,null,null,null,null,null,null,null,null,null,{"$f":"INDEX(Sheet1!$A$8:$A$500,ROW()-12)","v":""}]
[null,null,null,null,null,null,null,null,null,null,null,null,{"$f":"INDEX(Sheet1!$A$8:$A$500,ROW()-12)","v":""}]
[null,null,null,null,null,null,null,null,null,null,null,null,{"$f":"INDEX(Sheet1!$A$8:$A$500,ROW()-12)","v":""}]
[null,null,null,null,null,null,null,null,null,null,null,null,{"$f":"INDEX(Sheet1!$A$8:$A$500,ROW()-12)","v":""}]
[null,null,null,null,null,null,null,null,null,null,null,null,{"$f":"INDEX(Sheet1!$A$8:$A$500,ROW()-12)","v":""}]
[null,null,null,null,null,null,null,null,null,null,null,null,{"$f":"INDEX(Sheet1!$A$8:$A$500,ROW()-12)","v":""}]
[null,null,null,null,null,null,null,null,null,null,null,null,{"$f":"INDEX(Sheet1!$A$8:$A$500,ROW()-12)","v":""}]
[null,null,null,null,null,null,null,null,null,null,null,null,{"$f":"INDEX(Sheet1!$A$8:$A$500,ROW()-12)","v":""}]
[null,null,null,null,null,null,null,null,null,null,null,null,{"$f":"INDEX(Sheet1!$A$8:$A$500,ROW()-12)","v":""}]
[null,null,null,null,null,null,null,null,null,null,null,null,{"$f":"INDEX(Sheet1!$A$8:$A$500,ROW()-12)","v":""}]
[null,null,null,null,null,null,null,null,null,null,null,null,{"$f":"INDEX(Sheet1!$A$8:$A$500,ROW()-12)","v":""}]
[null,null,null,null,null,null,null,null,null,null,null,null,{"$f":"INDEX(Sheet1!$A$8:$A$500,ROW()-12)","v":""}]
[null,null,null,null,null,null,null,null,null,null,null,null,{"$f":"INDEX(Sheet1!$A$8:$A$500,ROW()-12)","v":""}]
[null,null,null,null,null,null,null,null,null,null,null,null,{"$f":"INDEX(Sheet1!$A$8:$A$500,ROW()-12)","v":""}]
[null,null,null,null,null,null,null,null,null,null,null,null,{"$f":"INDEX(Sheet1!$A$8:$A$500,ROW()-12)","v":""}]
[null,null,null,null,null,null,null,null,null,null,null,null,{"$f":"INDEX(Sheet1!$A$8:$A$500,ROW()-12)","v":""}]
[null,null,null,null,null,null,null,null,null,null,null,null,{"$f":"INDEX(Sheet1!$A$8:$A$500,ROW()-12)","v":""}]
[null,null,null,null,null,null,null,null,null,null,null,null,{"$f":"INDEX(Sheet1!$A$8:$A$500,ROW()-12)","v":""}]
[null,null,null,null,null,null,null,null,null,null,null,null,{"$f":"INDEX(Sheet1!$A$8:$A$500,ROW()-12)","v":""}]
[null,null,null,null,null,null,null,null,null,null,null,null,{"$f":"INDEX(Sheet1!$A$8:$A$500,ROW()-12)","v":""}]
[null,null,null,null,null,null,null,null,null,null,null,null,{"$f":"INDEX(Sheet1!$A$8:$A$500,ROW()-12)","v":""}]
[null,null,null,null,null,null,null,null,null,null,null,null,{"$f":"INDEX(Sheet1!$A$8:$A$500,ROW()-12)","v":""}]
[null,null,null,null,null,null,null,null,null,null,null,null,{"$f":"INDEX(Sheet1!$A$8:$A$500,ROW()-12)","v":""}]
[null,null,null,null,null,null,null,null,null,null,null,null,{"$f":"INDEX(Sheet1!$A$8:$A$500,ROW()-12)","v":""}]
[null,null,null,null,null,null,null,null,null,null,null,null,{"$f":"INDEX(Sheet1!$A$8:$A$500,ROW()-12)","v":""}]
[null,null,null,null,null,null,null,null,null,null,null,null,{"$f":"INDEX(Sheet1!$A$8:$A$500,ROW()-12)","v":""}]
[null,null,null,null,null,null,null,null,null,null,null,null,{"$f":"INDEX(Sheet1!$A$8:$A$500,ROW()-12)","v":""}]
[null,null,null,null,null,null,null,null,null,null,null,null,{"$f":"INDEX(Sheet1!$A$8:$A$500,ROW()-12)","v":""}]
[null,null,null,null,null,null,null,null,null,null,null,null,{"$f":"INDEX(Sheet1!$A$8:$A$500,ROW()-12)","v":""}]
[null,null,null,null,null,null,null,null,null,null,null,null,{"$f":"INDEX(Sheet1!$A$8:$A$500,ROW()-12)","v":""}]
[null,null,null,null,null,null,null,null,null,null,null,null,{"$f":"INDEX(Sheet1!$A$8:$A$500,ROW()-12)","v":""}]
[null,null,null,null,null,null,null,null,null,null,null,null,{"$f":"INDEX(Sheet1!$A$8:$A$500,ROW()-12)","v":""}]
[null,null,null,null,null,null,null,null,null,null,null,null,{"$f":"INDEX(Sheet1!$A$8:$A$500,ROW()-12)","v":""}]
[null,null,null,null,null,null,null,null,null,null,null,null,{"$f":"INDEX(Sheet1!$A$8:$A$500,ROW()-12)","v":""}]
[null,null,null,null,null,null,null,null,null,null,null,null,{"$f":"INDEX(Sheet1!$A$8:$A$500,ROW()-12)","v":""}]
[null,null,null,null,null,null,null,null,null,null,null,null,{"$f":"INDEX(Sheet1!$A$8:$A$500,ROW()-12)","v":""}]
[null,null,null,null,null,null,null,null,null,null,null,null,{"$f":"INDEX(Sheet1!$A$8:$A$500,ROW()-12)","v":""}]
[null,null,null,null,null,null,null,null,null,null,null,null,{"$f":"INDEX(Sheet1!$A$8:$A$500,ROW()-12)","v":""}]
[null,null,null,null,null,null,null,null,null,null,null,null,{"$f":"INDEX(Sheet1!$A$8:$A$500,ROW()-12)","v":""}]
[null,null,null,null,null,null,null,null,null,null,null,null,{"$f":"INDEX(Sheet1!$A$8:$A$500,ROW()-12)","v":""}]
[null,null,null,null,null,null,null,null,null,null,null,null,{"$f":"INDEX(Sheet1!$A$8:$A$500,ROW()-12)","v":""}]
[null,null,null,null,null,null,null,null,null,null,null,null,{"$f":"INDEX(Sheet1!$A$8:$A$500,ROW()-12)","v":""}]
[null,null,null,null,null,null,null,null,null,null,null,null,{"$f":"INDEX(Sheet1!$A$8:$A$500,ROW()-12)","v":""}]
[null,null,null,null,null,null,null,null,null,null,null,null,{"$f":"INDEX(Sheet1!$A$8:$A$500,ROW()-12)","v":""}]
[null,null,null,null,null,null,null,null,null,null,null,null,{"$f":"INDEX(Sheet1!$A$8:$A$500,ROW()-12)","v":""}]
[null,null,null,null,null,null,null,null,null,null,null,null,{"$f":"INDEX(Sheet1!$A$8:$A$500,ROW()-12)","v":""}]
[null,null,null,null,null,null,null,null,null,null,null,null,{"$f":"INDEX(Sheet1!$A$8:$A$500,ROW()-12)","v":""}]
[null,null,null,null,null,null,null,null,null,null,null,null,{"$f":"INDEX(Sheet1!$A$8:$A$500,ROW()-12)","v":""}]
[null,null,null,null,null,null,null,null,null,null,null,null,{"$f":"INDEX(Sheet1!$A$8:$A$500,ROW()-12)","v":""}]
[null,null,null,null,null,null,null,null,null,null,null,null,{"$f":"INDEX(Sheet1!$A$8:$A$500,ROW()-12)","v":""}]
[null,null,null,null,null,null,null,null,null,null,null,null,{"$f":"INDEX(Sheet1!$A$8:$A$500,ROW()-12)","v":""}]
[null,null,null,null,null,null,null,null,null,null,null,null,{"$f":"INDEX(Sheet1!$A$8:$A$500,ROW()-12)","v":""}]
[null,null,null,null,null,null,null,null,null,null,null,null,{"$f":"INDEX(Sheet1!$A$8:$A$500,ROW()-12)","v":""}]
[null,null,null,null,null,null,null,null,null,null,null,null,{"$f":"INDEX(Sheet1!$A$8:$A$500,ROW()-12)","v":""}]
[null,null,null,null,null,null,null,null,null,null,null,null,{"$f":"INDEX(Sheet1!$A$8:$A$500,ROW()-12)","v":""}]
[null,null,null,null,null,null,null,null,null,null,null,null,{"$f":"INDEX(Sheet1!$A$8:$A$500,ROW()-12)","v":""}]
[null,null,null,null,null,null,null,null,null,null,null,null,{"$f":"INDEX(Sheet1!$A$8:$A$500,ROW()-12)","v":""}]
[null,null,null,null,null,null,null,null,null,null,null,null,{"$f":"INDEX(Sheet1!$A$8:$A$500,ROW()-12)","v":""}]
[null,null,null,null,null,null,null,null,null,null,null,null,{"$f":"INDEX(Sheet1!$A$8:$A$500,ROW()-12)","v":""}]
[null,null,null,null,null,null,null,null,null,null,null,null,{"$f":"INDEX(Sheet1!$A$8:$A$500,ROW()-12)","v":""}]
[null,null,null,null,null,null,null,null,null,null,null,null,{"$f":"INDEX(Sheet1!$A$8:$A$500,ROW()-12)","v":""}]
[null,null,null,null,null,null,null,null,null,null,null,null,{"$f":"INDEX(Sheet1!$A$8:$A$500,ROW()-12)","v":""}]
[null,null,null,null,null,null,null,null,null,null,null,null,{"$f":"INDEX(Sheet1!$A$8:$A$500,ROW()-12)","v":""}]
[null,null,null,null,null,null,null,null,null,null,null,null,{"$f":"INDEX(Sheet1!$A$8:$A$500,ROW()-12)","v":""}]
[null,null,null,null,null,null,null,null,null,null,null,null,{"$f":"INDEX(Sheet1!$A$8:$A$500,ROW()-12)","v":""}]
[null,null,null,null,null,null,null,null,null,null,null,null,{"$f":"INDEX(Sheet1!$A$8:$A$500,ROW()-12)","v":""}]
[null,null,null,null,null,null,null,null,null,null,null,null,{"$f":"INDEX(Sheet1!$A$8:$A$500,ROW()-12)","v":""}]
[null,null,null,null,null,null,null,null,null,null,null,null,{"$f":"INDEX(Sheet1!$A$8:$A$500,ROW()-12)","v":""}]
[null,null,null,null,null,null,null,null,null,null,null,null,{"$f":"INDEX(Sheet1!$A$8:$A$500,ROW()-12)","v":""}]
[null,null,null,null,null,null,null,null,null,null,null,null,{"$f":"INDEX(Sheet1!$A$8:$A$500,ROW()-12)","v":""}]
[null,null,null,null,null,null,null,null,null,null,null,null,{"$f":"INDEX(Sheet1!$A$8:$A$500,ROW()-12)","v":""}]
[null,null,null,null,null,null,null,null,null,null,null,null,{"$f":"INDEX(Sheet1!$A$8:$A$500,ROW()-12)","v":""}]
[null,null,null,null,null,null,null,null,null,null,null,null,{"$f":"INDEX(Sheet1!$A$8:$A$500,ROW()-12)","v":""}]
[null,null,null,null,null,null,null,null,null,null,null,null,{"$f":"INDEX(Sheet1!$A$8:$A$500,ROW()-12)","v":""}]
[null,null,null,null,null,null,null,null,null,null,null,null,{"$f":"INDEX(Sheet1!$A$8:$A$500,ROW()-12)","v":""}]
[null,null,null,null,null,null,null,null,null,null,null,null,{"$f":"INDEX(Sheet1!$A$8:$A$500,ROW()-12)","v":""}]
[null,null,null,null,null,null,null,null,null,null,null,null,{"$f":"INDEX(Sheet1!$A$8:$A$500,ROW()-12)","v":""}]
[null,null,null,null,null,null,null,null,null,null,null,null,{"$f":"INDEX(Sheet1!$A$8:$A$500,ROW()-12)","v":""}]
[null,null,null,null,null,null,null,null,null,null,null,null,{"$f":"INDEX(Sheet1!$A$8:$A$500,ROW()-12)","v":""}]
[null,null,null,null,null,null,null,null,null,null,null,null,{"$f":"INDEX(Sheet1!$A$8:$A$500,ROW()-12)","v":""}]
[null,null,null,null,null,null,null,null,null,null,null,null,{"$f":"INDEX(Sheet1!$A$8:$A$500,ROW()-12)","v":""}]
[null,null,null,null,null,null,null,null,null,null,null,null,{"$f":"INDEX(Sheet1!$A$8:$A$500,ROW()-12)","v":""}]
[null,null,null,null,null,null,null,null,null,null,null,null,{"$f":"INDEX(Sheet1!$A$8:$A$500,ROW()-12)","v":""}]
[null,null,null,null,null,null,null,null,null,null,null,null,{"$f":"INDEX(Sheet1!$A$8:$A$500,ROW()-12)","v":""}]
[null,null,null,null,null,null,null,null,null,null,null,null,{"$f":"INDEX(Sheet1!$A$8:$A$500,ROW()-12)","v":""}]
[null,null,null,null,null,null,null,null,null,null,null,null,{"$f":"INDEX(Sheet1!$A$8:$A$500,ROW()-12)","v":""}]
[null,null,null,null,null,null,null,null,null,null,null,null,{"$f":"INDEX(Sheet1!$A$8:$A$500,ROW()-12)","v":""}]
[null,null,null,null,null,null,null,null,null,null,null,null,{"$f":"INDEX(Sheet1!$A$8:$A$500,ROW()-12)","v":""}]
[null,null,null,null,null,null,null,null,null,null,null,null,{"$f":"INDEX(Sheet1!$A$8:$A$500,ROW()-12)","v":""}]
[null,null,null,null,null,null,null,null,null,null,null,null,{"$f":"INDEX(Sheet1!$A$8:$A$500,ROW()-12)","v":""}]
[null,null,null,null,null,null,null,null,null,null,null,null,{"$f":"INDEX(Sheet1!$A$8:$A$500,ROW()-12)","v":""}]
[null,null,null,null,null,null,null,null,null,null,null,null,{"$f":"INDEX(Sheet1!$A$8:$A$500,ROW()-12)","v":""}]
[null,null,null,null,null,null,null,null,null,null,null,null,{"$f":"INDEX(Sheet1!$A$8:$A$500,ROW()-12)","v":""}]
[null,null,null,null,null,null,null,null,null,null,null,null,{"$f":"INDEX(Sheet1!$A$8:$A$500,ROW()-12)","v":""}]
[null,null,null,null,null,null,null,null,null,null,null,null,{"$f":"INDEX(Sheet1!$A$8:$A$500,ROW()-12)","v":""}]
[null,null,null,null,null,null,null,null,null,null,null,null,{"$f":"INDEX(Sheet1!$A$8:$A$500,ROW()-12)","v":""}]
[null,null,null,null,null,null,null,null,null,null,null,null,{"$f":"INDEX(Sheet1!$A$8:$A$500,ROW()-12)","v":""}]
[null,null,null,null,null,null,null,null,null,null,null,null,{"$f":"INDEX(Sheet1!$A$8:$A$500,ROW()-12)","v":""}]
[null,null,null,null,null,null,null,null,null,null,null,null,{"$f":"INDEX(Sheet1!$A$8:$A$500,ROW()-12)","v":""}]
[null,null,null,null,null,null,null,null,null,null,null,null,{"$f":"INDEX(Sheet1!$A$8:$A$500,ROW()-12)","v":""}]
[null,null,null,null,null,null,null,null,null,null,null,null,{"$f":"INDEX(Sheet1!$A$8:$A$500,ROW()-12)","v":""}]
[null,null,null,null,null,null,null,null,null,null,null,null,{"$f":"INDEX(Sheet1!$A$8:$A$500,ROW()-12)","v":""}]
[null,null,null,null,null,null,null,null,null,null,null,null,{"$f":"INDEX(Sheet1!$A$8:$A$500,ROW()-12)","v":""}]
[null,null,null,null,null,null,null,null,null,null,null,null,{"$f":"INDEX(Sheet1!$A$8:$A$500,ROW()-12)","v":""}]
[null,null,null,null,null,null,null,null,null,null,null,null,{"$f":"INDEX(Sheet1!$A$8:$A$500,ROW()-12)","v":""}]
[null,null,null,null,null,null,null,null,null,null,null,null,{"$f":"INDEX(Sheet1!$A$8:$A$500,ROW()-12)","v":""}]
[null,null,null,null,null,null,null,null,null,null,null,null,{"$f":"INDEX(Sheet1!$A$8:$A$500,ROW()-12)","v":""}]
[null,null,null,null,null,null,null,null,null,null,null,null,{"$f":"INDEX(Sheet1!$A$8:$A$500,ROW()-12)","v":""}]
[null,null,null,null,null,null,null,null,null,null,null,null,{"$f":"INDEX(Sheet1!$A$8:$A$500,ROW()-12)","v":""}]
[null,null,null,null,null,null,null,null,null,null,null,null,{"$f":"INDEX(Sheet1!$A$8:$A$500,ROW()-12)","v":""}]
[null,null,null,null,null,null,null,null,null,null,null,null,{"$f":"INDEX(Sheet1!$A$8:$A$500,ROW()-12)","v":""}]
[null,null,null,null,null,null,null,null,null,null,null,null,{"$f":"INDEX(Sheet1!$A$8:$A$500,ROW()-12)","v":""}]
[null,null,null,null,null,null,null,null,null,null,null,null,{"$f":"INDEX(Sheet1!$A$8:$A$500,ROW()-12)","v":""}]
[null,null,null,null,null,null,null,null,null,null,null,null,{"$f":"INDEX(Sheet1!$A$8:$A$500,ROW()-12)","v":""}]
[null,null,null,null,null,null,null,null,null,null,null,null,{"$f":"INDEX(Sheet1!$A$8:$A$500,ROW()-12)","v":""}]
[null,null,null,null,null,null,null,null,null,null,null,null,{"$f":"INDEX(Sheet1!$A$8:$A$500,ROW()-12)","v":""}]
[null,null,null,null,null,null,null,null,null,null,null,null,{"$f":"INDEX(Sheet1!$A$8:$A$500,ROW()-12)","v":""}]
[null,null,null,null,null,null,null,null,null,null,null,null,{"$f":"INDEX(Sheet1!$A$8:$A$500,ROW()-12)","v":""}]
[null,null,null,null,null,null,null,null,null,null,null,null,{"$f":"INDEX(Sheet1!$A$8:$A$500,ROW()-12)","v":""}]
[null,null,null,null,null,null,null,null,null,null,null,null,{"$f":"INDEX(Sheet1!$A$8:$A$500,ROW()-12)","v":""}]
[null,null,null,null,null,null,null,null,null,null,null,null,{"$f":"INDEX(Sheet1!$A$8:$A$500,ROW()-12)","v":""}]
[null,null,null,null,null,null,null,null,null,null,null,null,{"$f":"INDEX(Sheet1!$A$8:$A$500,ROW()-12)","v":""}]
[null,null,null,null,null,null,null,null,null,null,null,null,{"$f":"INDEX(Sheet1!$A$8:$A$500,ROW()-12)","v":""}]
[null,null,null,null,null,null,null,null,null,null,null,null,{"$f":"INDEX(Sheet1!$A$8:$A$500,ROW()-12)","v":""}]
[null,null,null,null,null,null,null,null,null,null,null,null,{"$f":"INDEX(Sheet1!$A$8:$A$500,ROW()-12)","v":""}]
[null,null,null,null,null,null,null,null,null,null,null,null,{"$f":"INDEX(Sheet1!$A$8:$A$500,ROW()-12)","v":""}]
[null,null,null,null,null,null,null,null,null,null,null,null,{"$f":"INDEX(Sheet1!$A$8:$A$500,ROW()-12)","v":""}]
[null,null,null,null,null,null,null,null,null,null,null,null,{"$f":"INDEX(Sheet1!$A$8:$A$500,ROW()-12)","v":""}]
[null,null,null,null,null,null,null,null,null,null,null,null,{"$f":"INDEX(Sheet1!$A$8:$A$500,ROW()-12)","v":""}]
[null,null,null,null,null,null,null,null,null,null,null,null,{"$f":"INDEX(Sheet1!$A$8:$A$500,ROW()-12)","v":""}]
[null,null,null,null,null,null,null,null,null,null,null,null,{"$f":"INDEX(Sheet1!$A$8:$A$500,ROW()-12)","v":""}]
[null,null,null,null,null,null,null,null,null,null,null,null,{"$f":"INDEX(Sheet1!$A$8:$A$500,ROW()-12)","v":""}]
[null,null,null,null,null,null,null,null,null,null,null,null,{"$f":"INDEX(Sheet1!$A$8:$A$500,ROW()-12)","v":""}]
[null,null,null,null,null,null,null,null,null,null,null,null,{"$f":"INDEX(Sheet1!$A$8:$A$500,ROW()-12)","v":""}]
[null,null,null,null,null,null,null,null,null,null,null,null,{"$f":"INDEX(Sheet1!$A$8:$A$500,ROW()-12)","v":""}]
[null,null,null,null,null,null,null,null,null,null,null,null,{"$f":"INDEX(Sheet1!$A$8:$A$500,ROW()-12)","v":""}]
[null,null,null,null,null,null,null,null,null,null,null,null,{"$f":"INDEX(Sheet1!$A$8:$A$500,ROW()-12)","v":""}]
[null,null,null,null,null,null,null,null,null,null,null,null,{"$f":"INDEX(Sheet1!$A$8:$A$500,ROW()-12)","v":""}]
[null,null,null,null,null,null,null,null,null,null,null,null,{"$f":"INDEX(Sheet1!$A$8:$A$500,ROW()-12)","v":""}]
[null,null,null,null,null,null,null,null,null,null,null,null,{"$f":"INDEX(Sheet1!$A$8:$A$500,ROW()-12)","v":""}]
[null,null,null,null,null,null,null,null,null,null,null,null,{"$f":"INDEX(Sheet1!$A$8:$A$500,ROW()-12)","v":""}]
[null,null,null,null,null,null,null,null,null,null,null,null,{"$f":"INDEX(Sheet1!$A$8:$A$500,ROW()-12)","v":""}]
[null,null,null,null,null,null,null,null,null,null,null,null,{"$f":"INDEX(Sheet1!$A$8:$A$500,ROW()-12)","v":""}]
[null,null,null,null,null,null,null,null,null,null,null,null,{"$f":"INDEX(Sheet1!$A$8:$A$500,ROW()-12)","v":""}]
[null,null,null,null,null,null,null,null,null,null,null,null,{"$f":"INDEX(Sheet1!$A$8:$A$500,ROW()-12)","v":""}]
[null,null,null,null,null,null,null,null,null,null,null,null,{"$f":"INDEX(Sheet1!$A$8:$A$500,ROW()-12)","v":""}]
[null,null,null,null,null,null,null,null,null,null,null,null,{"$f":"INDEX(Sheet1!$A$8:$A$500,ROW()-12)","v":""}]
[null,null,null,null,null,null,null,null,null,null,null,null,{"$f":"INDEX(Sheet1!$A$8:$A$500,ROW()-12)","v":""}]
[null,null,null,null,null,null,null,null,null,null,null,null,{"$f":"INDEX(Sheet1!$A$8:$A$500,ROW()-12)","v":""}]
[null,null,null,null,null,null,null,null,null,null,null,null,{"$f":"INDEX(Sheet1!$A$8:$A$500,ROW()-12)","v":""}]
[null,null,null,null,null,null,null,null,null,null,null,null,{"$f":"INDEX(Sheet1!$A$8:$A$500,ROW()-12)","v":""}]
[null,null,null,null,null,null,null,null,null,null,null,null,{"$f":"INDEX(Sheet1!$A$8:$A$500,ROW()-12)","v":""}]
[null,null,null,null,null,null,null,null,null,null,null,null,{"$f":"INDEX(Sheet1!$A$8:$A$500,ROW()-12)","v":""}]
[null,null,null,null,null,null,null,null,null,null,null,null,{"$f":"INDEX(Sheet1!$A$8:$A$500,ROW()-12)","v":""}]
[null,null,null,null,null,null,null,null,null,null,null,null,{"$f":"INDEX(Sheet1!$A$8:$A$500,ROW()-12)","v":""}]
[null,null,null,null,null,null,null,null,null,null,null,null,{"$f":"INDEX(Sheet1!$A$8:$A$500,ROW()-12)","v":""}]
[null,null,null,null,null,null,null,null,null,null,null,null,{"$f":"INDEX(Sheet1!$A$8:$A$500,ROW()-12)","v":""}]
[null,null,null,null,null,null,null,null,null,null,null,null,{"$f":"INDEX(Sheet1!$A$8:$A$500,ROW()-12)","v":""}]
[null,null,null,null,null,null,null,null,null,null,null,null,{"$f":"INDEX(Sheet1!$A$8:$A$500,ROW()-12)","v":""}]
[null,null,null,null,null,null,null,null,null,null,null,null,{"$f":"INDEX(Sheet1!$A$8:$A$500,ROW()-12)","v":""}]
[null,null,null,null,null,null,null,null,null,null,null,null,{"$f":"INDEX(Sheet1!$A$8:$A$500,ROW()-12)","v":""}]
[null,null,null,null,null,null,null,null,null,null,null,null,{"$f":"INDEX(Sheet1!$A$8:$A$500,ROW()-12)","v":""}]
[null,null,null,null,null,null,null,null,null,null,null,null,{"$f":"INDEX(Sheet1!$A$8:$A$500,ROW()-12)","v":""}]
[null,null,null,null,null,null,null,null,null,null,null,null,{"$f":"INDEX(Sheet1!$A$8:$A$500,ROW()-12)","v":""}]
[null,null,null,null,null,null,null,null,null,null,null,null,{"$f":"INDEX(Sheet1!$A$8:$A$500,ROW()-12)","v":""}]
[null,null,null,null,null,null,null,null,null,null,null,null,{"$f":"INDEX(Sheet1!$A$8:$A$500,ROW()-12)","v":""}]
[null,null,null,null,null,null,null,null,null,null,null,null,{"$f":"INDEX(Sheet1!$A$8:$A$500,ROW()-12)","v":""}]
[null,null,null,null,null,null,null,null,null,null,null,null,{"$f":"INDEX(Sheet1!$A$8:$A$500,ROW()-12)","v":""}]
[null,null,null,null,null,null,null,null,null,null,null,null,{"$f":"INDEX(Sheet1!$A$8:$A$500,ROW()-12)","v":""}]
[null,null,null,null,null,null,null,null,null,null,null,null,{"$f":"INDEX(Sheet1!$A$8:$A$500,ROW()-12)","v":""}]
[null,null,null,null,null,null,null,null,null,null,null,null,{"$f":"INDEX(Sheet1!$A$8:$A$500,ROW()-12)","v":""}]
[null,null,null,null,null,null,null,null,null,null,null,null,{"$f":"INDEX(Sheet1!$A$8:$A$500,ROW()-12)","v":""}]
[null,null,null,null,null,null,null,null,null,null,null,null,{"$f":"INDEX(Sheet1!$A$8:$A$500,ROW()-12)","v":""}]
[null,null,null,null,null,null,null,null,null,null,null,null,{"$f":"INDEX(Sheet1!$A$8:$A$500,ROW()-12)","v":""}]
[null,null,null,null,null,null,null,null,null,null,null,null,{"$f":"INDEX(Sheet1!$A$8:$A$500,ROW()-12)","v":""}]
[null,null,null,null,null,null,null,null,null,null,null,null,{"$f":"INDEX(Sheet1!$A$8:$A$500,ROW()-12)","v":""}]
[null,null,null,null,null,null,null,null,null,null,null,null,{"$f":"INDEX(Sheet1!$A$8:$A$500,ROW()-12)","v":""}]
[null,null,null,null,null,null,null,null,null,null,null,null,{"$f":"INDEX(Sheet1!$A$8:$A$500,ROW()-12)","v":""}]
[null,null,null,null,null,null,null,null,null,null,null,null,{"$f":"INDEX(Sheet1!$A$8:$A$500,ROW()-12)","v":""}]
[null,null,null,null,null,null,null,null,null,null,null,null,{"$f":"INDEX(Sheet1!$A$8:$A$500,ROW()-12)","v":""}]
[null,null,null,null,null,null,null,null,null,null,null,null,{"$f":"INDEX(Sheet1!$A$8:$A$500,ROW()-12)","v":""}]
[null,null,null,null,null,null,null,null,null,null,null,null,{"$f":"INDEX(Sheet1!$A$8:$A$500,ROW()-12)","v":""}]
[null,null,null,null,null,null,null,null,null,null,null,null,{"$f":"INDEX(Sheet1!$A$8:$A$500,ROW()-12)","v":""}]
[null,null,null,null,null,null,null,null,null,null,null,null,{"$f":"INDEX(Sheet1!$A$8:$A$500,ROW()-12)","v":""}]
[null,null,null,null,null,null,null,null,null,null,null,null,{"$f":"INDEX(Sheet1!$A$8:$A$500,ROW()-12)","v":""}]
[null,null,null,null,null,null,null,null,null,null,null,null,{"$f":"INDEX(Sheet1!$A$8:$A$500,ROW()-12)","v":""}]
[null,null,null,null,null,null,null,null,null,null,null,null,{"$f":"INDEX(Sheet1!$A$8:$A$500,ROW()-12)","v":""}]
[null,null,null,null,null,null,null,null,null,null,null,null,{"$f":"INDEX(Sheet1!$A$8:$A$500,ROW()-12)","v":""}]

{"sheet":"Hidden-Data Validation Options","index":2,"n_rows":14,"n_cols":8,"rows_kept":14,"cut":false,"hidden":true,"merged":[]}
[]
[null,"Spouse Y/N",null,"# Children",null,"Gender",null,"Med Cov"]
[null,null,null,null,null,"M"]
[null,"Y",null,0,null,"F",null,"EE"]
[null,"N",null,1,null,null,null,"ES"]
[null,null,null,2,null,null,null,"EC"]
[null,null,null,3,null,null,null,"FF"]
[null,null,null,4,null,null,null,"W"]
[null,null,null,5]
[null,null,null,6]
[null,null,null,7]
[null,null,null,8]
[null,null,null,9]
[null,null,null,10]